{"text_format":"1","workbook":"xlsx","n_sheets":6,"sheets":["DIRECTIONS","LOADS","NEC Rules","SORTED LOADS","BUSPLUG","Sheet1"],"not_rendered":{"charts":0,"images":0,"macros":1,"external_links":0,"defined_names":15,"comments":0,"pivot_tables":0},"unopened":[],"bounds":{"document_bytes":16777216,"sheet_cells":100000,"rows_first":2000,"rows_last":500,"rows_between":2000,"halvings":0,"cell_chars":16384,"cell_head_chars":4096},"cells_cut":0,"cells_raw":0,"read":"whole","date_system":"1900"}

{"sheet":"DIRECTIONS","index":0,"n_rows":4,"n_cols":1,"rows_kept":4,"cut":false,"hidden":false,"merged":[]}
["Always put the largest motor into Motor #1 Data."]
["Enter Motor data, Additional KW, Diversity ONLY"]
["Additional amps will be entered as 10 if motor #1 is filled.  Manually change if this is not large enough."]
["If no motors, additional amps must be inserted manually"]

{"sheet":"LOADS","index":1,"n_rows":907,"n_cols":45,"rows_kept":907,"cut":false,"hidden":false,"merged":[[0,28,0,34],[0,3,0,5],[0,6,0,8],[0,9,0,11],[0,12,0,14],[0,15,0,17],[0,19,0,20]]}
["PANEL","PANEL","VENDOR","MOTOR #1",null,null,"MOTOR #2",null,null,"MOTOR #3",null,null,"MOTOR #4",null,null,"MOTOR #5",null,null,"TOTAL","ADD'L LOAD",null,"CONNECT","DIV","DEMAND","REQ'D",null,"PROCESS CONTROL PANEL",null,"PLANT UTILITY ELEC DROPS",null,null,null,null,null,null,"ORDER",null,null,null,null,"HEAT LOSS"]
["#","DESCRIPTION","#","HP","FLA","QTY","HP","FLA","QTY","HP","FLA","QTY","HP","FLA","QTY","HP","FLA","QTY","HP LOAD","Amps","KW","AMPS",null,"AMPS","FUSES","DISC SIZE","LOCATION","FLOOR","FEED","NAME","DISC","FUSE","FEEDER","BREAKER","LOCATION","NUMBER","HUB","BIDPACK","COMMENTS",null,"WATTS"]
[100,null,null,null,{"$f":"IF(D3,LOOKUP(D3,'NEC Rules'!$A$2:$B$28),\"\")","v":""},null,null,{"$f":"IF(G3,LOOKUP(G3,'NEC Rules'!$A$2:$B$28),\"\")","v":""},null,null,{"$f":"IF(J3,LOOKUP(J3,'NEC Rules'!$A$2:$B$28),\"\")","v":""},null,null,{"$f":"IF(M3,LOOKUP(M3,'NEC Rules'!$A$2:$B$28),\"\")","v":""},null,null,{"$f":"IF(P3,LOOKUP(P3,'NEC Rules'!$A$2:$B$28),\"\")","v":""},null,{"$f":"CalcHP(D3,F3,G3,I3,J3,L3,M3,O3,P3,R3)","v":""},{"$f":"IF(D3,10,\"\")","v":""},null,{"$f":"CalcCA(E3,F3,H3,I3,K3,L3,N3,O3,Q3,R3,T3,U3)","v":""},null,null,{"$f":"CalcMPF(V3,D3,E3,F3,H3,I3,K3,L3,N3,O3,Q3,R3,T3,U3)","v":""},{"$f":"CalcPD(Y3)","v":""},null,null,{"$f":"IF(AE3>600,\"SUB\",IF(AE3>0,\"BUS\",\"\"))","v":"SUB"},null,{"$f":"CalcPD(AF3)","v":""},{"$f":"CalcOCP(Z3)","v":""},null,null,null,null,null,null,null,null,{"$f":"X3*480*0.03","v":0}]
[{"$f":"A3+1","v":101},"Panel 1000",null,20,{"$f":"IF(D4,LOOKUP(D4,'NEC Rules'!$A$2:$B$28),\"\")","v":27},2,7.5,{"$f":"IF(G4,LOOKUP(G4,'NEC Rules'!$A$2:$B$28),\"\")","v":11},1,3,{"$f":"IF(J4,LOOKUP(J4,'NEC Rules'!$A$2:$B$28),\"\")","v":5.2},1,null,{"$f":"IF(M4,LOOKUP(M4,'NEC Rules'!$A$2:$B$28),\"\")","v":""},null,null,{"$f":"IF(P4,LOOKUP(P4,'NEC Rules'!$A$2:$B$28),\"\")","v":""},null,{"$f":"CalcHP(D4,F4,G4,I4,J4,L4,M4,O4,P4,R4)","v":50.5},null,null,{"$f":"CalcCA(E4,F4,H4,I4,K4,L4,N4,O4,Q4,R4,T4,U4)","v":70.2},0.8,{"$f":"IF((V4*W4),(V4*W4),\"\")","v":56.160000000000004},"90",{"$f":"CalcPD(Y4)","v":100},null,"Main",{"$f":"IF(AE4>600,\"SUB\",IF(AE4>0,\"BUS\",\"\"))","v":"BUS"},"0-A,20-26",{"$f":"CalcPD(AF4)","v":100},{"$f":"CalcOCP(Z4)","v":"100"},{"$f":"CalcWS(AF4)","v":"3#3,1#8G,1in C"}]
[{"$f":"A4+1","v":102},"Panel 2000",null,20,{"$f":"IF(D5,LOOKUP(D5,'NEC Rules'!$A$2:$B$28),\"\")","v":27},8,15,{"$f":"IF(G5,LOOKUP(G5,'NEC Rules'!$A$2:$B$28),\"\")","v":21},2,7.5,{"$f":"IF(J5,LOOKUP(J5,'NEC Rules'!$A$2:$B$28),\"\")","v":11},4,2,{"$f":"IF(M5,LOOKUP(M5,'NEC Rules'!$A$2:$B$28),\"\")","v":3.4},1,null,{"$f":"IF(P5,LOOKUP(P5,'NEC Rules'!$A$2:$B$28),\"\")","v":""},null,{"$f":"CalcHP(D5,F5,G5,I5,J5,L5,M5,O5,P5,R5)","v":222},null,null,{"$f":"CalcCA(E5,F5,H5,I5,K5,L5,N5,O5,Q5,R5,T5,U5)","v":305.39999999999998},0.8,{"$f":"IF((V5*W5),(V5*W5),\"\")","v":244.32},"350",400,null,"Main"]
[{"$f":"A5+1","v":103},"Air Supply #1 VFD",null,40,{"$f":"IF(D6,LOOKUP(D6,'NEC Rules'!$A$2:$B$28),\"\")","v":52},1,null,{"$f":"IF(G6,LOOKUP(G6,'NEC Rules'!$A$2:$B$28),\"\")","v":""},null,null,{"$f":"IF(J6,LOOKUP(J6,'NEC Rules'!$A$2:$B$28),\"\")","v":""},null,null,{"$f":"IF(M6,LOOKUP(M6,'NEC Rules'!$A$2:$B$28),\"\")","v":""},null,null,{"$f":"IF(P6,LOOKUP(P6,'NEC Rules'!$A$2:$B$28),\"\")","v":""},null,{"$f":"CalcHP(D6,F6,G6,I6,J6,L6,M6,O6,P6,R6)","v":40},null,null,{"$f":"CalcCA(E6,F6,H6,I6,K6,L6,N6,O6,Q6,R6,T6,U6)","v":52},0.8,{"$f":"IF((V6*W6),(V6*W6),\"\")","v":41.6},"80",{"$f":"CalcPD(Y6)","v":100},null,"Main"]
[{"$f":"A6+1","v":104},"Air Supply #1 VFD",null,40,{"$f":"IF(D7,LOOKUP(D7,'NEC Rules'!$A$2:$B$28),\"\")","v":52},1,null,{"$f":"IF(G7,LOOKUP(G7,'NEC Rules'!$A$2:$B$28),\"\")","v":""},null,null,{"$f":"IF(J7,LOOKUP(J7,'NEC Rules'!$A$2:$B$28),\"\")","v":""},null,null,{"$f":"IF(M7,LOOKUP(M7,'NEC Rules'!$A$2:$B$28),\"\")","v":""},null,null,{"$f":"IF(P7,LOOKUP(P7,'NEC Rules'!$A$2:$B$28),\"\")","v":""},null,40,null,null,52,0.8,41.6,"80",100,null,"Main"]
[105,"Tack-off exhaust VFD",null,15,{"$f":"IF(D8,LOOKUP(D8,'NEC Rules'!$A$2:$B$28),\"\")","v":21},1,null,{"$f":"IF(G8,LOOKUP(G8,'NEC Rules'!$A$2:$B$28),\"\")","v":""},null,null,{"$f":"IF(J8,LOOKUP(J8,'NEC Rules'!$A$2:$B$28),\"\")","v":""},null,null,{"$f":"IF(M8,LOOKUP(M8,'NEC Rules'!$A$2:$B$28),\"\")","v":""},null,null,{"$f":"IF(P8,LOOKUP(P8,'NEC Rules'!$A$2:$B$28),\"\")","v":""},null,15,null,null,21,0.8,16.8,"35",60,null,"Main"]
[106,"Tack-off exhaust VFD",null,15,{"$f":"IF(D9,LOOKUP(D9,'NEC Rules'!$A$2:$B$28),\"\")","v":21},1,null,{"$f":"IF(G9,LOOKUP(G9,'NEC Rules'!$A$2:$B$28),\"\")","v":""},null,null,{"$f":"IF(J9,LOOKUP(J9,'NEC Rules'!$A$2:$B$28),\"\")","v":""},null,null,{"$f":"IF(M9,LOOKUP(M9,'NEC Rules'!$A$2:$B$28),\"\")","v":""},null,null,{"$f":"IF(P9,LOOKUP(P9,'NEC Rules'!$A$2:$B$28),\"\")","v":""},null,15,null,null,21,0.8,16.8,"35",60,null,"Main"]
[107,"B.C. Spray booth exhaust VFD",null,30,{"$f":"IF(D10,LOOKUP(D10,'NEC Rules'!$A$2:$B$28),\"\")","v":40},1,null,{"$f":"IF(G10,LOOKUP(G10,'NEC Rules'!$A$2:$B$28),\"\")","v":""},null,null,{"$f":"IF(J10,LOOKUP(J10,'NEC Rules'!$A$2:$B$28),\"\")","v":""},null,null,{"$f":"IF(M10,LOOKUP(M10,'NEC Rules'!$A$2:$B$28),\"\")","v":""},null,null,{"$f":"IF(P10,LOOKUP(P10,'NEC Rules'!$A$2:$B$28),\"\")","v":""},null,30,null,null,40,0.8,32,"70",100,null,"Main"]
[108,"B.C. Spray booth exhaust VFD",null,30,{"$f":"IF(D11,LOOKUP(D11,'NEC Rules'!$A$2:$B$28),\"\")","v":40},1,null,{"$f":"IF(G11,LOOKUP(G11,'NEC Rules'!$A$2:$B$28),\"\")","v":""},null,null,{"$f":"IF(J11,LOOKUP(J11,'NEC Rules'!$A$2:$B$28),\"\")","v":""},null,null,{"$f":"IF(M11,LOOKUP(M11,'NEC Rules'!$A$2:$B$28),\"\")","v":""},null,null,{"$f":"IF(P11,LOOKUP(P11,'NEC Rules'!$A$2:$B$28),\"\")","v":""},null,30,null,null,40,0.8,32,"70",100,null,"Main"]
[109,"B.C. Spray booth exhaust VFD",null,40,{"$f":"IF(D12,LOOKUP(D12,'NEC Rules'!$A$2:$B$28),\"\")","v":52},1,null,{"$f":"IF(G12,LOOKUP(G12,'NEC Rules'!$A$2:$B$28),\"\")","v":""},null,null,{"$f":"IF(J12,LOOKUP(J12,'NEC Rules'!$A$2:$B$28),\"\")","v":""},null,null,{"$f":"IF(M12,LOOKUP(M12,'NEC Rules'!$A$2:$B$28),\"\")","v":""},null,null,{"$f":"IF(P12,LOOKUP(P12,'NEC Rules'!$A$2:$B$28),\"\")","v":""},null,40,null,null,52,0.8,41.6,"80",100,null,"Main"]
[110,"B.C. Spray booth exhaust VFD",null,40,{"$f":"IF(D13,LOOKUP(D13,'NEC Rules'!$A$2:$B$28),\"\")","v":52},1,null,{"$f":"IF(G13,LOOKUP(G13,'NEC Rules'!$A$2:$B$28),\"\")","v":""},null,null,{"$f":"IF(J13,LOOKUP(J13,'NEC Rules'!$A$2:$B$28),\"\")","v":""},null,null,{"$f":"IF(M13,LOOKUP(M13,'NEC Rules'!$A$2:$B$28),\"\")","v":""},null,null,{"$f":"IF(P13,LOOKUP(P13,'NEC Rules'!$A$2:$B$28),\"\")","v":""},null,40,null,null,52,0.8,41.6,"80",100,null,"Main"]
[111,"C.C. Spray booth exhaust VFD",null,30,{"$f":"IF(D14,LOOKUP(D14,'NEC Rules'!$A$2:$B$28),\"\")","v":40},1,null,{"$f":"IF(G14,LOOKUP(G14,'NEC Rules'!$A$2:$B$28),\"\")","v":""},null,null,{"$f":"IF(J14,LOOKUP(J14,'NEC Rules'!$A$2:$B$28),\"\")","v":""},null,null,{"$f":"IF(M14,LOOKUP(M14,'NEC Rules'!$A$2:$B$28),\"\")","v":""},null,null,{"$f":"IF(P14,LOOKUP(P14,'NEC Rules'!$A$2:$B$28),\"\")","v":""},null,30,null,null,40,0.8,32,"70",100,null,"Main",null,null,null,null,null,null,null,null,null,null,null,null,{"$f":"X14*480*0.03","v":460.79999999999995}]
[112,"C,C. Spray Booth exhaust VFD",null,30,{"$f":"IF(D15,LOOKUP(D15,'NEC Rules'!$A$2:$B$28),\"\")","v":40},1,null,{"$f":"IF(G15,LOOKUP(G15,'NEC Rules'!$A$2:$B$28),\"\")","v":""},null,null,{"$f":"IF(J15,LOOKUP(J15,'NEC Rules'!$A$2:$B$28),\"\")","v":""},null,null,{"$f":"IF(M15,LOOKUP(M15,'NEC Rules'!$A$2:$B$28),\"\")","v":""},null,null,{"$f":"IF(P15,LOOKUP(P15,'NEC Rules'!$A$2:$B$28),\"\")","v":""},null,30,null,null,40,0.8,32,"70",100,null,"Main",null,null,null,null,null,null,null,null,null,null,null,null,460.79999999999995]
[113,"C.C. Spray booth exhaust VFD",null,40,{"$f":"IF(D16,LOOKUP(D16,'NEC Rules'!$A$2:$B$28),\"\")","v":52},1,null,{"$f":"IF(G16,LOOKUP(G16,'NEC Rules'!$A$2:$B$28),\"\")","v":""},null,null,{"$f":"IF(J16,LOOKUP(J16,'NEC Rules'!$A$2:$B$28),\"\")","v":""},null,null,{"$f":"IF(M16,LOOKUP(M16,'NEC Rules'!$A$2:$B$28),\"\")","v":""},null,null,{"$f":"IF(P16,LOOKUP(P16,'NEC Rules'!$A$2:$B$28),\"\")","v":""},null,40,null,null,52,0.8,41.6,"80",100,null,"Main",null,null,null,null,null,null,null,null,null,null,null,null,599.04]
[114,"C.C. Spray booth exhaust VFD",null,40,{"$f":"IF(D17,LOOKUP(D17,'NEC Rules'!$A$2:$B$28),\"\")","v":52},1,null,{"$f":"IF(G17,LOOKUP(G17,'NEC Rules'!$A$2:$B$28),\"\")","v":""},null,null,{"$f":"IF(J17,LOOKUP(J17,'NEC Rules'!$A$2:$B$28),\"\")","v":""},null,null,{"$f":"IF(M17,LOOKUP(M17,'NEC Rules'!$A$2:$B$28),\"\")","v":""},null,null,{"$f":"IF(P17,LOOKUP(P17,'NEC Rules'!$A$2:$B$28),\"\")","v":""},null,40,null,null,52,0.8,41.6,"80",100,null,"Main",null,null,null,null,null,null,null,null,null,null,null,null,599.04]
[115,"Air Supply #2 VFD",null,50,{"$f":"IF(D18,LOOKUP(D18,'NEC Rules'!$A$2:$B$28),\"\")","v":65},1,null,{"$f":"IF(G18,LOOKUP(G18,'NEC Rules'!$A$2:$B$28),\"\")","v":""},null,null,{"$f":"IF(J18,LOOKUP(J18,'NEC Rules'!$A$2:$B$28),\"\")","v":""},null,null,{"$f":"IF(M18,LOOKUP(M18,'NEC Rules'!$A$2:$B$28),\"\")","v":""},null,null,{"$f":"IF(P18,LOOKUP(P18,'NEC Rules'!$A$2:$B$28),\"\")","v":""},null,50,null,null,65,0.8,52,"100",100,null,"Main",null,null,null,null,null,null,null,null,null,null,null,null,748.8]
[116,"Air Supply #2 VFD",null,50,{"$f":"IF(D19,LOOKUP(D19,'NEC Rules'!$A$2:$B$28),\"\")","v":65},1,null,{"$f":"IF(G19,LOOKUP(G19,'NEC Rules'!$A$2:$B$28),\"\")","v":""},null,null,{"$f":"IF(J19,LOOKUP(J19,'NEC Rules'!$A$2:$B$28),\"\")","v":""},null,null,{"$f":"IF(M19,LOOKUP(M19,'NEC Rules'!$A$2:$B$28),\"\")","v":""},null,null,{"$f":"IF(P19,LOOKUP(P19,'NEC Rules'!$A$2:$B$28),\"\")","v":""},null,50,null,null,{"$f":"CalcCA(E19,F19,H19,I19,K19,L19,N19,O19,Q19,R19,T19,U19)","v":65},0.8,{"$f":"IF((V19*W19),(V19*W19),\"\")","v":52},"100",100,null,"Main",null,null,null,null,null,null,null,null,null,null,null,null,748.8]
[{"$f":"#REF!+1","v":{"$error":"#REF!"}},null,null,null,{"$f":"IF(D20,LOOKUP(D20,'NEC Rules'!$A$2:$B$28),\"\")","v":""},null,null,{"$f":"IF(G20,LOOKUP(G20,'NEC Rules'!$A$2:$B$28),\"\")","v":""},null,null,{"$f":"IF(J20,LOOKUP(J20,'NEC Rules'!$A$2:$B$28),\"\")","v":""},null,null,{"$f":"IF(M20,LOOKUP(M20,'NEC Rules'!$A$2:$B$28),\"\")","v":""},null,null,{"$f":"IF(P20,LOOKUP(P20,'NEC Rules'!$A$2:$B$28),\"\")","v":""},null,{"$f":"CalcHP(D20,F20,G20,I20,J20,L20,M20,O20,P20,R20)","v":""},{"$f":"IF(D20,10,\"\")","v":""},null,null,null,"","","",null,null,null,null,null,null,null,null,null,null,null,null,null,null,{"$error":"#VALUE!"}]
[{"$error":"#REF!"},null,null,null,{"$f":"IF(D21,LOOKUP(D21,'NEC Rules'!$A$2:$B$28),\"\")","v":""},null,null,{"$f":"IF(G21,LOOKUP(G21,'NEC Rules'!$A$2:$B$28),\"\")","v":""},null,null,{"$f":"IF(J21,LOOKUP(J21,'NEC Rules'!$A$2:$B$28),\"\")","v":""},null,null,{"$f":"IF(M21,LOOKUP(M21,'NEC Rules'!$A$2:$B$28),\"\")","v":""},null,null,{"$f":"IF(P21,LOOKUP(P21,'NEC Rules'!$A$2:$B$28),\"\")","v":""},null,"","",null,null,null,"","","",null,null,null,null,null,null,null,null,null,null,null,null,null,null,{"$error":"#VALUE!"}]
[{"$error":"#REF!"},null,null,null,{"$f":"IF(D22,LOOKUP(D22,'NEC Rules'!$A$2:$B$28),\"\")","v":""},null,null,{"$f":"IF(G22,LOOKUP(G22,'NEC Rules'!$A$2:$B$28),\"\")","v":""},null,null,{"$f":"IF(J22,LOOKUP(J22,'NEC Rules'!$A$2:$B$28),\"\")","v":""},null,null,{"$f":"IF(M22,LOOKUP(M22,'NEC Rules'!$A$2:$B$28),\"\")","v":""},null,null,{"$f":"IF(P22,LOOKUP(P22,'NEC Rules'!$A$2:$B$28),\"\")","v":""},null,"","",null,null,null,{"$f":"IF((V22*W22),(V22*W22),\"\")","v":""},"","",null,null,null,null,null,null,null,null,null,null,null,null,null,null,{"$error":"#VALUE!"}]
[{"$error":"#REF!"},null,null,null,{"$f":"IF(D23,LOOKUP(D23,'NEC Rules'!$A$2:$B$28),\"\")","v":""},null,null,{"$f":"IF(G23,LOOKUP(G23,'NEC Rules'!$A$2:$B$28),\"\")","v":""},null,null,{"$f":"IF(J23,LOOKUP(J23,'NEC Rules'!$A$2:$B$28),\"\")","v":""},null,null,{"$f":"IF(M23,LOOKUP(M23,'NEC Rules'!$A$2:$B$28),\"\")","v":""},null,null,{"$f":"IF(P23,LOOKUP(P23,'NEC Rules'!$A$2:$B$28),\"\")","v":""},null,"","",null,null,null,"","","",null,null,null,null,null,null,null,null,null,null,null,null,null,null,{"$error":"#VALUE!"}]
[{"$error":"#REF!"},null,null,null,{"$f":"IF(D24,LOOKUP(D24,'NEC Rules'!$A$2:$B$28),\"\")","v":""},null,null,{"$f":"IF(G24,LOOKUP(G24,'NEC Rules'!$A$2:$B$28),\"\")","v":""},null,null,{"$f":"IF(J24,LOOKUP(J24,'NEC Rules'!$A$2:$B$28),\"\")","v":""},null,null,{"$f":"IF(M24,LOOKUP(M24,'NEC Rules'!$A$2:$B$28),\"\")","v":""},null,null,{"$f":"IF(P24,LOOKUP(P24,'NEC Rules'!$A$2:$B$28),\"\")","v":""},null,"","",null,null,null,"","","",null,null,null,null,null,null,null,null,null,null,null,null,null,null,{"$error":"#VALUE!"}]
[{"$error":"#REF!"},null,null,null,{"$f":"IF(D25,LOOKUP(D25,'NEC Rules'!$A$2:$B$28),\"\")","v":""},null,null,{"$f":"IF(G25,LOOKUP(G25,'NEC Rules'!$A$2:$B$28),\"\")","v":""},null,null,{"$f":"IF(J25,LOOKUP(J25,'NEC Rules'!$A$2:$B$28),\"\")","v":""},null,null,{"$f":"IF(M25,LOOKUP(M25,'NEC Rules'!$A$2:$B$28),\"\")","v":""},null,null,{"$f":"IF(P25,LOOKUP(P25,'NEC Rules'!$A$2:$B$28),\"\")","v":""},null,"","",null,null,null,"","","",null,null,null,null,null,null,null,null,null,null,null,null,null,null,{"$error":"#VALUE!"}]
[{"$error":"#REF!"},null,null,null,{"$f":"IF(D26,LOOKUP(D26,'NEC Rules'!$A$2:$B$28),\"\")","v":""},null,null,{"$f":"IF(G26,LOOKUP(G26,'NEC Rules'!$A$2:$B$28),\"\")","v":""},null,null,{"$f":"IF(J26,LOOKUP(J26,'NEC Rules'!$A$2:$B$28),\"\")","v":""},null,null,{"$f":"IF(M26,LOOKUP(M26,'NEC Rules'!$A$2:$B$28),\"\")","v":""},null,null,{"$f":"IF(P26,LOOKUP(P26,'NEC Rules'!$A$2:$B$28),\"\")","v":""},null,"","",null,null,null,"","","",null,null,null,null,null,null,null,null,null,null,null,null,null,null,{"$error":"#VALUE!"}]
[{"$error":"#REF!"},null,null,null,{"$f":"IF(D27,LOOKUP(D27,'NEC Rules'!$A$2:$B$28),\"\")","v":""},null,null,{"$f":"IF(G27,LOOKUP(G27,'NEC Rules'!$A$2:$B$28),\"\")","v":""},null,null,{"$f":"IF(J27,LOOKUP(J27,'NEC Rules'!$A$2:$B$28),\"\")","v":""},null,null,{"$f":"IF(M27,LOOKUP(M27,'NEC Rules'!$A$2:$B$28),\"\")","v":""},null,null,{"$f":"IF(P27,LOOKUP(P27,'NEC Rules'!$A$2:$B$28),\"\")","v":""},null,"","",null,null,null,"","","",null,null,null,null,null,null,null,null,null,null,null,null,null,null,{"$error":"#VALUE!"}]
[{"$error":"#REF!"},null,null,null,{"$f":"IF(D28,LOOKUP(D28,'NEC Rules'!$A$2:$B$28),\"\")","v":""},null,null,{"$f":"IF(G28,LOOKUP(G28,'NEC Rules'!$A$2:$B$28),\"\")","v":""},null,null,{"$f":"IF(J28,LOOKUP(J28,'NEC Rules'!$A$2:$B$28),\"\")","v":""},null,null,{"$f":"IF(M28,LOOKUP(M28,'NEC Rules'!$A$2:$B$28),\"\")","v":""},null,null,{"$f":"IF(P28,LOOKUP(P28,'NEC Rules'!$A$2:$B$28),\"\")","v":""},null,"","",null,null,null,"","","",null,null,null,null,null,null,null,null,null,null,null,null,null,null,{"$error":"#VALUE!"}]
[{"$error":"#REF!"},null,null,null,{"$f":"IF(D29,LOOKUP(D29,'NEC Rules'!$A$2:$B$28),\"\")","v":""},null,null,{"$f":"IF(G29,LOOKUP(G29,'NEC Rules'!$A$2:$B$28),\"\")","v":""},null,null,{"$f":"IF(J29,LOOKUP(J29,'NEC Rules'!$A$2:$B$28),\"\")","v":""},null,null,{"$f":"IF(M29,LOOKUP(M29,'NEC Rules'!$A$2:$B$28),\"\")","v":""},null,null,{"$f":"IF(P29,LOOKUP(P29,'NEC Rules'!$A$2:$B$28),\"\")","v":""},null,"","",null,null,null,"","","",null,null,null,null,null,null,null,null,null,null,null,null,null,null,{"$error":"#VALUE!"}]
[{"$error":"#REF!"},null,null,null,{"$f":"IF(D30,LOOKUP(D30,'NEC Rules'!$A$2:$B$28),\"\")","v":""},null,null,{"$f":"IF(G30,LOOKUP(G30,'NEC Rules'!$A$2:$B$28),\"\")","v":""},null,null,{"$f":"IF(J30,LOOKUP(J30,'NEC Rules'!$A$2:$B$28),\"\")","v":""},null,null,{"$f":"IF(M30,LOOKUP(M30,'NEC Rules'!$A$2:$B$28),\"\")","v":""},null,null,{"$f":"IF(P30,LOOKUP(P30,'NEC Rules'!$A$2:$B$28),\"\")","v":""},null,"","",null,null,null,"","","",null,null,null,null,null,null,null,null,null,null,null,null,null,null,{"$error":"#VALUE!"}]
[{"$error":"#REF!"},null,null,null,{"$f":"IF(D31,LOOKUP(D31,'NEC Rules'!$A$2:$B$28),\"\")","v":""},null,null,{"$f":"IF(G31,LOOKUP(G31,'NEC Rules'!$A$2:$B$28),\"\")","v":""},null,null,{"$f":"IF(J31,LOOKUP(J31,'NEC Rules'!$A$2:$B$28),\"\")","v":""},null,null,{"$f":"IF(M31,LOOKUP(M31,'NEC Rules'!$A$2:$B$28),\"\")","v":""},null,null,{"$f":"IF(P31,LOOKUP(P31,'NEC Rules'!$A$2:$B$28),\"\")","v":""},null,"","",null,null,null,"","","",null,null,null,null,null,null,null,null,null,null,null,null,null,null,{"$error":"#VALUE!"}]
[{"$error":"#REF!"},null,null,null,{"$f":"IF(D32,LOOKUP(D32,'NEC Rules'!$A$2:$B$28),\"\")","v":""},null,null,{"$f":"IF(G32,LOOKUP(G32,'NEC Rules'!$A$2:$B$28),\"\")","v":""},null,null,{"$f":"IF(J32,LOOKUP(J32,'NEC Rules'!$A$2:$B$28),\"\")","v":""},null,null,{"$f":"IF(M32,LOOKUP(M32,'NEC Rules'!$A$2:$B$28),\"\")","v":""},null,null,{"$f":"IF(P32,LOOKUP(P32,'NEC Rules'!$A$2:$B$28),\"\")","v":""},null,"","",null,null,null,"","","",null,null,null,null,null,null,null,null,null,null,null,null,null,null,{"$error":"#VALUE!"}]
[{"$error":"#REF!"},null,null,null,{"$f":"IF(D33,LOOKUP(D33,'NEC Rules'!$A$2:$B$28),\"\")","v":""},null,null,{"$f":"IF(G33,LOOKUP(G33,'NEC Rules'!$A$2:$B$28),\"\")","v":""},null,null,{"$f":"IF(J33,LOOKUP(J33,'NEC Rules'!$A$2:$B$28),\"\")","v":""},null,null,{"$f":"IF(M33,LOOKUP(M33,'NEC Rules'!$A$2:$B$28),\"\")","v":""},null,null,{"$f":"IF(P33,LOOKUP(P33,'NEC Rules'!$A$2:$B$28),\"\")","v":""},null,"","",null,null,null,"","","",null,null,null,null,null,null,null,null,null,null,null,null,null,null,{"$error":"#VALUE!"}]
[{"$error":"#REF!"},null,null,null,{"$f":"IF(D34,LOOKUP(D34,'NEC Rules'!$A$2:$B$28),\"\")","v":""},null,null,{"$f":"IF(G34,LOOKUP(G34,'NEC Rules'!$A$2:$B$28),\"\")","v":""},null,null,{"$f":"IF(J34,LOOKUP(J34,'NEC Rules'!$A$2:$B$28),\"\")","v":""},null,null,{"$f":"IF(M34,LOOKUP(M34,'NEC Rules'!$A$2:$B$28),\"\")","v":""},null,null,{"$f":"IF(P34,LOOKUP(P34,'NEC Rules'!$A$2:$B$28),\"\")","v":""},null,"","",null,null,null,"","","",null,null,null,null,null,null,null,null,null,null,null,null,null,null,{"$error":"#VALUE!"}]
[{"$error":"#REF!"},null,null,null,{"$f":"IF(D35,LOOKUP(D35,'NEC Rules'!$A$2:$B$28),\"\")","v":""},null,null,{"$f":"IF(G35,LOOKUP(G35,'NEC Rules'!$A$2:$B$28),\"\")","v":""},null,null,{"$f":"IF(J35,LOOKUP(J35,'NEC Rules'!$A$2:$B$28),\"\")","v":""},null,null,{"$f":"IF(M35,LOOKUP(M35,'NEC Rules'!$A$2:$B$28),\"\")","v":""},null,null,{"$f":"IF(P35,LOOKUP(P35,'NEC Rules'!$A$2:$B$28),\"\")","v":""},null,"","",null,null,null,"","","",null,null,null,null,null,null,null,null,null,null,null,null,null,null,{"$error":"#VALUE!"}]
[{"$error":"#REF!"},null,null,null,{"$f":"IF(D36,LOOKUP(D36,'NEC Rules'!$A$2:$B$28),\"\")","v":""},null,null,{"$f":"IF(G36,LOOKUP(G36,'NEC Rules'!$A$2:$B$28),\"\")","v":""},null,null,{"$f":"IF(J36,LOOKUP(J36,'NEC Rules'!$A$2:$B$28),\"\")","v":""},null,null,{"$f":"IF(M36,LOOKUP(M36,'NEC Rules'!$A$2:$B$28),\"\")","v":""},null,null,{"$f":"IF(P36,LOOKUP(P36,'NEC Rules'!$A$2:$B$28),\"\")","v":""},null,"","",null,null,null,"","","",null,null,null,null,null,null,null,null,null,null,null,null,null,null,{"$error":"#VALUE!"}]
[{"$error":"#REF!"},null,null,null,{"$f":"IF(D37,LOOKUP(D37,'NEC Rules'!$A$2:$B$28),\"\")","v":""},null,null,{"$f":"IF(G37,LOOKUP(G37,'NEC Rules'!$A$2:$B$28),\"\")","v":""},null,null,{"$f":"IF(J37,LOOKUP(J37,'NEC Rules'!$A$2:$B$28),\"\")","v":""},null,null,{"$f":"IF(M37,LOOKUP(M37,'NEC Rules'!$A$2:$B$28),\"\")","v":""},null,null,{"$f":"IF(P37,LOOKUP(P37,'NEC Rules'!$A$2:$B$28),\"\")","v":""},null,"","",null,null,null,"","","",null,null,null,null,null,null,null,null,null,null,null,null,null,null,{"$error":"#VALUE!"}]
[{"$error":"#REF!"},null,null,null,{"$f":"IF(D38,LOOKUP(D38,'NEC Rules'!$A$2:$B$28),\"\")","v":""},null,null,{"$f":"IF(G38,LOOKUP(G38,'NEC Rules'!$A$2:$B$28),\"\")","v":""},null,null,{"$f":"IF(J38,LOOKUP(J38,'NEC Rules'!$A$2:$B$28),\"\")","v":""},null,null,{"$f":"IF(M38,LOOKUP(M38,'NEC Rules'!$A$2:$B$28),\"\")","v":""},null,null,{"$f":"IF(P38,LOOKUP(P38,'NEC Rules'!$A$2:$B$28),\"\")","v":""},null,"","",null,null,null,"","","",null,null,null,null,null,null,null,null,null,null,null,null,null,null,{"$error":"#VALUE!"}]
[{"$error":"#REF!"},null,null,null,{"$f":"IF(D39,LOOKUP(D39,'NEC Rules'!$A$2:$B$28),\"\")","v":""},null,null,{"$f":"IF(G39,LOOKUP(G39,'NEC Rules'!$A$2:$B$28),\"\")","v":""},null,null,{"$f":"IF(J39,LOOKUP(J39,'NEC Rules'!$A$2:$B$28),\"\")","v":""},null,null,{"$f":"IF(M39,LOOKUP(M39,'NEC Rules'!$A$2:$B$28),\"\")","v":""},null,null,{"$f":"IF(P39,LOOKUP(P39,'NEC Rules'!$A$2:$B$28),\"\")","v":""},null,"","",null,null,null,"","","",null,null,null,null,null,null,null,null,null,null,null,null,null,null,{"$error":"#VALUE!"}]
[{"$error":"#REF!"},null,null,null,{"$f":"IF(D40,LOOKUP(D40,'NEC Rules'!$A$2:$B$28),\"\")","v":""},null,null,{"$f":"IF(G40,LOOKUP(G40,'NEC Rules'!$A$2:$B$28),\"\")","v":""},null,null,{"$f":"IF(J40,LOOKUP(J40,'NEC Rules'!$A$2:$B$28),\"\")","v":""},null,null,{"$f":"IF(M40,LOOKUP(M40,'NEC Rules'!$A$2:$B$28),\"\")","v":""},null,null,{"$f":"IF(P40,LOOKUP(P40,'NEC Rules'!$A$2:$B$28),\"\")","v":""},null,"","",null,null,null,"","","",null,null,null,null,null,null,null,null,null,null,null,null,null,null,{"$error":"#VALUE!"}]
[{"$error":"#REF!"},null,null,null,{"$f":"IF(D41,LOOKUP(D41,'NEC Rules'!$A$2:$B$28),\"\")","v":""},null,null,{"$f":"IF(G41,LOOKUP(G41,'NEC Rules'!$A$2:$B$28),\"\")","v":""},null,null,{"$f":"IF(J41,LOOKUP(J41,'NEC Rules'!$A$2:$B$28),\"\")","v":""},null,null,{"$f":"IF(M41,LOOKUP(M41,'NEC Rules'!$A$2:$B$28),\"\")","v":""},null,null,{"$f":"IF(P41,LOOKUP(P41,'NEC Rules'!$A$2:$B$28),\"\")","v":""},null,"","",null,null,null,"","","",null,null,null,null,null,null,null,null,null,null,null,null,null,null,{"$error":"#VALUE!"}]
[{"$error":"#REF!"},null,null,null,{"$f":"IF(D42,LOOKUP(D42,'NEC Rules'!$A$2:$B$28),\"\")","v":""},null,null,{"$f":"IF(G42,LOOKUP(G42,'NEC Rules'!$A$2:$B$28),\"\")","v":""},null,null,{"$f":"IF(J42,LOOKUP(J42,'NEC Rules'!$A$2:$B$28),\"\")","v":""},null,null,{"$f":"IF(M42,LOOKUP(M42,'NEC Rules'!$A$2:$B$28),\"\")","v":""},null,null,{"$f":"IF(P42,LOOKUP(P42,'NEC Rules'!$A$2:$B$28),\"\")","v":""},null,"","",null,null,null,"","","",null,null,null,null,null,null,null,null,null,null,null,null,null,null,{"$error":"#VALUE!"}]
[{"$error":"#REF!"},null,null,null,{"$f":"IF(D43,LOOKUP(D43,'NEC Rules'!$A$2:$B$28),\"\")","v":""},null,null,{"$f":"IF(G43,LOOKUP(G43,'NEC Rules'!$A$2:$B$28),\"\")","v":""},null,null,{"$f":"IF(J43,LOOKUP(J43,'NEC Rules'!$A$2:$B$28),\"\")","v":""},null,null,{"$f":"IF(M43,LOOKUP(M43,'NEC Rules'!$A$2:$B$28),\"\")","v":""},null,null,{"$f":"IF(P43,LOOKUP(P43,'NEC Rules'!$A$2:$B$28),\"\")","v":""},null,"","",null,null,null,"","","",null,null,null,null,null,null,null,null,null,null,null,null,null,null,{"$error":"#VALUE!"}]
[{"$error":"#REF!"},null,null,null,{"$f":"IF(D44,LOOKUP(D44,'NEC Rules'!$A$2:$B$28),\"\")","v":""},null,null,{"$f":"IF(G44,LOOKUP(G44,'NEC Rules'!$A$2:$B$28),\"\")","v":""},null,null,{"$f":"IF(J44,LOOKUP(J44,'NEC Rules'!$A$2:$B$28),\"\")","v":""},null,null,{"$f":"IF(M44,LOOKUP(M44,'NEC Rules'!$A$2:$B$28),\"\")","v":""},null,null,{"$f":"IF(P44,LOOKUP(P44,'NEC Rules'!$A$2:$B$28),\"\")","v":""},null,"","",null,null,null,"","","",null,null,null,null,null,null,null,null,null,null,null,null,null,null,{"$error":"#VALUE!"}]
[{"$error":"#REF!"},null,null,null,{"$f":"IF(D45,LOOKUP(D45,'NEC Rules'!$A$2:$B$28),\"\")","v":""},null,null,{"$f":"IF(G45,LOOKUP(G45,'NEC Rules'!$A$2:$B$28),\"\")","v":""},null,null,{"$f":"IF(J45,LOOKUP(J45,'NEC Rules'!$A$2:$B$28),\"\")","v":""},null,null,{"$f":"IF(M45,LOOKUP(M45,'NEC Rules'!$A$2:$B$28),\"\")","v":""},null,null,{"$f":"IF(P45,LOOKUP(P45,'NEC Rules'!$A$2:$B$28),\"\")","v":""},null,"","",null,null,null,"","","",null,null,null,null,null,null,null,null,null,null,null,null,null,null,{"$error":"#VALUE!"}]
[{"$error":"#REF!"},null,null,null,{"$f":"IF(D46,LOOKUP(D46,'NEC Rules'!$A$2:$B$28),\"\")","v":""},null,null,{"$f":"IF(G46,LOOKUP(G46,'NEC Rules'!$A$2:$B$28),\"\")","v":""},null,null,{"$f":"IF(J46,LOOKUP(J46,'NEC Rules'!$A$2:$B$28),\"\")","v":""},null,null,{"$f":"IF(M46,LOOKUP(M46,'NEC Rules'!$A$2:$B$28),\"\")","v":""},null,null,{"$f":"IF(P46,LOOKUP(P46,'NEC Rules'!$A$2:$B$28),\"\")","v":""},null,"","",null,null,null,"","","",null,null,null,null,null,null,null,null,null,null,null,null,null,null,{"$error":"#VALUE!"}]
[{"$error":"#REF!"},null,null,null,{"$f":"IF(D47,LOOKUP(D47,'NEC Rules'!$A$2:$B$28),\"\")","v":""},null,null,{"$f":"IF(G47,LOOKUP(G47,'NEC Rules'!$A$2:$B$28),\"\")","v":""},null,null,{"$f":"IF(J47,LOOKUP(J47,'NEC Rules'!$A$2:$B$28),\"\")","v":""},null,null,{"$f":"IF(M47,LOOKUP(M47,'NEC Rules'!$A$2:$B$28),\"\")","v":""},null,null,{"$f":"IF(P47,LOOKUP(P47,'NEC Rules'!$A$2:$B$28),\"\")","v":""},null,"","",null,null,null,"","","",null,null,null,null,null,null,null,null,null,null,null,null,null,null,{"$error":"#VALUE!"}]
[{"$error":"#REF!"},null,null,null,{"$f":"IF(D48,LOOKUP(D48,'NEC Rules'!$A$2:$B$28),\"\")","v":""},null,null,{"$f":"IF(G48,LOOKUP(G48,'NEC Rules'!$A$2:$B$28),\"\")","v":""},null,null,{"$f":"IF(J48,LOOKUP(J48,'NEC Rules'!$A$2:$B$28),\"\")","v":""},null,null,{"$f":"IF(M48,LOOKUP(M48,'NEC Rules'!$A$2:$B$28),\"\")","v":""},null,null,{"$f":"IF(P48,LOOKUP(P48,'NEC Rules'!$A$2:$B$28),\"\")","v":""},null,"","",null,null,null,"","","",null,null,null,null,null,null,null,null,null,null,null,null,null,null,{"$error":"#VALUE!"}]
[{"$error":"#REF!"},null,null,null,{"$f":"IF(D49,LOOKUP(D49,'NEC Rules'!$A$2:$B$28),\"\")","v":""},null,null,{"$f":"IF(G49,LOOKUP(G49,'NEC Rules'!$A$2:$B$28),\"\")","v":""},null,null,{"$f":"IF(J49,LOOKUP(J49,'NEC Rules'!$A$2:$B$28),\"\")","v":""},null,null,{"$f":"IF(M49,LOOKUP(M49,'NEC Rules'!$A$2:$B$28),\"\")","v":""},null,null,{"$f":"IF(P49,LOOKUP(P49,'NEC Rules'!$A$2:$B$28),\"\")","v":""},null,"","",null,null,null,"","","",null,null,null,null,null,null,null,null,null,null,null,null,null,null,{"$error":"#VALUE!"}]
[{"$error":"#REF!"},null,null,null,{"$f":"IF(D50,LOOKUP(D50,'NEC Rules'!$A$2:$B$28),\"\")","v":""},null,null,{"$f":"IF(G50,LOOKUP(G50,'NEC Rules'!$A$2:$B$28),\"\")","v":""},null,null,{"$f":"IF(J50,LOOKUP(J50,'NEC Rules'!$A$2:$B$28),\"\")","v":""},null,null,{"$f":"IF(M50,LOOKUP(M50,'NEC Rules'!$A$2:$B$28),\"\")","v":""},null,null,{"$f":"IF(P50,LOOKUP(P50,'NEC Rules'!$A$2:$B$28),\"\")","v":""},null,"","",null,null,null,"","","",null,null,null,null,null,null,null,null,null,null,null,null,null,null,{"$error":"#VALUE!"}]
[{"$error":"#REF!"},null,null,null,{"$f":"IF(D51,LOOKUP(D51,'NEC Rules'!$A$2:$B$28),\"\")","v":""},null,null,{"$f":"IF(G51,LOOKUP(G51,'NEC Rules'!$A$2:$B$28),\"\")","v":""},null,null,{"$f":"IF(J51,LOOKUP(J51,'NEC Rules'!$A$2:$B$28),\"\")","v":""},null,null,{"$f":"IF(M51,LOOKUP(M51,'NEC Rules'!$A$2:$B$28),\"\")","v":""},null,null,{"$f":"IF(P51,LOOKUP(P51,'NEC Rules'!$A$2:$B$28),\"\")","v":""},null,"","",null,null,null,"","","",null,null,null,null,null,null,null,null,null,null,null,null,null,null,{"$error":"#VALUE!"}]
[{"$error":"#REF!"},null,null,null,{"$f":"IF(D52,LOOKUP(D52,'NEC Rules'!$A$2:$B$28),\"\")","v":""},null,null,{"$f":"IF(G52,LOOKUP(G52,'NEC Rules'!$A$2:$B$28),\"\")","v":""},null,null,{"$f":"IF(J52,LOOKUP(J52,'NEC Rules'!$A$2:$B$28),\"\")","v":""},null,null,{"$f":"IF(M52,LOOKUP(M52,'NEC Rules'!$A$2:$B$28),\"\")","v":""},null,null,{"$f":"IF(P52,LOOKUP(P52,'NEC Rules'!$A$2:$B$28),\"\")","v":""},null,"","",null,null,null,"","","",null,null,null,null,null,null,null,null,null,null,null,null,null,null,{"$error":"#VALUE!"}]
[{"$error":"#REF!"},null,null,null,{"$f":"IF(D53,LOOKUP(D53,'NEC Rules'!$A$2:$B$28),\"\")","v":""},null,null,{"$f":"IF(G53,LOOKUP(G53,'NEC Rules'!$A$2:$B$28),\"\")","v":""},null,null,{"$f":"IF(J53,LOOKUP(J53,'NEC Rules'!$A$2:$B$28),\"\")","v":""},null,null,{"$f":"IF(M53,LOOKUP(M53,'NEC Rules'!$A$2:$B$28),\"\")","v":""},null,null,{"$f":"IF(P53,LOOKUP(P53,'NEC Rules'!$A$2:$B$28),\"\")","v":""},null,"","",null,null,null,"","","",null,null,null,null,null,null,null,null,null,null,null,null,null,null,{"$error":"#VALUE!"}]
[{"$error":"#REF!"},null,null,null,{"$f":"IF(D54,LOOKUP(D54,'NEC Rules'!$A$2:$B$28),\"\")","v":""},null,null,{"$f":"IF(G54,LOOKUP(G54,'NEC Rules'!$A$2:$B$28),\"\")","v":""},null,null,{"$f":"IF(J54,LOOKUP(J54,'NEC Rules'!$A$2:$B$28),\"\")","v":""},null,null,{"$f":"IF(M54,LOOKUP(M54,'NEC Rules'!$A$2:$B$28),\"\")","v":""},null,null,{"$f":"IF(P54,LOOKUP(P54,'NEC Rules'!$A$2:$B$28),\"\")","v":""},null,"","",null,null,null,"","","",null,null,null,null,null,null,null,null,null,null,null,null,null,null,{"$error":"#VALUE!"}]
[{"$error":"#REF!"},null,null,null,{"$f":"IF(D55,LOOKUP(D55,'NEC Rules'!$A$2:$B$28),\"\")","v":""},null,null,{"$f":"IF(G55,LOOKUP(G55,'NEC Rules'!$A$2:$B$28),\"\")","v":""},null,null,{"$f":"IF(J55,LOOKUP(J55,'NEC Rules'!$A$2:$B$28),\"\")","v":""},null,null,{"$f":"IF(M55,LOOKUP(M55,'NEC Rules'!$A$2:$B$28),\"\")","v":""},null,null,{"$f":"IF(P55,LOOKUP(P55,'NEC Rules'!$A$2:$B$28),\"\")","v":""},null,"","",null,null,null,"","","",null,null,null,null,null,null,null,null,null,null,null,null,null,null,{"$error":"#VALUE!"}]
[{"$error":"#REF!"},null,null,null,{"$f":"IF(D56,LOOKUP(D56,'NEC Rules'!$A$2:$B$28),\"\")","v":""},null,null,{"$f":"IF(G56,LOOKUP(G56,'NEC Rules'!$A$2:$B$28),\"\")","v":""},null,null,{"$f":"IF(J56,LOOKUP(J56,'NEC Rules'!$A$2:$B$28),\"\")","v":""},null,null,{"$f":"IF(M56,LOOKUP(M56,'NEC Rules'!$A$2:$B$28),\"\")","v":""},null,null,{"$f":"IF(P56,LOOKUP(P56,'NEC Rules'!$A$2:$B$28),\"\")","v":""},null,"","",null,null,null,"","","",null,null,null,null,null,null,null,null,null,null,null,null,null,null,{"$error":"#VALUE!"}]
[{"$error":"#REF!"},null,null,null,{"$f":"IF(D57,LOOKUP(D57,'NEC Rules'!$A$2:$B$28),\"\")","v":""},null,null,{"$f":"IF(G57,LOOKUP(G57,'NEC Rules'!$A$2:$B$28),\"\")","v":""},null,null,{"$f":"IF(J57,LOOKUP(J57,'NEC Rules'!$A$2:$B$28),\"\")","v":""},null,null,{"$f":"IF(M57,LOOKUP(M57,'NEC Rules'!$A$2:$B$28),\"\")","v":""},null,null,{"$f":"IF(P57,LOOKUP(P57,'NEC Rules'!$A$2:$B$28),\"\")","v":""},null,"","",null,null,null,"","","",null,null,null,null,null,null,null,null,null,null,null,null,null,null,{"$error":"#VALUE!"}]
[{"$error":"#REF!"},null,null,null,{"$f":"IF(D58,LOOKUP(D58,'NEC Rules'!$A$2:$B$28),\"\")","v":""},null,null,{"$f":"IF(G58,LOOKUP(G58,'NEC Rules'!$A$2:$B$28),\"\")","v":""},null,null,{"$f":"IF(J58,LOOKUP(J58,'NEC Rules'!$A$2:$B$28),\"\")","v":""},null,null,{"$f":"IF(M58,LOOKUP(M58,'NEC Rules'!$A$2:$B$28),\"\")","v":""},null,null,{"$f":"IF(P58,LOOKUP(P58,'NEC Rules'!$A$2:$B$28),\"\")","v":""},null,"","",null,null,null,"","","",null,null,null,null,null,null,null,null,null,null,null,null,null,null,{"$error":"#VALUE!"}]
[{"$error":"#REF!"},null,null,null,{"$f":"IF(D59,LOOKUP(D59,'NEC Rules'!$A$2:$B$28),\"\")","v":""},null,null,{"$f":"IF(G59,LOOKUP(G59,'NEC Rules'!$A$2:$B$28),\"\")","v":""},null,null,{"$f":"IF(J59,LOOKUP(J59,'NEC Rules'!$A$2:$B$28),\"\")","v":""},null,null,{"$f":"IF(M59,LOOKUP(M59,'NEC Rules'!$A$2:$B$28),\"\")","v":""},null,null,{"$f":"IF(P59,LOOKUP(P59,'NEC Rules'!$A$2:$B$28),\"\")","v":""},null,"","",null,null,null,"","","",null,null,null,null,null,null,null,null,null,null,null,null,null,null,{"$error":"#VALUE!"}]
[{"$error":"#REF!"},null,null,null,{"$f":"IF(D60,LOOKUP(D60,'NEC Rules'!$A$2:$B$28),\"\")","v":""},null,null,{"$f":"IF(G60,LOOKUP(G60,'NEC Rules'!$A$2:$B$28),\"\")","v":""},null,null,{"$f":"IF(J60,LOOKUP(J60,'NEC Rules'!$A$2:$B$28),\"\")","v":""},null,null,{"$f":"IF(M60,LOOKUP(M60,'NEC Rules'!$A$2:$B$28),\"\")","v":""},null,null,{"$f":"IF(P60,LOOKUP(P60,'NEC Rules'!$A$2:$B$28),\"\")","v":""},null,"","",null,null,null,"","","",null,null,null,null,null,null,null,null,null,null,null,null,null,null,{"$error":"#VALUE!"}]
[{"$error":"#REF!"},null,null,null,{"$f":"IF(D61,LOOKUP(D61,'NEC Rules'!$A$2:$B$28),\"\")","v":""},null,null,{"$f":"IF(G61,LOOKUP(G61,'NEC Rules'!$A$2:$B$28),\"\")","v":""},null,null,{"$f":"IF(J61,LOOKUP(J61,'NEC Rules'!$A$2:$B$28),\"\")","v":""},null,null,{"$f":"IF(M61,LOOKUP(M61,'NEC Rules'!$A$2:$B$28),\"\")","v":""},null,null,{"$f":"IF(P61,LOOKUP(P61,'NEC Rules'!$A$2:$B$28),\"\")","v":""},null,"","",null,null,null,"","","",null,null,null,null,null,null,null,null,null,null,null,null,null,null,{"$error":"#VALUE!"}]
[{"$error":"#REF!"},null,null,null,{"$f":"IF(D62,LOOKUP(D62,'NEC Rules'!$A$2:$B$28),\"\")","v":""},null,null,{"$f":"IF(G62,LOOKUP(G62,'NEC Rules'!$A$2:$B$28),\"\")","v":""},null,null,{"$f":"IF(J62,LOOKUP(J62,'NEC Rules'!$A$2:$B$28),\"\")","v":""},null,null,{"$f":"IF(M62,LOOKUP(M62,'NEC Rules'!$A$2:$B$28),\"\")","v":""},null,null,{"$f":"IF(P62,LOOKUP(P62,'NEC Rules'!$A$2:$B$28),\"\")","v":""},null,"","",null,null,null,"","","",null,null,null,null,null,null,null,null,null,null,null,null,null,null,{"$error":"#VALUE!"}]
[{"$error":"#REF!"},null,null,null,{"$f":"IF(D63,LOOKUP(D63,'NEC Rules'!$A$2:$B$28),\"\")","v":""},null,null,{"$f":"IF(G63,LOOKUP(G63,'NEC Rules'!$A$2:$B$28),\"\")","v":""},null,null,{"$f":"IF(J63,LOOKUP(J63,'NEC Rules'!$A$2:$B$28),\"\")","v":""},null,null,{"$f":"IF(M63,LOOKUP(M63,'NEC Rules'!$A$2:$B$28),\"\")","v":""},null,null,{"$f":"IF(P63,LOOKUP(P63,'NEC Rules'!$A$2:$B$28),\"\")","v":""},null,"","",null,null,null,"","","",null,null,null,null,null,null,null,null,null,null,null,null,null,null,{"$error":"#VALUE!"}]
[{"$error":"#REF!"},null,null,null,{"$f":"IF(D64,LOOKUP(D64,'NEC Rules'!$A$2:$B$28),\"\")","v":""},null,null,{"$f":"IF(G64,LOOKUP(G64,'NEC Rules'!$A$2:$B$28),\"\")","v":""},null,null,{"$f":"IF(J64,LOOKUP(J64,'NEC Rules'!$A$2:$B$28),\"\")","v":""},null,null,{"$f":"IF(M64,LOOKUP(M64,'NEC Rules'!$A$2:$B$28),\"\")","v":""},null,null,{"$f":"IF(P64,LOOKUP(P64,'NEC Rules'!$A$2:$B$28),\"\")","v":""},null,"","",null,null,null,"",{"$f":"CalcMPF(V64,D64,E64,F64,H64,I64,K64,L64,N64,O64,Q64,R64,T64,U64)","v":""},"",null,null,null,null,null,null,null,null,null,null,null,null,null,null,{"$error":"#VALUE!"}]
[{"$error":"#REF!"},null,null,null,{"$f":"IF(D65,LOOKUP(D65,'NEC Rules'!$A$2:$B$28),\"\")","v":""},null,null,{"$f":"IF(G65,LOOKUP(G65,'NEC Rules'!$A$2:$B$28),\"\")","v":""},null,null,{"$f":"IF(J65,LOOKUP(J65,'NEC Rules'!$A$2:$B$28),\"\")","v":""},null,null,{"$f":"IF(M65,LOOKUP(M65,'NEC Rules'!$A$2:$B$28),\"\")","v":""},null,null,{"$f":"IF(P65,LOOKUP(P65,'NEC Rules'!$A$2:$B$28),\"\")","v":""},null,"","",null,null,null,"","","",null,null,null,null,null,null,null,null,null,null,null,null,null,null,{"$error":"#VALUE!"}]
[{"$error":"#REF!"},null,null,null,{"$f":"IF(D66,LOOKUP(D66,'NEC Rules'!$A$2:$B$28),\"\")","v":""},null,null,{"$f":"IF(G66,LOOKUP(G66,'NEC Rules'!$A$2:$B$28),\"\")","v":""},null,null,{"$f":"IF(J66,LOOKUP(J66,'NEC Rules'!$A$2:$B$28),\"\")","v":""},null,null,{"$f":"IF(M66,LOOKUP(M66,'NEC Rules'!$A$2:$B$28),\"\")","v":""},null,null,{"$f":"IF(P66,LOOKUP(P66,'NEC Rules'!$A$2:$B$28),\"\")","v":""},null,{"$f":"CalcHP(D66,F66,G66,I66,J66,L66,M66,O66,P66,R66)","v":""},"",null,null,null,"","","",null,null,null,null,null,null,null,null,null,null,null,null,null,null,{"$error":"#VALUE!"}]
[{"$error":"#REF!"},null,null,null,{"$f":"IF(D67,LOOKUP(D67,'NEC Rules'!$A$2:$B$28),\"\")","v":""},null,null,{"$f":"IF(G67,LOOKUP(G67,'NEC Rules'!$A$2:$B$28),\"\")","v":""},null,null,{"$f":"IF(J67,LOOKUP(J67,'NEC Rules'!$A$2:$B$28),\"\")","v":""},null,null,{"$f":"IF(M67,LOOKUP(M67,'NEC Rules'!$A$2:$B$28),\"\")","v":""},null,null,{"$f":"IF(P67,LOOKUP(P67,'NEC Rules'!$A$2:$B$28),\"\")","v":""},null,"","",null,null,null,"","","",null,null,null,null,null,null,null,null,null,null,null,null,null,null,{"$error":"#VALUE!"}]
[{"$error":"#REF!"},null,null,null,{"$f":"IF(D68,LOOKUP(D68,'NEC Rules'!$A$2:$B$28),\"\")","v":""},null,null,{"$f":"IF(G68,LOOKUP(G68,'NEC Rules'!$A$2:$B$28),\"\")","v":""},null,null,{"$f":"IF(J68,LOOKUP(J68,'NEC Rules'!$A$2:$B$28),\"\")","v":""},null,null,{"$f":"IF(M68,LOOKUP(M68,'NEC Rules'!$A$2:$B$28),\"\")","v":""},null,null,{"$f":"IF(P68,LOOKUP(P68,'NEC Rules'!$A$2:$B$28),\"\")","v":""},null,"",{"$f":"IF(D68,10,\"\")","v":""},null,null,null,{"$f":"IF((V68*W68),(V68*W68),\"\")","v":""},"",{"$f":"CalcPD(Y68)","v":""},null,null,null,null,null,null,null,null,null,null,null,null,null,null,{"$f":"X68*480*0.03","v":{"$error":"#VALUE!"}}]
[{"$f":"A68+1","v":{"$error":"#REF!"}},null,null,null,{"$f":"IF(D69,LOOKUP(D69,'NEC Rules'!$A$2:$B$28),\"\")","v":""},null,null,{"$f":"IF(G69,LOOKUP(G69,'NEC Rules'!$A$2:$B$28),\"\")","v":""},null,null,{"$f":"IF(J69,LOOKUP(J69,'NEC Rules'!$A$2:$B$28),\"\")","v":""},null,null,{"$f":"IF(M69,LOOKUP(M69,'NEC Rules'!$A$2:$B$28),\"\")","v":""},null,null,{"$f":"IF(P69,LOOKUP(P69,'NEC Rules'!$A$2:$B$28),\"\")","v":""},null,"","",null,null,null,"","","",null,null,null,null,null,null,null,null,null,null,null,null,null,null,{"$error":"#VALUE!"}]
[{"$error":"#REF!"},null,null,null,{"$f":"IF(D70,LOOKUP(D70,'NEC Rules'!$A$2:$B$28),\"\")","v":""},null,null,{"$f":"IF(G70,LOOKUP(G70,'NEC Rules'!$A$2:$B$28),\"\")","v":""},null,null,{"$f":"IF(J70,LOOKUP(J70,'NEC Rules'!$A$2:$B$28),\"\")","v":""},null,null,{"$f":"IF(M70,LOOKUP(M70,'NEC Rules'!$A$2:$B$28),\"\")","v":""},null,null,{"$f":"IF(P70,LOOKUP(P70,'NEC Rules'!$A$2:$B$28),\"\")","v":""},null,"","",null,null,null,"","","",null,null,null,null,null,null,null,null,null,null,null,null,null,null,{"$error":"#VALUE!"}]
[{"$error":"#REF!"},null,null,null,{"$f":"IF(D71,LOOKUP(D71,'NEC Rules'!$A$2:$B$28),\"\")","v":""},null,null,{"$f":"IF(G71,LOOKUP(G71,'NEC Rules'!$A$2:$B$28),\"\")","v":""},null,null,{"$f":"IF(J71,LOOKUP(J71,'NEC Rules'!$A$2:$B$28),\"\")","v":""},null,null,{"$f":"IF(M71,LOOKUP(M71,'NEC Rules'!$A$2:$B$28),\"\")","v":""},null,null,{"$f":"IF(P71,LOOKUP(P71,'NEC Rules'!$A$2:$B$28),\"\")","v":""},null,"","",null,null,null,"","","",null,null,null,null,null,null,null,null,null,null,null,null,null,null,{"$error":"#VALUE!"}]
[{"$error":"#REF!"},null,null,null,{"$f":"IF(D72,LOOKUP(D72,'NEC Rules'!$A$2:$B$28),\"\")","v":""},null,null,{"$f":"IF(G72,LOOKUP(G72,'NEC Rules'!$A$2:$B$28),\"\")","v":""},null,null,{"$f":"IF(J72,LOOKUP(J72,'NEC Rules'!$A$2:$B$28),\"\")","v":""},null,null,{"$f":"IF(M72,LOOKUP(M72,'NEC Rules'!$A$2:$B$28),\"\")","v":""},null,null,{"$f":"IF(P72,LOOKUP(P72,'NEC Rules'!$A$2:$B$28),\"\")","v":""},null,"","",null,null,null,"","","",null,null,null,null,null,null,null,null,null,null,null,null,null,null,{"$error":"#VALUE!"}]
[{"$error":"#REF!"},null,null,null,{"$f":"IF(D73,LOOKUP(D73,'NEC Rules'!$A$2:$B$28),\"\")","v":""},null,null,{"$f":"IF(G73,LOOKUP(G73,'NEC Rules'!$A$2:$B$28),\"\")","v":""},null,null,{"$f":"IF(J73,LOOKUP(J73,'NEC Rules'!$A$2:$B$28),\"\")","v":""},null,null,{"$f":"IF(M73,LOOKUP(M73,'NEC Rules'!$A$2:$B$28),\"\")","v":""},null,null,{"$f":"IF(P73,LOOKUP(P73,'NEC Rules'!$A$2:$B$28),\"\")","v":""},null,"","",null,null,null,"","","",null,null,null,null,null,null,null,null,null,null,null,null,null,null,{"$error":"#VALUE!"}]
[{"$error":"#REF!"},null,null,null,{"$f":"IF(D74,LOOKUP(D74,'NEC Rules'!$A$2:$B$28),\"\")","v":""},null,null,{"$f":"IF(G74,LOOKUP(G74,'NEC Rules'!$A$2:$B$28),\"\")","v":""},null,null,{"$f":"IF(J74,LOOKUP(J74,'NEC Rules'!$A$2:$B$28),\"\")","v":""},null,null,{"$f":"IF(M74,LOOKUP(M74,'NEC Rules'!$A$2:$B$28),\"\")","v":""},null,null,{"$f":"IF(P74,LOOKUP(P74,'NEC Rules'!$A$2:$B$28),\"\")","v":""},null,"","",null,null,null,"","","",null,null,null,null,null,null,null,null,null,null,null,null,null,null,{"$error":"#VALUE!"}]
[{"$error":"#REF!"},null,null,null,{"$f":"IF(D75,LOOKUP(D75,'NEC Rules'!$A$2:$B$28),\"\")","v":""},null,null,{"$f":"IF(G75,LOOKUP(G75,'NEC Rules'!$A$2:$B$28),\"\")","v":""},null,null,{"$f":"IF(J75,LOOKUP(J75,'NEC Rules'!$A$2:$B$28),\"\")","v":""},null,null,{"$f":"IF(M75,LOOKUP(M75,'NEC Rules'!$A$2:$B$28),\"\")","v":""},null,null,{"$f":"IF(P75,LOOKUP(P75,'NEC Rules'!$A$2:$B$28),\"\")","v":""},null,"","",null,null,null,"","","",null,null,null,null,null,null,null,null,null,null,null,null,null,null,{"$error":"#VALUE!"}]
[{"$error":"#REF!"},null,null,null,{"$f":"IF(D76,LOOKUP(D76,'NEC Rules'!$A$2:$B$28),\"\")","v":""},null,null,{"$f":"IF(G76,LOOKUP(G76,'NEC Rules'!$A$2:$B$28),\"\")","v":""},null,null,{"$f":"IF(J76,LOOKUP(J76,'NEC Rules'!$A$2:$B$28),\"\")","v":""},null,null,{"$f":"IF(M76,LOOKUP(M76,'NEC Rules'!$A$2:$B$28),\"\")","v":""},null,null,{"$f":"IF(P76,LOOKUP(P76,'NEC Rules'!$A$2:$B$28),\"\")","v":""},null,"","",null,null,null,"","","",null,null,null,null,null,null,null,null,null,null,null,null,null,null,{"$error":"#VALUE!"}]
[{"$error":"#REF!"},null,null,null,{"$f":"IF(D77,LOOKUP(D77,'NEC Rules'!$A$2:$B$28),\"\")","v":""},null,null,{"$f":"IF(G77,LOOKUP(G77,'NEC Rules'!$A$2:$B$28),\"\")","v":""},null,null,{"$f":"IF(J77,LOOKUP(J77,'NEC Rules'!$A$2:$B$28),\"\")","v":""},null,null,{"$f":"IF(M77,LOOKUP(M77,'NEC Rules'!$A$2:$B$28),\"\")","v":""},null,null,{"$f":"IF(P77,LOOKUP(P77,'NEC Rules'!$A$2:$B$28),\"\")","v":""},null,"","",null,null,null,"","","",null,null,null,null,null,null,null,null,null,null,null,null,null,null,{"$error":"#VALUE!"}]
[{"$error":"#REF!"},null,null,null,{"$f":"IF(D78,LOOKUP(D78,'NEC Rules'!$A$2:$B$28),\"\")","v":""},null,null,{"$f":"IF(G78,LOOKUP(G78,'NEC Rules'!$A$2:$B$28),\"\")","v":""},null,null,{"$f":"IF(J78,LOOKUP(J78,'NEC Rules'!$A$2:$B$28),\"\")","v":""},null,null,{"$f":"IF(M78,LOOKUP(M78,'NEC Rules'!$A$2:$B$28),\"\")","v":""},null,null,{"$f":"IF(P78,LOOKUP(P78,'NEC Rules'!$A$2:$B$28),\"\")","v":""},null,"","",null,null,null,"","","",null,null,null,null,null,null,null,null,null,null,null,null,null,null,{"$error":"#VALUE!"}]
[{"$error":"#REF!"},null,null,null,{"$f":"IF(D79,LOOKUP(D79,'NEC Rules'!$A$2:$B$28),\"\")","v":""},null,null,{"$f":"IF(G79,LOOKUP(G79,'NEC Rules'!$A$2:$B$28),\"\")","v":""},null,null,{"$f":"IF(J79,LOOKUP(J79,'NEC Rules'!$A$2:$B$28),\"\")","v":""},null,null,{"$f":"IF(M79,LOOKUP(M79,'NEC Rules'!$A$2:$B$28),\"\")","v":""},null,null,{"$f":"IF(P79,LOOKUP(P79,'NEC Rules'!$A$2:$B$28),\"\")","v":""},null,"","",null,null,null,"","","",null,null,null,null,null,null,null,null,null,null,null,null,null,null,{"$error":"#VALUE!"}]
[{"$error":"#REF!"},null,null,null,{"$f":"IF(D80,LOOKUP(D80,'NEC Rules'!$A$2:$B$28),\"\")","v":""},null,null,{"$f":"IF(G80,LOOKUP(G80,'NEC Rules'!$A$2:$B$28),\"\")","v":""},null,null,{"$f":"IF(J80,LOOKUP(J80,'NEC Rules'!$A$2:$B$28),\"\")","v":""},null,null,{"$f":"IF(M80,LOOKUP(M80,'NEC Rules'!$A$2:$B$28),\"\")","v":""},null,null,{"$f":"IF(P80,LOOKUP(P80,'NEC Rules'!$A$2:$B$28),\"\")","v":""},null,"","",null,null,null,"","","",null,null,null,null,null,null,null,null,null,null,null,null,null,null,{"$error":"#VALUE!"}]
[{"$error":"#REF!"},null,null,null,{"$f":"IF(D81,LOOKUP(D81,'NEC Rules'!$A$2:$B$28),\"\")","v":""},null,null,{"$f":"IF(G81,LOOKUP(G81,'NEC Rules'!$A$2:$B$28),\"\")","v":""},null,null,{"$f":"IF(J81,LOOKUP(J81,'NEC Rules'!$A$2:$B$28),\"\")","v":""},null,null,{"$f":"IF(M81,LOOKUP(M81,'NEC Rules'!$A$2:$B$28),\"\")","v":""},null,null,{"$f":"IF(P81,LOOKUP(P81,'NEC Rules'!$A$2:$B$28),\"\")","v":""},null,{"$f":"CalcHP(D81,F81,G81,I81,J81,L81,M81,O81,P81,R81)","v":""},"",null,null,null,"","","",null,null,null,null,null,null,null,null,null,null,null,null,null,null,{"$error":"#VALUE!"}]
[{"$error":"#REF!"},null,null,null,{"$f":"IF(D82,LOOKUP(D82,'NEC Rules'!$A$2:$B$28),\"\")","v":""},null,null,{"$f":"IF(G82,LOOKUP(G82,'NEC Rules'!$A$2:$B$28),\"\")","v":""},null,null,{"$f":"IF(J82,LOOKUP(J82,'NEC Rules'!$A$2:$B$28),\"\")","v":""},null,null,{"$f":"IF(M82,LOOKUP(M82,'NEC Rules'!$A$2:$B$28),\"\")","v":""},null,null,{"$f":"IF(P82,LOOKUP(P82,'NEC Rules'!$A$2:$B$28),\"\")","v":""},null,"","",null,null,null,"","","",null,null,null,null,null,null,null,null,null,null,null,null,null,null,{"$error":"#VALUE!"}]
[{"$error":"#REF!"},null,null,null,{"$f":"IF(D83,LOOKUP(D83,'NEC Rules'!$A$2:$B$28),\"\")","v":""},null,null,{"$f":"IF(G83,LOOKUP(G83,'NEC Rules'!$A$2:$B$28),\"\")","v":""},null,null,{"$f":"IF(J83,LOOKUP(J83,'NEC Rules'!$A$2:$B$28),\"\")","v":""},null,null,{"$f":"IF(M83,LOOKUP(M83,'NEC Rules'!$A$2:$B$28),\"\")","v":""},null,null,{"$f":"IF(P83,LOOKUP(P83,'NEC Rules'!$A$2:$B$28),\"\")","v":""},null,"","",null,null,null,"","","",null,null,null,null,null,null,null,null,null,null,null,null,null,null,{"$error":"#VALUE!"}]
[{"$error":"#REF!"},null,null,null,{"$f":"IF(D84,LOOKUP(D84,'NEC Rules'!$A$2:$B$28),\"\")","v":""},null,null,{"$f":"IF(G84,LOOKUP(G84,'NEC Rules'!$A$2:$B$28),\"\")","v":""},null,null,{"$f":"IF(J84,LOOKUP(J84,'NEC Rules'!$A$2:$B$28),\"\")","v":""},null,null,{"$f":"IF(M84,LOOKUP(M84,'NEC Rules'!$A$2:$B$28),\"\")","v":""},null,null,{"$f":"IF(P84,LOOKUP(P84,'NEC Rules'!$A$2:$B$28),\"\")","v":""},null,"","",null,null,null,"","","",null,null,null,null,null,null,null,null,null,null,null,null,null,null,{"$error":"#VALUE!"}]
[{"$error":"#REF!"},null,null,null,{"$f":"IF(D85,LOOKUP(D85,'NEC Rules'!$A$2:$B$28),\"\")","v":""},null,null,{"$f":"IF(G85,LOOKUP(G85,'NEC Rules'!$A$2:$B$28),\"\")","v":""},null,null,{"$f":"IF(J85,LOOKUP(J85,'NEC Rules'!$A$2:$B$28),\"\")","v":""},null,null,{"$f":"IF(M85,LOOKUP(M85,'NEC Rules'!$A$2:$B$28),\"\")","v":""},null,null,{"$f":"IF(P85,LOOKUP(P85,'NEC Rules'!$A$2:$B$28),\"\")","v":""},null,"","",null,null,null,"","","",null,null,null,null,null,null,null,null,null,null,null,null,null,null,{"$error":"#VALUE!"}]
[{"$error":"#REF!"},null,null,null,{"$f":"IF(D86,LOOKUP(D86,'NEC Rules'!$A$2:$B$28),\"\")","v":""},null,null,{"$f":"IF(G86,LOOKUP(G86,'NEC Rules'!$A$2:$B$28),\"\")","v":""},null,null,{"$f":"IF(J86,LOOKUP(J86,'NEC Rules'!$A$2:$B$28),\"\")","v":""},null,null,{"$f":"IF(M86,LOOKUP(M86,'NEC Rules'!$A$2:$B$28),\"\")","v":""},null,null,{"$f":"IF(P86,LOOKUP(P86,'NEC Rules'!$A$2:$B$28),\"\")","v":""},null,"","",null,null,null,"","","",null,null,null,null,null,null,null,null,null,null,null,null,null,null,{"$error":"#VALUE!"}]
[{"$error":"#REF!"},null,null,null,{"$f":"IF(D87,LOOKUP(D87,'NEC Rules'!$A$2:$B$28),\"\")","v":""},null,null,{"$f":"IF(G87,LOOKUP(G87,'NEC Rules'!$A$2:$B$28),\"\")","v":""},null,null,{"$f":"IF(J87,LOOKUP(J87,'NEC Rules'!$A$2:$B$28),\"\")","v":""},null,null,{"$f":"IF(M87,LOOKUP(M87,'NEC Rules'!$A$2:$B$28),\"\")","v":""},null,null,{"$f":"IF(P87,LOOKUP(P87,'NEC Rules'!$A$2:$B$28),\"\")","v":""},null,"","",null,null,null,"","","",null,null,null,null,null,null,null,null,null,null,null,null,null,null,{"$error":"#VALUE!"}]
[{"$error":"#REF!"},null,null,null,{"$f":"IF(D88,LOOKUP(D88,'NEC Rules'!$A$2:$B$28),\"\")","v":""},null,null,{"$f":"IF(G88,LOOKUP(G88,'NEC Rules'!$A$2:$B$28),\"\")","v":""},null,null,{"$f":"IF(J88,LOOKUP(J88,'NEC Rules'!$A$2:$B$28),\"\")","v":""},null,null,{"$f":"IF(M88,LOOKUP(M88,'NEC Rules'!$A$2:$B$28),\"\")","v":""},null,null,{"$f":"IF(P88,LOOKUP(P88,'NEC Rules'!$A$2:$B$28),\"\")","v":""},null,"","",null,null,null,"","","",null,null,null,null,null,null,null,null,null,null,null,null,null,null,{"$error":"#VALUE!"}]
[{"$error":"#REF!"},null,null,null,{"$f":"IF(D89,LOOKUP(D89,'NEC Rules'!$A$2:$B$28),\"\")","v":""},null,null,{"$f":"IF(G89,LOOKUP(G89,'NEC Rules'!$A$2:$B$28),\"\")","v":""},null,null,{"$f":"IF(J89,LOOKUP(J89,'NEC Rules'!$A$2:$B$28),\"\")","v":""},null,null,{"$f":"IF(M89,LOOKUP(M89,'NEC Rules'!$A$2:$B$28),\"\")","v":""},null,null,{"$f":"IF(P89,LOOKUP(P89,'NEC Rules'!$A$2:$B$28),\"\")","v":""},null,"","",null,null,null,"","","",null,null,null,null,null,null,null,null,null,null,null,null,null,null,{"$error":"#VALUE!"}]
[{"$error":"#REF!"},null,null,null,{"$f":"IF(D90,LOOKUP(D90,'NEC Rules'!$A$2:$B$28),\"\")","v":""},null,null,{"$f":"IF(G90,LOOKUP(G90,'NEC Rules'!$A$2:$B$28),\"\")","v":""},null,null,{"$f":"IF(J90,LOOKUP(J90,'NEC Rules'!$A$2:$B$28),\"\")","v":""},null,null,{"$f":"IF(M90,LOOKUP(M90,'NEC Rules'!$A$2:$B$28),\"\")","v":""},null,null,{"$f":"IF(P90,LOOKUP(P90,'NEC Rules'!$A$2:$B$28),\"\")","v":""},null,"","",null,null,null,"","","",null,null,null,null,null,null,null,null,null,null,null,null,null,null,{"$error":"#VALUE!"}]
[{"$error":"#REF!"},null,null,null,{"$f":"IF(D91,LOOKUP(D91,'NEC Rules'!$A$2:$B$28),\"\")","v":""},null,null,{"$f":"IF(G91,LOOKUP(G91,'NEC Rules'!$A$2:$B$28),\"\")","v":""},null,null,{"$f":"IF(J91,LOOKUP(J91,'NEC Rules'!$A$2:$B$28),\"\")","v":""},null,null,{"$f":"IF(M91,LOOKUP(M91,'NEC Rules'!$A$2:$B$28),\"\")","v":""},null,null,{"$f":"IF(P91,LOOKUP(P91,'NEC Rules'!$A$2:$B$28),\"\")","v":""},null,"","",null,null,null,"","","",null,null,null,null,null,null,null,null,null,null,null,null,null,null,{"$error":"#VALUE!"}]
[{"$error":"#REF!"},null,null,null,{"$f":"IF(D92,LOOKUP(D92,'NEC Rules'!$A$2:$B$28),\"\")","v":""},null,null,{"$f":"IF(G92,LOOKUP(G92,'NEC Rules'!$A$2:$B$28),\"\")","v":""},null,null,{"$f":"IF(J92,LOOKUP(J92,'NEC Rules'!$A$2:$B$28),\"\")","v":""},null,null,{"$f":"IF(M92,LOOKUP(M92,'NEC Rules'!$A$2:$B$28),\"\")","v":""},null,null,{"$f":"IF(P92,LOOKUP(P92,'NEC Rules'!$A$2:$B$28),\"\")","v":""},null,"","",null,null,null,"","","",null,null,null,null,null,null,null,null,null,null,null,null,null,null,{"$error":"#VALUE!"}]
[{"$error":"#REF!"},null,null,null,{"$f":"IF(D93,LOOKUP(D93,'NEC Rules'!$A$2:$B$28),\"\")","v":""},null,null,{"$f":"IF(G93,LOOKUP(G93,'NEC Rules'!$A$2:$B$28),\"\")","v":""},null,null,{"$f":"IF(J93,LOOKUP(J93,'NEC Rules'!$A$2:$B$28),\"\")","v":""},null,null,{"$f":"IF(M93,LOOKUP(M93,'NEC Rules'!$A$2:$B$28),\"\")","v":""},null,null,{"$f":"IF(P93,LOOKUP(P93,'NEC Rules'!$A$2:$B$28),\"\")","v":""},null,"","",null,null,null,"","","",null,null,null,null,null,null,null,null,null,null,null,null,null,null,{"$error":"#VALUE!"}]
[{"$error":"#REF!"},null,null,null,{"$f":"IF(D94,LOOKUP(D94,'NEC Rules'!$A$2:$B$28),\"\")","v":""},null,null,{"$f":"IF(G94,LOOKUP(G94,'NEC Rules'!$A$2:$B$28),\"\")","v":""},null,null,{"$f":"IF(J94,LOOKUP(J94,'NEC Rules'!$A$2:$B$28),\"\")","v":""},null,null,{"$f":"IF(M94,LOOKUP(M94,'NEC Rules'!$A$2:$B$28),\"\")","v":""},null,null,{"$f":"IF(P94,LOOKUP(P94,'NEC Rules'!$A$2:$B$28),\"\")","v":""},null,"","",null,null,null,"","","",null,null,null,null,null,null,null,null,null,null,null,null,null,null,{"$error":"#VALUE!"}]
[{"$error":"#REF!"},null,null,null,{"$f":"IF(D95,LOOKUP(D95,'NEC Rules'!$A$2:$B$28),\"\")","v":""},null,null,{"$f":"IF(G95,LOOKUP(G95,'NEC Rules'!$A$2:$B$28),\"\")","v":""},null,null,{"$f":"IF(J95,LOOKUP(J95,'NEC Rules'!$A$2:$B$28),\"\")","v":""},null,null,{"$f":"IF(M95,LOOKUP(M95,'NEC Rules'!$A$2:$B$28),\"\")","v":""},null,null,{"$f":"IF(P95,LOOKUP(P95,'NEC Rules'!$A$2:$B$28),\"\")","v":""},null,"","",null,null,null,"","","",null,null,null,null,null,null,null,null,null,null,null,null,null,null,{"$error":"#VALUE!"}]
[{"$error":"#REF!"},null,null,null,{"$f":"IF(D96,LOOKUP(D96,'NEC Rules'!$A$2:$B$28),\"\")","v":""},null,null,{"$f":"IF(G96,LOOKUP(G96,'NEC Rules'!$A$2:$B$28),\"\")","v":""},null,null,{"$f":"IF(J96,LOOKUP(J96,'NEC Rules'!$A$2:$B$28),\"\")","v":""},null,null,{"$f":"IF(M96,LOOKUP(M96,'NEC Rules'!$A$2:$B$28),\"\")","v":""},null,null,{"$f":"IF(P96,LOOKUP(P96,'NEC Rules'!$A$2:$B$28),\"\")","v":""},null,"","",null,null,null,"","","",null,null,null,null,null,null,null,null,null,null,null,null,null,null,{"$error":"#VALUE!"}]
[{"$error":"#REF!"},null,null,null,{"$f":"IF(D97,LOOKUP(D97,'NEC Rules'!$A$2:$B$28),\"\")","v":""},null,null,{"$f":"IF(G97,LOOKUP(G97,'NEC Rules'!$A$2:$B$28),\"\")","v":""},null,null,{"$f":"IF(J97,LOOKUP(J97,'NEC Rules'!$A$2:$B$28),\"\")","v":""},null,null,{"$f":"IF(M97,LOOKUP(M97,'NEC Rules'!$A$2:$B$28),\"\")","v":""},null,null,{"$f":"IF(P97,LOOKUP(P97,'NEC Rules'!$A$2:$B$28),\"\")","v":""},null,"","",null,null,null,"","","",null,null,null,null,null,null,null,null,null,null,null,null,null,null,{"$error":"#VALUE!"}]
[{"$error":"#REF!"},null,null,null,{"$f":"IF(D98,LOOKUP(D98,'NEC Rules'!$A$2:$B$28),\"\")","v":""},null,null,{"$f":"IF(G98,LOOKUP(G98,'NEC Rules'!$A$2:$B$28),\"\")","v":""},null,null,{"$f":"IF(J98,LOOKUP(J98,'NEC Rules'!$A$2:$B$28),\"\")","v":""},null,null,{"$f":"IF(M98,LOOKUP(M98,'NEC Rules'!$A$2:$B$28),\"\")","v":""},null,null,{"$f":"IF(P98,LOOKUP(P98,'NEC Rules'!$A$2:$B$28),\"\")","v":""},null,"","",null,null,null,"","","",null,null,null,null,null,null,null,null,null,null,null,null,null,null,{"$error":"#VALUE!"}]
[{"$error":"#REF!"},null,null,null,{"$f":"IF(D99,LOOKUP(D99,'NEC Rules'!$A$2:$B$28),\"\")","v":""},null,null,{"$f":"IF(G99,LOOKUP(G99,'NEC Rules'!$A$2:$B$28),\"\")","v":""},null,null,{"$f":"IF(J99,LOOKUP(J99,'NEC Rules'!$A$2:$B$28),\"\")","v":""},null,null,{"$f":"IF(M99,LOOKUP(M99,'NEC Rules'!$A$2:$B$28),\"\")","v":""},null,null,{"$f":"IF(P99,LOOKUP(P99,'NEC Rules'!$A$2:$B$28),\"\")","v":""},null,"","",null,null,null,"","","",null,null,null,null,null,null,null,null,null,null,null,null,null,null,{"$error":"#VALUE!"}]
[{"$error":"#REF!"},null,null,null,{"$f":"IF(D100,LOOKUP(D100,'NEC Rules'!$A$2:$B$28),\"\")","v":""},null,null,{"$f":"IF(G100,LOOKUP(G100,'NEC Rules'!$A$2:$B$28),\"\")","v":""},null,null,{"$f":"IF(J100,LOOKUP(J100,'NEC Rules'!$A$2:$B$28),\"\")","v":""},null,null,{"$f":"IF(M100,LOOKUP(M100,'NEC Rules'!$A$2:$B$28),\"\")","v":""},null,null,{"$f":"IF(P100,LOOKUP(P100,'NEC Rules'!$A$2:$B$28),\"\")","v":""},null,"","",null,null,null,"","","",null,null,null,null,null,null,null,null,null,null,null,null,null,null,{"$error":"#VALUE!"}]
[{"$error":"#REF!"},null,null,null,{"$f":"IF(D101,LOOKUP(D101,'NEC Rules'!$A$2:$B$28),\"\")","v":""},null,null,{"$f":"IF(G101,LOOKUP(G101,'NEC Rules'!$A$2:$B$28),\"\")","v":""},null,null,{"$f":"IF(J101,LOOKUP(J101,'NEC Rules'!$A$2:$B$28),\"\")","v":""},null,null,{"$f":"IF(M101,LOOKUP(M101,'NEC Rules'!$A$2:$B$28),\"\")","v":""},null,null,{"$f":"IF(P101,LOOKUP(P101,'NEC Rules'!$A$2:$B$28),\"\")","v":""},null,"","",null,null,null,"","","",null,null,null,null,null,null,null,null,null,null,null,null,null,null,{"$error":"#VALUE!"}]
[{"$error":"#REF!"},null,null,null,{"$f":"IF(D102,LOOKUP(D102,'NEC Rules'!$A$2:$B$28),\"\")","v":""},null,null,{"$f":"IF(G102,LOOKUP(G102,'NEC Rules'!$A$2:$B$28),\"\")","v":""},null,null,{"$f":"IF(J102,LOOKUP(J102,'NEC Rules'!$A$2:$B$28),\"\")","v":""},null,null,{"$f":"IF(M102,LOOKUP(M102,'NEC Rules'!$A$2:$B$28),\"\")","v":""},null,null,{"$f":"IF(P102,LOOKUP(P102,'NEC Rules'!$A$2:$B$28),\"\")","v":""},null,"","",null,null,null,"","","",null,null,null,null,null,null,null,null,null,null,null,null,null,null,{"$error":"#VALUE!"}]
[{"$error":"#REF!"},null,null,null,{"$f":"IF(D103,LOOKUP(D103,'NEC Rules'!$A$2:$B$28),\"\")","v":""},null,null,{"$f":"IF(G103,LOOKUP(G103,'NEC Rules'!$A$2:$B$28),\"\")","v":""},null,null,{"$f":"IF(J103,LOOKUP(J103,'NEC Rules'!$A$2:$B$28),\"\")","v":""},null,null,{"$f":"IF(M103,LOOKUP(M103,'NEC Rules'!$A$2:$B$28),\"\")","v":""},null,null,{"$f":"IF(P103,LOOKUP(P103,'NEC Rules'!$A$2:$B$28),\"\")","v":""},null,"","",null,null,null,"","","",null,null,null,null,null,null,null,null,null,null,null,null,null,null,{"$error":"#VALUE!"}]
[{"$error":"#REF!"},null,null,null,{"$f":"IF(D104,LOOKUP(D104,'NEC Rules'!$A$2:$B$28),\"\")","v":""},null,null,{"$f":"IF(G104,LOOKUP(G104,'NEC Rules'!$A$2:$B$28),\"\")","v":""},null,null,{"$f":"IF(J104,LOOKUP(J104,'NEC Rules'!$A$2:$B$28),\"\")","v":""},null,null,{"$f":"IF(M104,LOOKUP(M104,'NEC Rules'!$A$2:$B$28),\"\")","v":""},null,null,{"$f":"IF(P104,LOOKUP(P104,'NEC Rules'!$A$2:$B$28),\"\")","v":""},null,"","",null,null,null,"","","",null,null,null,null,null,null,null,null,null,null,null,null,null,null,{"$error":"#VALUE!"}]
[{"$error":"#REF!"},null,null,null,{"$f":"IF(D105,LOOKUP(D105,'NEC Rules'!$A$2:$B$28),\"\")","v":""},null,null,{"$f":"IF(G105,LOOKUP(G105,'NEC Rules'!$A$2:$B$28),\"\")","v":""},null,null,{"$f":"IF(J105,LOOKUP(J105,'NEC Rules'!$A$2:$B$28),\"\")","v":""},null,null,{"$f":"IF(M105,LOOKUP(M105,'NEC Rules'!$A$2:$B$28),\"\")","v":""},null,null,{"$f":"IF(P105,LOOKUP(P105,'NEC Rules'!$A$2:$B$28),\"\")","v":""},null,"","",null,null,null,"",{"$f":"CalcMPF(V105,D105,E105,F105,H105,I105,K105,L105,N105,O105,Q105,R105,T105,U105)","v":""},"",null,null,null,null,null,null,null,null,null,null,null,null,null,null,{"$error":"#VALUE!"}]
[{"$error":"#REF!"},null,null,null,{"$f":"IF(D106,LOOKUP(D106,'NEC Rules'!$A$2:$B$28),\"\")","v":""},null,null,{"$f":"IF(G106,LOOKUP(G106,'NEC Rules'!$A$2:$B$28),\"\")","v":""},null,null,{"$f":"IF(J106,LOOKUP(J106,'NEC Rules'!$A$2:$B$28),\"\")","v":""},null,null,{"$f":"IF(M106,LOOKUP(M106,'NEC Rules'!$A$2:$B$28),\"\")","v":""},null,null,{"$f":"IF(P106,LOOKUP(P106,'NEC Rules'!$A$2:$B$28),\"\")","v":""},null,"","",null,null,null,"",{"$f":"CalcMPF(V106,D106,E106,F106,H106,I106,K106,L106,N106,O106,Q106,R106,T106,U106)","v":""},"",null,null,null,null,null,null,null,null,null,null,null,null,null,null,{"$error":"#VALUE!"}]
[{"$error":"#REF!"},null,null,null,{"$f":"IF(D107,LOOKUP(D107,'NEC Rules'!$A$2:$B$28),\"\")","v":""},null,null,{"$f":"IF(G107,LOOKUP(G107,'NEC Rules'!$A$2:$B$28),\"\")","v":""},null,null,{"$f":"IF(J107,LOOKUP(J107,'NEC Rules'!$A$2:$B$28),\"\")","v":""},null,null,{"$f":"IF(M107,LOOKUP(M107,'NEC Rules'!$A$2:$B$28),\"\")","v":""},null,null,{"$f":"IF(P107,LOOKUP(P107,'NEC Rules'!$A$2:$B$28),\"\")","v":""},null,"","",null,null,null,"","","",null,null,null,null,null,null,null,null,null,null,null,null,null,null,{"$error":"#VALUE!"}]
[{"$error":"#REF!"},null,null,null,{"$f":"IF(D108,LOOKUP(D108,'NEC Rules'!$A$2:$B$28),\"\")","v":""},null,null,{"$f":"IF(G108,LOOKUP(G108,'NEC Rules'!$A$2:$B$28),\"\")","v":""},null,null,{"$f":"IF(J108,LOOKUP(J108,'NEC Rules'!$A$2:$B$28),\"\")","v":""},null,null,{"$f":"IF(M108,LOOKUP(M108,'NEC Rules'!$A$2:$B$28),\"\")","v":""},null,null,{"$f":"IF(P108,LOOKUP(P108,'NEC Rules'!$A$2:$B$28),\"\")","v":""},null,"","",null,null,null,"","","",null,null,null,null,null,null,null,null,null,null,null,null,null,null,{"$error":"#VALUE!"}]
[{"$error":"#REF!"},null,null,null,{"$f":"IF(D109,LOOKUP(D109,'NEC Rules'!$A$2:$B$28),\"\")","v":""},null,null,{"$f":"IF(G109,LOOKUP(G109,'NEC Rules'!$A$2:$B$28),\"\")","v":""},null,null,{"$f":"IF(J109,LOOKUP(J109,'NEC Rules'!$A$2:$B$28),\"\")","v":""},null,null,{"$f":"IF(M109,LOOKUP(M109,'NEC Rules'!$A$2:$B$28),\"\")","v":""},null,null,{"$f":"IF(P109,LOOKUP(P109,'NEC Rules'!$A$2:$B$28),\"\")","v":""},null,"","",null,null,null,"","","",null,null,null,null,null,null,null,null,null,null,null,null,null,null,{"$error":"#VALUE!"}]
[{"$error":"#REF!"},null,null,null,{"$f":"IF(D110,LOOKUP(D110,'NEC Rules'!$A$2:$B$28),\"\")","v":""},null,null,{"$f":"IF(G110,LOOKUP(G110,'NEC Rules'!$A$2:$B$28),\"\")","v":""},null,null,{"$f":"IF(J110,LOOKUP(J110,'NEC Rules'!$A$2:$B$28),\"\")","v":""},null,null,{"$f":"IF(M110,LOOKUP(M110,'NEC Rules'!$A$2:$B$28),\"\")","v":""},null,null,{"$f":"IF(P110,LOOKUP(P110,'NEC Rules'!$A$2:$B$28),\"\")","v":""},null,"","",null,null,null,"","","",null,null,null,null,null,null,null,null,null,null,null,null,null,null,{"$error":"#VALUE!"}]
[{"$error":"#REF!"},null,null,null,{"$f":"IF(D111,LOOKUP(D111,'NEC Rules'!$A$2:$B$28),\"\")","v":""},null,null,{"$f":"IF(G111,LOOKUP(G111,'NEC Rules'!$A$2:$B$28),\"\")","v":""},null,null,{"$f":"IF(J111,LOOKUP(J111,'NEC Rules'!$A$2:$B$28),\"\")","v":""},null,null,{"$f":"IF(M111,LOOKUP(M111,'NEC Rules'!$A$2:$B$28),\"\")","v":""},null,null,{"$f":"IF(P111,LOOKUP(P111,'NEC Rules'!$A$2:$B$28),\"\")","v":""},null,"","",null,null,null,"","","",null,null,null,null,null,null,null,null,null,null,null,null,null,null,{"$error":"#VALUE!"}]
[{"$error":"#REF!"},null,null,null,{"$f":"IF(D112,LOOKUP(D112,'NEC Rules'!$A$2:$B$28),\"\")","v":""},null,null,{"$f":"IF(G112,LOOKUP(G112,'NEC Rules'!$A$2:$B$28),\"\")","v":""},null,null,{"$f":"IF(J112,LOOKUP(J112,'NEC Rules'!$A$2:$B$28),\"\")","v":""},null,null,{"$f":"IF(M112,LOOKUP(M112,'NEC Rules'!$A$2:$B$28),\"\")","v":""},null,null,{"$f":"IF(P112,LOOKUP(P112,'NEC Rules'!$A$2:$B$28),\"\")","v":""},null,"","",null,null,null,"","","",null,null,null,null,null,null,null,null,null,null,null,null,null,null,{"$error":"#VALUE!"}]
[{"$error":"#REF!"},null,null,null,{"$f":"IF(D113,LOOKUP(D113,'NEC Rules'!$A$2:$B$28),\"\")","v":""},null,null,{"$f":"IF(G113,LOOKUP(G113,'NEC Rules'!$A$2:$B$28),\"\")","v":""},null,null,{"$f":"IF(J113,LOOKUP(J113,'NEC Rules'!$A$2:$B$28),\"\")","v":""},null,null,{"$f":"IF(M113,LOOKUP(M113,'NEC Rules'!$A$2:$B$28),\"\")","v":""},null,null,{"$f":"IF(P113,LOOKUP(P113,'NEC Rules'!$A$2:$B$28),\"\")","v":""},null,"","",null,null,null,"","","",null,null,null,null,null,null,null,null,null,null,null,null,null,null,{"$error":"#VALUE!"}]
[{"$error":"#REF!"},null,null,null,{"$f":"IF(D114,LOOKUP(D114,'NEC Rules'!$A$2:$B$28),\"\")","v":""},null,null,{"$f":"IF(G114,LOOKUP(G114,'NEC Rules'!$A$2:$B$28),\"\")","v":""},null,null,{"$f":"IF(J114,LOOKUP(J114,'NEC Rules'!$A$2:$B$28),\"\")","v":""},null,null,{"$f":"IF(M114,LOOKUP(M114,'NEC Rules'!$A$2:$B$28),\"\")","v":""},null,null,{"$f":"IF(P114,LOOKUP(P114,'NEC Rules'!$A$2:$B$28),\"\")","v":""},null,"","",null,null,null,"","","",null,null,null,null,null,null,null,null,null,null,null,null,null,null,{"$error":"#VALUE!"}]
[{"$error":"#REF!"},null,null,null,{"$f":"IF(D115,LOOKUP(D115,'NEC Rules'!$A$2:$B$28),\"\")","v":""},null,null,{"$f":"IF(G115,LOOKUP(G115,'NEC Rules'!$A$2:$B$28),\"\")","v":""},null,null,{"$f":"IF(J115,LOOKUP(J115,'NEC Rules'!$A$2:$B$28),\"\")","v":""},null,null,{"$f":"IF(M115,LOOKUP(M115,'NEC Rules'!$A$2:$B$28),\"\")","v":""},null,null,{"$f":"IF(P115,LOOKUP(P115,'NEC Rules'!$A$2:$B$28),\"\")","v":""},null,"","",null,null,null,"","","",null,null,null,null,null,null,null,null,null,null,null,null,null,null,{"$error":"#VALUE!"}]
[{"$error":"#REF!"},null,null,null,{"$f":"IF(D116,LOOKUP(D116,'NEC Rules'!$A$2:$B$28),\"\")","v":""},null,null,{"$f":"IF(G116,LOOKUP(G116,'NEC Rules'!$A$2:$B$28),\"\")","v":""},null,null,{"$f":"IF(J116,LOOKUP(J116,'NEC Rules'!$A$2:$B$28),\"\")","v":""},null,null,{"$f":"IF(M116,LOOKUP(M116,'NEC Rules'!$A$2:$B$28),\"\")","v":""},null,null,{"$f":"IF(P116,LOOKUP(P116,'NEC Rules'!$A$2:$B$28),\"\")","v":""},null,"","",null,null,null,"","","",null,null,null,null,null,null,null,null,null,null,null,null,null,null,{"$error":"#VALUE!"}]
[{"$error":"#REF!"},null,null,null,{"$f":"IF(D117,LOOKUP(D117,'NEC Rules'!$A$2:$B$28),\"\")","v":""},null,null,{"$f":"IF(G117,LOOKUP(G117,'NEC Rules'!$A$2:$B$28),\"\")","v":""},null,null,{"$f":"IF(J117,LOOKUP(J117,'NEC Rules'!$A$2:$B$28),\"\")","v":""},null,null,{"$f":"IF(M117,LOOKUP(M117,'NEC Rules'!$A$2:$B$28),\"\")","v":""},null,null,{"$f":"IF(P117,LOOKUP(P117,'NEC Rules'!$A$2:$B$28),\"\")","v":""},null,"","",null,null,null,"","","",null,null,null,null,null,null,null,null,null,null,null,null,null,null,{"$error":"#VALUE!"}]
[{"$error":"#REF!"},null,null,null,{"$f":"IF(D118,LOOKUP(D118,'NEC Rules'!$A$2:$B$28),\"\")","v":""},null,null,{"$f":"IF(G118,LOOKUP(G118,'NEC Rules'!$A$2:$B$28),\"\")","v":""},null,null,{"$f":"IF(J118,LOOKUP(J118,'NEC Rules'!$A$2:$B$28),\"\")","v":""},null,null,{"$f":"IF(M118,LOOKUP(M118,'NEC Rules'!$A$2:$B$28),\"\")","v":""},null,null,{"$f":"IF(P118,LOOKUP(P118,'NEC Rules'!$A$2:$B$28),\"\")","v":""},null,"","",null,null,null,"","","",null,null,null,null,null,null,null,null,null,null,null,null,null,null,{"$error":"#VALUE!"}]
[{"$error":"#REF!"},null,null,null,{"$f":"IF(D119,LOOKUP(D119,'NEC Rules'!$A$2:$B$28),\"\")","v":""},null,null,{"$f":"IF(G119,LOOKUP(G119,'NEC Rules'!$A$2:$B$28),\"\")","v":""},null,null,{"$f":"IF(J119,LOOKUP(J119,'NEC Rules'!$A$2:$B$28),\"\")","v":""},null,null,{"$f":"IF(M119,LOOKUP(M119,'NEC Rules'!$A$2:$B$28),\"\")","v":""},null,null,{"$f":"IF(P119,LOOKUP(P119,'NEC Rules'!$A$2:$B$28),\"\")","v":""},null,"","",null,null,null,"","","",null,null,null,null,null,null,null,null,null,null,null,null,null,null,{"$error":"#VALUE!"}]
[{"$error":"#REF!"},null,null,null,{"$f":"IF(D120,LOOKUP(D120,'NEC Rules'!$A$2:$B$28),\"\")","v":""},null,null,{"$f":"IF(G120,LOOKUP(G120,'NEC Rules'!$A$2:$B$28),\"\")","v":""},null,null,{"$f":"IF(J120,LOOKUP(J120,'NEC Rules'!$A$2:$B$28),\"\")","v":""},null,null,{"$f":"IF(M120,LOOKUP(M120,'NEC Rules'!$A$2:$B$28),\"\")","v":""},null,null,{"$f":"IF(P120,LOOKUP(P120,'NEC Rules'!$A$2:$B$28),\"\")","v":""},null,"","",null,null,null,"","","",null,null,null,null,null,null,null,null,null,null,null,null,null,null,{"$error":"#VALUE!"}]
[{"$error":"#REF!"},null,null,null,{"$f":"IF(D121,LOOKUP(D121,'NEC Rules'!$A$2:$B$28),\"\")","v":""},null,null,{"$f":"IF(G121,LOOKUP(G121,'NEC Rules'!$A$2:$B$28),\"\")","v":""},null,null,{"$f":"IF(J121,LOOKUP(J121,'NEC Rules'!$A$2:$B$28),\"\")","v":""},null,null,{"$f":"IF(M121,LOOKUP(M121,'NEC Rules'!$A$2:$B$28),\"\")","v":""},null,null,{"$f":"IF(P121,LOOKUP(P121,'NEC Rules'!$A$2:$B$28),\"\")","v":""},null,"","",null,null,null,"","","",null,null,null,null,null,null,null,null,null,null,null,null,null,null,{"$error":"#VALUE!"}]
[{"$error":"#REF!"},null,null,null,{"$f":"IF(D122,LOOKUP(D122,'NEC Rules'!$A$2:$B$28),\"\")","v":""},null,null,{"$f":"IF(G122,LOOKUP(G122,'NEC Rules'!$A$2:$B$28),\"\")","v":""},null,null,{"$f":"IF(J122,LOOKUP(J122,'NEC Rules'!$A$2:$B$28),\"\")","v":""},null,null,{"$f":"IF(M122,LOOKUP(M122,'NEC Rules'!$A$2:$B$28),\"\")","v":""},null,null,{"$f":"IF(P122,LOOKUP(P122,'NEC Rules'!$A$2:$B$28),\"\")","v":""},null,"","",null,null,null,"","","",null,null,null,null,null,null,null,null,null,null,null,null,null,null,{"$error":"#VALUE!"}]
[{"$error":"#REF!"},null,null,null,{"$f":"IF(D123,LOOKUP(D123,'NEC Rules'!$A$2:$B$28),\"\")","v":""},null,null,{"$f":"IF(G123,LOOKUP(G123,'NEC Rules'!$A$2:$B$28),\"\")","v":""},null,null,{"$f":"IF(J123,LOOKUP(J123,'NEC Rules'!$A$2:$B$28),\"\")","v":""},null,null,{"$f":"IF(M123,LOOKUP(M123,'NEC Rules'!$A$2:$B$28),\"\")","v":""},null,null,{"$f":"IF(P123,LOOKUP(P123,'NEC Rules'!$A$2:$B$28),\"\")","v":""},null,"","",null,null,null,"","","",null,null,null,null,null,null,null,null,null,null,null,null,null,null,{"$error":"#VALUE!"}]
[{"$error":"#REF!"},null,null,null,{"$f":"IF(D124,LOOKUP(D124,'NEC Rules'!$A$2:$B$28),\"\")","v":""},null,null,{"$f":"IF(G124,LOOKUP(G124,'NEC Rules'!$A$2:$B$28),\"\")","v":""},null,null,{"$f":"IF(J124,LOOKUP(J124,'NEC Rules'!$A$2:$B$28),\"\")","v":""},null,null,{"$f":"IF(M124,LOOKUP(M124,'NEC Rules'!$A$2:$B$28),\"\")","v":""},null,null,{"$f":"IF(P124,LOOKUP(P124,'NEC Rules'!$A$2:$B$28),\"\")","v":""},null,"","",null,null,null,"","","",null,null,null,null,null,null,null,null,null,null,null,null,null,null,{"$error":"#VALUE!"}]
[{"$error":"#REF!"},null,null,null,{"$f":"IF(D125,LOOKUP(D125,'NEC Rules'!$A$2:$B$28),\"\")","v":""},null,null,{"$f":"IF(G125,LOOKUP(G125,'NEC Rules'!$A$2:$B$28),\"\")","v":""},null,null,{"$f":"IF(J125,LOOKUP(J125,'NEC Rules'!$A$2:$B$28),\"\")","v":""},null,null,{"$f":"IF(M125,LOOKUP(M125,'NEC Rules'!$A$2:$B$28),\"\")","v":""},null,null,{"$f":"IF(P125,LOOKUP(P125,'NEC Rules'!$A$2:$B$28),\"\")","v":""},null,"","",null,null,null,"","","",null,null,null,null,null,null,null,null,null,null,null,null,null,null,{"$error":"#VALUE!"}]
[{"$error":"#REF!"},null,null,null,{"$f":"IF(D126,LOOKUP(D126,'NEC Rules'!$A$2:$B$28),\"\")","v":""},null,null,{"$f":"IF(G126,LOOKUP(G126,'NEC Rules'!$A$2:$B$28),\"\")","v":""},null,null,{"$f":"IF(J126,LOOKUP(J126,'NEC Rules'!$A$2:$B$28),\"\")","v":""},null,null,{"$f":"IF(M126,LOOKUP(M126,'NEC Rules'!$A$2:$B$28),\"\")","v":""},null,null,{"$f":"IF(P126,LOOKUP(P126,'NEC Rules'!$A$2:$B$28),\"\")","v":""},null,"","",null,null,null,"","","",null,null,null,null,null,null,null,null,null,null,null,null,null,null,{"$error":"#VALUE!"}]
[{"$error":"#REF!"},null,null,null,{"$f":"IF(D127,LOOKUP(D127,'NEC Rules'!$A$2:$B$28),\"\")","v":""},null,null,{"$f":"IF(G127,LOOKUP(G127,'NEC Rules'!$A$2:$B$28),\"\")","v":""},null,null,{"$f":"IF(J127,LOOKUP(J127,'NEC Rules'!$A$2:$B$28),\"\")","v":""},null,null,{"$f":"IF(M127,LOOKUP(M127,'NEC Rules'!$A$2:$B$28),\"\")","v":""},null,null,{"$f":"IF(P127,LOOKUP(P127,'NEC Rules'!$A$2:$B$28),\"\")","v":""},null,"","",null,null,null,"","","",null,null,null,null,null,null,null,null,null,null,null,null,null,null,{"$error":"#VALUE!"}]
[{"$error":"#REF!"},null,null,null,{"$f":"IF(D128,LOOKUP(D128,'NEC Rules'!$A$2:$B$28),\"\")","v":""},null,null,{"$f":"IF(G128,LOOKUP(G128,'NEC Rules'!$A$2:$B$28),\"\")","v":""},null,null,{"$f":"IF(J128,LOOKUP(J128,'NEC Rules'!$A$2:$B$28),\"\")","v":""},null,null,{"$f":"IF(M128,LOOKUP(M128,'NEC Rules'!$A$2:$B$28),\"\")","v":""},null,null,{"$f":"IF(P128,LOOKUP(P128,'NEC Rules'!$A$2:$B$28),\"\")","v":""},null,"","",null,null,null,"",{"$f":"CalcMPF(V128,D128,E128,F128,H128,I128,K128,L128,N128,O128,Q128,R128,T128,U128)","v":""},"",null,null,null,null,null,null,null,null,null,null,null,null,null,null,{"$error":"#VALUE!"}]
[{"$error":"#REF!"},null,null,null,{"$f":"IF(D129,LOOKUP(D129,'NEC Rules'!$A$2:$B$28),\"\")","v":""},null,null,{"$f":"IF(G129,LOOKUP(G129,'NEC Rules'!$A$2:$B$28),\"\")","v":""},null,null,{"$f":"IF(J129,LOOKUP(J129,'NEC Rules'!$A$2:$B$28),\"\")","v":""},null,null,{"$f":"IF(M129,LOOKUP(M129,'NEC Rules'!$A$2:$B$28),\"\")","v":""},null,null,{"$f":"IF(P129,LOOKUP(P129,'NEC Rules'!$A$2:$B$28),\"\")","v":""},null,"","",null,null,null,"","","",null,null,null,null,null,null,null,null,null,null,null,null,null,null,{"$error":"#VALUE!"}]
[{"$error":"#REF!"},null,null,null,{"$f":"IF(D130,LOOKUP(D130,'NEC Rules'!$A$2:$B$28),\"\")","v":""},null,null,{"$f":"IF(G130,LOOKUP(G130,'NEC Rules'!$A$2:$B$28),\"\")","v":""},null,null,{"$f":"IF(J130,LOOKUP(J130,'NEC Rules'!$A$2:$B$28),\"\")","v":""},null,null,{"$f":"IF(M130,LOOKUP(M130,'NEC Rules'!$A$2:$B$28),\"\")","v":""},null,null,{"$f":"IF(P130,LOOKUP(P130,'NEC Rules'!$A$2:$B$28),\"\")","v":""},null,{"$f":"CalcHP(D130,F130,G130,I130,J130,L130,M130,O130,P130,R130)","v":""},"",null,null,null,"","","",null,null,null,null,null,null,null,null,null,null,null,null,null,null,{"$error":"#VALUE!"}]
[{"$error":"#REF!"},null,null,null,{"$f":"IF(D131,LOOKUP(D131,'NEC Rules'!$A$2:$B$28),\"\")","v":""},null,null,{"$f":"IF(G131,LOOKUP(G131,'NEC Rules'!$A$2:$B$28),\"\")","v":""},null,null,{"$f":"IF(J131,LOOKUP(J131,'NEC Rules'!$A$2:$B$28),\"\")","v":""},null,null,{"$f":"IF(M131,LOOKUP(M131,'NEC Rules'!$A$2:$B$28),\"\")","v":""},null,null,{"$f":"IF(P131,LOOKUP(P131,'NEC Rules'!$A$2:$B$28),\"\")","v":""},null,"","",null,null,null,"","","",null,null,null,null,null,null,null,null,null,null,null,null,null,null,{"$error":"#VALUE!"}]
[{"$error":"#REF!"},null,null,null,{"$f":"IF(D132,LOOKUP(D132,'NEC Rules'!$A$2:$B$28),\"\")","v":""},null,null,{"$f":"IF(G132,LOOKUP(G132,'NEC Rules'!$A$2:$B$28),\"\")","v":""},null,null,{"$f":"IF(J132,LOOKUP(J132,'NEC Rules'!$A$2:$B$28),\"\")","v":""},null,null,{"$f":"IF(M132,LOOKUP(M132,'NEC Rules'!$A$2:$B$28),\"\")","v":""},null,null,{"$f":"IF(P132,LOOKUP(P132,'NEC Rules'!$A$2:$B$28),\"\")","v":""},null,"",{"$f":"IF(D132,10,\"\")","v":""},null,null,null,{"$f":"IF((V132*W132),(V132*W132),\"\")","v":""},"",{"$f":"CalcPD(Y132)","v":""},null,null,null,null,null,null,null,null,null,null,null,null,null,null,{"$f":"X132*480*0.03","v":{"$error":"#VALUE!"}}]
[{"$f":"A132+1","v":{"$error":"#REF!"}},null,null,null,{"$f":"IF(D133,LOOKUP(D133,'NEC Rules'!$A$2:$B$28),\"\")","v":""},null,null,{"$f":"IF(G133,LOOKUP(G133,'NEC Rules'!$A$2:$B$28),\"\")","v":""},null,null,{"$f":"IF(J133,LOOKUP(J133,'NEC Rules'!$A$2:$B$28),\"\")","v":""},null,null,{"$f":"IF(M133,LOOKUP(M133,'NEC Rules'!$A$2:$B$28),\"\")","v":""},null,null,{"$f":"IF(P133,LOOKUP(P133,'NEC Rules'!$A$2:$B$28),\"\")","v":""},null,"","",null,null,null,"","","",null,null,null,null,null,null,null,null,null,null,null,null,null,null,{"$error":"#VALUE!"}]
[{"$error":"#REF!"},null,null,null,{"$f":"IF(D134,LOOKUP(D134,'NEC Rules'!$A$2:$B$28),\"\")","v":""},null,null,{"$f":"IF(G134,LOOKUP(G134,'NEC Rules'!$A$2:$B$28),\"\")","v":""},null,null,{"$f":"IF(J134,LOOKUP(J134,'NEC Rules'!$A$2:$B$28),\"\")","v":""},null,null,{"$f":"IF(M134,LOOKUP(M134,'NEC Rules'!$A$2:$B$28),\"\")","v":""},null,null,{"$f":"IF(P134,LOOKUP(P134,'NEC Rules'!$A$2:$B$28),\"\")","v":""},null,"","",null,null,null,"","","",null,null,null,null,null,null,null,null,null,null,null,null,null,null,{"$error":"#VALUE!"}]
[{"$error":"#REF!"},null,null,null,{"$f":"IF(D135,LOOKUP(D135,'NEC Rules'!$A$2:$B$28),\"\")","v":""},null,null,{"$f":"IF(G135,LOOKUP(G135,'NEC Rules'!$A$2:$B$28),\"\")","v":""},null,null,{"$f":"IF(J135,LOOKUP(J135,'NEC Rules'!$A$2:$B$28),\"\")","v":""},null,null,{"$f":"IF(M135,LOOKUP(M135,'NEC Rules'!$A$2:$B$28),\"\")","v":""},null,null,{"$f":"IF(P135,LOOKUP(P135,'NEC Rules'!$A$2:$B$28),\"\")","v":""},null,"","",null,null,null,"","","",null,null,null,null,null,null,null,null,null,null,null,null,null,null,{"$error":"#VALUE!"}]
[{"$error":"#REF!"},null,null,null,{"$f":"IF(D136,LOOKUP(D136,'NEC Rules'!$A$2:$B$28),\"\")","v":""},null,null,{"$f":"IF(G136,LOOKUP(G136,'NEC Rules'!$A$2:$B$28),\"\")","v":""},null,null,{"$f":"IF(J136,LOOKUP(J136,'NEC Rules'!$A$2:$B$28),\"\")","v":""},null,null,{"$f":"IF(M136,LOOKUP(M136,'NEC Rules'!$A$2:$B$28),\"\")","v":""},null,null,{"$f":"IF(P136,LOOKUP(P136,'NEC Rules'!$A$2:$B$28),\"\")","v":""},null,"","",null,null,null,"","","",null,null,null,null,null,null,null,null,null,null,null,null,null,null,{"$error":"#VALUE!"}]
[{"$error":"#REF!"},null,null,null,{"$f":"IF(D137,LOOKUP(D137,'NEC Rules'!$A$2:$B$28),\"\")","v":""},null,null,{"$f":"IF(G137,LOOKUP(G137,'NEC Rules'!$A$2:$B$28),\"\")","v":""},null,null,{"$f":"IF(J137,LOOKUP(J137,'NEC Rules'!$A$2:$B$28),\"\")","v":""},null,null,{"$f":"IF(M137,LOOKUP(M137,'NEC Rules'!$A$2:$B$28),\"\")","v":""},null,null,{"$f":"IF(P137,LOOKUP(P137,'NEC Rules'!$A$2:$B$28),\"\")","v":""},null,"","",null,null,null,"","","",null,null,null,null,null,null,null,null,null,null,null,null,null,null,{"$error":"#VALUE!"}]
[{"$error":"#REF!"},null,null,null,{"$f":"IF(D138,LOOKUP(D138,'NEC Rules'!$A$2:$B$28),\"\")","v":""},null,null,{"$f":"IF(G138,LOOKUP(G138,'NEC Rules'!$A$2:$B$28),\"\")","v":""},null,null,{"$f":"IF(J138,LOOKUP(J138,'NEC Rules'!$A$2:$B$28),\"\")","v":""},null,null,{"$f":"IF(M138,LOOKUP(M138,'NEC Rules'!$A$2:$B$28),\"\")","v":""},null,null,{"$f":"IF(P138,LOOKUP(P138,'NEC Rules'!$A$2:$B$28),\"\")","v":""},null,"","",null,null,null,"","","",null,null,null,null,null,null,null,null,null,null,null,null,null,null,{"$error":"#VALUE!"}]
[{"$error":"#REF!"},null,null,null,{"$f":"IF(D139,LOOKUP(D139,'NEC Rules'!$A$2:$B$28),\"\")","v":""},null,null,{"$f":"IF(G139,LOOKUP(G139,'NEC Rules'!$A$2:$B$28),\"\")","v":""},null,null,{"$f":"IF(J139,LOOKUP(J139,'NEC Rules'!$A$2:$B$28),\"\")","v":""},null,null,{"$f":"IF(M139,LOOKUP(M139,'NEC Rules'!$A$2:$B$28),\"\")","v":""},null,null,{"$f":"IF(P139,LOOKUP(P139,'NEC Rules'!$A$2:$B$28),\"\")","v":""},null,"","",null,null,null,"","","",null,null,null,null,null,null,null,null,null,null,null,null,null,null,{"$error":"#VALUE!"}]
[{"$error":"#REF!"},null,null,null,{"$f":"IF(D140,LOOKUP(D140,'NEC Rules'!$A$2:$B$28),\"\")","v":""},null,null,{"$f":"IF(G140,LOOKUP(G140,'NEC Rules'!$A$2:$B$28),\"\")","v":""},null,null,{"$f":"IF(J140,LOOKUP(J140,'NEC Rules'!$A$2:$B$28),\"\")","v":""},null,null,{"$f":"IF(M140,LOOKUP(M140,'NEC Rules'!$A$2:$B$28),\"\")","v":""},null,null,{"$f":"IF(P140,LOOKUP(P140,'NEC Rules'!$A$2:$B$28),\"\")","v":""},null,"","",null,null,null,"","","",null,null,null,null,null,null,null,null,null,null,null,null,null,null,{"$error":"#VALUE!"}]
[{"$error":"#REF!"},null,null,null,{"$f":"IF(D141,LOOKUP(D141,'NEC Rules'!$A$2:$B$28),\"\")","v":""},null,null,{"$f":"IF(G141,LOOKUP(G141,'NEC Rules'!$A$2:$B$28),\"\")","v":""},null,null,{"$f":"IF(J141,LOOKUP(J141,'NEC Rules'!$A$2:$B$28),\"\")","v":""},null,null,{"$f":"IF(M141,LOOKUP(M141,'NEC Rules'!$A$2:$B$28),\"\")","v":""},null,null,{"$f":"IF(P141,LOOKUP(P141,'NEC Rules'!$A$2:$B$28),\"\")","v":""},null,"","",null,null,null,"","","",null,null,null,null,null,null,null,null,null,null,null,null,null,null,{"$error":"#VALUE!"}]
[{"$error":"#REF!"},null,null,null,{"$f":"IF(D142,LOOKUP(D142,'NEC Rules'!$A$2:$B$28),\"\")","v":""},null,null,{"$f":"IF(G142,LOOKUP(G142,'NEC Rules'!$A$2:$B$28),\"\")","v":""},null,null,{"$f":"IF(J142,LOOKUP(J142,'NEC Rules'!$A$2:$B$28),\"\")","v":""},null,null,{"$f":"IF(M142,LOOKUP(M142,'NEC Rules'!$A$2:$B$28),\"\")","v":""},null,null,{"$f":"IF(P142,LOOKUP(P142,'NEC Rules'!$A$2:$B$28),\"\")","v":""},null,"","",null,null,null,"","","",null,null,null,null,null,null,null,null,null,null,null,null,null,null,{"$error":"#VALUE!"}]
[{"$error":"#REF!"},null,null,null,{"$f":"IF(D143,LOOKUP(D143,'NEC Rules'!$A$2:$B$28),\"\")","v":""},null,null,{"$f":"IF(G143,LOOKUP(G143,'NEC Rules'!$A$2:$B$28),\"\")","v":""},null,null,{"$f":"IF(J143,LOOKUP(J143,'NEC Rules'!$A$2:$B$28),\"\")","v":""},null,null,{"$f":"IF(M143,LOOKUP(M143,'NEC Rules'!$A$2:$B$28),\"\")","v":""},null,null,{"$f":"IF(P143,LOOKUP(P143,'NEC Rules'!$A$2:$B$28),\"\")","v":""},null,"","",null,null,null,"","","",null,null,null,null,null,null,null,null,null,null,null,null,null,null,{"$error":"#VALUE!"}]
[{"$error":"#REF!"},null,null,null,{"$f":"IF(D144,LOOKUP(D144,'NEC Rules'!$A$2:$B$28),\"\")","v":""},null,null,{"$f":"IF(G144,LOOKUP(G144,'NEC Rules'!$A$2:$B$28),\"\")","v":""},null,null,{"$f":"IF(J144,LOOKUP(J144,'NEC Rules'!$A$2:$B$28),\"\")","v":""},null,null,{"$f":"IF(M144,LOOKUP(M144,'NEC Rules'!$A$2:$B$28),\"\")","v":""},null,null,{"$f":"IF(P144,LOOKUP(P144,'NEC Rules'!$A$2:$B$28),\"\")","v":""},null,"","",null,null,null,"","","",null,null,null,null,null,null,null,null,null,null,null,null,null,null,{"$error":"#VALUE!"}]
[{"$error":"#REF!"},null,null,null,{"$f":"IF(D145,LOOKUP(D145,'NEC Rules'!$A$2:$B$28),\"\")","v":""},null,null,{"$f":"IF(G145,LOOKUP(G145,'NEC Rules'!$A$2:$B$28),\"\")","v":""},null,null,{"$f":"IF(J145,LOOKUP(J145,'NEC Rules'!$A$2:$B$28),\"\")","v":""},null,null,{"$f":"IF(M145,LOOKUP(M145,'NEC Rules'!$A$2:$B$28),\"\")","v":""},null,null,{"$f":"IF(P145,LOOKUP(P145,'NEC Rules'!$A$2:$B$28),\"\")","v":""},null,"","",null,null,null,"","","",null,null,null,null,null,null,null,null,null,null,null,null,null,null,{"$error":"#VALUE!"}]
[{"$error":"#REF!"},null,null,null,{"$f":"IF(D146,LOOKUP(D146,'NEC Rules'!$A$2:$B$28),\"\")","v":""},null,null,{"$f":"IF(G146,LOOKUP(G146,'NEC Rules'!$A$2:$B$28),\"\")","v":""},null,null,{"$f":"IF(J146,LOOKUP(J146,'NEC Rules'!$A$2:$B$28),\"\")","v":""},null,null,{"$f":"IF(M146,LOOKUP(M146,'NEC Rules'!$A$2:$B$28),\"\")","v":""},null,null,{"$f":"IF(P146,LOOKUP(P146,'NEC Rules'!$A$2:$B$28),\"\")","v":""},null,"","",null,null,null,"","","",null,null,null,null,null,null,null,null,null,null,null,null,null,null,{"$error":"#VALUE!"}]
[{"$error":"#REF!"},null,null,null,{"$f":"IF(D147,LOOKUP(D147,'NEC Rules'!$A$2:$B$28),\"\")","v":""},null,null,{"$f":"IF(G147,LOOKUP(G147,'NEC Rules'!$A$2:$B$28),\"\")","v":""},null,null,{"$f":"IF(J147,LOOKUP(J147,'NEC Rules'!$A$2:$B$28),\"\")","v":""},null,null,{"$f":"IF(M147,LOOKUP(M147,'NEC Rules'!$A$2:$B$28),\"\")","v":""},null,null,{"$f":"IF(P147,LOOKUP(P147,'NEC Rules'!$A$2:$B$28),\"\")","v":""},null,"","",null,null,null,"","","",null,null,null,null,null,null,null,null,null,null,null,null,null,null,{"$error":"#VALUE!"}]
[{"$error":"#REF!"},null,null,null,{"$f":"IF(D148,LOOKUP(D148,'NEC Rules'!$A$2:$B$28),\"\")","v":""},null,null,{"$f":"IF(G148,LOOKUP(G148,'NEC Rules'!$A$2:$B$28),\"\")","v":""},null,null,{"$f":"IF(J148,LOOKUP(J148,'NEC Rules'!$A$2:$B$28),\"\")","v":""},null,null,{"$f":"IF(M148,LOOKUP(M148,'NEC Rules'!$A$2:$B$28),\"\")","v":""},null,null,{"$f":"IF(P148,LOOKUP(P148,'NEC Rules'!$A$2:$B$28),\"\")","v":""},null,"","",null,null,null,"","","",null,null,null,null,null,null,null,null,null,null,null,null,null,null,{"$error":"#VALUE!"}]
[{"$error":"#REF!"},null,null,null,{"$f":"IF(D149,LOOKUP(D149,'NEC Rules'!$A$2:$B$28),\"\")","v":""},null,null,{"$f":"IF(G149,LOOKUP(G149,'NEC Rules'!$A$2:$B$28),\"\")","v":""},null,null,{"$f":"IF(J149,LOOKUP(J149,'NEC Rules'!$A$2:$B$28),\"\")","v":""},null,null,{"$f":"IF(M149,LOOKUP(M149,'NEC Rules'!$A$2:$B$28),\"\")","v":""},null,null,{"$f":"IF(P149,LOOKUP(P149,'NEC Rules'!$A$2:$B$28),\"\")","v":""},null,"","",null,null,null,"","","",null,null,null,null,null,null,null,null,null,null,null,null,null,null,{"$error":"#VALUE!"}]
[{"$error":"#REF!"},null,null,null,{"$f":"IF(D150,LOOKUP(D150,'NEC Rules'!$A$2:$B$28),\"\")","v":""},null,null,{"$f":"IF(G150,LOOKUP(G150,'NEC Rules'!$A$2:$B$28),\"\")","v":""},null,null,{"$f":"IF(J150,LOOKUP(J150,'NEC Rules'!$A$2:$B$28),\"\")","v":""},null,null,{"$f":"IF(M150,LOOKUP(M150,'NEC Rules'!$A$2:$B$28),\"\")","v":""},null,null,{"$f":"IF(P150,LOOKUP(P150,'NEC Rules'!$A$2:$B$28),\"\")","v":""},null,"","",null,null,null,"","","",null,null,null,null,null,null,null,null,null,null,null,null,null,null,{"$error":"#VALUE!"}]
[{"$error":"#REF!"},null,null,null,{"$f":"IF(D151,LOOKUP(D151,'NEC Rules'!$A$2:$B$28),\"\")","v":""},null,null,{"$f":"IF(G151,LOOKUP(G151,'NEC Rules'!$A$2:$B$28),\"\")","v":""},null,null,{"$f":"IF(J151,LOOKUP(J151,'NEC Rules'!$A$2:$B$28),\"\")","v":""},null,null,{"$f":"IF(M151,LOOKUP(M151,'NEC Rules'!$A$2:$B$28),\"\")","v":""},null,null,{"$f":"IF(P151,LOOKUP(P151,'NEC Rules'!$A$2:$B$28),\"\")","v":""},null,"","",null,null,null,"","","",null,null,null,null,null,null,null,null,null,null,null,null,null,null,{"$error":"#VALUE!"}]
[{"$error":"#REF!"},null,null,null,{"$f":"IF(D152,LOOKUP(D152,'NEC Rules'!$A$2:$B$28),\"\")","v":""},null,null,{"$f":"IF(G152,LOOKUP(G152,'NEC Rules'!$A$2:$B$28),\"\")","v":""},null,null,{"$f":"IF(J152,LOOKUP(J152,'NEC Rules'!$A$2:$B$28),\"\")","v":""},null,null,{"$f":"IF(M152,LOOKUP(M152,'NEC Rules'!$A$2:$B$28),\"\")","v":""},null,null,{"$f":"IF(P152,LOOKUP(P152,'NEC Rules'!$A$2:$B$28),\"\")","v":""},null,"","",null,null,null,"","","",null,null,null,null,null,null,null,null,null,null,null,null,null,null,{"$error":"#VALUE!"}]
[{"$error":"#REF!"},null,null,null,{"$f":"IF(D153,LOOKUP(D153,'NEC Rules'!$A$2:$B$28),\"\")","v":""},null,null,{"$f":"IF(G153,LOOKUP(G153,'NEC Rules'!$A$2:$B$28),\"\")","v":""},null,null,{"$f":"IF(J153,LOOKUP(J153,'NEC Rules'!$A$2:$B$28),\"\")","v":""},null,null,{"$f":"IF(M153,LOOKUP(M153,'NEC Rules'!$A$2:$B$28),\"\")","v":""},null,null,{"$f":"IF(P153,LOOKUP(P153,'NEC Rules'!$A$2:$B$28),\"\")","v":""},null,"","",null,null,null,"","","",null,null,null,null,null,null,null,null,null,null,null,null,null,null,{"$error":"#VALUE!"}]
[{"$error":"#REF!"},null,null,null,{"$f":"IF(D154,LOOKUP(D154,'NEC Rules'!$A$2:$B$28),\"\")","v":""},null,null,{"$f":"IF(G154,LOOKUP(G154,'NEC Rules'!$A$2:$B$28),\"\")","v":""},null,null,{"$f":"IF(J154,LOOKUP(J154,'NEC Rules'!$A$2:$B$28),\"\")","v":""},null,null,{"$f":"IF(M154,LOOKUP(M154,'NEC Rules'!$A$2:$B$28),\"\")","v":""},null,null,{"$f":"IF(P154,LOOKUP(P154,'NEC Rules'!$A$2:$B$28),\"\")","v":""},null,"","",null,null,null,"","","",null,null,null,null,null,null,null,null,null,null,null,null,null,null,{"$error":"#VALUE!"}]
[{"$error":"#REF!"},null,null,null,{"$f":"IF(D155,LOOKUP(D155,'NEC Rules'!$A$2:$B$28),\"\")","v":""},null,null,{"$f":"IF(G155,LOOKUP(G155,'NEC Rules'!$A$2:$B$28),\"\")","v":""},null,null,{"$f":"IF(J155,LOOKUP(J155,'NEC Rules'!$A$2:$B$28),\"\")","v":""},null,null,{"$f":"IF(M155,LOOKUP(M155,'NEC Rules'!$A$2:$B$28),\"\")","v":""},null,null,{"$f":"IF(P155,LOOKUP(P155,'NEC Rules'!$A$2:$B$28),\"\")","v":""},null,"","",null,null,null,"","","",null,null,null,null,null,null,null,null,null,null,null,null,null,null,{"$error":"#VALUE!"}]
[{"$error":"#REF!"},null,null,null,{"$f":"IF(D156,LOOKUP(D156,'NEC Rules'!$A$2:$B$28),\"\")","v":""},null,null,{"$f":"IF(G156,LOOKUP(G156,'NEC Rules'!$A$2:$B$28),\"\")","v":""},null,null,{"$f":"IF(J156,LOOKUP(J156,'NEC Rules'!$A$2:$B$28),\"\")","v":""},null,null,{"$f":"IF(M156,LOOKUP(M156,'NEC Rules'!$A$2:$B$28),\"\")","v":""},null,null,{"$f":"IF(P156,LOOKUP(P156,'NEC Rules'!$A$2:$B$28),\"\")","v":""},null,"","",null,null,null,"","","",null,null,null,null,null,null,null,null,null,null,null,null,null,null,{"$error":"#VALUE!"}]
[{"$error":"#REF!"},null,null,null,{"$f":"IF(D157,LOOKUP(D157,'NEC Rules'!$A$2:$B$28),\"\")","v":""},null,null,{"$f":"IF(G157,LOOKUP(G157,'NEC Rules'!$A$2:$B$28),\"\")","v":""},null,null,{"$f":"IF(J157,LOOKUP(J157,'NEC Rules'!$A$2:$B$28),\"\")","v":""},null,null,{"$f":"IF(M157,LOOKUP(M157,'NEC Rules'!$A$2:$B$28),\"\")","v":""},null,null,{"$f":"IF(P157,LOOKUP(P157,'NEC Rules'!$A$2:$B$28),\"\")","v":""},null,"","",null,null,null,"","","",null,null,null,null,null,null,null,null,null,null,null,null,null,null,{"$error":"#VALUE!"}]
[{"$error":"#REF!"},null,null,null,{"$f":"IF(D158,LOOKUP(D158,'NEC Rules'!$A$2:$B$28),\"\")","v":""},null,null,{"$f":"IF(G158,LOOKUP(G158,'NEC Rules'!$A$2:$B$28),\"\")","v":""},null,null,{"$f":"IF(J158,LOOKUP(J158,'NEC Rules'!$A$2:$B$28),\"\")","v":""},null,null,{"$f":"IF(M158,LOOKUP(M158,'NEC Rules'!$A$2:$B$28),\"\")","v":""},null,null,{"$f":"IF(P158,LOOKUP(P158,'NEC Rules'!$A$2:$B$28),\"\")","v":""},null,"","",null,null,null,"","","",null,null,null,null,null,null,null,null,null,null,null,null,null,null,{"$error":"#VALUE!"}]
[{"$error":"#REF!"},null,null,null,{"$f":"IF(D159,LOOKUP(D159,'NEC Rules'!$A$2:$B$28),\"\")","v":""},null,null,{"$f":"IF(G159,LOOKUP(G159,'NEC Rules'!$A$2:$B$28),\"\")","v":""},null,null,{"$f":"IF(J159,LOOKUP(J159,'NEC Rules'!$A$2:$B$28),\"\")","v":""},null,null,{"$f":"IF(M159,LOOKUP(M159,'NEC Rules'!$A$2:$B$28),\"\")","v":""},null,null,{"$f":"IF(P159,LOOKUP(P159,'NEC Rules'!$A$2:$B$28),\"\")","v":""},null,"","",null,null,null,"","","",null,null,null,null,null,null,null,null,null,null,null,null,null,null,{"$error":"#VALUE!"}]
[{"$error":"#REF!"},null,null,null,{"$f":"IF(D160,LOOKUP(D160,'NEC Rules'!$A$2:$B$28),\"\")","v":""},null,null,{"$f":"IF(G160,LOOKUP(G160,'NEC Rules'!$A$2:$B$28),\"\")","v":""},null,null,{"$f":"IF(J160,LOOKUP(J160,'NEC Rules'!$A$2:$B$28),\"\")","v":""},null,null,{"$f":"IF(M160,LOOKUP(M160,'NEC Rules'!$A$2:$B$28),\"\")","v":""},null,null,{"$f":"IF(P160,LOOKUP(P160,'NEC Rules'!$A$2:$B$28),\"\")","v":""},null,"","",null,null,null,"","","",null,null,null,null,null,null,null,null,null,null,null,null,null,null,{"$error":"#VALUE!"}]
[{"$error":"#REF!"},null,null,null,{"$f":"IF(D161,LOOKUP(D161,'NEC Rules'!$A$2:$B$28),\"\")","v":""},null,null,{"$f":"IF(G161,LOOKUP(G161,'NEC Rules'!$A$2:$B$28),\"\")","v":""},null,null,{"$f":"IF(J161,LOOKUP(J161,'NEC Rules'!$A$2:$B$28),\"\")","v":""},null,null,{"$f":"IF(M161,LOOKUP(M161,'NEC Rules'!$A$2:$B$28),\"\")","v":""},null,null,{"$f":"IF(P161,LOOKUP(P161,'NEC Rules'!$A$2:$B$28),\"\")","v":""},null,"","",null,null,null,"","","",null,null,null,null,null,null,null,null,null,null,null,null,null,null,{"$error":"#VALUE!"}]
[{"$error":"#REF!"},null,null,null,{"$f":"IF(D162,LOOKUP(D162,'NEC Rules'!$A$2:$B$28),\"\")","v":""},null,null,{"$f":"IF(G162,LOOKUP(G162,'NEC Rules'!$A$2:$B$28),\"\")","v":""},null,null,{"$f":"IF(J162,LOOKUP(J162,'NEC Rules'!$A$2:$B$28),\"\")","v":""},null,null,{"$f":"IF(M162,LOOKUP(M162,'NEC Rules'!$A$2:$B$28),\"\")","v":""},null,null,{"$f":"IF(P162,LOOKUP(P162,'NEC Rules'!$A$2:$B$28),\"\")","v":""},null,"","",null,null,null,"","","",null,null,null,null,null,null,null,null,null,null,null,null,null,null,{"$error":"#VALUE!"}]
[{"$error":"#REF!"},null,null,null,{"$f":"IF(D163,LOOKUP(D163,'NEC Rules'!$A$2:$B$28),\"\")","v":""},null,null,{"$f":"IF(G163,LOOKUP(G163,'NEC Rules'!$A$2:$B$28),\"\")","v":""},null,null,{"$f":"IF(J163,LOOKUP(J163,'NEC Rules'!$A$2:$B$28),\"\")","v":""},null,null,{"$f":"IF(M163,LOOKUP(M163,'NEC Rules'!$A$2:$B$28),\"\")","v":""},null,null,{"$f":"IF(P163,LOOKUP(P163,'NEC Rules'!$A$2:$B$28),\"\")","v":""},null,"","",null,null,null,"","","",null,null,null,null,null,null,null,null,null,null,null,null,null,null,{"$error":"#VALUE!"}]
[{"$error":"#REF!"},null,null,null,{"$f":"IF(D164,LOOKUP(D164,'NEC Rules'!$A$2:$B$28),\"\")","v":""},null,null,{"$f":"IF(G164,LOOKUP(G164,'NEC Rules'!$A$2:$B$28),\"\")","v":""},null,null,{"$f":"IF(J164,LOOKUP(J164,'NEC Rules'!$A$2:$B$28),\"\")","v":""},null,null,{"$f":"IF(M164,LOOKUP(M164,'NEC Rules'!$A$2:$B$28),\"\")","v":""},null,null,{"$f":"IF(P164,LOOKUP(P164,'NEC Rules'!$A$2:$B$28),\"\")","v":""},null,"","",null,null,null,"","","",null,null,null,null,null,null,null,null,null,null,null,null,null,null,{"$error":"#VALUE!"}]
[{"$error":"#REF!"},null,null,null,{"$f":"IF(D165,LOOKUP(D165,'NEC Rules'!$A$2:$B$28),\"\")","v":""},null,null,{"$f":"IF(G165,LOOKUP(G165,'NEC Rules'!$A$2:$B$28),\"\")","v":""},null,null,{"$f":"IF(J165,LOOKUP(J165,'NEC Rules'!$A$2:$B$28),\"\")","v":""},null,null,{"$f":"IF(M165,LOOKUP(M165,'NEC Rules'!$A$2:$B$28),\"\")","v":""},null,null,{"$f":"IF(P165,LOOKUP(P165,'NEC Rules'!$A$2:$B$28),\"\")","v":""},null,"","",null,null,null,"","","",null,null,null,null,null,null,null,null,null,null,null,null,null,null,{"$error":"#VALUE!"}]
[{"$error":"#REF!"},null,null,null,{"$f":"IF(D166,LOOKUP(D166,'NEC Rules'!$A$2:$B$28),\"\")","v":""},null,null,{"$f":"IF(G166,LOOKUP(G166,'NEC Rules'!$A$2:$B$28),\"\")","v":""},null,null,{"$f":"IF(J166,LOOKUP(J166,'NEC Rules'!$A$2:$B$28),\"\")","v":""},null,null,{"$f":"IF(M166,LOOKUP(M166,'NEC Rules'!$A$2:$B$28),\"\")","v":""},null,null,{"$f":"IF(P166,LOOKUP(P166,'NEC Rules'!$A$2:$B$28),\"\")","v":""},null,"","",null,null,null,"","","",null,null,null,null,null,null,null,null,null,null,null,null,null,null,{"$error":"#VALUE!"}]
[{"$error":"#REF!"},null,null,null,{"$f":"IF(D167,LOOKUP(D167,'NEC Rules'!$A$2:$B$28),\"\")","v":""},null,null,{"$f":"IF(G167,LOOKUP(G167,'NEC Rules'!$A$2:$B$28),\"\")","v":""},null,null,{"$f":"IF(J167,LOOKUP(J167,'NEC Rules'!$A$2:$B$28),\"\")","v":""},null,null,{"$f":"IF(M167,LOOKUP(M167,'NEC Rules'!$A$2:$B$28),\"\")","v":""},null,null,{"$f":"IF(P167,LOOKUP(P167,'NEC Rules'!$A$2:$B$28),\"\")","v":""},null,"","",null,null,null,"","","",null,null,null,null,null,null,null,null,null,null,null,null,null,null,{"$error":"#VALUE!"}]
[{"$error":"#REF!"},null,null,null,{"$f":"IF(D168,LOOKUP(D168,'NEC Rules'!$A$2:$B$28),\"\")","v":""},null,null,{"$f":"IF(G168,LOOKUP(G168,'NEC Rules'!$A$2:$B$28),\"\")","v":""},null,null,{"$f":"IF(J168,LOOKUP(J168,'NEC Rules'!$A$2:$B$28),\"\")","v":""},null,null,{"$f":"IF(M168,LOOKUP(M168,'NEC Rules'!$A$2:$B$28),\"\")","v":""},null,null,{"$f":"IF(P168,LOOKUP(P168,'NEC Rules'!$A$2:$B$28),\"\")","v":""},null,"","",null,null,null,"","","",null,null,null,null,null,null,null,null,null,null,null,null,null,null,{"$error":"#VALUE!"}]
[{"$error":"#REF!"},null,null,null,{"$f":"IF(D169,LOOKUP(D169,'NEC Rules'!$A$2:$B$28),\"\")","v":""},null,null,{"$f":"IF(G169,LOOKUP(G169,'NEC Rules'!$A$2:$B$28),\"\")","v":""},null,null,{"$f":"IF(J169,LOOKUP(J169,'NEC Rules'!$A$2:$B$28),\"\")","v":""},null,null,{"$f":"IF(M169,LOOKUP(M169,'NEC Rules'!$A$2:$B$28),\"\")","v":""},null,null,{"$f":"IF(P169,LOOKUP(P169,'NEC Rules'!$A$2:$B$28),\"\")","v":""},null,"","",null,null,null,"","","",null,null,null,null,null,null,null,null,null,null,null,null,null,null,{"$error":"#VALUE!"}]
[{"$error":"#REF!"},null,null,null,{"$f":"IF(D170,LOOKUP(D170,'NEC Rules'!$A$2:$B$28),\"\")","v":""},null,null,{"$f":"IF(G170,LOOKUP(G170,'NEC Rules'!$A$2:$B$28),\"\")","v":""},null,null,{"$f":"IF(J170,LOOKUP(J170,'NEC Rules'!$A$2:$B$28),\"\")","v":""},null,null,{"$f":"IF(M170,LOOKUP(M170,'NEC Rules'!$A$2:$B$28),\"\")","v":""},null,null,{"$f":"IF(P170,LOOKUP(P170,'NEC Rules'!$A$2:$B$28),\"\")","v":""},null,"","",null,null,null,"","","",null,null,null,null,null,null,null,null,null,null,null,null,null,null,{"$error":"#VALUE!"}]
[{"$error":"#REF!"},null,null,null,{"$f":"IF(D171,LOOKUP(D171,'NEC Rules'!$A$2:$B$28),\"\")","v":""},null,null,{"$f":"IF(G171,LOOKUP(G171,'NEC Rules'!$A$2:$B$28),\"\")","v":""},null,null,{"$f":"IF(J171,LOOKUP(J171,'NEC Rules'!$A$2:$B$28),\"\")","v":""},null,null,{"$f":"IF(M171,LOOKUP(M171,'NEC Rules'!$A$2:$B$28),\"\")","v":""},null,null,{"$f":"IF(P171,LOOKUP(P171,'NEC Rules'!$A$2:$B$28),\"\")","v":""},null,"","",null,null,null,"","","",null,null,null,null,null,null,null,null,null,null,null,null,null,null,{"$error":"#VALUE!"}]
[{"$error":"#REF!"},null,null,null,{"$f":"IF(D172,LOOKUP(D172,'NEC Rules'!$A$2:$B$28),\"\")","v":""},null,null,{"$f":"IF(G172,LOOKUP(G172,'NEC Rules'!$A$2:$B$28),\"\")","v":""},null,null,{"$f":"IF(J172,LOOKUP(J172,'NEC Rules'!$A$2:$B$28),\"\")","v":""},null,null,{"$f":"IF(M172,LOOKUP(M172,'NEC Rules'!$A$2:$B$28),\"\")","v":""},null,null,{"$f":"IF(P172,LOOKUP(P172,'NEC Rules'!$A$2:$B$28),\"\")","v":""},null,"","",null,null,null,"","","",null,null,null,null,null,null,null,null,null,null,null,null,null,null,{"$error":"#VALUE!"}]
[{"$error":"#REF!"},null,null,null,{"$f":"IF(D173,LOOKUP(D173,'NEC Rules'!$A$2:$B$28),\"\")","v":""},null,null,{"$f":"IF(G173,LOOKUP(G173,'NEC Rules'!$A$2:$B$28),\"\")","v":""},null,null,{"$f":"IF(J173,LOOKUP(J173,'NEC Rules'!$A$2:$B$28),\"\")","v":""},null,null,{"$f":"IF(M173,LOOKUP(M173,'NEC Rules'!$A$2:$B$28),\"\")","v":""},null,null,{"$f":"IF(P173,LOOKUP(P173,'NEC Rules'!$A$2:$B$28),\"\")","v":""},null,"","",null,null,null,"","","",null,null,null,null,null,null,null,null,null,null,null,null,null,null,{"$error":"#VALUE!"}]
[{"$error":"#REF!"},null,null,null,{"$f":"IF(D174,LOOKUP(D174,'NEC Rules'!$A$2:$B$28),\"\")","v":""},null,null,{"$f":"IF(G174,LOOKUP(G174,'NEC Rules'!$A$2:$B$28),\"\")","v":""},null,null,{"$f":"IF(J174,LOOKUP(J174,'NEC Rules'!$A$2:$B$28),\"\")","v":""},null,null,{"$f":"IF(M174,LOOKUP(M174,'NEC Rules'!$A$2:$B$28),\"\")","v":""},null,null,{"$f":"IF(P174,LOOKUP(P174,'NEC Rules'!$A$2:$B$28),\"\")","v":""},null,"","",null,null,null,"","","",null,null,null,null,null,null,null,null,null,null,null,null,null,null,{"$error":"#VALUE!"}]
[{"$error":"#REF!"},null,null,null,{"$f":"IF(D175,LOOKUP(D175,'NEC Rules'!$A$2:$B$28),\"\")","v":""},null,null,{"$f":"IF(G175,LOOKUP(G175,'NEC Rules'!$A$2:$B$28),\"\")","v":""},null,null,{"$f":"IF(J175,LOOKUP(J175,'NEC Rules'!$A$2:$B$28),\"\")","v":""},null,null,{"$f":"IF(M175,LOOKUP(M175,'NEC Rules'!$A$2:$B$28),\"\")","v":""},null,null,{"$f":"IF(P175,LOOKUP(P175,'NEC Rules'!$A$2:$B$28),\"\")","v":""},null,"","",null,null,null,"","","",null,null,null,null,null,null,null,null,null,null,null,null,null,null,{"$error":"#VALUE!"}]
[{"$error":"#REF!"},null,null,null,{"$f":"IF(D176,LOOKUP(D176,'NEC Rules'!$A$2:$B$28),\"\")","v":""},null,null,{"$f":"IF(G176,LOOKUP(G176,'NEC Rules'!$A$2:$B$28),\"\")","v":""},null,null,{"$f":"IF(J176,LOOKUP(J176,'NEC Rules'!$A$2:$B$28),\"\")","v":""},null,null,{"$f":"IF(M176,LOOKUP(M176,'NEC Rules'!$A$2:$B$28),\"\")","v":""},null,null,{"$f":"IF(P176,LOOKUP(P176,'NEC Rules'!$A$2:$B$28),\"\")","v":""},null,"","",null,null,null,"","","",null,null,null,null,null,null,null,null,null,null,null,null,null,null,{"$error":"#VALUE!"}]
[{"$error":"#REF!"},null,null,null,{"$f":"IF(D177,LOOKUP(D177,'NEC Rules'!$A$2:$B$28),\"\")","v":""},null,null,{"$f":"IF(G177,LOOKUP(G177,'NEC Rules'!$A$2:$B$28),\"\")","v":""},null,null,{"$f":"IF(J177,LOOKUP(J177,'NEC Rules'!$A$2:$B$28),\"\")","v":""},null,null,{"$f":"IF(M177,LOOKUP(M177,'NEC Rules'!$A$2:$B$28),\"\")","v":""},null,null,{"$f":"IF(P177,LOOKUP(P177,'NEC Rules'!$A$2:$B$28),\"\")","v":""},null,"","",null,null,null,"","","",null,null,null,null,null,null,null,null,null,null,null,null,null,null,{"$error":"#VALUE!"}]
[{"$error":"#REF!"},null,null,null,{"$f":"IF(D178,LOOKUP(D178,'NEC Rules'!$A$2:$B$28),\"\")","v":""},null,null,{"$f":"IF(G178,LOOKUP(G178,'NEC Rules'!$A$2:$B$28),\"\")","v":""},null,null,{"$f":"IF(J178,LOOKUP(J178,'NEC Rules'!$A$2:$B$28),\"\")","v":""},null,null,{"$f":"IF(M178,LOOKUP(M178,'NEC Rules'!$A$2:$B$28),\"\")","v":""},null,null,{"$f":"IF(P178,LOOKUP(P178,'NEC Rules'!$A$2:$B$28),\"\")","v":""},null,"","",null,null,null,"","","",null,null,null,null,null,null,null,null,null,null,null,null,null,null,{"$error":"#VALUE!"}]
[{"$error":"#REF!"},null,null,null,{"$f":"IF(D179,LOOKUP(D179,'NEC Rules'!$A$2:$B$28),\"\")","v":""},null,null,{"$f":"IF(G179,LOOKUP(G179,'NEC Rules'!$A$2:$B$28),\"\")","v":""},null,null,{"$f":"IF(J179,LOOKUP(J179,'NEC Rules'!$A$2:$B$28),\"\")","v":""},null,null,{"$f":"IF(M179,LOOKUP(M179,'NEC Rules'!$A$2:$B$28),\"\")","v":""},null,null,{"$f":"IF(P179,LOOKUP(P179,'NEC Rules'!$A$2:$B$28),\"\")","v":""},null,"","",null,null,null,"","","",null,null,null,null,null,null,null,null,null,null,null,null,null,null,{"$error":"#VALUE!"}]
[{"$error":"#REF!"},null,null,null,{"$f":"IF(D180,LOOKUP(D180,'NEC Rules'!$A$2:$B$28),\"\")","v":""},null,null,{"$f":"IF(G180,LOOKUP(G180,'NEC Rules'!$A$2:$B$28),\"\")","v":""},null,null,{"$f":"IF(J180,LOOKUP(J180,'NEC Rules'!$A$2:$B$28),\"\")","v":""},null,null,{"$f":"IF(M180,LOOKUP(M180,'NEC Rules'!$A$2:$B$28),\"\")","v":""},null,null,{"$f":"IF(P180,LOOKUP(P180,'NEC Rules'!$A$2:$B$28),\"\")","v":""},null,"","",null,null,null,"","","",null,null,null,null,null,null,null,null,null,null,null,null,null,null,{"$error":"#VALUE!"}]
[{"$error":"#REF!"},null,null,null,{"$f":"IF(D181,LOOKUP(D181,'NEC Rules'!$A$2:$B$28),\"\")","v":""},null,null,{"$f":"IF(G181,LOOKUP(G181,'NEC Rules'!$A$2:$B$28),\"\")","v":""},null,null,{"$f":"IF(J181,LOOKUP(J181,'NEC Rules'!$A$2:$B$28),\"\")","v":""},null,null,{"$f":"IF(M181,LOOKUP(M181,'NEC Rules'!$A$2:$B$28),\"\")","v":""},null,null,{"$f":"IF(P181,LOOKUP(P181,'NEC Rules'!$A$2:$B$28),\"\")","v":""},null,"","",null,null,null,"","","",null,null,null,null,null,null,null,null,null,null,null,null,null,null,{"$error":"#VALUE!"}]
[{"$error":"#REF!"},null,null,null,{"$f":"IF(D182,LOOKUP(D182,'NEC Rules'!$A$2:$B$28),\"\")","v":""},null,null,{"$f":"IF(G182,LOOKUP(G182,'NEC Rules'!$A$2:$B$28),\"\")","v":""},null,null,{"$f":"IF(J182,LOOKUP(J182,'NEC Rules'!$A$2:$B$28),\"\")","v":""},null,null,{"$f":"IF(M182,LOOKUP(M182,'NEC Rules'!$A$2:$B$28),\"\")","v":""},null,null,{"$f":"IF(P182,LOOKUP(P182,'NEC Rules'!$A$2:$B$28),\"\")","v":""},null,"","",null,null,null,"","","",null,null,null,null,null,null,null,null,null,null,null,null,null,null,{"$error":"#VALUE!"}]
[{"$error":"#REF!"},null,null,null,{"$f":"IF(D183,LOOKUP(D183,'NEC Rules'!$A$2:$B$28),\"\")","v":""},null,null,{"$f":"IF(G183,LOOKUP(G183,'NEC Rules'!$A$2:$B$28),\"\")","v":""},null,null,{"$f":"IF(J183,LOOKUP(J183,'NEC Rules'!$A$2:$B$28),\"\")","v":""},null,null,{"$f":"IF(M183,LOOKUP(M183,'NEC Rules'!$A$2:$B$28),\"\")","v":""},null,null,{"$f":"IF(P183,LOOKUP(P183,'NEC Rules'!$A$2:$B$28),\"\")","v":""},null,"","",null,null,null,"","","",null,null,null,null,null,null,null,null,null,null,null,null,null,null,{"$error":"#VALUE!"}]
[{"$error":"#REF!"},null,null,null,{"$f":"IF(D184,LOOKUP(D184,'NEC Rules'!$A$2:$B$28),\"\")","v":""},null,null,{"$f":"IF(G184,LOOKUP(G184,'NEC Rules'!$A$2:$B$28),\"\")","v":""},null,null,{"$f":"IF(J184,LOOKUP(J184,'NEC Rules'!$A$2:$B$28),\"\")","v":""},null,null,{"$f":"IF(M184,LOOKUP(M184,'NEC Rules'!$A$2:$B$28),\"\")","v":""},null,null,{"$f":"IF(P184,LOOKUP(P184,'NEC Rules'!$A$2:$B$28),\"\")","v":""},null,"","",null,null,null,"","","",null,null,null,null,null,null,null,null,null,null,null,null,null,null,{"$error":"#VALUE!"}]
[{"$error":"#REF!"},null,null,null,{"$f":"IF(D185,LOOKUP(D185,'NEC Rules'!$A$2:$B$28),\"\")","v":""},null,null,{"$f":"IF(G185,LOOKUP(G185,'NEC Rules'!$A$2:$B$28),\"\")","v":""},null,null,{"$f":"IF(J185,LOOKUP(J185,'NEC Rules'!$A$2:$B$28),\"\")","v":""},null,null,{"$f":"IF(M185,LOOKUP(M185,'NEC Rules'!$A$2:$B$28),\"\")","v":""},null,null,{"$f":"IF(P185,LOOKUP(P185,'NEC Rules'!$A$2:$B$28),\"\")","v":""},null,"","",null,null,null,"","","",null,null,null,null,null,null,null,null,null,null,null,null,null,null,{"$error":"#VALUE!"}]
[{"$error":"#REF!"},null,null,null,{"$f":"IF(D186,LOOKUP(D186,'NEC Rules'!$A$2:$B$28),\"\")","v":""},null,null,{"$f":"IF(G186,LOOKUP(G186,'NEC Rules'!$A$2:$B$28),\"\")","v":""},null,null,{"$f":"IF(J186,LOOKUP(J186,'NEC Rules'!$A$2:$B$28),\"\")","v":""},null,null,{"$f":"IF(M186,LOOKUP(M186,'NEC Rules'!$A$2:$B$28),\"\")","v":""},null,null,{"$f":"IF(P186,LOOKUP(P186,'NEC Rules'!$A$2:$B$28),\"\")","v":""},null,"","",null,null,null,"","","",null,null,null,null,null,null,null,null,null,null,null,null,null,null,{"$error":"#VALUE!"}]
[{"$error":"#REF!"},null,null,null,{"$f":"IF(D187,LOOKUP(D187,'NEC Rules'!$A$2:$B$28),\"\")","v":""},null,null,{"$f":"IF(G187,LOOKUP(G187,'NEC Rules'!$A$2:$B$28),\"\")","v":""},null,null,{"$f":"IF(J187,LOOKUP(J187,'NEC Rules'!$A$2:$B$28),\"\")","v":""},null,null,{"$f":"IF(M187,LOOKUP(M187,'NEC Rules'!$A$2:$B$28),\"\")","v":""},null,null,{"$f":"IF(P187,LOOKUP(P187,'NEC Rules'!$A$2:$B$28),\"\")","v":""},null,"","",null,null,null,"","","",null,null,null,null,null,null,null,null,null,null,null,null,null,null,{"$error":"#VALUE!"}]
[{"$error":"#REF!"},null,null,null,{"$f":"IF(D188,LOOKUP(D188,'NEC Rules'!$A$2:$B$28),\"\")","v":""},null,null,{"$f":"IF(G188,LOOKUP(G188,'NEC Rules'!$A$2:$B$28),\"\")","v":""},null,null,{"$f":"IF(J188,LOOKUP(J188,'NEC Rules'!$A$2:$B$28),\"\")","v":""},null,null,{"$f":"IF(M188,LOOKUP(M188,'NEC Rules'!$A$2:$B$28),\"\")","v":""},null,null,{"$f":"IF(P188,LOOKUP(P188,'NEC Rules'!$A$2:$B$28),\"\")","v":""},null,"","",null,null,null,"","","",null,null,null,null,null,null,null,null,null,null,null,null,null,null,{"$error":"#VALUE!"}]
[{"$error":"#REF!"},null,null,null,{"$f":"IF(D189,LOOKUP(D189,'NEC Rules'!$A$2:$B$28),\"\")","v":""},null,null,{"$f":"IF(G189,LOOKUP(G189,'NEC Rules'!$A$2:$B$28),\"\")","v":""},null,null,{"$f":"IF(J189,LOOKUP(J189,'NEC Rules'!$A$2:$B$28),\"\")","v":""},null,null,{"$f":"IF(M189,LOOKUP(M189,'NEC Rules'!$A$2:$B$28),\"\")","v":""},null,null,{"$f":"IF(P189,LOOKUP(P189,'NEC Rules'!$A$2:$B$28),\"\")","v":""},null,"","",null,null,null,"","","",null,null,null,null,null,null,null,null,null,null,null,null,null,null,{"$error":"#VALUE!"}]
[{"$error":"#REF!"},null,null,null,{"$f":"IF(D190,LOOKUP(D190,'NEC Rules'!$A$2:$B$28),\"\")","v":""},null,null,{"$f":"IF(G190,LOOKUP(G190,'NEC Rules'!$A$2:$B$28),\"\")","v":""},null,null,{"$f":"IF(J190,LOOKUP(J190,'NEC Rules'!$A$2:$B$28),\"\")","v":""},null,null,{"$f":"IF(M190,LOOKUP(M190,'NEC Rules'!$A$2:$B$28),\"\")","v":""},null,null,{"$f":"IF(P190,LOOKUP(P190,'NEC Rules'!$A$2:$B$28),\"\")","v":""},null,"","",null,null,null,"","","",null,null,null,null,null,null,null,null,null,null,null,null,null,null,{"$error":"#VALUE!"}]
[{"$error":"#REF!"},null,null,null,{"$f":"IF(D191,LOOKUP(D191,'NEC Rules'!$A$2:$B$28),\"\")","v":""},null,null,{"$f":"IF(G191,LOOKUP(G191,'NEC Rules'!$A$2:$B$28),\"\")","v":""},null,null,{"$f":"IF(J191,LOOKUP(J191,'NEC Rules'!$A$2:$B$28),\"\")","v":""},null,null,{"$f":"IF(M191,LOOKUP(M191,'NEC Rules'!$A$2:$B$28),\"\")","v":""},null,null,{"$f":"IF(P191,LOOKUP(P191,'NEC Rules'!$A$2:$B$28),\"\")","v":""},null,"","",null,null,null,"","","",null,null,null,null,null,null,null,null,null,null,null,null,null,null,{"$error":"#VALUE!"}]
[{"$error":"#REF!"},null,null,null,{"$f":"IF(D192,LOOKUP(D192,'NEC Rules'!$A$2:$B$28),\"\")","v":""},null,null,{"$f":"IF(G192,LOOKUP(G192,'NEC Rules'!$A$2:$B$28),\"\")","v":""},null,null,{"$f":"IF(J192,LOOKUP(J192,'NEC Rules'!$A$2:$B$28),\"\")","v":""},null,null,{"$f":"IF(M192,LOOKUP(M192,'NEC Rules'!$A$2:$B$28),\"\")","v":""},null,null,{"$f":"IF(P192,LOOKUP(P192,'NEC Rules'!$A$2:$B$28),\"\")","v":""},null,"","",null,null,null,"",{"$f":"CalcMPF(V192,D192,E192,F192,H192,I192,K192,L192,N192,O192,Q192,R192,T192,U192)","v":""},"",null,null,null,null,null,null,null,null,null,null,null,null,null,null,{"$error":"#VALUE!"}]
[{"$error":"#REF!"},null,null,null,{"$f":"IF(D193,LOOKUP(D193,'NEC Rules'!$A$2:$B$28),\"\")","v":""},null,null,{"$f":"IF(G193,LOOKUP(G193,'NEC Rules'!$A$2:$B$28),\"\")","v":""},null,null,{"$f":"IF(J193,LOOKUP(J193,'NEC Rules'!$A$2:$B$28),\"\")","v":""},null,null,{"$f":"IF(M193,LOOKUP(M193,'NEC Rules'!$A$2:$B$28),\"\")","v":""},null,null,{"$f":"IF(P193,LOOKUP(P193,'NEC Rules'!$A$2:$B$28),\"\")","v":""},null,"","",null,null,null,"",{"$f":"CalcMPF(V193,D193,E193,F193,H193,I193,K193,L193,N193,O193,Q193,R193,T193,U193)","v":""},"",null,null,null,null,null,null,null,null,null,null,null,null,null,null,{"$error":"#VALUE!"}]
[{"$error":"#REF!"},null,null,null,{"$f":"IF(D194,LOOKUP(D194,'NEC Rules'!$A$2:$B$28),\"\")","v":""},null,null,{"$f":"IF(G194,LOOKUP(G194,'NEC Rules'!$A$2:$B$28),\"\")","v":""},null,null,{"$f":"IF(J194,LOOKUP(J194,'NEC Rules'!$A$2:$B$28),\"\")","v":""},null,null,{"$f":"IF(M194,LOOKUP(M194,'NEC Rules'!$A$2:$B$28),\"\")","v":""},null,null,{"$f":"IF(P194,LOOKUP(P194,'NEC Rules'!$A$2:$B$28),\"\")","v":""},null,{"$f":"CalcHP(D194,F194,G194,I194,J194,L194,M194,O194,P194,R194)","v":""},"",null,null,null,"",{"$f":"CalcMPF(V194,D194,E194,F194,H194,I194,K194,L194,N194,O194,Q194,R194,T194,U194)","v":""},"",null,null,null,null,null,null,null,null,null,null,null,null,null,null,{"$error":"#VALUE!"}]
[{"$error":"#REF!"},null,null,null,{"$f":"IF(D195,LOOKUP(D195,'NEC Rules'!$A$2:$B$28),\"\")","v":""},null,null,{"$f":"IF(G195,LOOKUP(G195,'NEC Rules'!$A$2:$B$28),\"\")","v":""},null,null,{"$f":"IF(J195,LOOKUP(J195,'NEC Rules'!$A$2:$B$28),\"\")","v":""},null,null,{"$f":"IF(M195,LOOKUP(M195,'NEC Rules'!$A$2:$B$28),\"\")","v":""},null,null,{"$f":"IF(P195,LOOKUP(P195,'NEC Rules'!$A$2:$B$28),\"\")","v":""},null,"","",null,null,null,"",{"$f":"CalcMPF(V195,D195,E195,F195,H195,I195,K195,L195,N195,O195,Q195,R195,T195,U195)","v":""},"",null,null,null,null,null,null,null,null,null,null,null,null,null,null,{"$error":"#VALUE!"}]
[{"$error":"#REF!"},null,null,null,{"$f":"IF(D196,LOOKUP(D196,'NEC Rules'!$A$2:$B$28),\"\")","v":""},null,null,{"$f":"IF(G196,LOOKUP(G196,'NEC Rules'!$A$2:$B$28),\"\")","v":""},null,null,{"$f":"IF(J196,LOOKUP(J196,'NEC Rules'!$A$2:$B$28),\"\")","v":""},null,null,{"$f":"IF(M196,LOOKUP(M196,'NEC Rules'!$A$2:$B$28),\"\")","v":""},null,null,{"$f":"IF(P196,LOOKUP(P196,'NEC Rules'!$A$2:$B$28),\"\")","v":""},null,"",{"$f":"IF(D196,10,\"\")","v":""},null,null,null,{"$f":"IF((V196*W196),(V196*W196),\"\")","v":""},"",{"$f":"CalcPD(Y196)","v":""},null,null,null,null,null,null,null,null,null,null,null,null,null,null,{"$f":"X196*480*0.03","v":{"$error":"#VALUE!"}}]
[{"$f":"A196+1","v":{"$error":"#REF!"}},null,null,null,{"$f":"IF(D197,LOOKUP(D197,'NEC Rules'!$A$2:$B$28),\"\")","v":""},null,null,{"$f":"IF(G197,LOOKUP(G197,'NEC Rules'!$A$2:$B$28),\"\")","v":""},null,null,{"$f":"IF(J197,LOOKUP(J197,'NEC Rules'!$A$2:$B$28),\"\")","v":""},null,null,{"$f":"IF(M197,LOOKUP(M197,'NEC Rules'!$A$2:$B$28),\"\")","v":""},null,null,{"$f":"IF(P197,LOOKUP(P197,'NEC Rules'!$A$2:$B$28),\"\")","v":""},null,"","",null,null,null,"","","",null,null,null,null,null,null,null,null,null,null,null,null,null,null,{"$error":"#VALUE!"}]
[{"$error":"#REF!"},null,null,null,{"$f":"IF(D198,LOOKUP(D198,'NEC Rules'!$A$2:$B$28),\"\")","v":""},null,null,{"$f":"IF(G198,LOOKUP(G198,'NEC Rules'!$A$2:$B$28),\"\")","v":""},null,null,{"$f":"IF(J198,LOOKUP(J198,'NEC Rules'!$A$2:$B$28),\"\")","v":""},null,null,{"$f":"IF(M198,LOOKUP(M198,'NEC Rules'!$A$2:$B$28),\"\")","v":""},null,null,{"$f":"IF(P198,LOOKUP(P198,'NEC Rules'!$A$2:$B$28),\"\")","v":""},null,"","",null,null,null,"","","",null,null,null,null,null,null,null,null,null,null,null,null,null,null,{"$error":"#VALUE!"}]
[{"$error":"#REF!"},null,null,null,{"$f":"IF(D199,LOOKUP(D199,'NEC Rules'!$A$2:$B$28),\"\")","v":""},null,null,{"$f":"IF(G199,LOOKUP(G199,'NEC Rules'!$A$2:$B$28),\"\")","v":""},null,null,{"$f":"IF(J199,LOOKUP(J199,'NEC Rules'!$A$2:$B$28),\"\")","v":""},null,null,{"$f":"IF(M199,LOOKUP(M199,'NEC Rules'!$A$2:$B$28),\"\")","v":""},null,null,{"$f":"IF(P199,LOOKUP(P199,'NEC Rules'!$A$2:$B$28),\"\")","v":""},null,"","",null,null,null,"","","",null,null,null,null,null,null,null,null,null,null,null,null,null,null,{"$error":"#VALUE!"}]
[{"$error":"#REF!"},null,null,null,{"$f":"IF(D200,LOOKUP(D200,'NEC Rules'!$A$2:$B$28),\"\")","v":""},null,null,{"$f":"IF(G200,LOOKUP(G200,'NEC Rules'!$A$2:$B$28),\"\")","v":""},null,null,{"$f":"IF(J200,LOOKUP(J200,'NEC Rules'!$A$2:$B$28),\"\")","v":""},null,null,{"$f":"IF(M200,LOOKUP(M200,'NEC Rules'!$A$2:$B$28),\"\")","v":""},null,null,{"$f":"IF(P200,LOOKUP(P200,'NEC Rules'!$A$2:$B$28),\"\")","v":""},null,"","",null,null,null,"","","",null,null,null,null,null,null,null,null,null,null,null,null,null,null,{"$error":"#VALUE!"}]
[{"$error":"#REF!"},null,null,null,{"$f":"IF(D201,LOOKUP(D201,'NEC Rules'!$A$2:$B$28),\"\")","v":""},null,null,{"$f":"IF(G201,LOOKUP(G201,'NEC Rules'!$A$2:$B$28),\"\")","v":""},null,null,{"$f":"IF(J201,LOOKUP(J201,'NEC Rules'!$A$2:$B$28),\"\")","v":""},null,null,{"$f":"IF(M201,LOOKUP(M201,'NEC Rules'!$A$2:$B$28),\"\")","v":""},null,null,{"$f":"IF(P201,LOOKUP(P201,'NEC Rules'!$A$2:$B$28),\"\")","v":""},null,"","",null,null,null,"","","",null,null,null,null,null,null,null,null,null,null,null,null,null,null,{"$error":"#VALUE!"}]
[{"$error":"#REF!"},null,null,null,{"$f":"IF(D202,LOOKUP(D202,'NEC Rules'!$A$2:$B$28),\"\")","v":""},null,null,{"$f":"IF(G202,LOOKUP(G202,'NEC Rules'!$A$2:$B$28),\"\")","v":""},null,null,{"$f":"IF(J202,LOOKUP(J202,'NEC Rules'!$A$2:$B$28),\"\")","v":""},null,null,{"$f":"IF(M202,LOOKUP(M202,'NEC Rules'!$A$2:$B$28),\"\")","v":""},null,null,{"$f":"IF(P202,LOOKUP(P202,'NEC Rules'!$A$2:$B$28),\"\")","v":""},null,"","",null,null,null,"","","",null,null,null,null,null,null,null,null,null,null,null,null,null,null,{"$error":"#VALUE!"}]
[{"$error":"#REF!"},null,null,null,{"$f":"IF(D203,LOOKUP(D203,'NEC Rules'!$A$2:$B$28),\"\")","v":""},null,null,{"$f":"IF(G203,LOOKUP(G203,'NEC Rules'!$A$2:$B$28),\"\")","v":""},null,null,{"$f":"IF(J203,LOOKUP(J203,'NEC Rules'!$A$2:$B$28),\"\")","v":""},null,null,{"$f":"IF(M203,LOOKUP(M203,'NEC Rules'!$A$2:$B$28),\"\")","v":""},null,null,{"$f":"IF(P203,LOOKUP(P203,'NEC Rules'!$A$2:$B$28),\"\")","v":""},null,"","",null,null,null,"","","",null,null,null,null,null,null,null,null,null,null,null,null,null,null,{"$error":"#VALUE!"}]
[{"$error":"#REF!"},null,null,null,{"$f":"IF(D204,LOOKUP(D204,'NEC Rules'!$A$2:$B$28),\"\")","v":""},null,null,{"$f":"IF(G204,LOOKUP(G204,'NEC Rules'!$A$2:$B$28),\"\")","v":""},null,null,{"$f":"IF(J204,LOOKUP(J204,'NEC Rules'!$A$2:$B$28),\"\")","v":""},null,null,{"$f":"IF(M204,LOOKUP(M204,'NEC Rules'!$A$2:$B$28),\"\")","v":""},null,null,{"$f":"IF(P204,LOOKUP(P204,'NEC Rules'!$A$2:$B$28),\"\")","v":""},null,"","",null,null,null,"","","",null,null,null,null,null,null,null,null,null,null,null,null,null,null,{"$error":"#VALUE!"}]
[{"$error":"#REF!"},null,null,null,{"$f":"IF(D205,LOOKUP(D205,'NEC Rules'!$A$2:$B$28),\"\")","v":""},null,null,{"$f":"IF(G205,LOOKUP(G205,'NEC Rules'!$A$2:$B$28),\"\")","v":""},null,null,{"$f":"IF(J205,LOOKUP(J205,'NEC Rules'!$A$2:$B$28),\"\")","v":""},null,null,{"$f":"IF(M205,LOOKUP(M205,'NEC Rules'!$A$2:$B$28),\"\")","v":""},null,null,{"$f":"IF(P205,LOOKUP(P205,'NEC Rules'!$A$2:$B$28),\"\")","v":""},null,"","",null,null,null,"","","",null,null,null,null,null,null,null,null,null,null,null,null,null,null,{"$error":"#VALUE!"}]
[{"$error":"#REF!"},null,null,null,{"$f":"IF(D206,LOOKUP(D206,'NEC Rules'!$A$2:$B$28),\"\")","v":""},null,null,{"$f":"IF(G206,LOOKUP(G206,'NEC Rules'!$A$2:$B$28),\"\")","v":""},null,null,{"$f":"IF(J206,LOOKUP(J206,'NEC Rules'!$A$2:$B$28),\"\")","v":""},null,null,{"$f":"IF(M206,LOOKUP(M206,'NEC Rules'!$A$2:$B$28),\"\")","v":""},null,null,{"$f":"IF(P206,LOOKUP(P206,'NEC Rules'!$A$2:$B$28),\"\")","v":""},null,"","",null,null,null,"","","",null,null,null,null,null,null,null,null,null,null,null,null,null,null,{"$error":"#VALUE!"}]
[{"$error":"#REF!"},null,null,null,{"$f":"IF(D207,LOOKUP(D207,'NEC Rules'!$A$2:$B$28),\"\")","v":""},null,null,{"$f":"IF(G207,LOOKUP(G207,'NEC Rules'!$A$2:$B$28),\"\")","v":""},null,null,{"$f":"IF(J207,LOOKUP(J207,'NEC Rules'!$A$2:$B$28),\"\")","v":""},null,null,{"$f":"IF(M207,LOOKUP(M207,'NEC Rules'!$A$2:$B$28),\"\")","v":""},null,null,{"$f":"IF(P207,LOOKUP(P207,'NEC Rules'!$A$2:$B$28),\"\")","v":""},null,"","",null,null,null,"","","",null,null,null,null,null,null,null,null,null,null,null,null,null,null,{"$error":"#VALUE!"}]
[{"$error":"#REF!"},null,null,null,{"$f":"IF(D208,LOOKUP(D208,'NEC Rules'!$A$2:$B$28),\"\")","v":""},null,null,{"$f":"IF(G208,LOOKUP(G208,'NEC Rules'!$A$2:$B$28),\"\")","v":""},null,null,{"$f":"IF(J208,LOOKUP(J208,'NEC Rules'!$A$2:$B$28),\"\")","v":""},null,null,{"$f":"IF(M208,LOOKUP(M208,'NEC Rules'!$A$2:$B$28),\"\")","v":""},null,null,{"$f":"IF(P208,LOOKUP(P208,'NEC Rules'!$A$2:$B$28),\"\")","v":""},null,"","",null,null,null,"","","",null,null,null,null,null,null,null,null,null,null,null,null,null,null,{"$error":"#VALUE!"}]
[{"$error":"#REF!"},null,null,null,{"$f":"IF(D209,LOOKUP(D209,'NEC Rules'!$A$2:$B$28),\"\")","v":""},null,null,{"$f":"IF(G209,LOOKUP(G209,'NEC Rules'!$A$2:$B$28),\"\")","v":""},null,null,{"$f":"IF(J209,LOOKUP(J209,'NEC Rules'!$A$2:$B$28),\"\")","v":""},null,null,{"$f":"IF(M209,LOOKUP(M209,'NEC Rules'!$A$2:$B$28),\"\")","v":""},null,null,{"$f":"IF(P209,LOOKUP(P209,'NEC Rules'!$A$2:$B$28),\"\")","v":""},null,"","",null,null,null,"","","",null,null,null,null,null,null,null,null,null,null,null,null,null,null,{"$error":"#VALUE!"}]
[{"$error":"#REF!"},null,null,null,{"$f":"IF(D210,LOOKUP(D210,'NEC Rules'!$A$2:$B$28),\"\")","v":""},null,null,{"$f":"IF(G210,LOOKUP(G210,'NEC Rules'!$A$2:$B$28),\"\")","v":""},null,null,{"$f":"IF(J210,LOOKUP(J210,'NEC Rules'!$A$2:$B$28),\"\")","v":""},null,null,{"$f":"IF(M210,LOOKUP(M210,'NEC Rules'!$A$2:$B$28),\"\")","v":""},null,null,{"$f":"IF(P210,LOOKUP(P210,'NEC Rules'!$A$2:$B$28),\"\")","v":""},null,"","",null,null,null,"","","",null,null,null,null,null,null,null,null,null,null,null,null,null,null,{"$error":"#VALUE!"}]
[{"$error":"#REF!"},null,null,null,{"$f":"IF(D211,LOOKUP(D211,'NEC Rules'!$A$2:$B$28),\"\")","v":""},null,null,{"$f":"IF(G211,LOOKUP(G211,'NEC Rules'!$A$2:$B$28),\"\")","v":""},null,null,{"$f":"IF(J211,LOOKUP(J211,'NEC Rules'!$A$2:$B$28),\"\")","v":""},null,null,{"$f":"IF(M211,LOOKUP(M211,'NEC Rules'!$A$2:$B$28),\"\")","v":""},null,null,{"$f":"IF(P211,LOOKUP(P211,'NEC Rules'!$A$2:$B$28),\"\")","v":""},null,"","",null,null,null,"","","",null,null,null,null,null,null,null,null,null,null,null,null,null,null,{"$error":"#VALUE!"}]
[{"$error":"#REF!"},null,null,null,{"$f":"IF(D212,LOOKUP(D212,'NEC Rules'!$A$2:$B$28),\"\")","v":""},null,null,{"$f":"IF(G212,LOOKUP(G212,'NEC Rules'!$A$2:$B$28),\"\")","v":""},null,null,{"$f":"IF(J212,LOOKUP(J212,'NEC Rules'!$A$2:$B$28),\"\")","v":""},null,null,{"$f":"IF(M212,LOOKUP(M212,'NEC Rules'!$A$2:$B$28),\"\")","v":""},null,null,{"$f":"IF(P212,LOOKUP(P212,'NEC Rules'!$A$2:$B$28),\"\")","v":""},null,"","",null,null,null,"","","",null,null,null,null,null,null,null,null,null,null,null,null,null,null,{"$error":"#VALUE!"}]
[{"$error":"#REF!"},null,null,null,{"$f":"IF(D213,LOOKUP(D213,'NEC Rules'!$A$2:$B$28),\"\")","v":""},null,null,{"$f":"IF(G213,LOOKUP(G213,'NEC Rules'!$A$2:$B$28),\"\")","v":""},null,null,{"$f":"IF(J213,LOOKUP(J213,'NEC Rules'!$A$2:$B$28),\"\")","v":""},null,null,{"$f":"IF(M213,LOOKUP(M213,'NEC Rules'!$A$2:$B$28),\"\")","v":""},null,null,{"$f":"IF(P213,LOOKUP(P213,'NEC Rules'!$A$2:$B$28),\"\")","v":""},null,"","",null,null,null,"","","",null,null,null,null,null,null,null,null,null,null,null,null,null,null,{"$error":"#VALUE!"}]
[{"$error":"#REF!"},null,null,null,{"$f":"IF(D214,LOOKUP(D214,'NEC Rules'!$A$2:$B$28),\"\")","v":""},null,null,{"$f":"IF(G214,LOOKUP(G214,'NEC Rules'!$A$2:$B$28),\"\")","v":""},null,null,{"$f":"IF(J214,LOOKUP(J214,'NEC Rules'!$A$2:$B$28),\"\")","v":""},null,null,{"$f":"IF(M214,LOOKUP(M214,'NEC Rules'!$A$2:$B$28),\"\")","v":""},null,null,{"$f":"IF(P214,LOOKUP(P214,'NEC Rules'!$A$2:$B$28),\"\")","v":""},null,"","",null,null,null,"","","",null,null,null,null,null,null,null,null,null,null,null,null,null,null,{"$error":"#VALUE!"}]
[{"$error":"#REF!"},null,null,null,{"$f":"IF(D215,LOOKUP(D215,'NEC Rules'!$A$2:$B$28),\"\")","v":""},null,null,{"$f":"IF(G215,LOOKUP(G215,'NEC Rules'!$A$2:$B$28),\"\")","v":""},null,null,{"$f":"IF(J215,LOOKUP(J215,'NEC Rules'!$A$2:$B$28),\"\")","v":""},null,null,{"$f":"IF(M215,LOOKUP(M215,'NEC Rules'!$A$2:$B$28),\"\")","v":""},null,null,{"$f":"IF(P215,LOOKUP(P215,'NEC Rules'!$A$2:$B$28),\"\")","v":""},null,"","",null,null,null,"","","",null,null,null,null,null,null,null,null,null,null,null,null,null,null,{"$error":"#VALUE!"}]
[{"$error":"#REF!"},null,null,null,{"$f":"IF(D216,LOOKUP(D216,'NEC Rules'!$A$2:$B$28),\"\")","v":""},null,null,{"$f":"IF(G216,LOOKUP(G216,'NEC Rules'!$A$2:$B$28),\"\")","v":""},null,null,{"$f":"IF(J216,LOOKUP(J216,'NEC Rules'!$A$2:$B$28),\"\")","v":""},null,null,{"$f":"IF(M216,LOOKUP(M216,'NEC Rules'!$A$2:$B$28),\"\")","v":""},null,null,{"$f":"IF(P216,LOOKUP(P216,'NEC Rules'!$A$2:$B$28),\"\")","v":""},null,"","",null,null,null,"","","",null,null,null,null,null,null,null,null,null,null,null,null,null,null,{"$error":"#VALUE!"}]
[{"$error":"#REF!"},null,null,null,{"$f":"IF(D217,LOOKUP(D217,'NEC Rules'!$A$2:$B$28),\"\")","v":""},null,null,{"$f":"IF(G217,LOOKUP(G217,'NEC Rules'!$A$2:$B$28),\"\")","v":""},null,null,{"$f":"IF(J217,LOOKUP(J217,'NEC Rules'!$A$2:$B$28),\"\")","v":""},null,null,{"$f":"IF(M217,LOOKUP(M217,'NEC Rules'!$A$2:$B$28),\"\")","v":""},null,null,{"$f":"IF(P217,LOOKUP(P217,'NEC Rules'!$A$2:$B$28),\"\")","v":""},null,"","",null,null,null,"","","",null,null,null,null,null,null,null,null,null,null,null,null,null,null,{"$error":"#VALUE!"}]
[{"$error":"#REF!"},null,null,null,{"$f":"IF(D218,LOOKUP(D218,'NEC Rules'!$A$2:$B$28),\"\")","v":""},null,null,{"$f":"IF(G218,LOOKUP(G218,'NEC Rules'!$A$2:$B$28),\"\")","v":""},null,null,{"$f":"IF(J218,LOOKUP(J218,'NEC Rules'!$A$2:$B$28),\"\")","v":""},null,null,{"$f":"IF(M218,LOOKUP(M218,'NEC Rules'!$A$2:$B$28),\"\")","v":""},null,null,{"$f":"IF(P218,LOOKUP(P218,'NEC Rules'!$A$2:$B$28),\"\")","v":""},null,"","",null,null,null,"","","",null,null,null,null,null,null,null,null,null,null,null,null,null,null,{"$error":"#VALUE!"}]
[{"$error":"#REF!"},null,null,null,{"$f":"IF(D219,LOOKUP(D219,'NEC Rules'!$A$2:$B$28),\"\")","v":""},null,null,{"$f":"IF(G219,LOOKUP(G219,'NEC Rules'!$A$2:$B$28),\"\")","v":""},null,null,{"$f":"IF(J219,LOOKUP(J219,'NEC Rules'!$A$2:$B$28),\"\")","v":""},null,null,{"$f":"IF(M219,LOOKUP(M219,'NEC Rules'!$A$2:$B$28),\"\")","v":""},null,null,{"$f":"IF(P219,LOOKUP(P219,'NEC Rules'!$A$2:$B$28),\"\")","v":""},null,"","",null,null,null,"","","",null,null,null,null,null,null,null,null,null,null,null,null,null,null,{"$error":"#VALUE!"}]
[{"$error":"#REF!"},null,null,null,{"$f":"IF(D220,LOOKUP(D220,'NEC Rules'!$A$2:$B$28),\"\")","v":""},null,null,{"$f":"IF(G220,LOOKUP(G220,'NEC Rules'!$A$2:$B$28),\"\")","v":""},null,null,{"$f":"IF(J220,LOOKUP(J220,'NEC Rules'!$A$2:$B$28),\"\")","v":""},null,null,{"$f":"IF(M220,LOOKUP(M220,'NEC Rules'!$A$2:$B$28),\"\")","v":""},null,null,{"$f":"IF(P220,LOOKUP(P220,'NEC Rules'!$A$2:$B$28),\"\")","v":""},null,"","",null,null,null,"","","",null,null,null,null,null,null,null,null,null,null,null,null,null,null,{"$error":"#VALUE!"}]
[{"$error":"#REF!"},null,null,null,{"$f":"IF(D221,LOOKUP(D221,'NEC Rules'!$A$2:$B$28),\"\")","v":""},null,null,{"$f":"IF(G221,LOOKUP(G221,'NEC Rules'!$A$2:$B$28),\"\")","v":""},null,null,{"$f":"IF(J221,LOOKUP(J221,'NEC Rules'!$A$2:$B$28),\"\")","v":""},null,null,{"$f":"IF(M221,LOOKUP(M221,'NEC Rules'!$A$2:$B$28),\"\")","v":""},null,null,{"$f":"IF(P221,LOOKUP(P221,'NEC Rules'!$A$2:$B$28),\"\")","v":""},null,"","",null,null,null,"","","",null,null,null,null,null,null,null,null,null,null,null,null,null,null,{"$error":"#VALUE!"}]
[{"$error":"#REF!"},null,null,null,{"$f":"IF(D222,LOOKUP(D222,'NEC Rules'!$A$2:$B$28),\"\")","v":""},null,null,{"$f":"IF(G222,LOOKUP(G222,'NEC Rules'!$A$2:$B$28),\"\")","v":""},null,null,{"$f":"IF(J222,LOOKUP(J222,'NEC Rules'!$A$2:$B$28),\"\")","v":""},null,null,{"$f":"IF(M222,LOOKUP(M222,'NEC Rules'!$A$2:$B$28),\"\")","v":""},null,null,{"$f":"IF(P222,LOOKUP(P222,'NEC Rules'!$A$2:$B$28),\"\")","v":""},null,"","",null,null,null,"","","",null,null,null,null,null,null,null,null,null,null,null,null,null,null,{"$error":"#VALUE!"}]
[{"$error":"#REF!"},null,null,null,{"$f":"IF(D223,LOOKUP(D223,'NEC Rules'!$A$2:$B$28),\"\")","v":""},null,null,{"$f":"IF(G223,LOOKUP(G223,'NEC Rules'!$A$2:$B$28),\"\")","v":""},null,null,{"$f":"IF(J223,LOOKUP(J223,'NEC Rules'!$A$2:$B$28),\"\")","v":""},null,null,{"$f":"IF(M223,LOOKUP(M223,'NEC Rules'!$A$2:$B$28),\"\")","v":""},null,null,{"$f":"IF(P223,LOOKUP(P223,'NEC Rules'!$A$2:$B$28),\"\")","v":""},null,"","",null,null,null,"","","",null,null,null,null,null,null,null,null,null,null,null,null,null,null,{"$error":"#VALUE!"}]
[{"$error":"#REF!"},null,null,null,{"$f":"IF(D224,LOOKUP(D224,'NEC Rules'!$A$2:$B$28),\"\")","v":""},null,null,{"$f":"IF(G224,LOOKUP(G224,'NEC Rules'!$A$2:$B$28),\"\")","v":""},null,null,{"$f":"IF(J224,LOOKUP(J224,'NEC Rules'!$A$2:$B$28),\"\")","v":""},null,null,{"$f":"IF(M224,LOOKUP(M224,'NEC Rules'!$A$2:$B$28),\"\")","v":""},null,null,{"$f":"IF(P224,LOOKUP(P224,'NEC Rules'!$A$2:$B$28),\"\")","v":""},null,"","",null,null,null,"","","",null,null,null,null,null,null,null,null,null,null,null,null,null,null,{"$error":"#VALUE!"}]
[{"$error":"#REF!"},null,null,null,{"$f":"IF(D225,LOOKUP(D225,'NEC Rules'!$A$2:$B$28),\"\")","v":""},null,null,{"$f":"IF(G225,LOOKUP(G225,'NEC Rules'!$A$2:$B$28),\"\")","v":""},null,null,{"$f":"IF(J225,LOOKUP(J225,'NEC Rules'!$A$2:$B$28),\"\")","v":""},null,null,{"$f":"IF(M225,LOOKUP(M225,'NEC Rules'!$A$2:$B$28),\"\")","v":""},null,null,{"$f":"IF(P225,LOOKUP(P225,'NEC Rules'!$A$2:$B$28),\"\")","v":""},null,"","",null,null,null,"","","",null,null,null,null,null,null,null,null,null,null,null,null,null,null,{"$error":"#VALUE!"}]
[{"$error":"#REF!"},null,null,null,{"$f":"IF(D226,LOOKUP(D226,'NEC Rules'!$A$2:$B$28),\"\")","v":""},null,null,{"$f":"IF(G226,LOOKUP(G226,'NEC Rules'!$A$2:$B$28),\"\")","v":""},null,null,{"$f":"IF(J226,LOOKUP(J226,'NEC Rules'!$A$2:$B$28),\"\")","v":""},null,null,{"$f":"IF(M226,LOOKUP(M226,'NEC Rules'!$A$2:$B$28),\"\")","v":""},null,null,{"$f":"IF(P226,LOOKUP(P226,'NEC Rules'!$A$2:$B$28),\"\")","v":""},null,"","",null,null,null,"","","",null,null,null,null,null,null,null,null,null,null,null,null,null,null,{"$error":"#VALUE!"}]
[{"$error":"#REF!"},null,null,null,{"$f":"IF(D227,LOOKUP(D227,'NEC Rules'!$A$2:$B$28),\"\")","v":""},null,null,{"$f":"IF(G227,LOOKUP(G227,'NEC Rules'!$A$2:$B$28),\"\")","v":""},null,null,{"$f":"IF(J227,LOOKUP(J227,'NEC Rules'!$A$2:$B$28),\"\")","v":""},null,null,{"$f":"IF(M227,LOOKUP(M227,'NEC Rules'!$A$2:$B$28),\"\")","v":""},null,null,{"$f":"IF(P227,LOOKUP(P227,'NEC Rules'!$A$2:$B$28),\"\")","v":""},null,"","",null,null,null,"","","",null,null,null,null,null,null,null,null,null,null,null,null,null,null,{"$error":"#VALUE!"}]
[{"$error":"#REF!"},null,null,null,{"$f":"IF(D228,LOOKUP(D228,'NEC Rules'!$A$2:$B$28),\"\")","v":""},null,null,{"$f":"IF(G228,LOOKUP(G228,'NEC Rules'!$A$2:$B$28),\"\")","v":""},null,null,{"$f":"IF(J228,LOOKUP(J228,'NEC Rules'!$A$2:$B$28),\"\")","v":""},null,null,{"$f":"IF(M228,LOOKUP(M228,'NEC Rules'!$A$2:$B$28),\"\")","v":""},null,null,{"$f":"IF(P228,LOOKUP(P228,'NEC Rules'!$A$2:$B$28),\"\")","v":""},null,"","",null,null,null,"","","",null,null,null,null,null,null,null,null,null,null,null,null,null,null,{"$error":"#VALUE!"}]
[{"$error":"#REF!"},null,null,null,{"$f":"IF(D229,LOOKUP(D229,'NEC Rules'!$A$2:$B$28),\"\")","v":""},null,null,{"$f":"IF(G229,LOOKUP(G229,'NEC Rules'!$A$2:$B$28),\"\")","v":""},null,null,{"$f":"IF(J229,LOOKUP(J229,'NEC Rules'!$A$2:$B$28),\"\")","v":""},null,null,{"$f":"IF(M229,LOOKUP(M229,'NEC Rules'!$A$2:$B$28),\"\")","v":""},null,null,{"$f":"IF(P229,LOOKUP(P229,'NEC Rules'!$A$2:$B$28),\"\")","v":""},null,"","",null,null,null,"","","",null,null,null,null,null,null,null,null,null,null,null,null,null,null,{"$error":"#VALUE!"}]
[{"$error":"#REF!"},null,null,null,{"$f":"IF(D230,LOOKUP(D230,'NEC Rules'!$A$2:$B$28),\"\")","v":""},null,null,{"$f":"IF(G230,LOOKUP(G230,'NEC Rules'!$A$2:$B$28),\"\")","v":""},null,null,{"$f":"IF(J230,LOOKUP(J230,'NEC Rules'!$A$2:$B$28),\"\")","v":""},null,null,{"$f":"IF(M230,LOOKUP(M230,'NEC Rules'!$A$2:$B$28),\"\")","v":""},null,null,{"$f":"IF(P230,LOOKUP(P230,'NEC Rules'!$A$2:$B$28),\"\")","v":""},null,"","",null,null,null,"","","",null,null,null,null,null,null,null,null,null,null,null,null,null,null,{"$error":"#VALUE!"}]
[{"$error":"#REF!"},null,null,null,{"$f":"IF(D231,LOOKUP(D231,'NEC Rules'!$A$2:$B$28),\"\")","v":""},null,null,{"$f":"IF(G231,LOOKUP(G231,'NEC Rules'!$A$2:$B$28),\"\")","v":""},null,null,{"$f":"IF(J231,LOOKUP(J231,'NEC Rules'!$A$2:$B$28),\"\")","v":""},null,null,{"$f":"IF(M231,LOOKUP(M231,'NEC Rules'!$A$2:$B$28),\"\")","v":""},null,null,{"$f":"IF(P231,LOOKUP(P231,'NEC Rules'!$A$2:$B$28),\"\")","v":""},null,"","",null,null,null,"","","",null,null,null,null,null,null,null,null,null,null,null,null,null,null,{"$error":"#VALUE!"}]
[{"$error":"#REF!"},null,null,null,{"$f":"IF(D232,LOOKUP(D232,'NEC Rules'!$A$2:$B$28),\"\")","v":""},null,null,{"$f":"IF(G232,LOOKUP(G232,'NEC Rules'!$A$2:$B$28),\"\")","v":""},null,null,{"$f":"IF(J232,LOOKUP(J232,'NEC Rules'!$A$2:$B$28),\"\")","v":""},null,null,{"$f":"IF(M232,LOOKUP(M232,'NEC Rules'!$A$2:$B$28),\"\")","v":""},null,null,{"$f":"IF(P232,LOOKUP(P232,'NEC Rules'!$A$2:$B$28),\"\")","v":""},null,"","",null,null,null,"","","",null,null,null,null,null,null,null,null,null,null,null,null,null,null,{"$error":"#VALUE!"}]
[{"$error":"#REF!"},null,null,null,{"$f":"IF(D233,LOOKUP(D233,'NEC Rules'!$A$2:$B$28),\"\")","v":""},null,null,{"$f":"IF(G233,LOOKUP(G233,'NEC Rules'!$A$2:$B$28),\"\")","v":""},null,null,{"$f":"IF(J233,LOOKUP(J233,'NEC Rules'!$A$2:$B$28),\"\")","v":""},null,null,{"$f":"IF(M233,LOOKUP(M233,'NEC Rules'!$A$2:$B$28),\"\")","v":""},null,null,{"$f":"IF(P233,LOOKUP(P233,'NEC Rules'!$A$2:$B$28),\"\")","v":""},null,"","",null,null,null,"","","",null,null,null,null,null,null,null,null,null,null,null,null,null,null,{"$error":"#VALUE!"}]
[{"$error":"#REF!"},null,null,null,{"$f":"IF(D234,LOOKUP(D234,'NEC Rules'!$A$2:$B$28),\"\")","v":""},null,null,{"$f":"IF(G234,LOOKUP(G234,'NEC Rules'!$A$2:$B$28),\"\")","v":""},null,null,{"$f":"IF(J234,LOOKUP(J234,'NEC Rules'!$A$2:$B$28),\"\")","v":""},null,null,{"$f":"IF(M234,LOOKUP(M234,'NEC Rules'!$A$2:$B$28),\"\")","v":""},null,null,{"$f":"IF(P234,LOOKUP(P234,'NEC Rules'!$A$2:$B$28),\"\")","v":""},null,"","",null,null,null,"","","",null,null,null,null,null,null,null,null,null,null,null,null,null,null,{"$error":"#VALUE!"}]
[{"$error":"#REF!"},null,null,null,{"$f":"IF(D235,LOOKUP(D235,'NEC Rules'!$A$2:$B$28),\"\")","v":""},null,null,{"$f":"IF(G235,LOOKUP(G235,'NEC Rules'!$A$2:$B$28),\"\")","v":""},null,null,{"$f":"IF(J235,LOOKUP(J235,'NEC Rules'!$A$2:$B$28),\"\")","v":""},null,null,{"$f":"IF(M235,LOOKUP(M235,'NEC Rules'!$A$2:$B$28),\"\")","v":""},null,null,{"$f":"IF(P235,LOOKUP(P235,'NEC Rules'!$A$2:$B$28),\"\")","v":""},null,"","",null,null,null,"","","",null,null,null,null,null,null,null,null,null,null,null,null,null,null,{"$error":"#VALUE!"}]
[{"$error":"#REF!"},null,null,null,{"$f":"IF(D236,LOOKUP(D236,'NEC Rules'!$A$2:$B$28),\"\")","v":""},null,null,{"$f":"IF(G236,LOOKUP(G236,'NEC Rules'!$A$2:$B$28),\"\")","v":""},null,null,{"$f":"IF(J236,LOOKUP(J236,'NEC Rules'!$A$2:$B$28),\"\")","v":""},null,null,{"$f":"IF(M236,LOOKUP(M236,'NEC Rules'!$A$2:$B$28),\"\")","v":""},null,null,{"$f":"IF(P236,LOOKUP(P236,'NEC Rules'!$A$2:$B$28),\"\")","v":""},null,"","",null,null,null,"","","",null,null,null,null,null,null,null,null,null,null,null,null,null,null,{"$error":"#VALUE!"}]
[{"$error":"#REF!"},null,null,null,{"$f":"IF(D237,LOOKUP(D237,'NEC Rules'!$A$2:$B$28),\"\")","v":""},null,null,{"$f":"IF(G237,LOOKUP(G237,'NEC Rules'!$A$2:$B$28),\"\")","v":""},null,null,{"$f":"IF(J237,LOOKUP(J237,'NEC Rules'!$A$2:$B$28),\"\")","v":""},null,null,{"$f":"IF(M237,LOOKUP(M237,'NEC Rules'!$A$2:$B$28),\"\")","v":""},null,null,{"$f":"IF(P237,LOOKUP(P237,'NEC Rules'!$A$2:$B$28),\"\")","v":""},null,"","",null,null,null,"","","",null,null,null,null,null,null,null,null,null,null,null,null,null,null,{"$error":"#VALUE!"}]
[{"$error":"#REF!"},null,null,null,{"$f":"IF(D238,LOOKUP(D238,'NEC Rules'!$A$2:$B$28),\"\")","v":""},null,null,{"$f":"IF(G238,LOOKUP(G238,'NEC Rules'!$A$2:$B$28),\"\")","v":""},null,null,{"$f":"IF(J238,LOOKUP(J238,'NEC Rules'!$A$2:$B$28),\"\")","v":""},null,null,{"$f":"IF(M238,LOOKUP(M238,'NEC Rules'!$A$2:$B$28),\"\")","v":""},null,null,{"$f":"IF(P238,LOOKUP(P238,'NEC Rules'!$A$2:$B$28),\"\")","v":""},null,"","",null,null,null,"","","",null,null,null,null,null,null,null,null,null,null,null,null,null,null,{"$error":"#VALUE!"}]
[{"$error":"#REF!"},null,null,null,{"$f":"IF(D239,LOOKUP(D239,'NEC Rules'!$A$2:$B$28),\"\")","v":""},null,null,{"$f":"IF(G239,LOOKUP(G239,'NEC Rules'!$A$2:$B$28),\"\")","v":""},null,null,{"$f":"IF(J239,LOOKUP(J239,'NEC Rules'!$A$2:$B$28),\"\")","v":""},null,null,{"$f":"IF(M239,LOOKUP(M239,'NEC Rules'!$A$2:$B$28),\"\")","v":""},null,null,{"$f":"IF(P239,LOOKUP(P239,'NEC Rules'!$A$2:$B$28),\"\")","v":""},null,"","",null,null,null,"","","",null,null,null,null,null,null,null,null,null,null,null,null,null,null,{"$error":"#VALUE!"}]
[{"$error":"#REF!"},null,null,null,{"$f":"IF(D240,LOOKUP(D240,'NEC Rules'!$A$2:$B$28),\"\")","v":""},null,null,{"$f":"IF(G240,LOOKUP(G240,'NEC Rules'!$A$2:$B$28),\"\")","v":""},null,null,{"$f":"IF(J240,LOOKUP(J240,'NEC Rules'!$A$2:$B$28),\"\")","v":""},null,null,{"$f":"IF(M240,LOOKUP(M240,'NEC Rules'!$A$2:$B$28),\"\")","v":""},null,null,{"$f":"IF(P240,LOOKUP(P240,'NEC Rules'!$A$2:$B$28),\"\")","v":""},null,"","",null,null,null,"","","",null,null,null,null,null,null,null,null,null,null,null,null,null,null,{"$error":"#VALUE!"}]
[{"$error":"#REF!"},null,null,null,{"$f":"IF(D241,LOOKUP(D241,'NEC Rules'!$A$2:$B$28),\"\")","v":""},null,null,{"$f":"IF(G241,LOOKUP(G241,'NEC Rules'!$A$2:$B$28),\"\")","v":""},null,null,{"$f":"IF(J241,LOOKUP(J241,'NEC Rules'!$A$2:$B$28),\"\")","v":""},null,null,{"$f":"IF(M241,LOOKUP(M241,'NEC Rules'!$A$2:$B$28),\"\")","v":""},null,null,{"$f":"IF(P241,LOOKUP(P241,'NEC Rules'!$A$2:$B$28),\"\")","v":""},null,"","",null,null,null,"","","",null,null,null,null,null,null,null,null,null,null,null,null,null,null,{"$error":"#VALUE!"}]
[{"$error":"#REF!"},null,null,null,{"$f":"IF(D242,LOOKUP(D242,'NEC Rules'!$A$2:$B$28),\"\")","v":""},null,null,{"$f":"IF(G242,LOOKUP(G242,'NEC Rules'!$A$2:$B$28),\"\")","v":""},null,null,{"$f":"IF(J242,LOOKUP(J242,'NEC Rules'!$A$2:$B$28),\"\")","v":""},null,null,{"$f":"IF(M242,LOOKUP(M242,'NEC Rules'!$A$2:$B$28),\"\")","v":""},null,null,{"$f":"IF(P242,LOOKUP(P242,'NEC Rules'!$A$2:$B$28),\"\")","v":""},null,"","",null,null,null,"","","",null,null,null,null,null,null,null,null,null,null,null,null,null,null,{"$error":"#VALUE!"}]
[{"$error":"#REF!"},null,null,null,{"$f":"IF(D243,LOOKUP(D243,'NEC Rules'!$A$2:$B$28),\"\")","v":""},null,null,{"$f":"IF(G243,LOOKUP(G243,'NEC Rules'!$A$2:$B$28),\"\")","v":""},null,null,{"$f":"IF(J243,LOOKUP(J243,'NEC Rules'!$A$2:$B$28),\"\")","v":""},null,null,{"$f":"IF(M243,LOOKUP(M243,'NEC Rules'!$A$2:$B$28),\"\")","v":""},null,null,{"$f":"IF(P243,LOOKUP(P243,'NEC Rules'!$A$2:$B$28),\"\")","v":""},null,"","",null,null,null,"","","",null,null,null,null,null,null,null,null,null,null,null,null,null,null,{"$error":"#VALUE!"}]
[{"$error":"#REF!"},null,null,null,{"$f":"IF(D244,LOOKUP(D244,'NEC Rules'!$A$2:$B$28),\"\")","v":""},null,null,{"$f":"IF(G244,LOOKUP(G244,'NEC Rules'!$A$2:$B$28),\"\")","v":""},null,null,{"$f":"IF(J244,LOOKUP(J244,'NEC Rules'!$A$2:$B$28),\"\")","v":""},null,null,{"$f":"IF(M244,LOOKUP(M244,'NEC Rules'!$A$2:$B$28),\"\")","v":""},null,null,{"$f":"IF(P244,LOOKUP(P244,'NEC Rules'!$A$2:$B$28),\"\")","v":""},null,"","",null,null,null,"","","",null,null,null,null,null,null,null,null,null,null,null,null,null,null,{"$error":"#VALUE!"}]
[{"$error":"#REF!"},null,null,null,{"$f":"IF(D245,LOOKUP(D245,'NEC Rules'!$A$2:$B$28),\"\")","v":""},null,null,{"$f":"IF(G245,LOOKUP(G245,'NEC Rules'!$A$2:$B$28),\"\")","v":""},null,null,{"$f":"IF(J245,LOOKUP(J245,'NEC Rules'!$A$2:$B$28),\"\")","v":""},null,null,{"$f":"IF(M245,LOOKUP(M245,'NEC Rules'!$A$2:$B$28),\"\")","v":""},null,null,{"$f":"IF(P245,LOOKUP(P245,'NEC Rules'!$A$2:$B$28),\"\")","v":""},null,"","",null,null,null,"","","",null,null,null,null,null,null,null,null,null,null,null,null,null,null,{"$error":"#VALUE!"}]
[{"$error":"#REF!"},null,null,null,{"$f":"IF(D246,LOOKUP(D246,'NEC Rules'!$A$2:$B$28),\"\")","v":""},null,null,{"$f":"IF(G246,LOOKUP(G246,'NEC Rules'!$A$2:$B$28),\"\")","v":""},null,null,{"$f":"IF(J246,LOOKUP(J246,'NEC Rules'!$A$2:$B$28),\"\")","v":""},null,null,{"$f":"IF(M246,LOOKUP(M246,'NEC Rules'!$A$2:$B$28),\"\")","v":""},null,null,{"$f":"IF(P246,LOOKUP(P246,'NEC Rules'!$A$2:$B$28),\"\")","v":""},null,"","",null,null,null,"","","",null,null,null,null,null,null,null,null,null,null,null,null,null,null,{"$error":"#VALUE!"}]
[{"$error":"#REF!"},null,null,null,{"$f":"IF(D247,LOOKUP(D247,'NEC Rules'!$A$2:$B$28),\"\")","v":""},null,null,{"$f":"IF(G247,LOOKUP(G247,'NEC Rules'!$A$2:$B$28),\"\")","v":""},null,null,{"$f":"IF(J247,LOOKUP(J247,'NEC Rules'!$A$2:$B$28),\"\")","v":""},null,null,{"$f":"IF(M247,LOOKUP(M247,'NEC Rules'!$A$2:$B$28),\"\")","v":""},null,null,{"$f":"IF(P247,LOOKUP(P247,'NEC Rules'!$A$2:$B$28),\"\")","v":""},null,{"$f":"CalcHP(D247,F247,G247,I247,J247,L247,M247,O247,P247,R247)","v":""},"",null,null,null,"","","",null,null,null,null,null,null,null,null,null,null,null,null,null,null,{"$error":"#VALUE!"}]
[{"$error":"#REF!"},null,null,null,{"$f":"IF(D248,LOOKUP(D248,'NEC Rules'!$A$2:$B$28),\"\")","v":""},null,null,{"$f":"IF(G248,LOOKUP(G248,'NEC Rules'!$A$2:$B$28),\"\")","v":""},null,null,{"$f":"IF(J248,LOOKUP(J248,'NEC Rules'!$A$2:$B$28),\"\")","v":""},null,null,{"$f":"IF(M248,LOOKUP(M248,'NEC Rules'!$A$2:$B$28),\"\")","v":""},null,null,{"$f":"IF(P248,LOOKUP(P248,'NEC Rules'!$A$2:$B$28),\"\")","v":""},null,"","",null,null,null,"","","",null,null,null,null,null,null,null,null,null,null,null,null,null,null,{"$error":"#VALUE!"}]
[{"$error":"#REF!"},null,null,null,{"$f":"IF(D249,LOOKUP(D249,'NEC Rules'!$A$2:$B$28),\"\")","v":""},null,null,{"$f":"IF(G249,LOOKUP(G249,'NEC Rules'!$A$2:$B$28),\"\")","v":""},null,null,{"$f":"IF(J249,LOOKUP(J249,'NEC Rules'!$A$2:$B$28),\"\")","v":""},null,null,{"$f":"IF(M249,LOOKUP(M249,'NEC Rules'!$A$2:$B$28),\"\")","v":""},null,null,{"$f":"IF(P249,LOOKUP(P249,'NEC Rules'!$A$2:$B$28),\"\")","v":""},null,"","",null,null,null,"","","",null,null,null,null,null,null,null,null,null,null,null,null,null,null,{"$error":"#VALUE!"}]
[{"$error":"#REF!"},null,null,null,{"$f":"IF(D250,LOOKUP(D250,'NEC Rules'!$A$2:$B$28),\"\")","v":""},null,null,{"$f":"IF(G250,LOOKUP(G250,'NEC Rules'!$A$2:$B$28),\"\")","v":""},null,null,{"$f":"IF(J250,LOOKUP(J250,'NEC Rules'!$A$2:$B$28),\"\")","v":""},null,null,{"$f":"IF(M250,LOOKUP(M250,'NEC Rules'!$A$2:$B$28),\"\")","v":""},null,null,{"$f":"IF(P250,LOOKUP(P250,'NEC Rules'!$A$2:$B$28),\"\")","v":""},null,"","",null,null,null,"","","",null,null,null,null,null,null,null,null,null,null,null,null,null,null,{"$error":"#VALUE!"}]
[{"$error":"#REF!"},null,null,null,{"$f":"IF(D251,LOOKUP(D251,'NEC Rules'!$A$2:$B$28),\"\")","v":""},null,null,{"$f":"IF(G251,LOOKUP(G251,'NEC Rules'!$A$2:$B$28),\"\")","v":""},null,null,{"$f":"IF(J251,LOOKUP(J251,'NEC Rules'!$A$2:$B$28),\"\")","v":""},null,null,{"$f":"IF(M251,LOOKUP(M251,'NEC Rules'!$A$2:$B$28),\"\")","v":""},null,null,{"$f":"IF(P251,LOOKUP(P251,'NEC Rules'!$A$2:$B$28),\"\")","v":""},null,"","",null,null,null,"","","",null,null,null,null,null,null,null,null,null,null,null,null,null,null,{"$error":"#VALUE!"}]
[{"$error":"#REF!"},null,null,null,{"$f":"IF(D252,LOOKUP(D252,'NEC Rules'!$A$2:$B$28),\"\")","v":""},null,null,{"$f":"IF(G252,LOOKUP(G252,'NEC Rules'!$A$2:$B$28),\"\")","v":""},null,null,{"$f":"IF(J252,LOOKUP(J252,'NEC Rules'!$A$2:$B$28),\"\")","v":""},null,null,{"$f":"IF(M252,LOOKUP(M252,'NEC Rules'!$A$2:$B$28),\"\")","v":""},null,null,{"$f":"IF(P252,LOOKUP(P252,'NEC Rules'!$A$2:$B$28),\"\")","v":""},null,"","",null,null,null,"","","",null,null,null,null,null,null,null,null,null,null,null,null,null,null,{"$error":"#VALUE!"}]
[{"$error":"#REF!"},null,null,null,{"$f":"IF(D253,LOOKUP(D253,'NEC Rules'!$A$2:$B$28),\"\")","v":""},null,null,{"$f":"IF(G253,LOOKUP(G253,'NEC Rules'!$A$2:$B$28),\"\")","v":""},null,null,{"$f":"IF(J253,LOOKUP(J253,'NEC Rules'!$A$2:$B$28),\"\")","v":""},null,null,{"$f":"IF(M253,LOOKUP(M253,'NEC Rules'!$A$2:$B$28),\"\")","v":""},null,null,{"$f":"IF(P253,LOOKUP(P253,'NEC Rules'!$A$2:$B$28),\"\")","v":""},null,"","",null,null,null,"","","",null,null,null,null,null,null,null,null,null,null,null,null,null,null,{"$error":"#VALUE!"}]
[{"$error":"#REF!"},null,null,null,{"$f":"IF(D254,LOOKUP(D254,'NEC Rules'!$A$2:$B$28),\"\")","v":""},null,null,{"$f":"IF(G254,LOOKUP(G254,'NEC Rules'!$A$2:$B$28),\"\")","v":""},null,null,{"$f":"IF(J254,LOOKUP(J254,'NEC Rules'!$A$2:$B$28),\"\")","v":""},null,null,{"$f":"IF(M254,LOOKUP(M254,'NEC Rules'!$A$2:$B$28),\"\")","v":""},null,null,{"$f":"IF(P254,LOOKUP(P254,'NEC Rules'!$A$2:$B$28),\"\")","v":""},null,"","",null,null,null,"","","",null,null,null,null,null,null,null,null,null,null,null,null,null,null,{"$error":"#VALUE!"}]
[{"$error":"#REF!"},null,null,null,{"$f":"IF(D255,LOOKUP(D255,'NEC Rules'!$A$2:$B$28),\"\")","v":""},null,null,{"$f":"IF(G255,LOOKUP(G255,'NEC Rules'!$A$2:$B$28),\"\")","v":""},null,null,{"$f":"IF(J255,LOOKUP(J255,'NEC Rules'!$A$2:$B$28),\"\")","v":""},null,null,{"$f":"IF(M255,LOOKUP(M255,'NEC Rules'!$A$2:$B$28),\"\")","v":""},null,null,{"$f":"IF(P255,LOOKUP(P255,'NEC Rules'!$A$2:$B$28),\"\")","v":""},null,"","",null,null,null,"","","",null,null,null,null,null,null,null,null,null,null,null,null,null,null,{"$error":"#VALUE!"}]
[{"$error":"#REF!"},null,null,null,{"$f":"IF(D256,LOOKUP(D256,'NEC Rules'!$A$2:$B$28),\"\")","v":""},null,null,{"$f":"IF(G256,LOOKUP(G256,'NEC Rules'!$A$2:$B$28),\"\")","v":""},null,null,{"$f":"IF(J256,LOOKUP(J256,'NEC Rules'!$A$2:$B$28),\"\")","v":""},null,null,{"$f":"IF(M256,LOOKUP(M256,'NEC Rules'!$A$2:$B$28),\"\")","v":""},null,null,{"$f":"IF(P256,LOOKUP(P256,'NEC Rules'!$A$2:$B$28),\"\")","v":""},null,"","",null,null,null,"","","",null,null,null,null,null,null,null,null,null,null,null,null,null,null,{"$error":"#VALUE!"}]
[{"$error":"#REF!"},null,null,null,{"$f":"IF(D257,LOOKUP(D257,'NEC Rules'!$A$2:$B$28),\"\")","v":""},null,null,{"$f":"IF(G257,LOOKUP(G257,'NEC Rules'!$A$2:$B$28),\"\")","v":""},null,null,{"$f":"IF(J257,LOOKUP(J257,'NEC Rules'!$A$2:$B$28),\"\")","v":""},null,null,{"$f":"IF(M257,LOOKUP(M257,'NEC Rules'!$A$2:$B$28),\"\")","v":""},null,null,{"$f":"IF(P257,LOOKUP(P257,'NEC Rules'!$A$2:$B$28),\"\")","v":""},null,"","",null,null,null,"","","",null,null,null,null,null,null,null,null,null,null,null,null,null,null,{"$error":"#VALUE!"}]
[{"$error":"#REF!"},null,null,null,{"$f":"IF(D258,LOOKUP(D258,'NEC Rules'!$A$2:$B$28),\"\")","v":""},null,null,{"$f":"IF(G258,LOOKUP(G258,'NEC Rules'!$A$2:$B$28),\"\")","v":""},null,null,{"$f":"IF(J258,LOOKUP(J258,'NEC Rules'!$A$2:$B$28),\"\")","v":""},null,null,{"$f":"IF(M258,LOOKUP(M258,'NEC Rules'!$A$2:$B$28),\"\")","v":""},null,null,{"$f":"IF(P258,LOOKUP(P258,'NEC Rules'!$A$2:$B$28),\"\")","v":""},null,"","",null,null,null,"","","",null,null,null,null,null,null,null,null,null,null,null,null,null,null,{"$error":"#VALUE!"}]
[{"$error":"#REF!"},null,null,null,{"$f":"IF(D259,LOOKUP(D259,'NEC Rules'!$A$2:$B$28),\"\")","v":""},null,null,{"$f":"IF(G259,LOOKUP(G259,'NEC Rules'!$A$2:$B$28),\"\")","v":""},null,null,{"$f":"IF(J259,LOOKUP(J259,'NEC Rules'!$A$2:$B$28),\"\")","v":""},null,null,{"$f":"IF(M259,LOOKUP(M259,'NEC Rules'!$A$2:$B$28),\"\")","v":""},null,null,{"$f":"IF(P259,LOOKUP(P259,'NEC Rules'!$A$2:$B$28),\"\")","v":""},null,"","",null,null,null,"",{"$f":"CalcMPF(V259,D259,E259,F259,H259,I259,K259,L259,N259,O259,Q259,R259,T259,U259)","v":""},"",null,null,null,null,null,null,null,null,null,null,null,null,null,null,{"$error":"#VALUE!"}]
[{"$error":"#REF!"},null,null,null,{"$f":"IF(D260,LOOKUP(D260,'NEC Rules'!$A$2:$B$28),\"\")","v":""},null,null,{"$f":"IF(G260,LOOKUP(G260,'NEC Rules'!$A$2:$B$28),\"\")","v":""},null,null,{"$f":"IF(J260,LOOKUP(J260,'NEC Rules'!$A$2:$B$28),\"\")","v":""},null,null,{"$f":"IF(M260,LOOKUP(M260,'NEC Rules'!$A$2:$B$28),\"\")","v":""},null,null,{"$f":"IF(P260,LOOKUP(P260,'NEC Rules'!$A$2:$B$28),\"\")","v":""},null,"",{"$f":"IF(D260,10,\"\")","v":""},null,null,null,{"$f":"IF((V260*W260),(V260*W260),\"\")","v":""},"",{"$f":"CalcPD(Y260)","v":""},null,null,null,null,null,null,null,null,null,null,null,null,null,null,{"$f":"X260*480*0.03","v":{"$error":"#VALUE!"}}]
[{"$f":"A260+1","v":{"$error":"#REF!"}},null,null,null,{"$f":"IF(D261,LOOKUP(D261,'NEC Rules'!$A$2:$B$28),\"\")","v":""},null,null,{"$f":"IF(G261,LOOKUP(G261,'NEC Rules'!$A$2:$B$28),\"\")","v":""},null,null,{"$f":"IF(J261,LOOKUP(J261,'NEC Rules'!$A$2:$B$28),\"\")","v":""},null,null,{"$f":"IF(M261,LOOKUP(M261,'NEC Rules'!$A$2:$B$28),\"\")","v":""},null,null,{"$f":"IF(P261,LOOKUP(P261,'NEC Rules'!$A$2:$B$28),\"\")","v":""},null,"","",null,null,null,"","","",null,null,null,null,null,null,null,null,null,null,null,null,null,null,{"$error":"#VALUE!"}]
[{"$error":"#REF!"},null,null,null,{"$f":"IF(D262,LOOKUP(D262,'NEC Rules'!$A$2:$B$28),\"\")","v":""},null,null,{"$f":"IF(G262,LOOKUP(G262,'NEC Rules'!$A$2:$B$28),\"\")","v":""},null,null,{"$f":"IF(J262,LOOKUP(J262,'NEC Rules'!$A$2:$B$28),\"\")","v":""},null,null,{"$f":"IF(M262,LOOKUP(M262,'NEC Rules'!$A$2:$B$28),\"\")","v":""},null,null,{"$f":"IF(P262,LOOKUP(P262,'NEC Rules'!$A$2:$B$28),\"\")","v":""},null,"","",null,null,null,"","","",null,null,null,null,null,null,null,null,null,null,null,null,null,null,{"$error":"#VALUE!"}]
[{"$error":"#REF!"},null,null,null,{"$f":"IF(D263,LOOKUP(D263,'NEC Rules'!$A$2:$B$28),\"\")","v":""},null,null,{"$f":"IF(G263,LOOKUP(G263,'NEC Rules'!$A$2:$B$28),\"\")","v":""},null,null,{"$f":"IF(J263,LOOKUP(J263,'NEC Rules'!$A$2:$B$28),\"\")","v":""},null,null,{"$f":"IF(M263,LOOKUP(M263,'NEC Rules'!$A$2:$B$28),\"\")","v":""},null,null,{"$f":"IF(P263,LOOKUP(P263,'NEC Rules'!$A$2:$B$28),\"\")","v":""},null,"","",null,null,null,"","","",null,null,null,null,null,null,null,null,null,null,null,null,null,null,{"$error":"#VALUE!"}]
[{"$error":"#REF!"},null,null,null,{"$f":"IF(D264,LOOKUP(D264,'NEC Rules'!$A$2:$B$28),\"\")","v":""},null,null,{"$f":"IF(G264,LOOKUP(G264,'NEC Rules'!$A$2:$B$28),\"\")","v":""},null,null,{"$f":"IF(J264,LOOKUP(J264,'NEC Rules'!$A$2:$B$28),\"\")","v":""},null,null,{"$f":"IF(M264,LOOKUP(M264,'NEC Rules'!$A$2:$B$28),\"\")","v":""},null,null,{"$f":"IF(P264,LOOKUP(P264,'NEC Rules'!$A$2:$B$28),\"\")","v":""},null,"","",null,null,null,"","","",null,null,null,null,null,null,null,null,null,null,null,null,null,null,{"$error":"#VALUE!"}]
[{"$error":"#REF!"},null,null,null,{"$f":"IF(D265,LOOKUP(D265,'NEC Rules'!$A$2:$B$28),\"\")","v":""},null,null,{"$f":"IF(G265,LOOKUP(G265,'NEC Rules'!$A$2:$B$28),\"\")","v":""},null,null,{"$f":"IF(J265,LOOKUP(J265,'NEC Rules'!$A$2:$B$28),\"\")","v":""},null,null,{"$f":"IF(M265,LOOKUP(M265,'NEC Rules'!$A$2:$B$28),\"\")","v":""},null,null,{"$f":"IF(P265,LOOKUP(P265,'NEC Rules'!$A$2:$B$28),\"\")","v":""},null,"","",null,null,null,"","","",null,null,null,null,null,null,null,null,null,null,null,null,null,null,{"$error":"#VALUE!"}]
[{"$error":"#REF!"},null,null,null,{"$f":"IF(D266,LOOKUP(D266,'NEC Rules'!$A$2:$B$28),\"\")","v":""},null,null,{"$f":"IF(G266,LOOKUP(G266,'NEC Rules'!$A$2:$B$28),\"\")","v":""},null,null,{"$f":"IF(J266,LOOKUP(J266,'NEC Rules'!$A$2:$B$28),\"\")","v":""},null,null,{"$f":"IF(M266,LOOKUP(M266,'NEC Rules'!$A$2:$B$28),\"\")","v":""},null,null,{"$f":"IF(P266,LOOKUP(P266,'NEC Rules'!$A$2:$B$28),\"\")","v":""},null,"","",null,null,null,"","","",null,null,null,null,null,null,null,null,null,null,null,null,null,null,{"$error":"#VALUE!"}]
[{"$error":"#REF!"},null,null,null,{"$f":"IF(D267,LOOKUP(D267,'NEC Rules'!$A$2:$B$28),\"\")","v":""},null,null,{"$f":"IF(G267,LOOKUP(G267,'NEC Rules'!$A$2:$B$28),\"\")","v":""},null,null,{"$f":"IF(J267,LOOKUP(J267,'NEC Rules'!$A$2:$B$28),\"\")","v":""},null,null,{"$f":"IF(M267,LOOKUP(M267,'NEC Rules'!$A$2:$B$28),\"\")","v":""},null,null,{"$f":"IF(P267,LOOKUP(P267,'NEC Rules'!$A$2:$B$28),\"\")","v":""},null,"","",null,null,null,"","","",null,null,null,null,null,null,null,null,null,null,null,null,null,null,{"$error":"#VALUE!"}]
[{"$error":"#REF!"},null,null,null,{"$f":"IF(D268,LOOKUP(D268,'NEC Rules'!$A$2:$B$28),\"\")","v":""},null,null,{"$f":"IF(G268,LOOKUP(G268,'NEC Rules'!$A$2:$B$28),\"\")","v":""},null,null,{"$f":"IF(J268,LOOKUP(J268,'NEC Rules'!$A$2:$B$28),\"\")","v":""},null,null,{"$f":"IF(M268,LOOKUP(M268,'NEC Rules'!$A$2:$B$28),\"\")","v":""},null,null,{"$f":"IF(P268,LOOKUP(P268,'NEC Rules'!$A$2:$B$28),\"\")","v":""},null,"","",null,null,null,"","","",null,null,null,null,null,null,null,null,null,null,null,null,null,null,{"$error":"#VALUE!"}]
[{"$error":"#REF!"},null,null,null,{"$f":"IF(D269,LOOKUP(D269,'NEC Rules'!$A$2:$B$28),\"\")","v":""},null,null,{"$f":"IF(G269,LOOKUP(G269,'NEC Rules'!$A$2:$B$28),\"\")","v":""},null,null,{"$f":"IF(J269,LOOKUP(J269,'NEC Rules'!$A$2:$B$28),\"\")","v":""},null,null,{"$f":"IF(M269,LOOKUP(M269,'NEC Rules'!$A$2:$B$28),\"\")","v":""},null,null,{"$f":"IF(P269,LOOKUP(P269,'NEC Rules'!$A$2:$B$28),\"\")","v":""},null,"","",null,null,null,"","","",null,null,null,null,null,null,null,null,null,null,null,null,null,null,{"$error":"#VALUE!"}]
[{"$error":"#REF!"},null,null,null,{"$f":"IF(D270,LOOKUP(D270,'NEC Rules'!$A$2:$B$28),\"\")","v":""},null,null,{"$f":"IF(G270,LOOKUP(G270,'NEC Rules'!$A$2:$B$28),\"\")","v":""},null,null,{"$f":"IF(J270,LOOKUP(J270,'NEC Rules'!$A$2:$B$28),\"\")","v":""},null,null,{"$f":"IF(M270,LOOKUP(M270,'NEC Rules'!$A$2:$B$28),\"\")","v":""},null,null,{"$f":"IF(P270,LOOKUP(P270,'NEC Rules'!$A$2:$B$28),\"\")","v":""},null,"","",null,null,null,"","","",null,null,null,null,null,null,null,null,null,null,null,null,null,null,{"$error":"#VALUE!"}]
[{"$error":"#REF!"},null,null,null,{"$f":"IF(D271,LOOKUP(D271,'NEC Rules'!$A$2:$B$28),\"\")","v":""},null,null,{"$f":"IF(G271,LOOKUP(G271,'NEC Rules'!$A$2:$B$28),\"\")","v":""},null,null,{"$f":"IF(J271,LOOKUP(J271,'NEC Rules'!$A$2:$B$28),\"\")","v":""},null,null,{"$f":"IF(M271,LOOKUP(M271,'NEC Rules'!$A$2:$B$28),\"\")","v":""},null,null,{"$f":"IF(P271,LOOKUP(P271,'NEC Rules'!$A$2:$B$28),\"\")","v":""},null,{"$f":"CalcHP(D271,F271,G271,I271,J271,L271,M271,O271,P271,R271)","v":""},"",null,null,null,"","","",null,null,null,null,null,null,null,null,null,null,null,null,null,null,{"$error":"#VALUE!"}]
[{"$error":"#REF!"},null,null,null,{"$f":"IF(D272,LOOKUP(D272,'NEC Rules'!$A$2:$B$28),\"\")","v":""},null,null,{"$f":"IF(G272,LOOKUP(G272,'NEC Rules'!$A$2:$B$28),\"\")","v":""},null,null,{"$f":"IF(J272,LOOKUP(J272,'NEC Rules'!$A$2:$B$28),\"\")","v":""},null,null,{"$f":"IF(M272,LOOKUP(M272,'NEC Rules'!$A$2:$B$28),\"\")","v":""},null,null,{"$f":"IF(P272,LOOKUP(P272,'NEC Rules'!$A$2:$B$28),\"\")","v":""},null,"","",null,null,null,"","","",null,null,null,null,null,null,null,null,null,null,null,null,null,null,{"$error":"#VALUE!"}]
[{"$error":"#REF!"},null,null,null,{"$f":"IF(D273,LOOKUP(D273,'NEC Rules'!$A$2:$B$28),\"\")","v":""},null,null,{"$f":"IF(G273,LOOKUP(G273,'NEC Rules'!$A$2:$B$28),\"\")","v":""},null,null,{"$f":"IF(J273,LOOKUP(J273,'NEC Rules'!$A$2:$B$28),\"\")","v":""},null,null,{"$f":"IF(M273,LOOKUP(M273,'NEC Rules'!$A$2:$B$28),\"\")","v":""},null,null,{"$f":"IF(P273,LOOKUP(P273,'NEC Rules'!$A$2:$B$28),\"\")","v":""},null,"","",null,null,null,"","","",null,null,null,null,null,null,null,null,null,null,null,null,null,null,{"$error":"#VALUE!"}]
[{"$error":"#REF!"},null,null,null,{"$f":"IF(D274,LOOKUP(D274,'NEC Rules'!$A$2:$B$28),\"\")","v":""},null,null,{"$f":"IF(G274,LOOKUP(G274,'NEC Rules'!$A$2:$B$28),\"\")","v":""},null,null,{"$f":"IF(J274,LOOKUP(J274,'NEC Rules'!$A$2:$B$28),\"\")","v":""},null,null,{"$f":"IF(M274,LOOKUP(M274,'NEC Rules'!$A$2:$B$28),\"\")","v":""},null,null,{"$f":"IF(P274,LOOKUP(P274,'NEC Rules'!$A$2:$B$28),\"\")","v":""},null,"","",null,null,null,"","","",null,null,null,null,null,null,null,null,null,null,null,null,null,null,{"$error":"#VALUE!"}]
[{"$error":"#REF!"},null,null,null,{"$f":"IF(D275,LOOKUP(D275,'NEC Rules'!$A$2:$B$28),\"\")","v":""},null,null,{"$f":"IF(G275,LOOKUP(G275,'NEC Rules'!$A$2:$B$28),\"\")","v":""},null,null,{"$f":"IF(J275,LOOKUP(J275,'NEC Rules'!$A$2:$B$28),\"\")","v":""},null,null,{"$f":"IF(M275,LOOKUP(M275,'NEC Rules'!$A$2:$B$28),\"\")","v":""},null,null,{"$f":"IF(P275,LOOKUP(P275,'NEC Rules'!$A$2:$B$28),\"\")","v":""},null,"","",null,null,null,"","","",null,null,null,null,null,null,null,null,null,null,null,null,null,null,{"$error":"#VALUE!"}]
[{"$error":"#REF!"},null,null,null,{"$f":"IF(D276,LOOKUP(D276,'NEC Rules'!$A$2:$B$28),\"\")","v":""},null,null,{"$f":"IF(G276,LOOKUP(G276,'NEC Rules'!$A$2:$B$28),\"\")","v":""},null,null,{"$f":"IF(J276,LOOKUP(J276,'NEC Rules'!$A$2:$B$28),\"\")","v":""},null,null,{"$f":"IF(M276,LOOKUP(M276,'NEC Rules'!$A$2:$B$28),\"\")","v":""},null,null,{"$f":"IF(P276,LOOKUP(P276,'NEC Rules'!$A$2:$B$28),\"\")","v":""},null,"","",null,null,null,"","","",null,null,null,null,null,null,null,null,null,null,null,null,null,null,{"$error":"#VALUE!"}]
[{"$error":"#REF!"},null,null,null,{"$f":"IF(D277,LOOKUP(D277,'NEC Rules'!$A$2:$B$28),\"\")","v":""},null,null,{"$f":"IF(G277,LOOKUP(G277,'NEC Rules'!$A$2:$B$28),\"\")","v":""},null,null,{"$f":"IF(J277,LOOKUP(J277,'NEC Rules'!$A$2:$B$28),\"\")","v":""},null,null,{"$f":"IF(M277,LOOKUP(M277,'NEC Rules'!$A$2:$B$28),\"\")","v":""},null,null,{"$f":"IF(P277,LOOKUP(P277,'NEC Rules'!$A$2:$B$28),\"\")","v":""},null,"","",null,null,null,"","","",null,null,null,null,null,null,null,null,null,null,null,null,null,null,{"$error":"#VALUE!"}]
[{"$error":"#REF!"},null,null,null,{"$f":"IF(D278,LOOKUP(D278,'NEC Rules'!$A$2:$B$28),\"\")","v":""},null,null,{"$f":"IF(G278,LOOKUP(G278,'NEC Rules'!$A$2:$B$28),\"\")","v":""},null,null,{"$f":"IF(J278,LOOKUP(J278,'NEC Rules'!$A$2:$B$28),\"\")","v":""},null,null,{"$f":"IF(M278,LOOKUP(M278,'NEC Rules'!$A$2:$B$28),\"\")","v":""},null,null,{"$f":"IF(P278,LOOKUP(P278,'NEC Rules'!$A$2:$B$28),\"\")","v":""},null,"","",null,null,null,"","","",null,null,null,null,null,null,null,null,null,null,null,null,null,null,{"$error":"#VALUE!"}]
[{"$error":"#REF!"},null,null,null,{"$f":"IF(D279,LOOKUP(D279,'NEC Rules'!$A$2:$B$28),\"\")","v":""},null,null,{"$f":"IF(G279,LOOKUP(G279,'NEC Rules'!$A$2:$B$28),\"\")","v":""},null,null,{"$f":"IF(J279,LOOKUP(J279,'NEC Rules'!$A$2:$B$28),\"\")","v":""},null,null,{"$f":"IF(M279,LOOKUP(M279,'NEC Rules'!$A$2:$B$28),\"\")","v":""},null,null,{"$f":"IF(P279,LOOKUP(P279,'NEC Rules'!$A$2:$B$28),\"\")","v":""},null,"","",null,null,null,"","","",null,null,null,null,null,null,null,null,null,null,null,null,null,null,{"$error":"#VALUE!"}]
[{"$error":"#REF!"},null,null,null,{"$f":"IF(D280,LOOKUP(D280,'NEC Rules'!$A$2:$B$28),\"\")","v":""},null,null,{"$f":"IF(G280,LOOKUP(G280,'NEC Rules'!$A$2:$B$28),\"\")","v":""},null,null,{"$f":"IF(J280,LOOKUP(J280,'NEC Rules'!$A$2:$B$28),\"\")","v":""},null,null,{"$f":"IF(M280,LOOKUP(M280,'NEC Rules'!$A$2:$B$28),\"\")","v":""},null,null,{"$f":"IF(P280,LOOKUP(P280,'NEC Rules'!$A$2:$B$28),\"\")","v":""},null,"","",null,null,null,"","","",null,null,null,null,null,null,null,null,null,null,null,null,null,null,{"$error":"#VALUE!"}]
[{"$error":"#REF!"},null,null,null,{"$f":"IF(D281,LOOKUP(D281,'NEC Rules'!$A$2:$B$28),\"\")","v":""},null,null,{"$f":"IF(G281,LOOKUP(G281,'NEC Rules'!$A$2:$B$28),\"\")","v":""},null,null,{"$f":"IF(J281,LOOKUP(J281,'NEC Rules'!$A$2:$B$28),\"\")","v":""},null,null,{"$f":"IF(M281,LOOKUP(M281,'NEC Rules'!$A$2:$B$28),\"\")","v":""},null,null,{"$f":"IF(P281,LOOKUP(P281,'NEC Rules'!$A$2:$B$28),\"\")","v":""},null,{"$f":"CalcHP(D281,F281,G281,I281,J281,L281,M281,O281,P281,R281)","v":""},"",null,null,null,"","","",null,null,null,null,null,null,null,null,null,null,null,null,null,null,{"$error":"#VALUE!"}]
[{"$error":"#REF!"},null,null,null,{"$f":"IF(D282,LOOKUP(D282,'NEC Rules'!$A$2:$B$28),\"\")","v":""},null,null,{"$f":"IF(G282,LOOKUP(G282,'NEC Rules'!$A$2:$B$28),\"\")","v":""},null,null,{"$f":"IF(J282,LOOKUP(J282,'NEC Rules'!$A$2:$B$28),\"\")","v":""},null,null,{"$f":"IF(M282,LOOKUP(M282,'NEC Rules'!$A$2:$B$28),\"\")","v":""},null,null,{"$f":"IF(P282,LOOKUP(P282,'NEC Rules'!$A$2:$B$28),\"\")","v":""},null,"","",null,null,null,"","","",null,null,null,null,null,null,null,null,null,null,null,null,null,null,{"$error":"#VALUE!"}]
[{"$error":"#REF!"},null,null,null,{"$f":"IF(D283,LOOKUP(D283,'NEC Rules'!$A$2:$B$28),\"\")","v":""},null,null,{"$f":"IF(G283,LOOKUP(G283,'NEC Rules'!$A$2:$B$28),\"\")","v":""},null,null,{"$f":"IF(J283,LOOKUP(J283,'NEC Rules'!$A$2:$B$28),\"\")","v":""},null,null,{"$f":"IF(M283,LOOKUP(M283,'NEC Rules'!$A$2:$B$28),\"\")","v":""},null,null,{"$f":"IF(P283,LOOKUP(P283,'NEC Rules'!$A$2:$B$28),\"\")","v":""},null,"","",null,null,null,"","","",null,null,null,null,null,null,null,null,null,null,null,null,null,null,{"$error":"#VALUE!"}]
[{"$error":"#REF!"},null,null,null,{"$f":"IF(D284,LOOKUP(D284,'NEC Rules'!$A$2:$B$28),\"\")","v":""},null,null,{"$f":"IF(G284,LOOKUP(G284,'NEC Rules'!$A$2:$B$28),\"\")","v":""},null,null,{"$f":"IF(J284,LOOKUP(J284,'NEC Rules'!$A$2:$B$28),\"\")","v":""},null,null,{"$f":"IF(M284,LOOKUP(M284,'NEC Rules'!$A$2:$B$28),\"\")","v":""},null,null,{"$f":"IF(P284,LOOKUP(P284,'NEC Rules'!$A$2:$B$28),\"\")","v":""},null,"","",null,null,null,"","","",null,null,null,null,null,null,null,null,null,null,null,null,null,null,{"$error":"#VALUE!"}]
[{"$error":"#REF!"},null,null,null,{"$f":"IF(D285,LOOKUP(D285,'NEC Rules'!$A$2:$B$28),\"\")","v":""},null,null,{"$f":"IF(G285,LOOKUP(G285,'NEC Rules'!$A$2:$B$28),\"\")","v":""},null,null,{"$f":"IF(J285,LOOKUP(J285,'NEC Rules'!$A$2:$B$28),\"\")","v":""},null,null,{"$f":"IF(M285,LOOKUP(M285,'NEC Rules'!$A$2:$B$28),\"\")","v":""},null,null,{"$f":"IF(P285,LOOKUP(P285,'NEC Rules'!$A$2:$B$28),\"\")","v":""},null,"","",null,null,null,"","","",null,null,null,null,null,null,null,null,null,null,null,null,null,null,{"$error":"#VALUE!"}]
[{"$error":"#REF!"},null,null,null,{"$f":"IF(D286,LOOKUP(D286,'NEC Rules'!$A$2:$B$28),\"\")","v":""},null,null,{"$f":"IF(G286,LOOKUP(G286,'NEC Rules'!$A$2:$B$28),\"\")","v":""},null,null,{"$f":"IF(J286,LOOKUP(J286,'NEC Rules'!$A$2:$B$28),\"\")","v":""},null,null,{"$f":"IF(M286,LOOKUP(M286,'NEC Rules'!$A$2:$B$28),\"\")","v":""},null,null,{"$f":"IF(P286,LOOKUP(P286,'NEC Rules'!$A$2:$B$28),\"\")","v":""},null,"","",null,null,null,"","","",null,null,null,null,null,null,null,null,null,null,null,null,null,null,{"$error":"#VALUE!"}]
[{"$error":"#REF!"},null,null,null,{"$f":"IF(D287,LOOKUP(D287,'NEC Rules'!$A$2:$B$28),\"\")","v":""},null,null,{"$f":"IF(G287,LOOKUP(G287,'NEC Rules'!$A$2:$B$28),\"\")","v":""},null,null,{"$f":"IF(J287,LOOKUP(J287,'NEC Rules'!$A$2:$B$28),\"\")","v":""},null,null,{"$f":"IF(M287,LOOKUP(M287,'NEC Rules'!$A$2:$B$28),\"\")","v":""},null,null,{"$f":"IF(P287,LOOKUP(P287,'NEC Rules'!$A$2:$B$28),\"\")","v":""},null,"","",null,null,null,"","","",null,null,null,null,null,null,null,null,null,null,null,null,null,null,{"$error":"#VALUE!"}]
[{"$error":"#REF!"},null,null,null,{"$f":"IF(D288,LOOKUP(D288,'NEC Rules'!$A$2:$B$28),\"\")","v":""},null,null,{"$f":"IF(G288,LOOKUP(G288,'NEC Rules'!$A$2:$B$28),\"\")","v":""},null,null,{"$f":"IF(J288,LOOKUP(J288,'NEC Rules'!$A$2:$B$28),\"\")","v":""},null,null,{"$f":"IF(M288,LOOKUP(M288,'NEC Rules'!$A$2:$B$28),\"\")","v":""},null,null,{"$f":"IF(P288,LOOKUP(P288,'NEC Rules'!$A$2:$B$28),\"\")","v":""},null,"","",null,null,null,"","","",null,null,null,null,null,null,null,null,null,null,null,null,null,null,{"$error":"#VALUE!"}]
[{"$error":"#REF!"},null,null,null,{"$f":"IF(D289,LOOKUP(D289,'NEC Rules'!$A$2:$B$28),\"\")","v":""},null,null,{"$f":"IF(G289,LOOKUP(G289,'NEC Rules'!$A$2:$B$28),\"\")","v":""},null,null,{"$f":"IF(J289,LOOKUP(J289,'NEC Rules'!$A$2:$B$28),\"\")","v":""},null,null,{"$f":"IF(M289,LOOKUP(M289,'NEC Rules'!$A$2:$B$28),\"\")","v":""},null,null,{"$f":"IF(P289,LOOKUP(P289,'NEC Rules'!$A$2:$B$28),\"\")","v":""},null,"","",null,null,null,"","","",null,null,null,null,null,null,null,null,null,null,null,null,null,null,{"$error":"#VALUE!"}]
[{"$error":"#REF!"},null,null,null,{"$f":"IF(D290,LOOKUP(D290,'NEC Rules'!$A$2:$B$28),\"\")","v":""},null,null,{"$f":"IF(G290,LOOKUP(G290,'NEC Rules'!$A$2:$B$28),\"\")","v":""},null,null,{"$f":"IF(J290,LOOKUP(J290,'NEC Rules'!$A$2:$B$28),\"\")","v":""},null,null,{"$f":"IF(M290,LOOKUP(M290,'NEC Rules'!$A$2:$B$28),\"\")","v":""},null,null,{"$f":"IF(P290,LOOKUP(P290,'NEC Rules'!$A$2:$B$28),\"\")","v":""},null,"","",null,null,null,"","","",null,null,null,null,null,null,null,null,null,null,null,null,null,null,{"$error":"#VALUE!"}]
[{"$error":"#REF!"},null,null,null,{"$f":"IF(D291,LOOKUP(D291,'NEC Rules'!$A$2:$B$28),\"\")","v":""},null,null,{"$f":"IF(G291,LOOKUP(G291,'NEC Rules'!$A$2:$B$28),\"\")","v":""},null,null,{"$f":"IF(J291,LOOKUP(J291,'NEC Rules'!$A$2:$B$28),\"\")","v":""},null,null,{"$f":"IF(M291,LOOKUP(M291,'NEC Rules'!$A$2:$B$28),\"\")","v":""},null,null,{"$f":"IF(P291,LOOKUP(P291,'NEC Rules'!$A$2:$B$28),\"\")","v":""},null,"","",null,null,null,"","","",null,null,null,null,null,null,null,null,null,null,null,null,null,null,{"$error":"#VALUE!"}]
[{"$error":"#REF!"},null,null,null,{"$f":"IF(D292,LOOKUP(D292,'NEC Rules'!$A$2:$B$28),\"\")","v":""},null,null,{"$f":"IF(G292,LOOKUP(G292,'NEC Rules'!$A$2:$B$28),\"\")","v":""},null,null,{"$f":"IF(J292,LOOKUP(J292,'NEC Rules'!$A$2:$B$28),\"\")","v":""},null,null,{"$f":"IF(M292,LOOKUP(M292,'NEC Rules'!$A$2:$B$28),\"\")","v":""},null,null,{"$f":"IF(P292,LOOKUP(P292,'NEC Rules'!$A$2:$B$28),\"\")","v":""},null,"","",null,null,null,"","","",null,null,null,null,null,null,null,null,null,null,null,null,null,null,{"$error":"#VALUE!"}]
[{"$error":"#REF!"},null,null,null,{"$f":"IF(D293,LOOKUP(D293,'NEC Rules'!$A$2:$B$28),\"\")","v":""},null,null,{"$f":"IF(G293,LOOKUP(G293,'NEC Rules'!$A$2:$B$28),\"\")","v":""},null,null,{"$f":"IF(J293,LOOKUP(J293,'NEC Rules'!$A$2:$B$28),\"\")","v":""},null,null,{"$f":"IF(M293,LOOKUP(M293,'NEC Rules'!$A$2:$B$28),\"\")","v":""},null,null,{"$f":"IF(P293,LOOKUP(P293,'NEC Rules'!$A$2:$B$28),\"\")","v":""},null,"","",null,null,null,"","","",null,null,null,null,null,null,null,null,null,null,null,null,null,null,{"$error":"#VALUE!"}]
[{"$error":"#REF!"},null,null,null,{"$f":"IF(D294,LOOKUP(D294,'NEC Rules'!$A$2:$B$28),\"\")","v":""},null,null,{"$f":"IF(G294,LOOKUP(G294,'NEC Rules'!$A$2:$B$28),\"\")","v":""},null,null,{"$f":"IF(J294,LOOKUP(J294,'NEC Rules'!$A$2:$B$28),\"\")","v":""},null,null,{"$f":"IF(M294,LOOKUP(M294,'NEC Rules'!$A$2:$B$28),\"\")","v":""},null,null,{"$f":"IF(P294,LOOKUP(P294,'NEC Rules'!$A$2:$B$28),\"\")","v":""},null,"","",null,null,null,"","","",null,null,null,null,null,null,null,null,null,null,null,null,null,null,{"$error":"#VALUE!"}]
[{"$error":"#REF!"},null,null,null,{"$f":"IF(D295,LOOKUP(D295,'NEC Rules'!$A$2:$B$28),\"\")","v":""},null,null,{"$f":"IF(G295,LOOKUP(G295,'NEC Rules'!$A$2:$B$28),\"\")","v":""},null,null,{"$f":"IF(J295,LOOKUP(J295,'NEC Rules'!$A$2:$B$28),\"\")","v":""},null,null,{"$f":"IF(M295,LOOKUP(M295,'NEC Rules'!$A$2:$B$28),\"\")","v":""},null,null,{"$f":"IF(P295,LOOKUP(P295,'NEC Rules'!$A$2:$B$28),\"\")","v":""},null,"","",null,null,null,"","","",null,null,null,null,null,null,null,null,null,null,null,null,null,null,{"$error":"#VALUE!"}]
[{"$error":"#REF!"},null,null,null,{"$f":"IF(D296,LOOKUP(D296,'NEC Rules'!$A$2:$B$28),\"\")","v":""},null,null,{"$f":"IF(G296,LOOKUP(G296,'NEC Rules'!$A$2:$B$28),\"\")","v":""},null,null,{"$f":"IF(J296,LOOKUP(J296,'NEC Rules'!$A$2:$B$28),\"\")","v":""},null,null,{"$f":"IF(M296,LOOKUP(M296,'NEC Rules'!$A$2:$B$28),\"\")","v":""},null,null,{"$f":"IF(P296,LOOKUP(P296,'NEC Rules'!$A$2:$B$28),\"\")","v":""},null,"","",null,null,null,"","","",null,null,null,null,null,null,null,null,null,null,null,null,null,null,{"$error":"#VALUE!"}]
[{"$error":"#REF!"},null,null,null,{"$f":"IF(D297,LOOKUP(D297,'NEC Rules'!$A$2:$B$28),\"\")","v":""},null,null,{"$f":"IF(G297,LOOKUP(G297,'NEC Rules'!$A$2:$B$28),\"\")","v":""},null,null,{"$f":"IF(J297,LOOKUP(J297,'NEC Rules'!$A$2:$B$28),\"\")","v":""},null,null,{"$f":"IF(M297,LOOKUP(M297,'NEC Rules'!$A$2:$B$28),\"\")","v":""},null,null,{"$f":"IF(P297,LOOKUP(P297,'NEC Rules'!$A$2:$B$28),\"\")","v":""},null,"","",null,null,null,"","","",null,null,null,null,null,null,null,null,null,null,null,null,null,null,{"$error":"#VALUE!"}]
[{"$error":"#REF!"},null,null,null,{"$f":"IF(D298,LOOKUP(D298,'NEC Rules'!$A$2:$B$28),\"\")","v":""},null,null,{"$f":"IF(G298,LOOKUP(G298,'NEC Rules'!$A$2:$B$28),\"\")","v":""},null,null,{"$f":"IF(J298,LOOKUP(J298,'NEC Rules'!$A$2:$B$28),\"\")","v":""},null,null,{"$f":"IF(M298,LOOKUP(M298,'NEC Rules'!$A$2:$B$28),\"\")","v":""},null,null,{"$f":"IF(P298,LOOKUP(P298,'NEC Rules'!$A$2:$B$28),\"\")","v":""},null,"","",null,null,null,"","","",null,null,null,null,null,null,null,null,null,null,null,null,null,null,{"$error":"#VALUE!"}]
[{"$error":"#REF!"},null,null,null,{"$f":"IF(D299,LOOKUP(D299,'NEC Rules'!$A$2:$B$28),\"\")","v":""},null,null,{"$f":"IF(G299,LOOKUP(G299,'NEC Rules'!$A$2:$B$28),\"\")","v":""},null,null,{"$f":"IF(J299,LOOKUP(J299,'NEC Rules'!$A$2:$B$28),\"\")","v":""},null,null,{"$f":"IF(M299,LOOKUP(M299,'NEC Rules'!$A$2:$B$28),\"\")","v":""},null,null,{"$f":"IF(P299,LOOKUP(P299,'NEC Rules'!$A$2:$B$28),\"\")","v":""},null,"","",null,null,null,"","","",null,null,null,null,null,null,null,null,null,null,null,null,null,null,{"$error":"#VALUE!"}]
[{"$error":"#REF!"},null,null,null,{"$f":"IF(D300,LOOKUP(D300,'NEC Rules'!$A$2:$B$28),\"\")","v":""},null,null,{"$f":"IF(G300,LOOKUP(G300,'NEC Rules'!$A$2:$B$28),\"\")","v":""},null,null,{"$f":"IF(J300,LOOKUP(J300,'NEC Rules'!$A$2:$B$28),\"\")","v":""},null,null,{"$f":"IF(M300,LOOKUP(M300,'NEC Rules'!$A$2:$B$28),\"\")","v":""},null,null,{"$f":"IF(P300,LOOKUP(P300,'NEC Rules'!$A$2:$B$28),\"\")","v":""},null,"","",null,null,null,"","","",null,null,null,null,null,null,null,null,null,null,null,null,null,null,{"$error":"#VALUE!"}]
[{"$error":"#REF!"},null,null,null,{"$f":"IF(D301,LOOKUP(D301,'NEC Rules'!$A$2:$B$28),\"\")","v":""},null,null,{"$f":"IF(G301,LOOKUP(G301,'NEC Rules'!$A$2:$B$28),\"\")","v":""},null,null,{"$f":"IF(J301,LOOKUP(J301,'NEC Rules'!$A$2:$B$28),\"\")","v":""},null,null,{"$f":"IF(M301,LOOKUP(M301,'NEC Rules'!$A$2:$B$28),\"\")","v":""},null,null,{"$f":"IF(P301,LOOKUP(P301,'NEC Rules'!$A$2:$B$28),\"\")","v":""},null,"","",null,null,null,"","","",null,null,null,null,null,null,null,null,null,null,null,null,null,null,{"$error":"#VALUE!"}]
[{"$error":"#REF!"},null,null,null,{"$f":"IF(D302,LOOKUP(D302,'NEC Rules'!$A$2:$B$28),\"\")","v":""},null,null,{"$f":"IF(G302,LOOKUP(G302,'NEC Rules'!$A$2:$B$28),\"\")","v":""},null,null,{"$f":"IF(J302,LOOKUP(J302,'NEC Rules'!$A$2:$B$28),\"\")","v":""},null,null,{"$f":"IF(M302,LOOKUP(M302,'NEC Rules'!$A$2:$B$28),\"\")","v":""},null,null,{"$f":"IF(P302,LOOKUP(P302,'NEC Rules'!$A$2:$B$28),\"\")","v":""},null,"","",null,null,null,"","","",null,null,null,null,null,null,null,null,null,null,null,null,null,null,{"$error":"#VALUE!"}]
[{"$error":"#REF!"},null,null,null,{"$f":"IF(D303,LOOKUP(D303,'NEC Rules'!$A$2:$B$28),\"\")","v":""},null,null,{"$f":"IF(G303,LOOKUP(G303,'NEC Rules'!$A$2:$B$28),\"\")","v":""},null,null,{"$f":"IF(J303,LOOKUP(J303,'NEC Rules'!$A$2:$B$28),\"\")","v":""},null,null,{"$f":"IF(M303,LOOKUP(M303,'NEC Rules'!$A$2:$B$28),\"\")","v":""},null,null,{"$f":"IF(P303,LOOKUP(P303,'NEC Rules'!$A$2:$B$28),\"\")","v":""},null,"","",null,null,null,"","","",null,null,null,null,null,null,null,null,null,null,null,null,null,null,{"$error":"#VALUE!"}]
[{"$error":"#REF!"},null,null,null,{"$f":"IF(D304,LOOKUP(D304,'NEC Rules'!$A$2:$B$28),\"\")","v":""},null,null,{"$f":"IF(G304,LOOKUP(G304,'NEC Rules'!$A$2:$B$28),\"\")","v":""},null,null,{"$f":"IF(J304,LOOKUP(J304,'NEC Rules'!$A$2:$B$28),\"\")","v":""},null,null,{"$f":"IF(M304,LOOKUP(M304,'NEC Rules'!$A$2:$B$28),\"\")","v":""},null,null,{"$f":"IF(P304,LOOKUP(P304,'NEC Rules'!$A$2:$B$28),\"\")","v":""},null,"","",null,null,null,"","","",null,null,null,null,null,null,null,null,null,null,null,null,null,null,{"$error":"#VALUE!"}]
[{"$error":"#REF!"},null,null,null,{"$f":"IF(D305,LOOKUP(D305,'NEC Rules'!$A$2:$B$28),\"\")","v":""},null,null,{"$f":"IF(G305,LOOKUP(G305,'NEC Rules'!$A$2:$B$28),\"\")","v":""},null,null,{"$f":"IF(J305,LOOKUP(J305,'NEC Rules'!$A$2:$B$28),\"\")","v":""},null,null,{"$f":"IF(M305,LOOKUP(M305,'NEC Rules'!$A$2:$B$28),\"\")","v":""},null,null,{"$f":"IF(P305,LOOKUP(P305,'NEC Rules'!$A$2:$B$28),\"\")","v":""},null,"","",null,null,null,"","","",null,null,null,null,null,null,null,null,null,null,null,null,null,null,{"$error":"#VALUE!"}]
[{"$error":"#REF!"},null,null,null,{"$f":"IF(D306,LOOKUP(D306,'NEC Rules'!$A$2:$B$28),\"\")","v":""},null,null,{"$f":"IF(G306,LOOKUP(G306,'NEC Rules'!$A$2:$B$28),\"\")","v":""},null,null,{"$f":"IF(J306,LOOKUP(J306,'NEC Rules'!$A$2:$B$28),\"\")","v":""},null,null,{"$f":"IF(M306,LOOKUP(M306,'NEC Rules'!$A$2:$B$28),\"\")","v":""},null,null,{"$f":"IF(P306,LOOKUP(P306,'NEC Rules'!$A$2:$B$28),\"\")","v":""},null,"","",null,null,null,"","","",null,null,null,null,null,null,null,null,null,null,null,null,null,null,{"$error":"#VALUE!"}]
[{"$error":"#REF!"},null,null,null,{"$f":"IF(D307,LOOKUP(D307,'NEC Rules'!$A$2:$B$28),\"\")","v":""},null,null,{"$f":"IF(G307,LOOKUP(G307,'NEC Rules'!$A$2:$B$28),\"\")","v":""},null,null,{"$f":"IF(J307,LOOKUP(J307,'NEC Rules'!$A$2:$B$28),\"\")","v":""},null,null,{"$f":"IF(M307,LOOKUP(M307,'NEC Rules'!$A$2:$B$28),\"\")","v":""},null,null,{"$f":"IF(P307,LOOKUP(P307,'NEC Rules'!$A$2:$B$28),\"\")","v":""},null,"","",null,null,null,"","","",null,null,null,null,null,null,null,null,null,null,null,null,null,null,{"$error":"#VALUE!"}]
[{"$error":"#REF!"},null,null,null,{"$f":"IF(D308,LOOKUP(D308,'NEC Rules'!$A$2:$B$28),\"\")","v":""},null,null,{"$f":"IF(G308,LOOKUP(G308,'NEC Rules'!$A$2:$B$28),\"\")","v":""},null,null,{"$f":"IF(J308,LOOKUP(J308,'NEC Rules'!$A$2:$B$28),\"\")","v":""},null,null,{"$f":"IF(M308,LOOKUP(M308,'NEC Rules'!$A$2:$B$28),\"\")","v":""},null,null,{"$f":"IF(P308,LOOKUP(P308,'NEC Rules'!$A$2:$B$28),\"\")","v":""},null,"","",null,null,null,"","","",null,null,null,null,null,null,null,null,null,null,null,null,null,null,{"$error":"#VALUE!"}]
[{"$error":"#REF!"},null,null,null,{"$f":"IF(D309,LOOKUP(D309,'NEC Rules'!$A$2:$B$28),\"\")","v":""},null,null,{"$f":"IF(G309,LOOKUP(G309,'NEC Rules'!$A$2:$B$28),\"\")","v":""},null,null,{"$f":"IF(J309,LOOKUP(J309,'NEC Rules'!$A$2:$B$28),\"\")","v":""},null,null,{"$f":"IF(M309,LOOKUP(M309,'NEC Rules'!$A$2:$B$28),\"\")","v":""},null,null,{"$f":"IF(P309,LOOKUP(P309,'NEC Rules'!$A$2:$B$28),\"\")","v":""},null,"","",null,null,null,"","","",null,null,null,null,null,null,null,null,null,null,null,null,null,null,{"$error":"#VALUE!"}]
[{"$error":"#REF!"},null,null,null,{"$f":"IF(D310,LOOKUP(D310,'NEC Rules'!$A$2:$B$28),\"\")","v":""},null,null,{"$f":"IF(G310,LOOKUP(G310,'NEC Rules'!$A$2:$B$28),\"\")","v":""},null,null,{"$f":"IF(J310,LOOKUP(J310,'NEC Rules'!$A$2:$B$28),\"\")","v":""},null,null,{"$f":"IF(M310,LOOKUP(M310,'NEC Rules'!$A$2:$B$28),\"\")","v":""},null,null,{"$f":"IF(P310,LOOKUP(P310,'NEC Rules'!$A$2:$B$28),\"\")","v":""},null,"","",null,null,null,"","","",null,null,null,null,null,null,null,null,null,null,null,null,null,null,{"$error":"#VALUE!"}]
[{"$error":"#REF!"},null,null,null,{"$f":"IF(D311,LOOKUP(D311,'NEC Rules'!$A$2:$B$28),\"\")","v":""},null,null,{"$f":"IF(G311,LOOKUP(G311,'NEC Rules'!$A$2:$B$28),\"\")","v":""},null,null,{"$f":"IF(J311,LOOKUP(J311,'NEC Rules'!$A$2:$B$28),\"\")","v":""},null,null,{"$f":"IF(M311,LOOKUP(M311,'NEC Rules'!$A$2:$B$28),\"\")","v":""},null,null,{"$f":"IF(P311,LOOKUP(P311,'NEC Rules'!$A$2:$B$28),\"\")","v":""},null,"","",null,null,null,"","","",null,null,null,null,null,null,null,null,null,null,null,null,null,null,{"$error":"#VALUE!"}]
[{"$error":"#REF!"},null,null,null,{"$f":"IF(D312,LOOKUP(D312,'NEC Rules'!$A$2:$B$28),\"\")","v":""},null,null,{"$f":"IF(G312,LOOKUP(G312,'NEC Rules'!$A$2:$B$28),\"\")","v":""},null,null,{"$f":"IF(J312,LOOKUP(J312,'NEC Rules'!$A$2:$B$28),\"\")","v":""},null,null,{"$f":"IF(M312,LOOKUP(M312,'NEC Rules'!$A$2:$B$28),\"\")","v":""},null,null,{"$f":"IF(P312,LOOKUP(P312,'NEC Rules'!$A$2:$B$28),\"\")","v":""},null,"","",null,null,null,"","","",null,null,null,null,null,null,null,null,null,null,null,null,null,null,{"$error":"#VALUE!"}]
[{"$error":"#REF!"},null,null,null,{"$f":"IF(D313,LOOKUP(D313,'NEC Rules'!$A$2:$B$28),\"\")","v":""},null,null,{"$f":"IF(G313,LOOKUP(G313,'NEC Rules'!$A$2:$B$28),\"\")","v":""},null,null,{"$f":"IF(J313,LOOKUP(J313,'NEC Rules'!$A$2:$B$28),\"\")","v":""},null,null,{"$f":"IF(M313,LOOKUP(M313,'NEC Rules'!$A$2:$B$28),\"\")","v":""},null,null,{"$f":"IF(P313,LOOKUP(P313,'NEC Rules'!$A$2:$B$28),\"\")","v":""},null,"","",null,null,null,"","","",null,null,null,null,null,null,null,null,null,null,null,null,null,null,{"$error":"#VALUE!"}]
[{"$error":"#REF!"},null,null,null,{"$f":"IF(D314,LOOKUP(D314,'NEC Rules'!$A$2:$B$28),\"\")","v":""},null,null,{"$f":"IF(G314,LOOKUP(G314,'NEC Rules'!$A$2:$B$28),\"\")","v":""},null,null,{"$f":"IF(J314,LOOKUP(J314,'NEC Rules'!$A$2:$B$28),\"\")","v":""},null,null,{"$f":"IF(M314,LOOKUP(M314,'NEC Rules'!$A$2:$B$28),\"\")","v":""},null,null,{"$f":"IF(P314,LOOKUP(P314,'NEC Rules'!$A$2:$B$28),\"\")","v":""},null,"","",null,null,null,"","","",null,null,null,null,null,null,null,null,null,null,null,null,null,null,{"$error":"#VALUE!"}]
[{"$error":"#REF!"},null,null,null,{"$f":"IF(D315,LOOKUP(D315,'NEC Rules'!$A$2:$B$28),\"\")","v":""},null,null,{"$f":"IF(G315,LOOKUP(G315,'NEC Rules'!$A$2:$B$28),\"\")","v":""},null,null,{"$f":"IF(J315,LOOKUP(J315,'NEC Rules'!$A$2:$B$28),\"\")","v":""},null,null,{"$f":"IF(M315,LOOKUP(M315,'NEC Rules'!$A$2:$B$28),\"\")","v":""},null,null,{"$f":"IF(P315,LOOKUP(P315,'NEC Rules'!$A$2:$B$28),\"\")","v":""},null,"","",null,null,null,"","","",null,null,null,null,null,null,null,null,null,null,null,null,null,null,{"$error":"#VALUE!"}]
[{"$error":"#REF!"},null,null,null,{"$f":"IF(D316,LOOKUP(D316,'NEC Rules'!$A$2:$B$28),\"\")","v":""},null,null,{"$f":"IF(G316,LOOKUP(G316,'NEC Rules'!$A$2:$B$28),\"\")","v":""},null,null,{"$f":"IF(J316,LOOKUP(J316,'NEC Rules'!$A$2:$B$28),\"\")","v":""},null,null,{"$f":"IF(M316,LOOKUP(M316,'NEC Rules'!$A$2:$B$28),\"\")","v":""},null,null,{"$f":"IF(P316,LOOKUP(P316,'NEC Rules'!$A$2:$B$28),\"\")","v":""},null,"","",null,null,null,"","","",null,null,null,null,null,null,null,null,null,null,null,null,null,null,{"$error":"#VALUE!"}]
[{"$error":"#REF!"},null,null,null,{"$f":"IF(D317,LOOKUP(D317,'NEC Rules'!$A$2:$B$28),\"\")","v":""},null,null,{"$f":"IF(G317,LOOKUP(G317,'NEC Rules'!$A$2:$B$28),\"\")","v":""},null,null,{"$f":"IF(J317,LOOKUP(J317,'NEC Rules'!$A$2:$B$28),\"\")","v":""},null,null,{"$f":"IF(M317,LOOKUP(M317,'NEC Rules'!$A$2:$B$28),\"\")","v":""},null,null,{"$f":"IF(P317,LOOKUP(P317,'NEC Rules'!$A$2:$B$28),\"\")","v":""},null,"","",null,null,null,"","","",null,null,null,null,null,null,null,null,null,null,null,null,null,null,{"$error":"#VALUE!"}]
[{"$error":"#REF!"},null,null,null,{"$f":"IF(D318,LOOKUP(D318,'NEC Rules'!$A$2:$B$28),\"\")","v":""},null,null,{"$f":"IF(G318,LOOKUP(G318,'NEC Rules'!$A$2:$B$28),\"\")","v":""},null,null,{"$f":"IF(J318,LOOKUP(J318,'NEC Rules'!$A$2:$B$28),\"\")","v":""},null,null,{"$f":"IF(M318,LOOKUP(M318,'NEC Rules'!$A$2:$B$28),\"\")","v":""},null,null,{"$f":"IF(P318,LOOKUP(P318,'NEC Rules'!$A$2:$B$28),\"\")","v":""},null,"","",null,null,null,"","","",null,null,null,null,null,null,null,null,null,null,null,null,null,null,{"$error":"#VALUE!"}]
[{"$error":"#REF!"},null,null,null,{"$f":"IF(D319,LOOKUP(D319,'NEC Rules'!$A$2:$B$28),\"\")","v":""},null,null,{"$f":"IF(G319,LOOKUP(G319,'NEC Rules'!$A$2:$B$28),\"\")","v":""},null,null,{"$f":"IF(J319,LOOKUP(J319,'NEC Rules'!$A$2:$B$28),\"\")","v":""},null,null,{"$f":"IF(M319,LOOKUP(M319,'NEC Rules'!$A$2:$B$28),\"\")","v":""},null,null,{"$f":"IF(P319,LOOKUP(P319,'NEC Rules'!$A$2:$B$28),\"\")","v":""},null,"","",null,null,null,"","","",null,null,null,null,null,null,null,null,null,null,null,null,null,null,{"$error":"#VALUE!"}]
[{"$error":"#REF!"},null,null,null,{"$f":"IF(D320,LOOKUP(D320,'NEC Rules'!$A$2:$B$28),\"\")","v":""},null,null,{"$f":"IF(G320,LOOKUP(G320,'NEC Rules'!$A$2:$B$28),\"\")","v":""},null,null,{"$f":"IF(J320,LOOKUP(J320,'NEC Rules'!$A$2:$B$28),\"\")","v":""},null,null,{"$f":"IF(M320,LOOKUP(M320,'NEC Rules'!$A$2:$B$28),\"\")","v":""},null,null,{"$f":"IF(P320,LOOKUP(P320,'NEC Rules'!$A$2:$B$28),\"\")","v":""},null,"","",null,null,null,"","","",null,null,null,null,null,null,null,null,null,null,null,null,null,null,{"$error":"#VALUE!"}]
[{"$error":"#REF!"},null,null,null,{"$f":"IF(D321,LOOKUP(D321,'NEC Rules'!$A$2:$B$28),\"\")","v":""},null,null,{"$f":"IF(G321,LOOKUP(G321,'NEC Rules'!$A$2:$B$28),\"\")","v":""},null,null,{"$f":"IF(J321,LOOKUP(J321,'NEC Rules'!$A$2:$B$28),\"\")","v":""},null,null,{"$f":"IF(M321,LOOKUP(M321,'NEC Rules'!$A$2:$B$28),\"\")","v":""},null,null,{"$f":"IF(P321,LOOKUP(P321,'NEC Rules'!$A$2:$B$28),\"\")","v":""},null,"","",null,null,null,"","","",null,null,null,null,null,null,null,null,null,null,null,null,null,null,{"$error":"#VALUE!"}]
[{"$error":"#REF!"},null,null,null,{"$f":"IF(D322,LOOKUP(D322,'NEC Rules'!$A$2:$B$28),\"\")","v":""},null,null,{"$f":"IF(G322,LOOKUP(G322,'NEC Rules'!$A$2:$B$28),\"\")","v":""},null,null,{"$f":"IF(J322,LOOKUP(J322,'NEC Rules'!$A$2:$B$28),\"\")","v":""},null,null,{"$f":"IF(M322,LOOKUP(M322,'NEC Rules'!$A$2:$B$28),\"\")","v":""},null,null,{"$f":"IF(P322,LOOKUP(P322,'NEC Rules'!$A$2:$B$28),\"\")","v":""},null,{"$f":"CalcHP(D322,F322,G322,I322,J322,L322,M322,O322,P322,R322)","v":""},"",null,null,null,"","","",null,null,null,null,null,null,null,null,null,null,null,null,null,null,{"$error":"#VALUE!"}]
[{"$error":"#REF!"},null,null,null,{"$f":"IF(D323,LOOKUP(D323,'NEC Rules'!$A$2:$B$28),\"\")","v":""},null,null,{"$f":"IF(G323,LOOKUP(G323,'NEC Rules'!$A$2:$B$28),\"\")","v":""},null,null,{"$f":"IF(J323,LOOKUP(J323,'NEC Rules'!$A$2:$B$28),\"\")","v":""},null,null,{"$f":"IF(M323,LOOKUP(M323,'NEC Rules'!$A$2:$B$28),\"\")","v":""},null,null,{"$f":"IF(P323,LOOKUP(P323,'NEC Rules'!$A$2:$B$28),\"\")","v":""},null,"","",null,null,null,"",{"$f":"CalcMPF(V323,D323,E323,F323,H323,I323,K323,L323,N323,O323,Q323,R323,T323,U323)","v":""},"",null,null,null,null,null,null,null,null,null,null,null,null,null,null,{"$error":"#VALUE!"}]
[{"$error":"#REF!"},null,null,null,{"$f":"IF(D324,LOOKUP(D324,'NEC Rules'!$A$2:$B$28),\"\")","v":""},null,null,{"$f":"IF(G324,LOOKUP(G324,'NEC Rules'!$A$2:$B$28),\"\")","v":""},null,null,{"$f":"IF(J324,LOOKUP(J324,'NEC Rules'!$A$2:$B$28),\"\")","v":""},null,null,{"$f":"IF(M324,LOOKUP(M324,'NEC Rules'!$A$2:$B$28),\"\")","v":""},null,null,{"$f":"IF(P324,LOOKUP(P324,'NEC Rules'!$A$2:$B$28),\"\")","v":""},null,"",{"$f":"IF(D324,10,\"\")","v":""},null,null,null,{"$f":"IF((V324*W324),(V324*W324),\"\")","v":""},"",{"$f":"CalcPD(Y324)","v":""},null,null,null,null,null,null,null,null,null,null,null,null,null,null,{"$f":"X324*480*0.03","v":{"$error":"#VALUE!"}}]
[{"$f":"A324+1","v":{"$error":"#REF!"}},null,null,null,{"$f":"IF(D325,LOOKUP(D325,'NEC Rules'!$A$2:$B$28),\"\")","v":""},null,null,{"$f":"IF(G325,LOOKUP(G325,'NEC Rules'!$A$2:$B$28),\"\")","v":""},null,null,{"$f":"IF(J325,LOOKUP(J325,'NEC Rules'!$A$2:$B$28),\"\")","v":""},null,null,{"$f":"IF(M325,LOOKUP(M325,'NEC Rules'!$A$2:$B$28),\"\")","v":""},null,null,{"$f":"IF(P325,LOOKUP(P325,'NEC Rules'!$A$2:$B$28),\"\")","v":""},null,"","",null,null,null,"","","",null,null,null,null,null,null,null,null,null,null,null,null,null,null,{"$error":"#VALUE!"}]
[{"$error":"#REF!"},null,null,null,{"$f":"IF(D326,LOOKUP(D326,'NEC Rules'!$A$2:$B$28),\"\")","v":""},null,null,{"$f":"IF(G326,LOOKUP(G326,'NEC Rules'!$A$2:$B$28),\"\")","v":""},null,null,{"$f":"IF(J326,LOOKUP(J326,'NEC Rules'!$A$2:$B$28),\"\")","v":""},null,null,{"$f":"IF(M326,LOOKUP(M326,'NEC Rules'!$A$2:$B$28),\"\")","v":""},null,null,{"$f":"IF(P326,LOOKUP(P326,'NEC Rules'!$A$2:$B$28),\"\")","v":""},null,"","",null,null,null,"","","",null,null,null,null,null,null,null,null,null,null,null,null,null,null,{"$error":"#VALUE!"}]
[{"$error":"#REF!"},null,null,null,{"$f":"IF(D327,LOOKUP(D327,'NEC Rules'!$A$2:$B$28),\"\")","v":""},null,null,{"$f":"IF(G327,LOOKUP(G327,'NEC Rules'!$A$2:$B$28),\"\")","v":""},null,null,{"$f":"IF(J327,LOOKUP(J327,'NEC Rules'!$A$2:$B$28),\"\")","v":""},null,null,{"$f":"IF(M327,LOOKUP(M327,'NEC Rules'!$A$2:$B$28),\"\")","v":""},null,null,{"$f":"IF(P327,LOOKUP(P327,'NEC Rules'!$A$2:$B$28),\"\")","v":""},null,"","",null,null,null,"","","",null,null,null,null,null,null,null,null,null,null,null,null,null,null,{"$error":"#VALUE!"}]
[{"$error":"#REF!"},null,null,null,{"$f":"IF(D328,LOOKUP(D328,'NEC Rules'!$A$2:$B$28),\"\")","v":""},null,null,{"$f":"IF(G328,LOOKUP(G328,'NEC Rules'!$A$2:$B$28),\"\")","v":""},null,null,{"$f":"IF(J328,LOOKUP(J328,'NEC Rules'!$A$2:$B$28),\"\")","v":""},null,null,{"$f":"IF(M328,LOOKUP(M328,'NEC Rules'!$A$2:$B$28),\"\")","v":""},null,null,{"$f":"IF(P328,LOOKUP(P328,'NEC Rules'!$A$2:$B$28),\"\")","v":""},null,"","",null,null,null,"","","",null,null,null,null,null,null,null,null,null,null,null,null,null,null,{"$error":"#VALUE!"}]
[{"$error":"#REF!"},null,null,null,{"$f":"IF(D329,LOOKUP(D329,'NEC Rules'!$A$2:$B$28),\"\")","v":""},null,null,{"$f":"IF(G329,LOOKUP(G329,'NEC Rules'!$A$2:$B$28),\"\")","v":""},null,null,{"$f":"IF(J329,LOOKUP(J329,'NEC Rules'!$A$2:$B$28),\"\")","v":""},null,null,{"$f":"IF(M329,LOOKUP(M329,'NEC Rules'!$A$2:$B$28),\"\")","v":""},null,null,{"$f":"IF(P329,LOOKUP(P329,'NEC Rules'!$A$2:$B$28),\"\")","v":""},null,"","",null,null,null,"","","",null,null,null,null,null,null,null,null,null,null,null,null,null,null,{"$error":"#VALUE!"}]
[{"$error":"#REF!"},null,null,null,{"$f":"IF(D330,LOOKUP(D330,'NEC Rules'!$A$2:$B$28),\"\")","v":""},null,null,{"$f":"IF(G330,LOOKUP(G330,'NEC Rules'!$A$2:$B$28),\"\")","v":""},null,null,{"$f":"IF(J330,LOOKUP(J330,'NEC Rules'!$A$2:$B$28),\"\")","v":""},null,null,{"$f":"IF(M330,LOOKUP(M330,'NEC Rules'!$A$2:$B$28),\"\")","v":""},null,null,{"$f":"IF(P330,LOOKUP(P330,'NEC Rules'!$A$2:$B$28),\"\")","v":""},null,"","",null,null,null,"","","",null,null,null,null,null,null,null,null,null,null,null,null,null,null,{"$error":"#VALUE!"}]
[{"$error":"#REF!"},null,null,null,{"$f":"IF(D331,LOOKUP(D331,'NEC Rules'!$A$2:$B$28),\"\")","v":""},null,null,{"$f":"IF(G331,LOOKUP(G331,'NEC Rules'!$A$2:$B$28),\"\")","v":""},null,null,{"$f":"IF(J331,LOOKUP(J331,'NEC Rules'!$A$2:$B$28),\"\")","v":""},null,null,{"$f":"IF(M331,LOOKUP(M331,'NEC Rules'!$A$2:$B$28),\"\")","v":""},null,null,{"$f":"IF(P331,LOOKUP(P331,'NEC Rules'!$A$2:$B$28),\"\")","v":""},null,"","",null,null,null,"","","",null,null,null,null,null,null,null,null,null,null,null,null,null,null,{"$error":"#VALUE!"}]
[{"$error":"#REF!"},null,null,null,{"$f":"IF(D332,LOOKUP(D332,'NEC Rules'!$A$2:$B$28),\"\")","v":""},null,null,{"$f":"IF(G332,LOOKUP(G332,'NEC Rules'!$A$2:$B$28),\"\")","v":""},null,null,{"$f":"IF(J332,LOOKUP(J332,'NEC Rules'!$A$2:$B$28),\"\")","v":""},null,null,{"$f":"IF(M332,LOOKUP(M332,'NEC Rules'!$A$2:$B$28),\"\")","v":""},null,null,{"$f":"IF(P332,LOOKUP(P332,'NEC Rules'!$A$2:$B$28),\"\")","v":""},null,"","",null,null,null,"","","",null,null,null,null,null,null,null,null,null,null,null,null,null,null,{"$error":"#VALUE!"}]
[{"$error":"#REF!"},null,null,null,{"$f":"IF(D333,LOOKUP(D333,'NEC Rules'!$A$2:$B$28),\"\")","v":""},null,null,{"$f":"IF(G333,LOOKUP(G333,'NEC Rules'!$A$2:$B$28),\"\")","v":""},null,null,{"$f":"IF(J333,LOOKUP(J333,'NEC Rules'!$A$2:$B$28),\"\")","v":""},null,null,{"$f":"IF(M333,LOOKUP(M333,'NEC Rules'!$A$2:$B$28),\"\")","v":""},null,null,{"$f":"IF(P333,LOOKUP(P333,'NEC Rules'!$A$2:$B$28),\"\")","v":""},null,"","",null,null,null,"","","",null,null,null,null,null,null,null,null,null,null,null,null,null,null,{"$error":"#VALUE!"}]
[{"$error":"#REF!"},null,null,null,{"$f":"IF(D334,LOOKUP(D334,'NEC Rules'!$A$2:$B$28),\"\")","v":""},null,null,{"$f":"IF(G334,LOOKUP(G334,'NEC Rules'!$A$2:$B$28),\"\")","v":""},null,null,{"$f":"IF(J334,LOOKUP(J334,'NEC Rules'!$A$2:$B$28),\"\")","v":""},null,null,{"$f":"IF(M334,LOOKUP(M334,'NEC Rules'!$A$2:$B$28),\"\")","v":""},null,null,{"$f":"IF(P334,LOOKUP(P334,'NEC Rules'!$A$2:$B$28),\"\")","v":""},null,"","",null,null,null,"","","",null,null,null,null,null,null,null,null,null,null,null,null,null,null,{"$error":"#VALUE!"}]
[{"$error":"#REF!"},null,null,null,{"$f":"IF(D335,LOOKUP(D335,'NEC Rules'!$A$2:$B$28),\"\")","v":""},null,null,{"$f":"IF(G335,LOOKUP(G335,'NEC Rules'!$A$2:$B$28),\"\")","v":""},null,null,{"$f":"IF(J335,LOOKUP(J335,'NEC Rules'!$A$2:$B$28),\"\")","v":""},null,null,{"$f":"IF(M335,LOOKUP(M335,'NEC Rules'!$A$2:$B$28),\"\")","v":""},null,null,{"$f":"IF(P335,LOOKUP(P335,'NEC Rules'!$A$2:$B$28),\"\")","v":""},null,"","",null,null,null,"","","",null,null,null,null,null,null,null,null,null,null,null,null,null,null,{"$error":"#VALUE!"}]
[{"$error":"#REF!"},null,null,null,{"$f":"IF(D336,LOOKUP(D336,'NEC Rules'!$A$2:$B$28),\"\")","v":""},null,null,{"$f":"IF(G336,LOOKUP(G336,'NEC Rules'!$A$2:$B$28),\"\")","v":""},null,null,{"$f":"IF(J336,LOOKUP(J336,'NEC Rules'!$A$2:$B$28),\"\")","v":""},null,null,{"$f":"IF(M336,LOOKUP(M336,'NEC Rules'!$A$2:$B$28),\"\")","v":""},null,null,{"$f":"IF(P336,LOOKUP(P336,'NEC Rules'!$A$2:$B$28),\"\")","v":""},null,"","",null,null,null,"","","",null,null,null,null,null,null,null,null,null,null,null,null,null,null,{"$error":"#VALUE!"}]
[{"$error":"#REF!"},null,null,null,{"$f":"IF(D337,LOOKUP(D337,'NEC Rules'!$A$2:$B$28),\"\")","v":""},null,null,{"$f":"IF(G337,LOOKUP(G337,'NEC Rules'!$A$2:$B$28),\"\")","v":""},null,null,{"$f":"IF(J337,LOOKUP(J337,'NEC Rules'!$A$2:$B$28),\"\")","v":""},null,null,{"$f":"IF(M337,LOOKUP(M337,'NEC Rules'!$A$2:$B$28),\"\")","v":""},null,null,{"$f":"IF(P337,LOOKUP(P337,'NEC Rules'!$A$2:$B$28),\"\")","v":""},null,"","",null,null,null,"","","",null,null,null,null,null,null,null,null,null,null,null,null,null,null,{"$error":"#VALUE!"}]
[{"$error":"#REF!"},null,null,null,{"$f":"IF(D338,LOOKUP(D338,'NEC Rules'!$A$2:$B$28),\"\")","v":""},null,null,{"$f":"IF(G338,LOOKUP(G338,'NEC Rules'!$A$2:$B$28),\"\")","v":""},null,null,{"$f":"IF(J338,LOOKUP(J338,'NEC Rules'!$A$2:$B$28),\"\")","v":""},null,null,{"$f":"IF(M338,LOOKUP(M338,'NEC Rules'!$A$2:$B$28),\"\")","v":""},null,null,{"$f":"IF(P338,LOOKUP(P338,'NEC Rules'!$A$2:$B$28),\"\")","v":""},null,"","",null,null,null,"","","",null,null,null,null,null,null,null,null,null,null,null,null,null,null,{"$error":"#VALUE!"}]
[{"$error":"#REF!"},null,null,null,{"$f":"IF(D339,LOOKUP(D339,'NEC Rules'!$A$2:$B$28),\"\")","v":""},null,null,{"$f":"IF(G339,LOOKUP(G339,'NEC Rules'!$A$2:$B$28),\"\")","v":""},null,null,{"$f":"IF(J339,LOOKUP(J339,'NEC Rules'!$A$2:$B$28),\"\")","v":""},null,null,{"$f":"IF(M339,LOOKUP(M339,'NEC Rules'!$A$2:$B$28),\"\")","v":""},null,null,{"$f":"IF(P339,LOOKUP(P339,'NEC Rules'!$A$2:$B$28),\"\")","v":""},null,"","",null,null,null,"","","",null,null,null,null,null,null,null,null,null,null,null,null,null,null,{"$error":"#VALUE!"}]
[{"$error":"#REF!"},null,null,null,{"$f":"IF(D340,LOOKUP(D340,'NEC Rules'!$A$2:$B$28),\"\")","v":""},null,null,{"$f":"IF(G340,LOOKUP(G340,'NEC Rules'!$A$2:$B$28),\"\")","v":""},null,null,{"$f":"IF(J340,LOOKUP(J340,'NEC Rules'!$A$2:$B$28),\"\")","v":""},null,null,{"$f":"IF(M340,LOOKUP(M340,'NEC Rules'!$A$2:$B$28),\"\")","v":""},null,null,{"$f":"IF(P340,LOOKUP(P340,'NEC Rules'!$A$2:$B$28),\"\")","v":""},null,"","",null,null,null,"","","",null,null,null,null,null,null,null,null,null,null,null,null,null,null,{"$error":"#VALUE!"}]
[{"$error":"#REF!"},null,null,null,{"$f":"IF(D341,LOOKUP(D341,'NEC Rules'!$A$2:$B$28),\"\")","v":""},null,null,{"$f":"IF(G341,LOOKUP(G341,'NEC Rules'!$A$2:$B$28),\"\")","v":""},null,null,{"$f":"IF(J341,LOOKUP(J341,'NEC Rules'!$A$2:$B$28),\"\")","v":""},null,null,{"$f":"IF(M341,LOOKUP(M341,'NEC Rules'!$A$2:$B$28),\"\")","v":""},null,null,{"$f":"IF(P341,LOOKUP(P341,'NEC Rules'!$A$2:$B$28),\"\")","v":""},null,"","",null,null,null,"","","",null,null,null,null,null,null,null,null,null,null,null,null,null,null,{"$error":"#VALUE!"}]
[{"$error":"#REF!"},null,null,null,{"$f":"IF(D342,LOOKUP(D342,'NEC Rules'!$A$2:$B$28),\"\")","v":""},null,null,{"$f":"IF(G342,LOOKUP(G342,'NEC Rules'!$A$2:$B$28),\"\")","v":""},null,null,{"$f":"IF(J342,LOOKUP(J342,'NEC Rules'!$A$2:$B$28),\"\")","v":""},null,null,{"$f":"IF(M342,LOOKUP(M342,'NEC Rules'!$A$2:$B$28),\"\")","v":""},null,null,{"$f":"IF(P342,LOOKUP(P342,'NEC Rules'!$A$2:$B$28),\"\")","v":""},null,"","",null,null,null,"","","",null,null,null,null,null,null,null,null,null,null,null,null,null,null,{"$error":"#VALUE!"}]
[{"$error":"#REF!"},null,null,null,{"$f":"IF(D343,LOOKUP(D343,'NEC Rules'!$A$2:$B$28),\"\")","v":""},null,null,{"$f":"IF(G343,LOOKUP(G343,'NEC Rules'!$A$2:$B$28),\"\")","v":""},null,null,{"$f":"IF(J343,LOOKUP(J343,'NEC Rules'!$A$2:$B$28),\"\")","v":""},null,null,{"$f":"IF(M343,LOOKUP(M343,'NEC Rules'!$A$2:$B$28),\"\")","v":""},null,null,{"$f":"IF(P343,LOOKUP(P343,'NEC Rules'!$A$2:$B$28),\"\")","v":""},null,"","",null,null,null,"","","",null,null,null,null,null,null,null,null,null,null,null,null,null,null,{"$error":"#VALUE!"}]
[{"$error":"#REF!"},null,null,null,{"$f":"IF(D344,LOOKUP(D344,'NEC Rules'!$A$2:$B$28),\"\")","v":""},null,null,{"$f":"IF(G344,LOOKUP(G344,'NEC Rules'!$A$2:$B$28),\"\")","v":""},null,null,{"$f":"IF(J344,LOOKUP(J344,'NEC Rules'!$A$2:$B$28),\"\")","v":""},null,null,{"$f":"IF(M344,LOOKUP(M344,'NEC Rules'!$A$2:$B$28),\"\")","v":""},null,null,{"$f":"IF(P344,LOOKUP(P344,'NEC Rules'!$A$2:$B$28),\"\")","v":""},null,"","",null,null,null,"","","",null,null,null,null,null,null,null,null,null,null,null,null,null,null,{"$error":"#VALUE!"}]
[{"$error":"#REF!"},null,null,null,{"$f":"IF(D345,LOOKUP(D345,'NEC Rules'!$A$2:$B$28),\"\")","v":""},null,null,{"$f":"IF(G345,LOOKUP(G345,'NEC Rules'!$A$2:$B$28),\"\")","v":""},null,null,{"$f":"IF(J345,LOOKUP(J345,'NEC Rules'!$A$2:$B$28),\"\")","v":""},null,null,{"$f":"IF(M345,LOOKUP(M345,'NEC Rules'!$A$2:$B$28),\"\")","v":""},null,null,{"$f":"IF(P345,LOOKUP(P345,'NEC Rules'!$A$2:$B$28),\"\")","v":""},null,"","",null,null,null,"","","",null,null,null,null,null,null,null,null,null,null,null,null,null,null,{"$error":"#VALUE!"}]
[{"$error":"#REF!"},null,null,null,{"$f":"IF(D346,LOOKUP(D346,'NEC Rules'!$A$2:$B$28),\"\")","v":""},null,null,{"$f":"IF(G346,LOOKUP(G346,'NEC Rules'!$A$2:$B$28),\"\")","v":""},null,null,{"$f":"IF(J346,LOOKUP(J346,'NEC Rules'!$A$2:$B$28),\"\")","v":""},null,null,{"$f":"IF(M346,LOOKUP(M346,'NEC Rules'!$A$2:$B$28),\"\")","v":""},null,null,{"$f":"IF(P346,LOOKUP(P346,'NEC Rules'!$A$2:$B$28),\"\")","v":""},null,"","",null,null,null,"","","",null,null,null,null,null,null,null,null,null,null,null,null,null,null,{"$error":"#VALUE!"}]
[{"$error":"#REF!"},null,null,null,{"$f":"IF(D347,LOOKUP(D347,'NEC Rules'!$A$2:$B$28),\"\")","v":""},null,null,{"$f":"IF(G347,LOOKUP(G347,'NEC Rules'!$A$2:$B$28),\"\")","v":""},null,null,{"$f":"IF(J347,LOOKUP(J347,'NEC Rules'!$A$2:$B$28),\"\")","v":""},null,null,{"$f":"IF(M347,LOOKUP(M347,'NEC Rules'!$A$2:$B$28),\"\")","v":""},null,null,{"$f":"IF(P347,LOOKUP(P347,'NEC Rules'!$A$2:$B$28),\"\")","v":""},null,"","",null,null,null,"","","",null,null,null,null,null,null,null,null,null,null,null,null,null,null,{"$error":"#VALUE!"}]
[{"$error":"#REF!"},null,null,null,{"$f":"IF(D348,LOOKUP(D348,'NEC Rules'!$A$2:$B$28),\"\")","v":""},null,null,{"$f":"IF(G348,LOOKUP(G348,'NEC Rules'!$A$2:$B$28),\"\")","v":""},null,null,{"$f":"IF(J348,LOOKUP(J348,'NEC Rules'!$A$2:$B$28),\"\")","v":""},null,null,{"$f":"IF(M348,LOOKUP(M348,'NEC Rules'!$A$2:$B$28),\"\")","v":""},null,null,{"$f":"IF(P348,LOOKUP(P348,'NEC Rules'!$A$2:$B$28),\"\")","v":""},null,"","",null,null,null,"","","",null,null,null,null,null,null,null,null,null,null,null,null,null,null,{"$error":"#VALUE!"}]
[{"$error":"#REF!"},null,null,null,{"$f":"IF(D349,LOOKUP(D349,'NEC Rules'!$A$2:$B$28),\"\")","v":""},null,null,{"$f":"IF(G349,LOOKUP(G349,'NEC Rules'!$A$2:$B$28),\"\")","v":""},null,null,{"$f":"IF(J349,LOOKUP(J349,'NEC Rules'!$A$2:$B$28),\"\")","v":""},null,null,{"$f":"IF(M349,LOOKUP(M349,'NEC Rules'!$A$2:$B$28),\"\")","v":""},null,null,{"$f":"IF(P349,LOOKUP(P349,'NEC Rules'!$A$2:$B$28),\"\")","v":""},null,"","",null,null,null,"","","",null,null,null,null,null,null,null,null,null,null,null,null,null,null,{"$error":"#VALUE!"}]
[{"$error":"#REF!"},null,null,null,{"$f":"IF(D350,LOOKUP(D350,'NEC Rules'!$A$2:$B$28),\"\")","v":""},null,null,{"$f":"IF(G350,LOOKUP(G350,'NEC Rules'!$A$2:$B$28),\"\")","v":""},null,null,{"$f":"IF(J350,LOOKUP(J350,'NEC Rules'!$A$2:$B$28),\"\")","v":""},null,null,{"$f":"IF(M350,LOOKUP(M350,'NEC Rules'!$A$2:$B$28),\"\")","v":""},null,null,{"$f":"IF(P350,LOOKUP(P350,'NEC Rules'!$A$2:$B$28),\"\")","v":""},null,"","",null,null,null,"","","",null,null,null,null,null,null,null,null,null,null,null,null,null,null,{"$error":"#VALUE!"}]
[{"$error":"#REF!"},null,null,null,{"$f":"IF(D351,LOOKUP(D351,'NEC Rules'!$A$2:$B$28),\"\")","v":""},null,null,{"$f":"IF(G351,LOOKUP(G351,'NEC Rules'!$A$2:$B$28),\"\")","v":""},null,null,{"$f":"IF(J351,LOOKUP(J351,'NEC Rules'!$A$2:$B$28),\"\")","v":""},null,null,{"$f":"IF(M351,LOOKUP(M351,'NEC Rules'!$A$2:$B$28),\"\")","v":""},null,null,{"$f":"IF(P351,LOOKUP(P351,'NEC Rules'!$A$2:$B$28),\"\")","v":""},null,"","",null,null,null,"","","",null,null,null,null,null,null,null,null,null,null,null,null,null,null,{"$error":"#VALUE!"}]
[{"$error":"#REF!"},null,null,null,{"$f":"IF(D352,LOOKUP(D352,'NEC Rules'!$A$2:$B$28),\"\")","v":""},null,null,{"$f":"IF(G352,LOOKUP(G352,'NEC Rules'!$A$2:$B$28),\"\")","v":""},null,null,{"$f":"IF(J352,LOOKUP(J352,'NEC Rules'!$A$2:$B$28),\"\")","v":""},null,null,{"$f":"IF(M352,LOOKUP(M352,'NEC Rules'!$A$2:$B$28),\"\")","v":""},null,null,{"$f":"IF(P352,LOOKUP(P352,'NEC Rules'!$A$2:$B$28),\"\")","v":""},null,"","",null,null,null,"","","",null,null,null,null,null,null,null,null,null,null,null,null,null,null,{"$error":"#VALUE!"}]
[{"$error":"#REF!"},null,null,null,{"$f":"IF(D353,LOOKUP(D353,'NEC Rules'!$A$2:$B$28),\"\")","v":""},null,null,{"$f":"IF(G353,LOOKUP(G353,'NEC Rules'!$A$2:$B$28),\"\")","v":""},null,null,{"$f":"IF(J353,LOOKUP(J353,'NEC Rules'!$A$2:$B$28),\"\")","v":""},null,null,{"$f":"IF(M353,LOOKUP(M353,'NEC Rules'!$A$2:$B$28),\"\")","v":""},null,null,{"$f":"IF(P353,LOOKUP(P353,'NEC Rules'!$A$2:$B$28),\"\")","v":""},null,"","",null,null,null,"","","",null,null,null,null,null,null,null,null,null,null,null,null,null,null,{"$error":"#VALUE!"}]
[{"$error":"#REF!"},null,null,null,{"$f":"IF(D354,LOOKUP(D354,'NEC Rules'!$A$2:$B$28),\"\")","v":""},null,null,{"$f":"IF(G354,LOOKUP(G354,'NEC Rules'!$A$2:$B$28),\"\")","v":""},null,null,{"$f":"IF(J354,LOOKUP(J354,'NEC Rules'!$A$2:$B$28),\"\")","v":""},null,null,{"$f":"IF(M354,LOOKUP(M354,'NEC Rules'!$A$2:$B$28),\"\")","v":""},null,null,{"$f":"IF(P354,LOOKUP(P354,'NEC Rules'!$A$2:$B$28),\"\")","v":""},null,"","",null,null,null,"","","",null,null,null,null,null,null,null,null,null,null,null,null,null,null,{"$error":"#VALUE!"}]
[{"$error":"#REF!"},null,null,null,{"$f":"IF(D355,LOOKUP(D355,'NEC Rules'!$A$2:$B$28),\"\")","v":""},null,null,{"$f":"IF(G355,LOOKUP(G355,'NEC Rules'!$A$2:$B$28),\"\")","v":""},null,null,{"$f":"IF(J355,LOOKUP(J355,'NEC Rules'!$A$2:$B$28),\"\")","v":""},null,null,{"$f":"IF(M355,LOOKUP(M355,'NEC Rules'!$A$2:$B$28),\"\")","v":""},null,null,{"$f":"IF(P355,LOOKUP(P355,'NEC Rules'!$A$2:$B$28),\"\")","v":""},null,"","",null,null,null,"","","",null,null,null,null,null,null,null,null,null,null,null,null,null,null,{"$error":"#VALUE!"}]
[{"$error":"#REF!"},null,null,null,{"$f":"IF(D356,LOOKUP(D356,'NEC Rules'!$A$2:$B$28),\"\")","v":""},null,null,{"$f":"IF(G356,LOOKUP(G356,'NEC Rules'!$A$2:$B$28),\"\")","v":""},null,null,{"$f":"IF(J356,LOOKUP(J356,'NEC Rules'!$A$2:$B$28),\"\")","v":""},null,null,{"$f":"IF(M356,LOOKUP(M356,'NEC Rules'!$A$2:$B$28),\"\")","v":""},null,null,{"$f":"IF(P356,LOOKUP(P356,'NEC Rules'!$A$2:$B$28),\"\")","v":""},null,"","",null,null,null,"","","",null,null,null,null,null,null,null,null,null,null,null,null,null,null,{"$error":"#VALUE!"}]
[{"$error":"#REF!"},null,null,null,{"$f":"IF(D357,LOOKUP(D357,'NEC Rules'!$A$2:$B$28),\"\")","v":""},null,null,{"$f":"IF(G357,LOOKUP(G357,'NEC Rules'!$A$2:$B$28),\"\")","v":""},null,null,{"$f":"IF(J357,LOOKUP(J357,'NEC Rules'!$A$2:$B$28),\"\")","v":""},null,null,{"$f":"IF(M357,LOOKUP(M357,'NEC Rules'!$A$2:$B$28),\"\")","v":""},null,null,{"$f":"IF(P357,LOOKUP(P357,'NEC Rules'!$A$2:$B$28),\"\")","v":""},null,"","",null,null,null,"","","",null,null,null,null,null,null,null,null,null,null,null,null,null,null,{"$error":"#VALUE!"}]
[{"$error":"#REF!"},null,null,null,{"$f":"IF(D358,LOOKUP(D358,'NEC Rules'!$A$2:$B$28),\"\")","v":""},null,null,{"$f":"IF(G358,LOOKUP(G358,'NEC Rules'!$A$2:$B$28),\"\")","v":""},null,null,{"$f":"IF(J358,LOOKUP(J358,'NEC Rules'!$A$2:$B$28),\"\")","v":""},null,null,{"$f":"IF(M358,LOOKUP(M358,'NEC Rules'!$A$2:$B$28),\"\")","v":""},null,null,{"$f":"IF(P358,LOOKUP(P358,'NEC Rules'!$A$2:$B$28),\"\")","v":""},null,"","",null,null,null,"","","",null,null,null,null,null,null,null,null,null,null,null,null,null,null,{"$error":"#VALUE!"}]
[{"$error":"#REF!"},null,null,null,{"$f":"IF(D359,LOOKUP(D359,'NEC Rules'!$A$2:$B$28),\"\")","v":""},null,null,{"$f":"IF(G359,LOOKUP(G359,'NEC Rules'!$A$2:$B$28),\"\")","v":""},null,null,{"$f":"IF(J359,LOOKUP(J359,'NEC Rules'!$A$2:$B$28),\"\")","v":""},null,null,{"$f":"IF(M359,LOOKUP(M359,'NEC Rules'!$A$2:$B$28),\"\")","v":""},null,null,{"$f":"IF(P359,LOOKUP(P359,'NEC Rules'!$A$2:$B$28),\"\")","v":""},null,"","",null,null,null,"","","",null,null,null,null,null,null,null,null,null,null,null,null,null,null,{"$error":"#VALUE!"}]
[{"$error":"#REF!"},null,null,null,{"$f":"IF(D360,LOOKUP(D360,'NEC Rules'!$A$2:$B$28),\"\")","v":""},null,null,{"$f":"IF(G360,LOOKUP(G360,'NEC Rules'!$A$2:$B$28),\"\")","v":""},null,null,{"$f":"IF(J360,LOOKUP(J360,'NEC Rules'!$A$2:$B$28),\"\")","v":""},null,null,{"$f":"IF(M360,LOOKUP(M360,'NEC Rules'!$A$2:$B$28),\"\")","v":""},null,null,{"$f":"IF(P360,LOOKUP(P360,'NEC Rules'!$A$2:$B$28),\"\")","v":""},null,"","",null,null,null,"","","",null,null,null,null,null,null,null,null,null,null,null,null,null,null,{"$error":"#VALUE!"}]
[{"$error":"#REF!"},null,null,null,{"$f":"IF(D361,LOOKUP(D361,'NEC Rules'!$A$2:$B$28),\"\")","v":""},null,null,{"$f":"IF(G361,LOOKUP(G361,'NEC Rules'!$A$2:$B$28),\"\")","v":""},null,null,{"$f":"IF(J361,LOOKUP(J361,'NEC Rules'!$A$2:$B$28),\"\")","v":""},null,null,{"$f":"IF(M361,LOOKUP(M361,'NEC Rules'!$A$2:$B$28),\"\")","v":""},null,null,{"$f":"IF(P361,LOOKUP(P361,'NEC Rules'!$A$2:$B$28),\"\")","v":""},null,"","",null,null,null,"","","",null,null,null,null,null,null,null,null,null,null,null,null,null,null,{"$error":"#VALUE!"}]
[{"$error":"#REF!"},null,null,null,{"$f":"IF(D362,LOOKUP(D362,'NEC Rules'!$A$2:$B$28),\"\")","v":""},null,null,{"$f":"IF(G362,LOOKUP(G362,'NEC Rules'!$A$2:$B$28),\"\")","v":""},null,null,{"$f":"IF(J362,LOOKUP(J362,'NEC Rules'!$A$2:$B$28),\"\")","v":""},null,null,{"$f":"IF(M362,LOOKUP(M362,'NEC Rules'!$A$2:$B$28),\"\")","v":""},null,null,{"$f":"IF(P362,LOOKUP(P362,'NEC Rules'!$A$2:$B$28),\"\")","v":""},null,"","",null,null,null,"","","",null,null,null,null,null,null,null,null,null,null,null,null,null,null,{"$error":"#VALUE!"}]
[{"$error":"#REF!"},null,null,null,{"$f":"IF(D363,LOOKUP(D363,'NEC Rules'!$A$2:$B$28),\"\")","v":""},null,null,{"$f":"IF(G363,LOOKUP(G363,'NEC Rules'!$A$2:$B$28),\"\")","v":""},null,null,{"$f":"IF(J363,LOOKUP(J363,'NEC Rules'!$A$2:$B$28),\"\")","v":""},null,null,{"$f":"IF(M363,LOOKUP(M363,'NEC Rules'!$A$2:$B$28),\"\")","v":""},null,null,{"$f":"IF(P363,LOOKUP(P363,'NEC Rules'!$A$2:$B$28),\"\")","v":""},null,"","",null,null,null,"","","",null,null,null,null,null,null,null,null,null,null,null,null,null,null,{"$error":"#VALUE!"}]
[{"$error":"#REF!"},null,null,null,{"$f":"IF(D364,LOOKUP(D364,'NEC Rules'!$A$2:$B$28),\"\")","v":""},null,null,{"$f":"IF(G364,LOOKUP(G364,'NEC Rules'!$A$2:$B$28),\"\")","v":""},null,null,{"$f":"IF(J364,LOOKUP(J364,'NEC Rules'!$A$2:$B$28),\"\")","v":""},null,null,{"$f":"IF(M364,LOOKUP(M364,'NEC Rules'!$A$2:$B$28),\"\")","v":""},null,null,{"$f":"IF(P364,LOOKUP(P364,'NEC Rules'!$A$2:$B$28),\"\")","v":""},null,"","",null,null,null,"","","",null,null,null,null,null,null,null,null,null,null,null,null,null,null,{"$error":"#VALUE!"}]
[{"$error":"#REF!"},null,null,null,{"$f":"IF(D365,LOOKUP(D365,'NEC Rules'!$A$2:$B$28),\"\")","v":""},null,null,{"$f":"IF(G365,LOOKUP(G365,'NEC Rules'!$A$2:$B$28),\"\")","v":""},null,null,{"$f":"IF(J365,LOOKUP(J365,'NEC Rules'!$A$2:$B$28),\"\")","v":""},null,null,{"$f":"IF(M365,LOOKUP(M365,'NEC Rules'!$A$2:$B$28),\"\")","v":""},null,null,{"$f":"IF(P365,LOOKUP(P365,'NEC Rules'!$A$2:$B$28),\"\")","v":""},null,"","",null,null,null,"","","",null,null,null,null,null,null,null,null,null,null,null,null,null,null,{"$error":"#VALUE!"}]
[{"$error":"#REF!"},null,null,null,{"$f":"IF(D366,LOOKUP(D366,'NEC Rules'!$A$2:$B$28),\"\")","v":""},null,null,{"$f":"IF(G366,LOOKUP(G366,'NEC Rules'!$A$2:$B$28),\"\")","v":""},null,null,{"$f":"IF(J366,LOOKUP(J366,'NEC Rules'!$A$2:$B$28),\"\")","v":""},null,null,{"$f":"IF(M366,LOOKUP(M366,'NEC Rules'!$A$2:$B$28),\"\")","v":""},null,null,{"$f":"IF(P366,LOOKUP(P366,'NEC Rules'!$A$2:$B$28),\"\")","v":""},null,"","",null,null,null,"","","",null,null,null,null,null,null,null,null,null,null,null,null,null,null,{"$error":"#VALUE!"}]
[{"$error":"#REF!"},null,null,null,{"$f":"IF(D367,LOOKUP(D367,'NEC Rules'!$A$2:$B$28),\"\")","v":""},null,null,{"$f":"IF(G367,LOOKUP(G367,'NEC Rules'!$A$2:$B$28),\"\")","v":""},null,null,{"$f":"IF(J367,LOOKUP(J367,'NEC Rules'!$A$2:$B$28),\"\")","v":""},null,null,{"$f":"IF(M367,LOOKUP(M367,'NEC Rules'!$A$2:$B$28),\"\")","v":""},null,null,{"$f":"IF(P367,LOOKUP(P367,'NEC Rules'!$A$2:$B$28),\"\")","v":""},null,"","",null,null,null,"","","",null,null,null,null,null,null,null,null,null,null,null,null,null,null,{"$error":"#VALUE!"}]
[{"$error":"#REF!"},null,null,null,{"$f":"IF(D368,LOOKUP(D368,'NEC Rules'!$A$2:$B$28),\"\")","v":""},null,null,{"$f":"IF(G368,LOOKUP(G368,'NEC Rules'!$A$2:$B$28),\"\")","v":""},null,null,{"$f":"IF(J368,LOOKUP(J368,'NEC Rules'!$A$2:$B$28),\"\")","v":""},null,null,{"$f":"IF(M368,LOOKUP(M368,'NEC Rules'!$A$2:$B$28),\"\")","v":""},null,null,{"$f":"IF(P368,LOOKUP(P368,'NEC Rules'!$A$2:$B$28),\"\")","v":""},null,"","",null,null,null,"","","",null,null,null,null,null,null,null,null,null,null,null,null,null,null,{"$error":"#VALUE!"}]
[{"$error":"#REF!"},null,null,null,{"$f":"IF(D369,LOOKUP(D369,'NEC Rules'!$A$2:$B$28),\"\")","v":""},null,null,{"$f":"IF(G369,LOOKUP(G369,'NEC Rules'!$A$2:$B$28),\"\")","v":""},null,null,{"$f":"IF(J369,LOOKUP(J369,'NEC Rules'!$A$2:$B$28),\"\")","v":""},null,null,{"$f":"IF(M369,LOOKUP(M369,'NEC Rules'!$A$2:$B$28),\"\")","v":""},null,null,{"$f":"IF(P369,LOOKUP(P369,'NEC Rules'!$A$2:$B$28),\"\")","v":""},null,"","",null,null,null,"","","",null,null,null,null,null,null,null,null,null,null,null,null,null,null,{"$error":"#VALUE!"}]
[{"$error":"#REF!"},null,null,null,{"$f":"IF(D370,LOOKUP(D370,'NEC Rules'!$A$2:$B$28),\"\")","v":""},null,null,{"$f":"IF(G370,LOOKUP(G370,'NEC Rules'!$A$2:$B$28),\"\")","v":""},null,null,{"$f":"IF(J370,LOOKUP(J370,'NEC Rules'!$A$2:$B$28),\"\")","v":""},null,null,{"$f":"IF(M370,LOOKUP(M370,'NEC Rules'!$A$2:$B$28),\"\")","v":""},null,null,{"$f":"IF(P370,LOOKUP(P370,'NEC Rules'!$A$2:$B$28),\"\")","v":""},null,"","",null,null,null,"","","",null,null,null,null,null,null,null,null,null,null,null,null,null,null,{"$error":"#VALUE!"}]
[{"$error":"#REF!"},null,null,null,{"$f":"IF(D371,LOOKUP(D371,'NEC Rules'!$A$2:$B$28),\"\")","v":""},null,null,{"$f":"IF(G371,LOOKUP(G371,'NEC Rules'!$A$2:$B$28),\"\")","v":""},null,null,{"$f":"IF(J371,LOOKUP(J371,'NEC Rules'!$A$2:$B$28),\"\")","v":""},null,null,{"$f":"IF(M371,LOOKUP(M371,'NEC Rules'!$A$2:$B$28),\"\")","v":""},null,null,{"$f":"IF(P371,LOOKUP(P371,'NEC Rules'!$A$2:$B$28),\"\")","v":""},null,"","",null,null,null,"","","",null,null,null,null,null,null,null,null,null,null,null,null,null,null,{"$error":"#VALUE!"}]
[{"$error":"#REF!"},null,null,null,{"$f":"IF(D372,LOOKUP(D372,'NEC Rules'!$A$2:$B$28),\"\")","v":""},null,null,{"$f":"IF(G372,LOOKUP(G372,'NEC Rules'!$A$2:$B$28),\"\")","v":""},null,null,{"$f":"IF(J372,LOOKUP(J372,'NEC Rules'!$A$2:$B$28),\"\")","v":""},null,null,{"$f":"IF(M372,LOOKUP(M372,'NEC Rules'!$A$2:$B$28),\"\")","v":""},null,null,{"$f":"IF(P372,LOOKUP(P372,'NEC Rules'!$A$2:$B$28),\"\")","v":""},null,"","",null,null,null,"","","",null,null,null,null,null,null,null,null,null,null,null,null,null,null,{"$error":"#VALUE!"}]
[{"$error":"#REF!"},null,null,null,{"$f":"IF(D373,LOOKUP(D373,'NEC Rules'!$A$2:$B$28),\"\")","v":""},null,null,{"$f":"IF(G373,LOOKUP(G373,'NEC Rules'!$A$2:$B$28),\"\")","v":""},null,null,{"$f":"IF(J373,LOOKUP(J373,'NEC Rules'!$A$2:$B$28),\"\")","v":""},null,null,{"$f":"IF(M373,LOOKUP(M373,'NEC Rules'!$A$2:$B$28),\"\")","v":""},null,null,{"$f":"IF(P373,LOOKUP(P373,'NEC Rules'!$A$2:$B$28),\"\")","v":""},null,"","",null,null,null,"","","",null,null,null,null,null,null,null,null,null,null,null,null,null,null,{"$error":"#VALUE!"}]
[{"$error":"#REF!"},null,null,null,{"$f":"IF(D374,LOOKUP(D374,'NEC Rules'!$A$2:$B$28),\"\")","v":""},null,null,{"$f":"IF(G374,LOOKUP(G374,'NEC Rules'!$A$2:$B$28),\"\")","v":""},null,null,{"$f":"IF(J374,LOOKUP(J374,'NEC Rules'!$A$2:$B$28),\"\")","v":""},null,null,{"$f":"IF(M374,LOOKUP(M374,'NEC Rules'!$A$2:$B$28),\"\")","v":""},null,null,{"$f":"IF(P374,LOOKUP(P374,'NEC Rules'!$A$2:$B$28),\"\")","v":""},null,"","",null,null,null,"","","",null,null,null,null,null,null,null,null,null,null,null,null,null,null,{"$error":"#VALUE!"}]
[{"$error":"#REF!"},null,null,null,{"$f":"IF(D375,LOOKUP(D375,'NEC Rules'!$A$2:$B$28),\"\")","v":""},null,null,{"$f":"IF(G375,LOOKUP(G375,'NEC Rules'!$A$2:$B$28),\"\")","v":""},null,null,{"$f":"IF(J375,LOOKUP(J375,'NEC Rules'!$A$2:$B$28),\"\")","v":""},null,null,{"$f":"IF(M375,LOOKUP(M375,'NEC Rules'!$A$2:$B$28),\"\")","v":""},null,null,{"$f":"IF(P375,LOOKUP(P375,'NEC Rules'!$A$2:$B$28),\"\")","v":""},null,"","",null,null,null,"","","",null,null,null,null,null,null,null,null,null,null,null,null,null,null,{"$error":"#VALUE!"}]
[{"$error":"#REF!"},null,null,null,{"$f":"IF(D376,LOOKUP(D376,'NEC Rules'!$A$2:$B$28),\"\")","v":""},null,null,{"$f":"IF(G376,LOOKUP(G376,'NEC Rules'!$A$2:$B$28),\"\")","v":""},null,null,{"$f":"IF(J376,LOOKUP(J376,'NEC Rules'!$A$2:$B$28),\"\")","v":""},null,null,{"$f":"IF(M376,LOOKUP(M376,'NEC Rules'!$A$2:$B$28),\"\")","v":""},null,null,{"$f":"IF(P376,LOOKUP(P376,'NEC Rules'!$A$2:$B$28),\"\")","v":""},null,"","",null,null,null,"","","",null,null,null,null,null,null,null,null,null,null,null,null,null,null,{"$error":"#VALUE!"}]
[{"$error":"#REF!"},null,null,null,{"$f":"IF(D377,LOOKUP(D377,'NEC Rules'!$A$2:$B$28),\"\")","v":""},null,null,{"$f":"IF(G377,LOOKUP(G377,'NEC Rules'!$A$2:$B$28),\"\")","v":""},null,null,{"$f":"IF(J377,LOOKUP(J377,'NEC Rules'!$A$2:$B$28),\"\")","v":""},null,null,{"$f":"IF(M377,LOOKUP(M377,'NEC Rules'!$A$2:$B$28),\"\")","v":""},null,null,{"$f":"IF(P377,LOOKUP(P377,'NEC Rules'!$A$2:$B$28),\"\")","v":""},null,"","",null,null,null,"","","",null,null,null,null,null,null,null,null,null,null,null,null,null,null,{"$error":"#VALUE!"}]
[{"$error":"#REF!"},null,null,null,{"$f":"IF(D378,LOOKUP(D378,'NEC Rules'!$A$2:$B$28),\"\")","v":""},null,null,{"$f":"IF(G378,LOOKUP(G378,'NEC Rules'!$A$2:$B$28),\"\")","v":""},null,null,{"$f":"IF(J378,LOOKUP(J378,'NEC Rules'!$A$2:$B$28),\"\")","v":""},null,null,{"$f":"IF(M378,LOOKUP(M378,'NEC Rules'!$A$2:$B$28),\"\")","v":""},null,null,{"$f":"IF(P378,LOOKUP(P378,'NEC Rules'!$A$2:$B$28),\"\")","v":""},null,"","",null,null,null,"","","",null,null,null,null,null,null,null,null,null,null,null,null,null,null,{"$error":"#VALUE!"}]
[{"$error":"#REF!"},null,null,null,{"$f":"IF(D379,LOOKUP(D379,'NEC Rules'!$A$2:$B$28),\"\")","v":""},null,null,{"$f":"IF(G379,LOOKUP(G379,'NEC Rules'!$A$2:$B$28),\"\")","v":""},null,null,{"$f":"IF(J379,LOOKUP(J379,'NEC Rules'!$A$2:$B$28),\"\")","v":""},null,null,{"$f":"IF(M379,LOOKUP(M379,'NEC Rules'!$A$2:$B$28),\"\")","v":""},null,null,{"$f":"IF(P379,LOOKUP(P379,'NEC Rules'!$A$2:$B$28),\"\")","v":""},null,"","",null,null,null,"","","",null,null,null,null,null,null,null,null,null,null,null,null,null,null,{"$error":"#VALUE!"}]
[{"$error":"#REF!"},null,null,null,{"$f":"IF(D380,LOOKUP(D380,'NEC Rules'!$A$2:$B$28),\"\")","v":""},null,null,{"$f":"IF(G380,LOOKUP(G380,'NEC Rules'!$A$2:$B$28),\"\")","v":""},null,null,{"$f":"IF(J380,LOOKUP(J380,'NEC Rules'!$A$2:$B$28),\"\")","v":""},null,null,{"$f":"IF(M380,LOOKUP(M380,'NEC Rules'!$A$2:$B$28),\"\")","v":""},null,null,{"$f":"IF(P380,LOOKUP(P380,'NEC Rules'!$A$2:$B$28),\"\")","v":""},null,"","",null,null,null,"","","",null,null,null,null,null,null,null,null,null,null,null,null,null,null,{"$error":"#VALUE!"}]
[{"$error":"#REF!"},null,null,null,{"$f":"IF(D381,LOOKUP(D381,'NEC Rules'!$A$2:$B$28),\"\")","v":""},null,null,{"$f":"IF(G381,LOOKUP(G381,'NEC Rules'!$A$2:$B$28),\"\")","v":""},null,null,{"$f":"IF(J381,LOOKUP(J381,'NEC Rules'!$A$2:$B$28),\"\")","v":""},null,null,{"$f":"IF(M381,LOOKUP(M381,'NEC Rules'!$A$2:$B$28),\"\")","v":""},null,null,{"$f":"IF(P381,LOOKUP(P381,'NEC Rules'!$A$2:$B$28),\"\")","v":""},null,"","",null,null,null,"","","",null,null,null,null,null,null,null,null,null,null,null,null,null,null,{"$error":"#VALUE!"}]
[{"$error":"#REF!"},null,null,null,{"$f":"IF(D382,LOOKUP(D382,'NEC Rules'!$A$2:$B$28),\"\")","v":""},null,null,{"$f":"IF(G382,LOOKUP(G382,'NEC Rules'!$A$2:$B$28),\"\")","v":""},null,null,{"$f":"IF(J382,LOOKUP(J382,'NEC Rules'!$A$2:$B$28),\"\")","v":""},null,null,{"$f":"IF(M382,LOOKUP(M382,'NEC Rules'!$A$2:$B$28),\"\")","v":""},null,null,{"$f":"IF(P382,LOOKUP(P382,'NEC Rules'!$A$2:$B$28),\"\")","v":""},null,"","",null,null,null,"","","",null,null,null,null,null,null,null,null,null,null,null,null,null,null,{"$error":"#VALUE!"}]
[{"$error":"#REF!"},null,null,null,{"$f":"IF(D383,LOOKUP(D383,'NEC Rules'!$A$2:$B$28),\"\")","v":""},null,null,{"$f":"IF(G383,LOOKUP(G383,'NEC Rules'!$A$2:$B$28),\"\")","v":""},null,null,{"$f":"IF(J383,LOOKUP(J383,'NEC Rules'!$A$2:$B$28),\"\")","v":""},null,null,{"$f":"IF(M383,LOOKUP(M383,'NEC Rules'!$A$2:$B$28),\"\")","v":""},null,null,{"$f":"IF(P383,LOOKUP(P383,'NEC Rules'!$A$2:$B$28),\"\")","v":""},null,"","",null,null,null,"","","",null,null,null,null,null,null,null,null,null,null,null,null,null,null,{"$error":"#VALUE!"}]
[{"$error":"#REF!"},null,null,null,{"$f":"IF(D384,LOOKUP(D384,'NEC Rules'!$A$2:$B$28),\"\")","v":""},null,null,{"$f":"IF(G384,LOOKUP(G384,'NEC Rules'!$A$2:$B$28),\"\")","v":""},null,null,{"$f":"IF(J384,LOOKUP(J384,'NEC Rules'!$A$2:$B$28),\"\")","v":""},null,null,{"$f":"IF(M384,LOOKUP(M384,'NEC Rules'!$A$2:$B$28),\"\")","v":""},null,null,{"$f":"IF(P384,LOOKUP(P384,'NEC Rules'!$A$2:$B$28),\"\")","v":""},null,"","",null,null,null,"","","",null,null,null,null,null,null,null,null,null,null,null,null,null,null,{"$error":"#VALUE!"}]
[{"$error":"#REF!"},null,null,null,{"$f":"IF(D385,LOOKUP(D385,'NEC Rules'!$A$2:$B$28),\"\")","v":""},null,null,{"$f":"IF(G385,LOOKUP(G385,'NEC Rules'!$A$2:$B$28),\"\")","v":""},null,null,{"$f":"IF(J385,LOOKUP(J385,'NEC Rules'!$A$2:$B$28),\"\")","v":""},null,null,{"$f":"IF(M385,LOOKUP(M385,'NEC Rules'!$A$2:$B$28),\"\")","v":""},null,null,{"$f":"IF(P385,LOOKUP(P385,'NEC Rules'!$A$2:$B$28),\"\")","v":""},null,"","",null,null,null,"","","",null,null,null,null,null,null,null,null,null,null,null,null,null,null,{"$error":"#VALUE!"}]
[{"$error":"#REF!"},null,null,null,{"$f":"IF(D386,LOOKUP(D386,'NEC Rules'!$A$2:$B$28),\"\")","v":""},null,null,{"$f":"IF(G386,LOOKUP(G386,'NEC Rules'!$A$2:$B$28),\"\")","v":""},null,null,{"$f":"IF(J386,LOOKUP(J386,'NEC Rules'!$A$2:$B$28),\"\")","v":""},null,null,{"$f":"IF(M386,LOOKUP(M386,'NEC Rules'!$A$2:$B$28),\"\")","v":""},null,null,{"$f":"IF(P386,LOOKUP(P386,'NEC Rules'!$A$2:$B$28),\"\")","v":""},null,{"$f":"CalcHP(D386,F386,G386,I386,J386,L386,M386,O386,P386,R386)","v":""},"",null,null,null,"","","",null,null,null,null,null,null,null,null,null,null,null,null,null,null,{"$error":"#VALUE!"}]
[{"$error":"#REF!"},null,null,null,{"$f":"IF(D387,LOOKUP(D387,'NEC Rules'!$A$2:$B$28),\"\")","v":""},null,null,{"$f":"IF(G387,LOOKUP(G387,'NEC Rules'!$A$2:$B$28),\"\")","v":""},null,null,{"$f":"IF(J387,LOOKUP(J387,'NEC Rules'!$A$2:$B$28),\"\")","v":""},null,null,{"$f":"IF(M387,LOOKUP(M387,'NEC Rules'!$A$2:$B$28),\"\")","v":""},null,null,{"$f":"IF(P387,LOOKUP(P387,'NEC Rules'!$A$2:$B$28),\"\")","v":""},null,"","",null,null,null,"",{"$f":"CalcMPF(V387,D387,E387,F387,H387,I387,K387,L387,N387,O387,Q387,R387,T387,U387)","v":""},"",null,null,null,null,null,null,null,null,null,null,null,null,null,null,{"$error":"#VALUE!"}]
[{"$error":"#REF!"},null,null,null,{"$f":"IF(D388,LOOKUP(D388,'NEC Rules'!$A$2:$B$28),\"\")","v":""},null,null,{"$f":"IF(G388,LOOKUP(G388,'NEC Rules'!$A$2:$B$28),\"\")","v":""},null,null,{"$f":"IF(J388,LOOKUP(J388,'NEC Rules'!$A$2:$B$28),\"\")","v":""},null,null,{"$f":"IF(M388,LOOKUP(M388,'NEC Rules'!$A$2:$B$28),\"\")","v":""},null,null,{"$f":"IF(P388,LOOKUP(P388,'NEC Rules'!$A$2:$B$28),\"\")","v":""},null,"",{"$f":"IF(D388,10,\"\")","v":""},null,null,null,{"$f":"IF((V388*W388),(V388*W388),\"\")","v":""},"",{"$f":"CalcPD(Y388)","v":""},null,null,null,null,null,null,null,null,null,null,null,null,null,null,{"$f":"X388*480*0.03","v":{"$error":"#VALUE!"}}]
[{"$f":"A388+1","v":{"$error":"#REF!"}},null,null,null,{"$f":"IF(D389,LOOKUP(D389,'NEC Rules'!$A$2:$B$28),\"\")","v":""},null,null,{"$f":"IF(G389,LOOKUP(G389,'NEC Rules'!$A$2:$B$28),\"\")","v":""},null,null,{"$f":"IF(J389,LOOKUP(J389,'NEC Rules'!$A$2:$B$28),\"\")","v":""},null,null,{"$f":"IF(M389,LOOKUP(M389,'NEC Rules'!$A$2:$B$28),\"\")","v":""},null,null,{"$f":"IF(P389,LOOKUP(P389,'NEC Rules'!$A$2:$B$28),\"\")","v":""},null,"","",null,null,null,"","","",null,null,null,null,null,null,null,null,null,null,null,null,null,null,{"$error":"#VALUE!"}]
[{"$error":"#REF!"},null,null,null,{"$f":"IF(D390,LOOKUP(D390,'NEC Rules'!$A$2:$B$28),\"\")","v":""},null,null,{"$f":"IF(G390,LOOKUP(G390,'NEC Rules'!$A$2:$B$28),\"\")","v":""},null,null,{"$f":"IF(J390,LOOKUP(J390,'NEC Rules'!$A$2:$B$28),\"\")","v":""},null,null,{"$f":"IF(M390,LOOKUP(M390,'NEC Rules'!$A$2:$B$28),\"\")","v":""},null,null,{"$f":"IF(P390,LOOKUP(P390,'NEC Rules'!$A$2:$B$28),\"\")","v":""},null,"","",null,null,null,"","","",null,null,null,null,null,null,null,null,null,null,null,null,null,null,{"$error":"#VALUE!"}]
[{"$error":"#REF!"},null,null,null,{"$f":"IF(D391,LOOKUP(D391,'NEC Rules'!$A$2:$B$28),\"\")","v":""},null,null,{"$f":"IF(G391,LOOKUP(G391,'NEC Rules'!$A$2:$B$28),\"\")","v":""},null,null,{"$f":"IF(J391,LOOKUP(J391,'NEC Rules'!$A$2:$B$28),\"\")","v":""},null,null,{"$f":"IF(M391,LOOKUP(M391,'NEC Rules'!$A$2:$B$28),\"\")","v":""},null,null,{"$f":"IF(P391,LOOKUP(P391,'NEC Rules'!$A$2:$B$28),\"\")","v":""},null,"","",null,null,null,"","","",null,null,null,null,null,null,null,null,null,null,null,null,null,null,{"$error":"#VALUE!"}]
[{"$error":"#REF!"},null,null,null,{"$f":"IF(D392,LOOKUP(D392,'NEC Rules'!$A$2:$B$28),\"\")","v":""},null,null,{"$f":"IF(G392,LOOKUP(G392,'NEC Rules'!$A$2:$B$28),\"\")","v":""},null,null,{"$f":"IF(J392,LOOKUP(J392,'NEC Rules'!$A$2:$B$28),\"\")","v":""},null,null,{"$f":"IF(M392,LOOKUP(M392,'NEC Rules'!$A$2:$B$28),\"\")","v":""},null,null,{"$f":"IF(P392,LOOKUP(P392,'NEC Rules'!$A$2:$B$28),\"\")","v":""},null,"","",null,null,null,"","","",null,null,null,null,null,null,null,null,null,null,null,null,null,null,{"$error":"#VALUE!"}]
[{"$error":"#REF!"},null,null,null,{"$f":"IF(D393,LOOKUP(D393,'NEC Rules'!$A$2:$B$28),\"\")","v":""},null,null,{"$f":"IF(G393,LOOKUP(G393,'NEC Rules'!$A$2:$B$28),\"\")","v":""},null,null,{"$f":"IF(J393,LOOKUP(J393,'NEC Rules'!$A$2:$B$28),\"\")","v":""},null,null,{"$f":"IF(M393,LOOKUP(M393,'NEC Rules'!$A$2:$B$28),\"\")","v":""},null,null,{"$f":"IF(P393,LOOKUP(P393,'NEC Rules'!$A$2:$B$28),\"\")","v":""},null,"","",null,null,null,"","","",null,null,null,null,null,null,null,null,null,null,null,null,null,null,{"$error":"#VALUE!"}]
[{"$error":"#REF!"},null,null,null,{"$f":"IF(D394,LOOKUP(D394,'NEC Rules'!$A$2:$B$28),\"\")","v":""},null,null,{"$f":"IF(G394,LOOKUP(G394,'NEC Rules'!$A$2:$B$28),\"\")","v":""},null,null,{"$f":"IF(J394,LOOKUP(J394,'NEC Rules'!$A$2:$B$28),\"\")","v":""},null,null,{"$f":"IF(M394,LOOKUP(M394,'NEC Rules'!$A$2:$B$28),\"\")","v":""},null,null,{"$f":"IF(P394,LOOKUP(P394,'NEC Rules'!$A$2:$B$28),\"\")","v":""},null,"","",null,null,null,"","","",null,null,null,null,null,null,null,null,null,null,null,null,null,null,{"$error":"#VALUE!"}]
[{"$error":"#REF!"},null,null,null,{"$f":"IF(D395,LOOKUP(D395,'NEC Rules'!$A$2:$B$28),\"\")","v":""},null,null,{"$f":"IF(G395,LOOKUP(G395,'NEC Rules'!$A$2:$B$28),\"\")","v":""},null,null,{"$f":"IF(J395,LOOKUP(J395,'NEC Rules'!$A$2:$B$28),\"\")","v":""},null,null,{"$f":"IF(M395,LOOKUP(M395,'NEC Rules'!$A$2:$B$28),\"\")","v":""},null,null,{"$f":"IF(P395,LOOKUP(P395,'NEC Rules'!$A$2:$B$28),\"\")","v":""},null,"","",null,null,null,"","","",null,null,null,null,null,null,null,null,null,null,null,null,null,null,{"$error":"#VALUE!"}]
[{"$error":"#REF!"},null,null,null,{"$f":"IF(D396,LOOKUP(D396,'NEC Rules'!$A$2:$B$28),\"\")","v":""},null,null,{"$f":"IF(G396,LOOKUP(G396,'NEC Rules'!$A$2:$B$28),\"\")","v":""},null,null,{"$f":"IF(J396,LOOKUP(J396,'NEC Rules'!$A$2:$B$28),\"\")","v":""},null,null,{"$f":"IF(M396,LOOKUP(M396,'NEC Rules'!$A$2:$B$28),\"\")","v":""},null,null,{"$f":"IF(P396,LOOKUP(P396,'NEC Rules'!$A$2:$B$28),\"\")","v":""},null,"","",null,null,null,"","","",null,null,null,null,null,null,null,null,null,null,null,null,null,null,{"$error":"#VALUE!"}]
[{"$error":"#REF!"},null,null,null,{"$f":"IF(D397,LOOKUP(D397,'NEC Rules'!$A$2:$B$28),\"\")","v":""},null,null,{"$f":"IF(G397,LOOKUP(G397,'NEC Rules'!$A$2:$B$28),\"\")","v":""},null,null,{"$f":"IF(J397,LOOKUP(J397,'NEC Rules'!$A$2:$B$28),\"\")","v":""},null,null,{"$f":"IF(M397,LOOKUP(M397,'NEC Rules'!$A$2:$B$28),\"\")","v":""},null,null,{"$f":"IF(P397,LOOKUP(P397,'NEC Rules'!$A$2:$B$28),\"\")","v":""},null,"","",null,null,null,"","","",null,null,null,null,null,null,null,null,null,null,null,null,null,null,{"$error":"#VALUE!"}]
[{"$error":"#REF!"},null,null,null,{"$f":"IF(D398,LOOKUP(D398,'NEC Rules'!$A$2:$B$28),\"\")","v":""},null,null,{"$f":"IF(G398,LOOKUP(G398,'NEC Rules'!$A$2:$B$28),\"\")","v":""},null,null,{"$f":"IF(J398,LOOKUP(J398,'NEC Rules'!$A$2:$B$28),\"\")","v":""},null,null,{"$f":"IF(M398,LOOKUP(M398,'NEC Rules'!$A$2:$B$28),\"\")","v":""},null,null,{"$f":"IF(P398,LOOKUP(P398,'NEC Rules'!$A$2:$B$28),\"\")","v":""},null,"","",null,null,null,"","","",null,null,null,null,null,null,null,null,null,null,null,null,null,null,{"$error":"#VALUE!"}]
[{"$error":"#REF!"},null,null,null,{"$f":"IF(D399,LOOKUP(D399,'NEC Rules'!$A$2:$B$28),\"\")","v":""},null,null,{"$f":"IF(G399,LOOKUP(G399,'NEC Rules'!$A$2:$B$28),\"\")","v":""},null,null,{"$f":"IF(J399,LOOKUP(J399,'NEC Rules'!$A$2:$B$28),\"\")","v":""},null,null,{"$f":"IF(M399,LOOKUP(M399,'NEC Rules'!$A$2:$B$28),\"\")","v":""},null,null,{"$f":"IF(P399,LOOKUP(P399,'NEC Rules'!$A$2:$B$28),\"\")","v":""},null,"","",null,null,null,"","","",null,null,null,null,null,null,null,null,null,null,null,null,null,null,{"$error":"#VALUE!"}]
[{"$error":"#REF!"},null,null,null,{"$f":"IF(D400,LOOKUP(D400,'NEC Rules'!$A$2:$B$28),\"\")","v":""},null,null,{"$f":"IF(G400,LOOKUP(G400,'NEC Rules'!$A$2:$B$28),\"\")","v":""},null,null,{"$f":"IF(J400,LOOKUP(J400,'NEC Rules'!$A$2:$B$28),\"\")","v":""},null,null,{"$f":"IF(M400,LOOKUP(M400,'NEC Rules'!$A$2:$B$28),\"\")","v":""},null,null,{"$f":"IF(P400,LOOKUP(P400,'NEC Rules'!$A$2:$B$28),\"\")","v":""},null,"","",null,null,null,"","","",null,null,null,null,null,null,null,null,null,null,null,null,null,null,{"$error":"#VALUE!"}]
[{"$error":"#REF!"},null,null,null,{"$f":"IF(D401,LOOKUP(D401,'NEC Rules'!$A$2:$B$28),\"\")","v":""},null,null,{"$f":"IF(G401,LOOKUP(G401,'NEC Rules'!$A$2:$B$28),\"\")","v":""},null,null,{"$f":"IF(J401,LOOKUP(J401,'NEC Rules'!$A$2:$B$28),\"\")","v":""},null,null,{"$f":"IF(M401,LOOKUP(M401,'NEC Rules'!$A$2:$B$28),\"\")","v":""},null,null,{"$f":"IF(P401,LOOKUP(P401,'NEC Rules'!$A$2:$B$28),\"\")","v":""},null,"","",null,null,null,"","","",null,null,null,null,null,null,null,null,null,null,null,null,null,null,{"$error":"#VALUE!"}]
[{"$error":"#REF!"},null,null,null,{"$f":"IF(D402,LOOKUP(D402,'NEC Rules'!$A$2:$B$28),\"\")","v":""},null,null,{"$f":"IF(G402,LOOKUP(G402,'NEC Rules'!$A$2:$B$28),\"\")","v":""},null,null,{"$f":"IF(J402,LOOKUP(J402,'NEC Rules'!$A$2:$B$28),\"\")","v":""},null,null,{"$f":"IF(M402,LOOKUP(M402,'NEC Rules'!$A$2:$B$28),\"\")","v":""},null,null,{"$f":"IF(P402,LOOKUP(P402,'NEC Rules'!$A$2:$B$28),\"\")","v":""},null,"","",null,null,null,"","","",null,null,null,null,null,null,null,null,null,null,null,null,null,null,{"$error":"#VALUE!"}]
[{"$error":"#REF!"},null,null,null,{"$f":"IF(D403,LOOKUP(D403,'NEC Rules'!$A$2:$B$28),\"\")","v":""},null,null,{"$f":"IF(G403,LOOKUP(G403,'NEC Rules'!$A$2:$B$28),\"\")","v":""},null,null,{"$f":"IF(J403,LOOKUP(J403,'NEC Rules'!$A$2:$B$28),\"\")","v":""},null,null,{"$f":"IF(M403,LOOKUP(M403,'NEC Rules'!$A$2:$B$28),\"\")","v":""},null,null,{"$f":"IF(P403,LOOKUP(P403,'NEC Rules'!$A$2:$B$28),\"\")","v":""},null,"","",null,null,null,"","","",null,null,null,null,null,null,null,null,null,null,null,null,null,null,{"$error":"#VALUE!"}]
[{"$error":"#REF!"},null,null,null,{"$f":"IF(D404,LOOKUP(D404,'NEC Rules'!$A$2:$B$28),\"\")","v":""},null,null,{"$f":"IF(G404,LOOKUP(G404,'NEC Rules'!$A$2:$B$28),\"\")","v":""},null,null,{"$f":"IF(J404,LOOKUP(J404,'NEC Rules'!$A$2:$B$28),\"\")","v":""},null,null,{"$f":"IF(M404,LOOKUP(M404,'NEC Rules'!$A$2:$B$28),\"\")","v":""},null,null,{"$f":"IF(P404,LOOKUP(P404,'NEC Rules'!$A$2:$B$28),\"\")","v":""},null,"","",null,null,null,"","","",null,null,null,null,null,null,null,null,null,null,null,null,null,null,{"$error":"#VALUE!"}]
[{"$error":"#REF!"},null,null,null,{"$f":"IF(D405,LOOKUP(D405,'NEC Rules'!$A$2:$B$28),\"\")","v":""},null,null,{"$f":"IF(G405,LOOKUP(G405,'NEC Rules'!$A$2:$B$28),\"\")","v":""},null,null,{"$f":"IF(J405,LOOKUP(J405,'NEC Rules'!$A$2:$B$28),\"\")","v":""},null,null,{"$f":"IF(M405,LOOKUP(M405,'NEC Rules'!$A$2:$B$28),\"\")","v":""},null,null,{"$f":"IF(P405,LOOKUP(P405,'NEC Rules'!$A$2:$B$28),\"\")","v":""},null,"","",null,null,null,"","","",null,null,null,null,null,null,null,null,null,null,null,null,null,null,{"$error":"#VALUE!"}]
[{"$error":"#REF!"},null,null,null,{"$f":"IF(D406,LOOKUP(D406,'NEC Rules'!$A$2:$B$28),\"\")","v":""},null,null,{"$f":"IF(G406,LOOKUP(G406,'NEC Rules'!$A$2:$B$28),\"\")","v":""},null,null,{"$f":"IF(J406,LOOKUP(J406,'NEC Rules'!$A$2:$B$28),\"\")","v":""},null,null,{"$f":"IF(M406,LOOKUP(M406,'NEC Rules'!$A$2:$B$28),\"\")","v":""},null,null,{"$f":"IF(P406,LOOKUP(P406,'NEC Rules'!$A$2:$B$28),\"\")","v":""},null,"","",null,null,null,"","","",null,null,null,null,null,null,null,null,null,null,null,null,null,null,{"$error":"#VALUE!"}]
[{"$error":"#REF!"},null,null,null,{"$f":"IF(D407,LOOKUP(D407,'NEC Rules'!$A$2:$B$28),\"\")","v":""},null,null,{"$f":"IF(G407,LOOKUP(G407,'NEC Rules'!$A$2:$B$28),\"\")","v":""},null,null,{"$f":"IF(J407,LOOKUP(J407,'NEC Rules'!$A$2:$B$28),\"\")","v":""},null,null,{"$f":"IF(M407,LOOKUP(M407,'NEC Rules'!$A$2:$B$28),\"\")","v":""},null,null,{"$f":"IF(P407,LOOKUP(P407,'NEC Rules'!$A$2:$B$28),\"\")","v":""},null,"","",null,null,null,"","","",null,null,null,null,null,null,null,null,null,null,null,null,null,null,{"$error":"#VALUE!"}]
[{"$error":"#REF!"},null,null,null,{"$f":"IF(D408,LOOKUP(D408,'NEC Rules'!$A$2:$B$28),\"\")","v":""},null,null,{"$f":"IF(G408,LOOKUP(G408,'NEC Rules'!$A$2:$B$28),\"\")","v":""},null,null,{"$f":"IF(J408,LOOKUP(J408,'NEC Rules'!$A$2:$B$28),\"\")","v":""},null,null,{"$f":"IF(M408,LOOKUP(M408,'NEC Rules'!$A$2:$B$28),\"\")","v":""},null,null,{"$f":"IF(P408,LOOKUP(P408,'NEC Rules'!$A$2:$B$28),\"\")","v":""},null,"","",null,null,null,"","","",null,null,null,null,null,null,null,null,null,null,null,null,null,null,{"$error":"#VALUE!"}]
[{"$error":"#REF!"},null,null,null,{"$f":"IF(D409,LOOKUP(D409,'NEC Rules'!$A$2:$B$28),\"\")","v":""},null,null,{"$f":"IF(G409,LOOKUP(G409,'NEC Rules'!$A$2:$B$28),\"\")","v":""},null,null,{"$f":"IF(J409,LOOKUP(J409,'NEC Rules'!$A$2:$B$28),\"\")","v":""},null,null,{"$f":"IF(M409,LOOKUP(M409,'NEC Rules'!$A$2:$B$28),\"\")","v":""},null,null,{"$f":"IF(P409,LOOKUP(P409,'NEC Rules'!$A$2:$B$28),\"\")","v":""},null,"","",null,null,null,"","","",null,null,null,null,null,null,null,null,null,null,null,null,null,null,{"$error":"#VALUE!"}]
[{"$error":"#REF!"},null,null,null,{"$f":"IF(D410,LOOKUP(D410,'NEC Rules'!$A$2:$B$28),\"\")","v":""},null,null,{"$f":"IF(G410,LOOKUP(G410,'NEC Rules'!$A$2:$B$28),\"\")","v":""},null,null,{"$f":"IF(J410,LOOKUP(J410,'NEC Rules'!$A$2:$B$28),\"\")","v":""},null,null,{"$f":"IF(M410,LOOKUP(M410,'NEC Rules'!$A$2:$B$28),\"\")","v":""},null,null,{"$f":"IF(P410,LOOKUP(P410,'NEC Rules'!$A$2:$B$28),\"\")","v":""},null,"","",null,null,null,"","","",null,null,null,null,null,null,null,null,null,null,null,null,null,null,{"$error":"#VALUE!"}]
[{"$error":"#REF!"},null,null,null,{"$f":"IF(D411,LOOKUP(D411,'NEC Rules'!$A$2:$B$28),\"\")","v":""},null,null,{"$f":"IF(G411,LOOKUP(G411,'NEC Rules'!$A$2:$B$28),\"\")","v":""},null,null,{"$f":"IF(J411,LOOKUP(J411,'NEC Rules'!$A$2:$B$28),\"\")","v":""},null,null,{"$f":"IF(M411,LOOKUP(M411,'NEC Rules'!$A$2:$B$28),\"\")","v":""},null,null,{"$f":"IF(P411,LOOKUP(P411,'NEC Rules'!$A$2:$B$28),\"\")","v":""},null,"","",null,null,null,"","","",null,null,null,null,null,null,null,null,null,null,null,null,null,null,{"$error":"#VALUE!"}]
[{"$error":"#REF!"},null,null,null,{"$f":"IF(D412,LOOKUP(D412,'NEC Rules'!$A$2:$B$28),\"\")","v":""},null,null,{"$f":"IF(G412,LOOKUP(G412,'NEC Rules'!$A$2:$B$28),\"\")","v":""},null,null,{"$f":"IF(J412,LOOKUP(J412,'NEC Rules'!$A$2:$B$28),\"\")","v":""},null,null,{"$f":"IF(M412,LOOKUP(M412,'NEC Rules'!$A$2:$B$28),\"\")","v":""},null,null,{"$f":"IF(P412,LOOKUP(P412,'NEC Rules'!$A$2:$B$28),\"\")","v":""},null,"","",null,null,null,"","","",null,null,null,null,null,null,null,null,null,null,null,null,null,null,{"$error":"#VALUE!"}]
[{"$error":"#REF!"},null,null,null,{"$f":"IF(D413,LOOKUP(D413,'NEC Rules'!$A$2:$B$28),\"\")","v":""},null,null,{"$f":"IF(G413,LOOKUP(G413,'NEC Rules'!$A$2:$B$28),\"\")","v":""},null,null,{"$f":"IF(J413,LOOKUP(J413,'NEC Rules'!$A$2:$B$28),\"\")","v":""},null,null,{"$f":"IF(M413,LOOKUP(M413,'NEC Rules'!$A$2:$B$28),\"\")","v":""},null,null,{"$f":"IF(P413,LOOKUP(P413,'NEC Rules'!$A$2:$B$28),\"\")","v":""},null,"","",null,null,null,"","","",null,null,null,null,null,null,null,null,null,null,null,null,null,null,{"$error":"#VALUE!"}]
[{"$error":"#REF!"},null,null,null,{"$f":"IF(D414,LOOKUP(D414,'NEC Rules'!$A$2:$B$28),\"\")","v":""},null,null,{"$f":"IF(G414,LOOKUP(G414,'NEC Rules'!$A$2:$B$28),\"\")","v":""},null,null,{"$f":"IF(J414,LOOKUP(J414,'NEC Rules'!$A$2:$B$28),\"\")","v":""},null,null,{"$f":"IF(M414,LOOKUP(M414,'NEC Rules'!$A$2:$B$28),\"\")","v":""},null,null,{"$f":"IF(P414,LOOKUP(P414,'NEC Rules'!$A$2:$B$28),\"\")","v":""},null,"","",null,null,null,"","","",null,null,null,null,null,null,null,null,null,null,null,null,null,null,{"$error":"#VALUE!"}]
[{"$error":"#REF!"},null,null,null,{"$f":"IF(D415,LOOKUP(D415,'NEC Rules'!$A$2:$B$28),\"\")","v":""},null,null,{"$f":"IF(G415,LOOKUP(G415,'NEC Rules'!$A$2:$B$28),\"\")","v":""},null,null,{"$f":"IF(J415,LOOKUP(J415,'NEC Rules'!$A$2:$B$28),\"\")","v":""},null,null,{"$f":"IF(M415,LOOKUP(M415,'NEC Rules'!$A$2:$B$28),\"\")","v":""},null,null,{"$f":"IF(P415,LOOKUP(P415,'NEC Rules'!$A$2:$B$28),\"\")","v":""},null,"","",null,null,null,"","","",null,null,null,null,null,null,null,null,null,null,null,null,null,null,{"$error":"#VALUE!"}]
[{"$error":"#REF!"},null,null,null,{"$f":"IF(D416,LOOKUP(D416,'NEC Rules'!$A$2:$B$28),\"\")","v":""},null,null,{"$f":"IF(G416,LOOKUP(G416,'NEC Rules'!$A$2:$B$28),\"\")","v":""},null,null,{"$f":"IF(J416,LOOKUP(J416,'NEC Rules'!$A$2:$B$28),\"\")","v":""},null,null,{"$f":"IF(M416,LOOKUP(M416,'NEC Rules'!$A$2:$B$28),\"\")","v":""},null,null,{"$f":"IF(P416,LOOKUP(P416,'NEC Rules'!$A$2:$B$28),\"\")","v":""},null,"","",null,null,null,"","","",null,null,null,null,null,null,null,null,null,null,null,null,null,null,{"$error":"#VALUE!"}]
[{"$error":"#REF!"},null,null,null,{"$f":"IF(D417,LOOKUP(D417,'NEC Rules'!$A$2:$B$28),\"\")","v":""},null,null,{"$f":"IF(G417,LOOKUP(G417,'NEC Rules'!$A$2:$B$28),\"\")","v":""},null,null,{"$f":"IF(J417,LOOKUP(J417,'NEC Rules'!$A$2:$B$28),\"\")","v":""},null,null,{"$f":"IF(M417,LOOKUP(M417,'NEC Rules'!$A$2:$B$28),\"\")","v":""},null,null,{"$f":"IF(P417,LOOKUP(P417,'NEC Rules'!$A$2:$B$28),\"\")","v":""},null,"","",null,null,null,"","","",null,null,null,null,null,null,null,null,null,null,null,null,null,null,{"$error":"#VALUE!"}]
[{"$error":"#REF!"},null,null,null,{"$f":"IF(D418,LOOKUP(D418,'NEC Rules'!$A$2:$B$28),\"\")","v":""},null,null,{"$f":"IF(G418,LOOKUP(G418,'NEC Rules'!$A$2:$B$28),\"\")","v":""},null,null,{"$f":"IF(J418,LOOKUP(J418,'NEC Rules'!$A$2:$B$28),\"\")","v":""},null,null,{"$f":"IF(M418,LOOKUP(M418,'NEC Rules'!$A$2:$B$28),\"\")","v":""},null,null,{"$f":"IF(P418,LOOKUP(P418,'NEC Rules'!$A$2:$B$28),\"\")","v":""},null,"","",null,null,null,"","","",null,null,null,null,null,null,null,null,null,null,null,null,null,null,{"$error":"#VALUE!"}]
[{"$error":"#REF!"},null,null,null,{"$f":"IF(D419,LOOKUP(D419,'NEC Rules'!$A$2:$B$28),\"\")","v":""},null,null,{"$f":"IF(G419,LOOKUP(G419,'NEC Rules'!$A$2:$B$28),\"\")","v":""},null,null,{"$f":"IF(J419,LOOKUP(J419,'NEC Rules'!$A$2:$B$28),\"\")","v":""},null,null,{"$f":"IF(M419,LOOKUP(M419,'NEC Rules'!$A$2:$B$28),\"\")","v":""},null,null,{"$f":"IF(P419,LOOKUP(P419,'NEC Rules'!$A$2:$B$28),\"\")","v":""},null,"","",null,null,null,"","","",null,null,null,null,null,null,null,null,null,null,null,null,null,null,{"$error":"#VALUE!"}]
[{"$error":"#REF!"},null,null,null,{"$f":"IF(D420,LOOKUP(D420,'NEC Rules'!$A$2:$B$28),\"\")","v":""},null,null,{"$f":"IF(G420,LOOKUP(G420,'NEC Rules'!$A$2:$B$28),\"\")","v":""},null,null,{"$f":"IF(J420,LOOKUP(J420,'NEC Rules'!$A$2:$B$28),\"\")","v":""},null,null,{"$f":"IF(M420,LOOKUP(M420,'NEC Rules'!$A$2:$B$28),\"\")","v":""},null,null,{"$f":"IF(P420,LOOKUP(P420,'NEC Rules'!$A$2:$B$28),\"\")","v":""},null,"","",null,null,null,"","","",null,null,null,null,null,null,null,null,null,null,null,null,null,null,{"$error":"#VALUE!"}]
[{"$error":"#REF!"},null,null,null,{"$f":"IF(D421,LOOKUP(D421,'NEC Rules'!$A$2:$B$28),\"\")","v":""},null,null,{"$f":"IF(G421,LOOKUP(G421,'NEC Rules'!$A$2:$B$28),\"\")","v":""},null,null,{"$f":"IF(J421,LOOKUP(J421,'NEC Rules'!$A$2:$B$28),\"\")","v":""},null,null,{"$f":"IF(M421,LOOKUP(M421,'NEC Rules'!$A$2:$B$28),\"\")","v":""},null,null,{"$f":"IF(P421,LOOKUP(P421,'NEC Rules'!$A$2:$B$28),\"\")","v":""},null,"","",null,null,null,"","","",null,null,null,null,null,null,null,null,null,null,null,null,null,null,{"$error":"#VALUE!"}]
[{"$error":"#REF!"},null,null,null,{"$f":"IF(D422,LOOKUP(D422,'NEC Rules'!$A$2:$B$28),\"\")","v":""},null,null,{"$f":"IF(G422,LOOKUP(G422,'NEC Rules'!$A$2:$B$28),\"\")","v":""},null,null,{"$f":"IF(J422,LOOKUP(J422,'NEC Rules'!$A$2:$B$28),\"\")","v":""},null,null,{"$f":"IF(M422,LOOKUP(M422,'NEC Rules'!$A$2:$B$28),\"\")","v":""},null,null,{"$f":"IF(P422,LOOKUP(P422,'NEC Rules'!$A$2:$B$28),\"\")","v":""},null,"","",null,null,null,"","","",null,null,null,null,null,null,null,null,null,null,null,null,null,null,{"$error":"#VALUE!"}]
[{"$error":"#REF!"},null,null,null,{"$f":"IF(D423,LOOKUP(D423,'NEC Rules'!$A$2:$B$28),\"\")","v":""},null,null,{"$f":"IF(G423,LOOKUP(G423,'NEC Rules'!$A$2:$B$28),\"\")","v":""},null,null,{"$f":"IF(J423,LOOKUP(J423,'NEC Rules'!$A$2:$B$28),\"\")","v":""},null,null,{"$f":"IF(M423,LOOKUP(M423,'NEC Rules'!$A$2:$B$28),\"\")","v":""},null,null,{"$f":"IF(P423,LOOKUP(P423,'NEC Rules'!$A$2:$B$28),\"\")","v":""},null,"","",null,null,null,"","","",null,null,null,null,null,null,null,null,null,null,null,null,null,null,{"$error":"#VALUE!"}]
[{"$error":"#REF!"},null,null,null,{"$f":"IF(D424,LOOKUP(D424,'NEC Rules'!$A$2:$B$28),\"\")","v":""},null,null,{"$f":"IF(G424,LOOKUP(G424,'NEC Rules'!$A$2:$B$28),\"\")","v":""},null,null,{"$f":"IF(J424,LOOKUP(J424,'NEC Rules'!$A$2:$B$28),\"\")","v":""},null,null,{"$f":"IF(M424,LOOKUP(M424,'NEC Rules'!$A$2:$B$28),\"\")","v":""},null,null,{"$f":"IF(P424,LOOKUP(P424,'NEC Rules'!$A$2:$B$28),\"\")","v":""},null,"","",null,null,null,"","","",null,null,null,null,null,null,null,null,null,null,null,null,null,null,{"$error":"#VALUE!"}]
[{"$error":"#REF!"},null,null,null,{"$f":"IF(D425,LOOKUP(D425,'NEC Rules'!$A$2:$B$28),\"\")","v":""},null,null,{"$f":"IF(G425,LOOKUP(G425,'NEC Rules'!$A$2:$B$28),\"\")","v":""},null,null,{"$f":"IF(J425,LOOKUP(J425,'NEC Rules'!$A$2:$B$28),\"\")","v":""},null,null,{"$f":"IF(M425,LOOKUP(M425,'NEC Rules'!$A$2:$B$28),\"\")","v":""},null,null,{"$f":"IF(P425,LOOKUP(P425,'NEC Rules'!$A$2:$B$28),\"\")","v":""},null,"","",null,null,null,"","","",null,null,null,null,null,null,null,null,null,null,null,null,null,null,{"$error":"#VALUE!"}]
[{"$error":"#REF!"},null,null,null,{"$f":"IF(D426,LOOKUP(D426,'NEC Rules'!$A$2:$B$28),\"\")","v":""},null,null,{"$f":"IF(G426,LOOKUP(G426,'NEC Rules'!$A$2:$B$28),\"\")","v":""},null,null,{"$f":"IF(J426,LOOKUP(J426,'NEC Rules'!$A$2:$B$28),\"\")","v":""},null,null,{"$f":"IF(M426,LOOKUP(M426,'NEC Rules'!$A$2:$B$28),\"\")","v":""},null,null,{"$f":"IF(P426,LOOKUP(P426,'NEC Rules'!$A$2:$B$28),\"\")","v":""},null,"","",null,null,null,"","","",null,null,null,null,null,null,null,null,null,null,null,null,null,null,{"$error":"#VALUE!"}]
[{"$error":"#REF!"},null,null,null,{"$f":"IF(D427,LOOKUP(D427,'NEC Rules'!$A$2:$B$28),\"\")","v":""},null,null,{"$f":"IF(G427,LOOKUP(G427,'NEC Rules'!$A$2:$B$28),\"\")","v":""},null,null,{"$f":"IF(J427,LOOKUP(J427,'NEC Rules'!$A$2:$B$28),\"\")","v":""},null,null,{"$f":"IF(M427,LOOKUP(M427,'NEC Rules'!$A$2:$B$28),\"\")","v":""},null,null,{"$f":"IF(P427,LOOKUP(P427,'NEC Rules'!$A$2:$B$28),\"\")","v":""},null,"","",null,null,null,"","","",null,null,null,null,null,null,null,null,null,null,null,null,null,null,{"$error":"#VALUE!"}]
[{"$error":"#REF!"},null,null,null,{"$f":"IF(D428,LOOKUP(D428,'NEC Rules'!$A$2:$B$28),\"\")","v":""},null,null,{"$f":"IF(G428,LOOKUP(G428,'NEC Rules'!$A$2:$B$28),\"\")","v":""},null,null,{"$f":"IF(J428,LOOKUP(J428,'NEC Rules'!$A$2:$B$28),\"\")","v":""},null,null,{"$f":"IF(M428,LOOKUP(M428,'NEC Rules'!$A$2:$B$28),\"\")","v":""},null,null,{"$f":"IF(P428,LOOKUP(P428,'NEC Rules'!$A$2:$B$28),\"\")","v":""},null,"","",null,null,null,"","","",null,null,null,null,null,null,null,null,null,null,null,null,null,null,{"$error":"#VALUE!"}]
[{"$error":"#REF!"},null,null,null,{"$f":"IF(D429,LOOKUP(D429,'NEC Rules'!$A$2:$B$28),\"\")","v":""},null,null,{"$f":"IF(G429,LOOKUP(G429,'NEC Rules'!$A$2:$B$28),\"\")","v":""},null,null,{"$f":"IF(J429,LOOKUP(J429,'NEC Rules'!$A$2:$B$28),\"\")","v":""},null,null,{"$f":"IF(M429,LOOKUP(M429,'NEC Rules'!$A$2:$B$28),\"\")","v":""},null,null,{"$f":"IF(P429,LOOKUP(P429,'NEC Rules'!$A$2:$B$28),\"\")","v":""},null,"","",null,null,null,"","","",null,null,null,null,null,null,null,null,null,null,null,null,null,null,{"$error":"#VALUE!"}]
[{"$error":"#REF!"},null,null,null,{"$f":"IF(D430,LOOKUP(D430,'NEC Rules'!$A$2:$B$28),\"\")","v":""},null,null,{"$f":"IF(G430,LOOKUP(G430,'NEC Rules'!$A$2:$B$28),\"\")","v":""},null,null,{"$f":"IF(J430,LOOKUP(J430,'NEC Rules'!$A$2:$B$28),\"\")","v":""},null,null,{"$f":"IF(M430,LOOKUP(M430,'NEC Rules'!$A$2:$B$28),\"\")","v":""},null,null,{"$f":"IF(P430,LOOKUP(P430,'NEC Rules'!$A$2:$B$28),\"\")","v":""},null,"","",null,null,null,"","","",null,null,null,null,null,null,null,null,null,null,null,null,null,null,{"$error":"#VALUE!"}]
[{"$error":"#REF!"},null,null,null,{"$f":"IF(D431,LOOKUP(D431,'NEC Rules'!$A$2:$B$28),\"\")","v":""},null,null,{"$f":"IF(G431,LOOKUP(G431,'NEC Rules'!$A$2:$B$28),\"\")","v":""},null,null,{"$f":"IF(J431,LOOKUP(J431,'NEC Rules'!$A$2:$B$28),\"\")","v":""},null,null,{"$f":"IF(M431,LOOKUP(M431,'NEC Rules'!$A$2:$B$28),\"\")","v":""},null,null,{"$f":"IF(P431,LOOKUP(P431,'NEC Rules'!$A$2:$B$28),\"\")","v":""},null,"","",null,null,null,"","","",null,null,null,null,null,null,null,null,null,null,null,null,null,null,{"$error":"#VALUE!"}]
[{"$error":"#REF!"},null,null,null,{"$f":"IF(D432,LOOKUP(D432,'NEC Rules'!$A$2:$B$28),\"\")","v":""},null,null,{"$f":"IF(G432,LOOKUP(G432,'NEC Rules'!$A$2:$B$28),\"\")","v":""},null,null,{"$f":"IF(J432,LOOKUP(J432,'NEC Rules'!$A$2:$B$28),\"\")","v":""},null,null,{"$f":"IF(M432,LOOKUP(M432,'NEC Rules'!$A$2:$B$28),\"\")","v":""},null,null,{"$f":"IF(P432,LOOKUP(P432,'NEC Rules'!$A$2:$B$28),\"\")","v":""},null,"","",null,null,null,"","","",null,null,null,null,null,null,null,null,null,null,null,null,null,null,{"$error":"#VALUE!"}]
[{"$error":"#REF!"},null,null,null,{"$f":"IF(D433,LOOKUP(D433,'NEC Rules'!$A$2:$B$28),\"\")","v":""},null,null,{"$f":"IF(G433,LOOKUP(G433,'NEC Rules'!$A$2:$B$28),\"\")","v":""},null,null,{"$f":"IF(J433,LOOKUP(J433,'NEC Rules'!$A$2:$B$28),\"\")","v":""},null,null,{"$f":"IF(M433,LOOKUP(M433,'NEC Rules'!$A$2:$B$28),\"\")","v":""},null,null,{"$f":"IF(P433,LOOKUP(P433,'NEC Rules'!$A$2:$B$28),\"\")","v":""},null,"","",null,null,null,"","","",null,null,null,null,null,null,null,null,null,null,null,null,null,null,{"$error":"#VALUE!"}]
[{"$error":"#REF!"},null,null,null,{"$f":"IF(D434,LOOKUP(D434,'NEC Rules'!$A$2:$B$28),\"\")","v":""},null,null,{"$f":"IF(G434,LOOKUP(G434,'NEC Rules'!$A$2:$B$28),\"\")","v":""},null,null,{"$f":"IF(J434,LOOKUP(J434,'NEC Rules'!$A$2:$B$28),\"\")","v":""},null,null,{"$f":"IF(M434,LOOKUP(M434,'NEC Rules'!$A$2:$B$28),\"\")","v":""},null,null,{"$f":"IF(P434,LOOKUP(P434,'NEC Rules'!$A$2:$B$28),\"\")","v":""},null,"","",null,null,null,"","","",null,null,null,null,null,null,null,null,null,null,null,null,null,null,{"$error":"#VALUE!"}]
[{"$error":"#REF!"},null,null,null,{"$f":"IF(D435,LOOKUP(D435,'NEC Rules'!$A$2:$B$28),\"\")","v":""},null,null,{"$f":"IF(G435,LOOKUP(G435,'NEC Rules'!$A$2:$B$28),\"\")","v":""},null,null,{"$f":"IF(J435,LOOKUP(J435,'NEC Rules'!$A$2:$B$28),\"\")","v":""},null,null,{"$f":"IF(M435,LOOKUP(M435,'NEC Rules'!$A$2:$B$28),\"\")","v":""},null,null,{"$f":"IF(P435,LOOKUP(P435,'NEC Rules'!$A$2:$B$28),\"\")","v":""},null,"","",null,null,null,"","","",null,null,null,null,null,null,null,null,null,null,null,null,null,null,{"$error":"#VALUE!"}]
[{"$error":"#REF!"},null,null,null,{"$f":"IF(D436,LOOKUP(D436,'NEC Rules'!$A$2:$B$28),\"\")","v":""},null,null,{"$f":"IF(G436,LOOKUP(G436,'NEC Rules'!$A$2:$B$28),\"\")","v":""},null,null,{"$f":"IF(J436,LOOKUP(J436,'NEC Rules'!$A$2:$B$28),\"\")","v":""},null,null,{"$f":"IF(M436,LOOKUP(M436,'NEC Rules'!$A$2:$B$28),\"\")","v":""},null,null,{"$f":"IF(P436,LOOKUP(P436,'NEC Rules'!$A$2:$B$28),\"\")","v":""},null,"","",null,null,null,"","","",null,null,null,null,null,null,null,null,null,null,null,null,null,null,{"$error":"#VALUE!"}]
[{"$error":"#REF!"},null,null,null,{"$f":"IF(D437,LOOKUP(D437,'NEC Rules'!$A$2:$B$28),\"\")","v":""},null,null,{"$f":"IF(G437,LOOKUP(G437,'NEC Rules'!$A$2:$B$28),\"\")","v":""},null,null,{"$f":"IF(J437,LOOKUP(J437,'NEC Rules'!$A$2:$B$28),\"\")","v":""},null,null,{"$f":"IF(M437,LOOKUP(M437,'NEC Rules'!$A$2:$B$28),\"\")","v":""},null,null,{"$f":"IF(P437,LOOKUP(P437,'NEC Rules'!$A$2:$B$28),\"\")","v":""},null,"","",null,null,null,"","","",null,null,null,null,null,null,null,null,null,null,null,null,null,null,{"$error":"#VALUE!"}]
[{"$error":"#REF!"},null,null,null,{"$f":"IF(D438,LOOKUP(D438,'NEC Rules'!$A$2:$B$28),\"\")","v":""},null,null,{"$f":"IF(G438,LOOKUP(G438,'NEC Rules'!$A$2:$B$28),\"\")","v":""},null,null,{"$f":"IF(J438,LOOKUP(J438,'NEC Rules'!$A$2:$B$28),\"\")","v":""},null,null,{"$f":"IF(M438,LOOKUP(M438,'NEC Rules'!$A$2:$B$28),\"\")","v":""},null,null,{"$f":"IF(P438,LOOKUP(P438,'NEC Rules'!$A$2:$B$28),\"\")","v":""},null,"","",null,null,null,"","","",null,null,null,null,null,null,null,null,null,null,null,null,null,null,{"$error":"#VALUE!"}]
[{"$error":"#REF!"},null,null,null,{"$f":"IF(D439,LOOKUP(D439,'NEC Rules'!$A$2:$B$28),\"\")","v":""},null,null,{"$f":"IF(G439,LOOKUP(G439,'NEC Rules'!$A$2:$B$28),\"\")","v":""},null,null,{"$f":"IF(J439,LOOKUP(J439,'NEC Rules'!$A$2:$B$28),\"\")","v":""},null,null,{"$f":"IF(M439,LOOKUP(M439,'NEC Rules'!$A$2:$B$28),\"\")","v":""},null,null,{"$f":"IF(P439,LOOKUP(P439,'NEC Rules'!$A$2:$B$28),\"\")","v":""},null,"","",null,null,null,"","","",null,null,null,null,null,null,null,null,null,null,null,null,null,null,{"$error":"#VALUE!"}]
[{"$error":"#REF!"},null,null,null,{"$f":"IF(D440,LOOKUP(D440,'NEC Rules'!$A$2:$B$28),\"\")","v":""},null,null,{"$f":"IF(G440,LOOKUP(G440,'NEC Rules'!$A$2:$B$28),\"\")","v":""},null,null,{"$f":"IF(J440,LOOKUP(J440,'NEC Rules'!$A$2:$B$28),\"\")","v":""},null,null,{"$f":"IF(M440,LOOKUP(M440,'NEC Rules'!$A$2:$B$28),\"\")","v":""},null,null,{"$f":"IF(P440,LOOKUP(P440,'NEC Rules'!$A$2:$B$28),\"\")","v":""},null,"","",null,null,null,"","","",null,null,null,null,null,null,null,null,null,null,null,null,null,null,{"$error":"#VALUE!"}]
[{"$error":"#REF!"},null,null,null,{"$f":"IF(D441,LOOKUP(D441,'NEC Rules'!$A$2:$B$28),\"\")","v":""},null,null,{"$f":"IF(G441,LOOKUP(G441,'NEC Rules'!$A$2:$B$28),\"\")","v":""},null,null,{"$f":"IF(J441,LOOKUP(J441,'NEC Rules'!$A$2:$B$28),\"\")","v":""},null,null,{"$f":"IF(M441,LOOKUP(M441,'NEC Rules'!$A$2:$B$28),\"\")","v":""},null,null,{"$f":"IF(P441,LOOKUP(P441,'NEC Rules'!$A$2:$B$28),\"\")","v":""},null,"","",null,null,null,"","","",null,null,null,null,null,null,null,null,null,null,null,null,null,null,{"$error":"#VALUE!"}]
[{"$error":"#REF!"},null,null,null,{"$f":"IF(D442,LOOKUP(D442,'NEC Rules'!$A$2:$B$28),\"\")","v":""},null,null,{"$f":"IF(G442,LOOKUP(G442,'NEC Rules'!$A$2:$B$28),\"\")","v":""},null,null,{"$f":"IF(J442,LOOKUP(J442,'NEC Rules'!$A$2:$B$28),\"\")","v":""},null,null,{"$f":"IF(M442,LOOKUP(M442,'NEC Rules'!$A$2:$B$28),\"\")","v":""},null,null,{"$f":"IF(P442,LOOKUP(P442,'NEC Rules'!$A$2:$B$28),\"\")","v":""},null,"","",null,null,null,"","","",null,null,null,null,null,null,null,null,null,null,null,null,null,null,{"$error":"#VALUE!"}]
[{"$error":"#REF!"},null,null,null,{"$f":"IF(D443,LOOKUP(D443,'NEC Rules'!$A$2:$B$28),\"\")","v":""},null,null,{"$f":"IF(G443,LOOKUP(G443,'NEC Rules'!$A$2:$B$28),\"\")","v":""},null,null,{"$f":"IF(J443,LOOKUP(J443,'NEC Rules'!$A$2:$B$28),\"\")","v":""},null,null,{"$f":"IF(M443,LOOKUP(M443,'NEC Rules'!$A$2:$B$28),\"\")","v":""},null,null,{"$f":"IF(P443,LOOKUP(P443,'NEC Rules'!$A$2:$B$28),\"\")","v":""},null,"","",null,null,null,"","","",null,null,null,null,null,null,null,null,null,null,null,null,null,null,{"$error":"#VALUE!"}]
[{"$error":"#REF!"},null,null,null,{"$f":"IF(D444,LOOKUP(D444,'NEC Rules'!$A$2:$B$28),\"\")","v":""},null,null,{"$f":"IF(G444,LOOKUP(G444,'NEC Rules'!$A$2:$B$28),\"\")","v":""},null,null,{"$f":"IF(J444,LOOKUP(J444,'NEC Rules'!$A$2:$B$28),\"\")","v":""},null,null,{"$f":"IF(M444,LOOKUP(M444,'NEC Rules'!$A$2:$B$28),\"\")","v":""},null,null,{"$f":"IF(P444,LOOKUP(P444,'NEC Rules'!$A$2:$B$28),\"\")","v":""},null,"","",null,null,null,"","","",null,null,null,null,null,null,null,null,null,null,null,null,null,null,{"$error":"#VALUE!"}]
[{"$error":"#REF!"},null,null,null,{"$f":"IF(D445,LOOKUP(D445,'NEC Rules'!$A$2:$B$28),\"\")","v":""},null,null,{"$f":"IF(G445,LOOKUP(G445,'NEC Rules'!$A$2:$B$28),\"\")","v":""},null,null,{"$f":"IF(J445,LOOKUP(J445,'NEC Rules'!$A$2:$B$28),\"\")","v":""},null,null,{"$f":"IF(M445,LOOKUP(M445,'NEC Rules'!$A$2:$B$28),\"\")","v":""},null,null,{"$f":"IF(P445,LOOKUP(P445,'NEC Rules'!$A$2:$B$28),\"\")","v":""},null,"","",null,null,null,"","","",null,null,null,null,null,null,null,null,null,null,null,null,null,null,{"$error":"#VALUE!"}]
[{"$error":"#REF!"},null,null,null,{"$f":"IF(D446,LOOKUP(D446,'NEC Rules'!$A$2:$B$28),\"\")","v":""},null,null,{"$f":"IF(G446,LOOKUP(G446,'NEC Rules'!$A$2:$B$28),\"\")","v":""},null,null,{"$f":"IF(J446,LOOKUP(J446,'NEC Rules'!$A$2:$B$28),\"\")","v":""},null,null,{"$f":"IF(M446,LOOKUP(M446,'NEC Rules'!$A$2:$B$28),\"\")","v":""},null,null,{"$f":"IF(P446,LOOKUP(P446,'NEC Rules'!$A$2:$B$28),\"\")","v":""},null,"","",null,null,null,"","","",null,null,null,null,null,null,null,null,null,null,null,null,null,null,{"$error":"#VALUE!"}]
[{"$error":"#REF!"},null,null,null,{"$f":"IF(D447,LOOKUP(D447,'NEC Rules'!$A$2:$B$28),\"\")","v":""},null,null,{"$f":"IF(G447,LOOKUP(G447,'NEC Rules'!$A$2:$B$28),\"\")","v":""},null,null,{"$f":"IF(J447,LOOKUP(J447,'NEC Rules'!$A$2:$B$28),\"\")","v":""},null,null,{"$f":"IF(M447,LOOKUP(M447,'NEC Rules'!$A$2:$B$28),\"\")","v":""},null,null,{"$f":"IF(P447,LOOKUP(P447,'NEC Rules'!$A$2:$B$28),\"\")","v":""},null,"","",null,null,null,"","","",null,null,null,null,null,null,null,null,null,null,null,null,null,null,{"$error":"#VALUE!"}]
[{"$error":"#REF!"},null,null,null,{"$f":"IF(D448,LOOKUP(D448,'NEC Rules'!$A$2:$B$28),\"\")","v":""},null,null,{"$f":"IF(G448,LOOKUP(G448,'NEC Rules'!$A$2:$B$28),\"\")","v":""},null,null,{"$f":"IF(J448,LOOKUP(J448,'NEC Rules'!$A$2:$B$28),\"\")","v":""},null,null,{"$f":"IF(M448,LOOKUP(M448,'NEC Rules'!$A$2:$B$28),\"\")","v":""},null,null,{"$f":"IF(P448,LOOKUP(P448,'NEC Rules'!$A$2:$B$28),\"\")","v":""},null,"","",null,null,null,"","","",null,null,null,null,null,null,null,null,null,null,null,null,null,null,{"$error":"#VALUE!"}]
[{"$error":"#REF!"},null,null,null,{"$f":"IF(D449,LOOKUP(D449,'NEC Rules'!$A$2:$B$28),\"\")","v":""},null,null,{"$f":"IF(G449,LOOKUP(G449,'NEC Rules'!$A$2:$B$28),\"\")","v":""},null,null,{"$f":"IF(J449,LOOKUP(J449,'NEC Rules'!$A$2:$B$28),\"\")","v":""},null,null,{"$f":"IF(M449,LOOKUP(M449,'NEC Rules'!$A$2:$B$28),\"\")","v":""},null,null,{"$f":"IF(P449,LOOKUP(P449,'NEC Rules'!$A$2:$B$28),\"\")","v":""},null,"","",null,null,null,"","","",null,null,null,null,null,null,null,null,null,null,null,null,null,null,{"$error":"#VALUE!"}]
[{"$error":"#REF!"},null,null,null,{"$f":"IF(D450,LOOKUP(D450,'NEC Rules'!$A$2:$B$28),\"\")","v":""},null,null,{"$f":"IF(G450,LOOKUP(G450,'NEC Rules'!$A$2:$B$28),\"\")","v":""},null,null,{"$f":"IF(J450,LOOKUP(J450,'NEC Rules'!$A$2:$B$28),\"\")","v":""},null,null,{"$f":"IF(M450,LOOKUP(M450,'NEC Rules'!$A$2:$B$28),\"\")","v":""},null,null,{"$f":"IF(P450,LOOKUP(P450,'NEC Rules'!$A$2:$B$28),\"\")","v":""},null,{"$f":"CalcHP(D450,F450,G450,I450,J450,L450,M450,O450,P450,R450)","v":""},"",null,null,null,"","","",null,null,null,null,null,null,null,null,null,null,null,null,null,null,{"$error":"#VALUE!"}]
[{"$error":"#REF!"},null,null,null,{"$f":"IF(D451,LOOKUP(D451,'NEC Rules'!$A$2:$B$28),\"\")","v":""},null,null,{"$f":"IF(G451,LOOKUP(G451,'NEC Rules'!$A$2:$B$28),\"\")","v":""},null,null,{"$f":"IF(J451,LOOKUP(J451,'NEC Rules'!$A$2:$B$28),\"\")","v":""},null,null,{"$f":"IF(M451,LOOKUP(M451,'NEC Rules'!$A$2:$B$28),\"\")","v":""},null,null,{"$f":"IF(P451,LOOKUP(P451,'NEC Rules'!$A$2:$B$28),\"\")","v":""},null,"","",null,null,null,"",{"$f":"CalcMPF(V451,D451,E451,F451,H451,I451,K451,L451,N451,O451,Q451,R451,T451,U451)","v":""},"",null,null,null,null,null,null,null,null,null,null,null,null,null,null,{"$error":"#VALUE!"}]
[{"$error":"#REF!"},null,null,null,{"$f":"IF(D452,LOOKUP(D452,'NEC Rules'!$A$2:$B$28),\"\")","v":""},null,null,{"$f":"IF(G452,LOOKUP(G452,'NEC Rules'!$A$2:$B$28),\"\")","v":""},null,null,{"$f":"IF(J452,LOOKUP(J452,'NEC Rules'!$A$2:$B$28),\"\")","v":""},null,null,{"$f":"IF(M452,LOOKUP(M452,'NEC Rules'!$A$2:$B$28),\"\")","v":""},null,null,{"$f":"IF(P452,LOOKUP(P452,'NEC Rules'!$A$2:$B$28),\"\")","v":""},null,"",{"$f":"IF(D452,10,\"\")","v":""},null,null,null,{"$f":"IF((V452*W452),(V452*W452),\"\")","v":""},"",{"$f":"CalcPD(Y452)","v":""},null,null,null,null,null,null,null,null,null,null,null,null,null,null,{"$f":"X452*480*0.03","v":{"$error":"#VALUE!"}}]
[{"$f":"A452+1","v":{"$error":"#REF!"}},null,null,null,{"$f":"IF(D453,LOOKUP(D453,'NEC Rules'!$A$2:$B$28),\"\")","v":""},null,null,{"$f":"IF(G453,LOOKUP(G453,'NEC Rules'!$A$2:$B$28),\"\")","v":""},null,null,{"$f":"IF(J453,LOOKUP(J453,'NEC Rules'!$A$2:$B$28),\"\")","v":""},null,null,{"$f":"IF(M453,LOOKUP(M453,'NEC Rules'!$A$2:$B$28),\"\")","v":""},null,null,{"$f":"IF(P453,LOOKUP(P453,'NEC Rules'!$A$2:$B$28),\"\")","v":""},null,"","",null,null,null,"","","",null,null,null,null,null,null,null,null,null,null,null,null,null,null,{"$error":"#VALUE!"}]
[{"$error":"#REF!"},null,null,null,{"$f":"IF(D454,LOOKUP(D454,'NEC Rules'!$A$2:$B$28),\"\")","v":""},null,null,{"$f":"IF(G454,LOOKUP(G454,'NEC Rules'!$A$2:$B$28),\"\")","v":""},null,null,{"$f":"IF(J454,LOOKUP(J454,'NEC Rules'!$A$2:$B$28),\"\")","v":""},null,null,{"$f":"IF(M454,LOOKUP(M454,'NEC Rules'!$A$2:$B$28),\"\")","v":""},null,null,{"$f":"IF(P454,LOOKUP(P454,'NEC Rules'!$A$2:$B$28),\"\")","v":""},null,"","",null,null,null,"","","",null,null,null,null,null,null,null,null,null,null,null,null,null,null,{"$error":"#VALUE!"}]
[{"$error":"#REF!"},null,null,null,{"$f":"IF(D455,LOOKUP(D455,'NEC Rules'!$A$2:$B$28),\"\")","v":""},null,null,{"$f":"IF(G455,LOOKUP(G455,'NEC Rules'!$A$2:$B$28),\"\")","v":""},null,null,{"$f":"IF(J455,LOOKUP(J455,'NEC Rules'!$A$2:$B$28),\"\")","v":""},null,null,{"$f":"IF(M455,LOOKUP(M455,'NEC Rules'!$A$2:$B$28),\"\")","v":""},null,null,{"$f":"IF(P455,LOOKUP(P455,'NEC Rules'!$A$2:$B$28),\"\")","v":""},null,"","",null,null,null,"","","",null,null,null,null,null,null,null,null,null,null,null,null,null,null,{"$error":"#VALUE!"}]
[{"$error":"#REF!"},null,null,null,{"$f":"IF(D456,LOOKUP(D456,'NEC Rules'!$A$2:$B$28),\"\")","v":""},null,null,{"$f":"IF(G456,LOOKUP(G456,'NEC Rules'!$A$2:$B$28),\"\")","v":""},null,null,{"$f":"IF(J456,LOOKUP(J456,'NEC Rules'!$A$2:$B$28),\"\")","v":""},null,null,{"$f":"IF(M456,LOOKUP(M456,'NEC Rules'!$A$2:$B$28),\"\")","v":""},null,null,{"$f":"IF(P456,LOOKUP(P456,'NEC Rules'!$A$2:$B$28),\"\")","v":""},null,"","",null,null,null,"","","",null,null,null,null,null,null,null,null,null,null,null,null,null,null,{"$error":"#VALUE!"}]
[{"$error":"#REF!"},null,null,null,{"$f":"IF(D457,LOOKUP(D457,'NEC Rules'!$A$2:$B$28),\"\")","v":""},null,null,{"$f":"IF(G457,LOOKUP(G457,'NEC Rules'!$A$2:$B$28),\"\")","v":""},null,null,{"$f":"IF(J457,LOOKUP(J457,'NEC Rules'!$A$2:$B$28),\"\")","v":""},null,null,{"$f":"IF(M457,LOOKUP(M457,'NEC Rules'!$A$2:$B$28),\"\")","v":""},null,null,{"$f":"IF(P457,LOOKUP(P457,'NEC Rules'!$A$2:$B$28),\"\")","v":""},null,"","",null,null,null,"","","",null,null,null,null,null,null,null,null,null,null,null,null,null,null,{"$error":"#VALUE!"}]
[{"$error":"#REF!"},null,null,null,{"$f":"IF(D458,LOOKUP(D458,'NEC Rules'!$A$2:$B$28),\"\")","v":""},null,null,{"$f":"IF(G458,LOOKUP(G458,'NEC Rules'!$A$2:$B$28),\"\")","v":""},null,null,{"$f":"IF(J458,LOOKUP(J458,'NEC Rules'!$A$2:$B$28),\"\")","v":""},null,null,{"$f":"IF(M458,LOOKUP(M458,'NEC Rules'!$A$2:$B$28),\"\")","v":""},null,null,{"$f":"IF(P458,LOOKUP(P458,'NEC Rules'!$A$2:$B$28),\"\")","v":""},null,"","",null,null,null,"","","",null,null,null,null,null,null,null,null,null,null,null,null,null,null,{"$error":"#VALUE!"}]
[{"$error":"#REF!"},null,null,null,{"$f":"IF(D459,LOOKUP(D459,'NEC Rules'!$A$2:$B$28),\"\")","v":""},null,null,{"$f":"IF(G459,LOOKUP(G459,'NEC Rules'!$A$2:$B$28),\"\")","v":""},null,null,{"$f":"IF(J459,LOOKUP(J459,'NEC Rules'!$A$2:$B$28),\"\")","v":""},null,null,{"$f":"IF(M459,LOOKUP(M459,'NEC Rules'!$A$2:$B$28),\"\")","v":""},null,null,{"$f":"IF(P459,LOOKUP(P459,'NEC Rules'!$A$2:$B$28),\"\")","v":""},null,"","",null,null,null,"","","",null,null,null,null,null,null,null,null,null,null,null,null,null,null,{"$error":"#VALUE!"}]
[{"$error":"#REF!"},null,null,null,{"$f":"IF(D460,LOOKUP(D460,'NEC Rules'!$A$2:$B$28),\"\")","v":""},null,null,{"$f":"IF(G460,LOOKUP(G460,'NEC Rules'!$A$2:$B$28),\"\")","v":""},null,null,{"$f":"IF(J460,LOOKUP(J460,'NEC Rules'!$A$2:$B$28),\"\")","v":""},null,null,{"$f":"IF(M460,LOOKUP(M460,'NEC Rules'!$A$2:$B$28),\"\")","v":""},null,null,{"$f":"IF(P460,LOOKUP(P460,'NEC Rules'!$A$2:$B$28),\"\")","v":""},null,"","",null,null,null,"","","",null,null,null,null,null,null,null,null,null,null,null,null,null,null,{"$error":"#VALUE!"}]
[{"$error":"#REF!"},null,null,null,{"$f":"IF(D461,LOOKUP(D461,'NEC Rules'!$A$2:$B$28),\"\")","v":""},null,null,{"$f":"IF(G461,LOOKUP(G461,'NEC Rules'!$A$2:$B$28),\"\")","v":""},null,null,{"$f":"IF(J461,LOOKUP(J461,'NEC Rules'!$A$2:$B$28),\"\")","v":""},null,null,{"$f":"IF(M461,LOOKUP(M461,'NEC Rules'!$A$2:$B$28),\"\")","v":""},null,null,{"$f":"IF(P461,LOOKUP(P461,'NEC Rules'!$A$2:$B$28),\"\")","v":""},null,"","",null,null,null,"","","",null,null,null,null,null,null,null,null,null,null,null,null,null,null,{"$error":"#VALUE!"}]
[{"$error":"#REF!"},null,null,null,{"$f":"IF(D462,LOOKUP(D462,'NEC Rules'!$A$2:$B$28),\"\")","v":""},null,null,{"$f":"IF(G462,LOOKUP(G462,'NEC Rules'!$A$2:$B$28),\"\")","v":""},null,null,{"$f":"IF(J462,LOOKUP(J462,'NEC Rules'!$A$2:$B$28),\"\")","v":""},null,null,{"$f":"IF(M462,LOOKUP(M462,'NEC Rules'!$A$2:$B$28),\"\")","v":""},null,null,{"$f":"IF(P462,LOOKUP(P462,'NEC Rules'!$A$2:$B$28),\"\")","v":""},null,"","",null,null,null,"","","",null,null,null,null,null,null,null,null,null,null,null,null,null,null,{"$error":"#VALUE!"}]
[{"$error":"#REF!"},null,null,null,{"$f":"IF(D463,LOOKUP(D463,'NEC Rules'!$A$2:$B$28),\"\")","v":""},null,null,{"$f":"IF(G463,LOOKUP(G463,'NEC Rules'!$A$2:$B$28),\"\")","v":""},null,null,{"$f":"IF(J463,LOOKUP(J463,'NEC Rules'!$A$2:$B$28),\"\")","v":""},null,null,{"$f":"IF(M463,LOOKUP(M463,'NEC Rules'!$A$2:$B$28),\"\")","v":""},null,null,{"$f":"IF(P463,LOOKUP(P463,'NEC Rules'!$A$2:$B$28),\"\")","v":""},null,"","",null,null,null,"","","",null,null,null,null,null,null,null,null,null,null,null,null,null,null,{"$error":"#VALUE!"}]
[{"$error":"#REF!"},null,null,null,{"$f":"IF(D464,LOOKUP(D464,'NEC Rules'!$A$2:$B$28),\"\")","v":""},null,null,{"$f":"IF(G464,LOOKUP(G464,'NEC Rules'!$A$2:$B$28),\"\")","v":""},null,null,{"$f":"IF(J464,LOOKUP(J464,'NEC Rules'!$A$2:$B$28),\"\")","v":""},null,null,{"$f":"IF(M464,LOOKUP(M464,'NEC Rules'!$A$2:$B$28),\"\")","v":""},null,null,{"$f":"IF(P464,LOOKUP(P464,'NEC Rules'!$A$2:$B$28),\"\")","v":""},null,"","",null,null,null,"","","",null,null,null,null,null,null,null,null,null,null,null,null,null,null,{"$error":"#VALUE!"}]
[{"$error":"#REF!"},null,null,null,{"$f":"IF(D465,LOOKUP(D465,'NEC Rules'!$A$2:$B$28),\"\")","v":""},null,null,{"$f":"IF(G465,LOOKUP(G465,'NEC Rules'!$A$2:$B$28),\"\")","v":""},null,null,{"$f":"IF(J465,LOOKUP(J465,'NEC Rules'!$A$2:$B$28),\"\")","v":""},null,null,{"$f":"IF(M465,LOOKUP(M465,'NEC Rules'!$A$2:$B$28),\"\")","v":""},null,null,{"$f":"IF(P465,LOOKUP(P465,'NEC Rules'!$A$2:$B$28),\"\")","v":""},null,"","",null,null,null,"","","",null,null,null,null,null,null,null,null,null,null,null,null,null,null,{"$error":"#VALUE!"}]
[{"$error":"#REF!"},null,null,null,{"$f":"IF(D466,LOOKUP(D466,'NEC Rules'!$A$2:$B$28),\"\")","v":""},null,null,{"$f":"IF(G466,LOOKUP(G466,'NEC Rules'!$A$2:$B$28),\"\")","v":""},null,null,{"$f":"IF(J466,LOOKUP(J466,'NEC Rules'!$A$2:$B$28),\"\")","v":""},null,null,{"$f":"IF(M466,LOOKUP(M466,'NEC Rules'!$A$2:$B$28),\"\")","v":""},null,null,{"$f":"IF(P466,LOOKUP(P466,'NEC Rules'!$A$2:$B$28),\"\")","v":""},null,"","",null,null,null,"","","",null,null,null,null,null,null,null,null,null,null,null,null,null,null,{"$error":"#VALUE!"}]
[{"$error":"#REF!"},null,null,null,{"$f":"IF(D467,LOOKUP(D467,'NEC Rules'!$A$2:$B$28),\"\")","v":""},null,null,{"$f":"IF(G467,LOOKUP(G467,'NEC Rules'!$A$2:$B$28),\"\")","v":""},null,null,{"$f":"IF(J467,LOOKUP(J467,'NEC Rules'!$A$2:$B$28),\"\")","v":""},null,null,{"$f":"IF(M467,LOOKUP(M467,'NEC Rules'!$A$2:$B$28),\"\")","v":""},null,null,{"$f":"IF(P467,LOOKUP(P467,'NEC Rules'!$A$2:$B$28),\"\")","v":""},null,"","",null,null,null,"","","",null,null,null,null,null,null,null,null,null,null,null,null,null,null,{"$error":"#VALUE!"}]
[{"$error":"#REF!"},null,null,null,{"$f":"IF(D468,LOOKUP(D468,'NEC Rules'!$A$2:$B$28),\"\")","v":""},null,null,{"$f":"IF(G468,LOOKUP(G468,'NEC Rules'!$A$2:$B$28),\"\")","v":""},null,null,{"$f":"IF(J468,LOOKUP(J468,'NEC Rules'!$A$2:$B$28),\"\")","v":""},null,null,{"$f":"IF(M468,LOOKUP(M468,'NEC Rules'!$A$2:$B$28),\"\")","v":""},null,null,{"$f":"IF(P468,LOOKUP(P468,'NEC Rules'!$A$2:$B$28),\"\")","v":""},null,"","",null,null,null,"","","",null,null,null,null,null,null,null,null,null,null,null,null,null,null,{"$error":"#VALUE!"}]
[{"$error":"#REF!"},null,null,null,{"$f":"IF(D469,LOOKUP(D469,'NEC Rules'!$A$2:$B$28),\"\")","v":""},null,null,{"$f":"IF(G469,LOOKUP(G469,'NEC Rules'!$A$2:$B$28),\"\")","v":""},null,null,{"$f":"IF(J469,LOOKUP(J469,'NEC Rules'!$A$2:$B$28),\"\")","v":""},null,null,{"$f":"IF(M469,LOOKUP(M469,'NEC Rules'!$A$2:$B$28),\"\")","v":""},null,null,{"$f":"IF(P469,LOOKUP(P469,'NEC Rules'!$A$2:$B$28),\"\")","v":""},null,"","",null,null,null,"","","",null,null,null,null,null,null,null,null,null,null,null,null,null,null,{"$error":"#VALUE!"}]
[{"$error":"#REF!"},null,null,null,{"$f":"IF(D470,LOOKUP(D470,'NEC Rules'!$A$2:$B$28),\"\")","v":""},null,null,{"$f":"IF(G470,LOOKUP(G470,'NEC Rules'!$A$2:$B$28),\"\")","v":""},null,null,{"$f":"IF(J470,LOOKUP(J470,'NEC Rules'!$A$2:$B$28),\"\")","v":""},null,null,{"$f":"IF(M470,LOOKUP(M470,'NEC Rules'!$A$2:$B$28),\"\")","v":""},null,null,{"$f":"IF(P470,LOOKUP(P470,'NEC Rules'!$A$2:$B$28),\"\")","v":""},null,"","",null,null,null,"","","",null,null,null,null,null,null,null,null,null,null,null,null,null,null,{"$error":"#VALUE!"}]
[{"$error":"#REF!"},null,null,null,{"$f":"IF(D471,LOOKUP(D471,'NEC Rules'!$A$2:$B$28),\"\")","v":""},null,null,{"$f":"IF(G471,LOOKUP(G471,'NEC Rules'!$A$2:$B$28),\"\")","v":""},null,null,{"$f":"IF(J471,LOOKUP(J471,'NEC Rules'!$A$2:$B$28),\"\")","v":""},null,null,{"$f":"IF(M471,LOOKUP(M471,'NEC Rules'!$A$2:$B$28),\"\")","v":""},null,null,{"$f":"IF(P471,LOOKUP(P471,'NEC Rules'!$A$2:$B$28),\"\")","v":""},null,"","",null,null,null,"","","",null,null,null,null,null,null,null,null,null,null,null,null,null,null,{"$error":"#VALUE!"}]
[{"$error":"#REF!"},null,null,null,{"$f":"IF(D472,LOOKUP(D472,'NEC Rules'!$A$2:$B$28),\"\")","v":""},null,null,{"$f":"IF(G472,LOOKUP(G472,'NEC Rules'!$A$2:$B$28),\"\")","v":""},null,null,{"$f":"IF(J472,LOOKUP(J472,'NEC Rules'!$A$2:$B$28),\"\")","v":""},null,null,{"$f":"IF(M472,LOOKUP(M472,'NEC Rules'!$A$2:$B$28),\"\")","v":""},null,null,{"$f":"IF(P472,LOOKUP(P472,'NEC Rules'!$A$2:$B$28),\"\")","v":""},null,"","",null,null,null,"","","",null,null,null,null,null,null,null,null,null,null,null,null,null,null,{"$error":"#VALUE!"}]
[{"$error":"#REF!"},null,null,null,{"$f":"IF(D473,LOOKUP(D473,'NEC Rules'!$A$2:$B$28),\"\")","v":""},null,null,{"$f":"IF(G473,LOOKUP(G473,'NEC Rules'!$A$2:$B$28),\"\")","v":""},null,null,{"$f":"IF(J473,LOOKUP(J473,'NEC Rules'!$A$2:$B$28),\"\")","v":""},null,null,{"$f":"IF(M473,LOOKUP(M473,'NEC Rules'!$A$2:$B$28),\"\")","v":""},null,null,{"$f":"IF(P473,LOOKUP(P473,'NEC Rules'!$A$2:$B$28),\"\")","v":""},null,"","",null,null,null,"","","",null,null,null,null,null,null,null,null,null,null,null,null,null,null,{"$error":"#VALUE!"}]
[{"$error":"#REF!"},null,null,null,{"$f":"IF(D474,LOOKUP(D474,'NEC Rules'!$A$2:$B$28),\"\")","v":""},null,null,{"$f":"IF(G474,LOOKUP(G474,'NEC Rules'!$A$2:$B$28),\"\")","v":""},null,null,{"$f":"IF(J474,LOOKUP(J474,'NEC Rules'!$A$2:$B$28),\"\")","v":""},null,null,{"$f":"IF(M474,LOOKUP(M474,'NEC Rules'!$A$2:$B$28),\"\")","v":""},null,null,{"$f":"IF(P474,LOOKUP(P474,'NEC Rules'!$A$2:$B$28),\"\")","v":""},null,"","",null,null,null,"","","",null,null,null,null,null,null,null,null,null,null,null,null,null,null,{"$error":"#VALUE!"}]
[{"$error":"#REF!"},null,null,null,{"$f":"IF(D475,LOOKUP(D475,'NEC Rules'!$A$2:$B$28),\"\")","v":""},null,null,{"$f":"IF(G475,LOOKUP(G475,'NEC Rules'!$A$2:$B$28),\"\")","v":""},null,null,{"$f":"IF(J475,LOOKUP(J475,'NEC Rules'!$A$2:$B$28),\"\")","v":""},null,null,{"$f":"IF(M475,LOOKUP(M475,'NEC Rules'!$A$2:$B$28),\"\")","v":""},null,null,{"$f":"IF(P475,LOOKUP(P475,'NEC Rules'!$A$2:$B$28),\"\")","v":""},null,"","",null,null,null,"","","",null,null,null,null,null,null,null,null,null,null,null,null,null,null,{"$error":"#VALUE!"}]
[{"$error":"#REF!"},null,null,null,{"$f":"IF(D476,LOOKUP(D476,'NEC Rules'!$A$2:$B$28),\"\")","v":""},null,null,{"$f":"IF(G476,LOOKUP(G476,'NEC Rules'!$A$2:$B$28),\"\")","v":""},null,null,{"$f":"IF(J476,LOOKUP(J476,'NEC Rules'!$A$2:$B$28),\"\")","v":""},null,null,{"$f":"IF(M476,LOOKUP(M476,'NEC Rules'!$A$2:$B$28),\"\")","v":""},null,null,{"$f":"IF(P476,LOOKUP(P476,'NEC Rules'!$A$2:$B$28),\"\")","v":""},null,"","",null,null,null,"","","",null,null,null,null,null,null,null,null,null,null,null,null,null,null,{"$error":"#VALUE!"}]
[{"$error":"#REF!"},null,null,null,{"$f":"IF(D477,LOOKUP(D477,'NEC Rules'!$A$2:$B$28),\"\")","v":""},null,null,{"$f":"IF(G477,LOOKUP(G477,'NEC Rules'!$A$2:$B$28),\"\")","v":""},null,null,{"$f":"IF(J477,LOOKUP(J477,'NEC Rules'!$A$2:$B$28),\"\")","v":""},null,null,{"$f":"IF(M477,LOOKUP(M477,'NEC Rules'!$A$2:$B$28),\"\")","v":""},null,null,{"$f":"IF(P477,LOOKUP(P477,'NEC Rules'!$A$2:$B$28),\"\")","v":""},null,"","",null,null,null,"","","",null,null,null,null,null,null,null,null,null,null,null,null,null,null,{"$error":"#VALUE!"}]
[{"$error":"#REF!"},null,null,null,{"$f":"IF(D478,LOOKUP(D478,'NEC Rules'!$A$2:$B$28),\"\")","v":""},null,null,{"$f":"IF(G478,LOOKUP(G478,'NEC Rules'!$A$2:$B$28),\"\")","v":""},null,null,{"$f":"IF(J478,LOOKUP(J478,'NEC Rules'!$A$2:$B$28),\"\")","v":""},null,null,{"$f":"IF(M478,LOOKUP(M478,'NEC Rules'!$A$2:$B$28),\"\")","v":""},null,null,{"$f":"IF(P478,LOOKUP(P478,'NEC Rules'!$A$2:$B$28),\"\")","v":""},null,"","",null,null,null,"","","",null,null,null,null,null,null,null,null,null,null,null,null,null,null,{"$error":"#VALUE!"}]
[{"$error":"#REF!"},null,null,null,{"$f":"IF(D479,LOOKUP(D479,'NEC Rules'!$A$2:$B$28),\"\")","v":""},null,null,{"$f":"IF(G479,LOOKUP(G479,'NEC Rules'!$A$2:$B$28),\"\")","v":""},null,null,{"$f":"IF(J479,LOOKUP(J479,'NEC Rules'!$A$2:$B$28),\"\")","v":""},null,null,{"$f":"IF(M479,LOOKUP(M479,'NEC Rules'!$A$2:$B$28),\"\")","v":""},null,null,{"$f":"IF(P479,LOOKUP(P479,'NEC Rules'!$A$2:$B$28),\"\")","v":""},null,"","",null,null,null,"","","",null,null,null,null,null,null,null,null,null,null,null,null,null,null,{"$error":"#VALUE!"}]
[{"$error":"#REF!"},null,null,null,{"$f":"IF(D480,LOOKUP(D480,'NEC Rules'!$A$2:$B$28),\"\")","v":""},null,null,{"$f":"IF(G480,LOOKUP(G480,'NEC Rules'!$A$2:$B$28),\"\")","v":""},null,null,{"$f":"IF(J480,LOOKUP(J480,'NEC Rules'!$A$2:$B$28),\"\")","v":""},null,null,{"$f":"IF(M480,LOOKUP(M480,'NEC Rules'!$A$2:$B$28),\"\")","v":""},null,null,{"$f":"IF(P480,LOOKUP(P480,'NEC Rules'!$A$2:$B$28),\"\")","v":""},null,"","",null,null,null,"","","",null,null,null,null,null,null,null,null,null,null,null,null,null,null,{"$error":"#VALUE!"}]
[{"$error":"#REF!"},null,null,null,{"$f":"IF(D481,LOOKUP(D481,'NEC Rules'!$A$2:$B$28),\"\")","v":""},null,null,{"$f":"IF(G481,LOOKUP(G481,'NEC Rules'!$A$2:$B$28),\"\")","v":""},null,null,{"$f":"IF(J481,LOOKUP(J481,'NEC Rules'!$A$2:$B$28),\"\")","v":""},null,null,{"$f":"IF(M481,LOOKUP(M481,'NEC Rules'!$A$2:$B$28),\"\")","v":""},null,null,{"$f":"IF(P481,LOOKUP(P481,'NEC Rules'!$A$2:$B$28),\"\")","v":""},null,"","",null,null,null,"","","",null,null,null,null,null,null,null,null,null,null,null,null,null,null,{"$error":"#VALUE!"}]
[{"$error":"#REF!"},null,null,null,{"$f":"IF(D482,LOOKUP(D482,'NEC Rules'!$A$2:$B$28),\"\")","v":""},null,null,{"$f":"IF(G482,LOOKUP(G482,'NEC Rules'!$A$2:$B$28),\"\")","v":""},null,null,{"$f":"IF(J482,LOOKUP(J482,'NEC Rules'!$A$2:$B$28),\"\")","v":""},null,null,{"$f":"IF(M482,LOOKUP(M482,'NEC Rules'!$A$2:$B$28),\"\")","v":""},null,null,{"$f":"IF(P482,LOOKUP(P482,'NEC Rules'!$A$2:$B$28),\"\")","v":""},null,"","",null,null,null,"","","",null,null,null,null,null,null,null,null,null,null,null,null,null,null,{"$error":"#VALUE!"}]
[{"$error":"#REF!"},null,null,null,{"$f":"IF(D483,LOOKUP(D483,'NEC Rules'!$A$2:$B$28),\"\")","v":""},null,null,{"$f":"IF(G483,LOOKUP(G483,'NEC Rules'!$A$2:$B$28),\"\")","v":""},null,null,{"$f":"IF(J483,LOOKUP(J483,'NEC Rules'!$A$2:$B$28),\"\")","v":""},null,null,{"$f":"IF(M483,LOOKUP(M483,'NEC Rules'!$A$2:$B$28),\"\")","v":""},null,null,{"$f":"IF(P483,LOOKUP(P483,'NEC Rules'!$A$2:$B$28),\"\")","v":""},null,"","",null,null,null,"","","",null,null,null,null,null,null,null,null,null,null,null,null,null,null,{"$error":"#VALUE!"}]
[{"$error":"#REF!"},null,null,null,{"$f":"IF(D484,LOOKUP(D484,'NEC Rules'!$A$2:$B$28),\"\")","v":""},null,null,{"$f":"IF(G484,LOOKUP(G484,'NEC Rules'!$A$2:$B$28),\"\")","v":""},null,null,{"$f":"IF(J484,LOOKUP(J484,'NEC Rules'!$A$2:$B$28),\"\")","v":""},null,null,{"$f":"IF(M484,LOOKUP(M484,'NEC Rules'!$A$2:$B$28),\"\")","v":""},null,null,{"$f":"IF(P484,LOOKUP(P484,'NEC Rules'!$A$2:$B$28),\"\")","v":""},null,"","",null,null,null,"","","",null,null,null,null,null,null,null,null,null,null,null,null,null,null,{"$error":"#VALUE!"}]
[{"$error":"#REF!"},null,null,null,{"$f":"IF(D485,LOOKUP(D485,'NEC Rules'!$A$2:$B$28),\"\")","v":""},null,null,{"$f":"IF(G485,LOOKUP(G485,'NEC Rules'!$A$2:$B$28),\"\")","v":""},null,null,{"$f":"IF(J485,LOOKUP(J485,'NEC Rules'!$A$2:$B$28),\"\")","v":""},null,null,{"$f":"IF(M485,LOOKUP(M485,'NEC Rules'!$A$2:$B$28),\"\")","v":""},null,null,{"$f":"IF(P485,LOOKUP(P485,'NEC Rules'!$A$2:$B$28),\"\")","v":""},null,"","",null,null,null,"","","",null,null,null,null,null,null,null,null,null,null,null,null,null,null,{"$error":"#VALUE!"}]
[{"$error":"#REF!"},null,null,null,{"$f":"IF(D486,LOOKUP(D486,'NEC Rules'!$A$2:$B$28),\"\")","v":""},null,null,{"$f":"IF(G486,LOOKUP(G486,'NEC Rules'!$A$2:$B$28),\"\")","v":""},null,null,{"$f":"IF(J486,LOOKUP(J486,'NEC Rules'!$A$2:$B$28),\"\")","v":""},null,null,{"$f":"IF(M486,LOOKUP(M486,'NEC Rules'!$A$2:$B$28),\"\")","v":""},null,null,{"$f":"IF(P486,LOOKUP(P486,'NEC Rules'!$A$2:$B$28),\"\")","v":""},null,"","",null,null,null,"","","",null,null,null,null,null,null,null,null,null,null,null,null,null,null,{"$error":"#VALUE!"}]
[{"$error":"#REF!"},null,null,null,{"$f":"IF(D487,LOOKUP(D487,'NEC Rules'!$A$2:$B$28),\"\")","v":""},null,null,{"$f":"IF(G487,LOOKUP(G487,'NEC Rules'!$A$2:$B$28),\"\")","v":""},null,null,{"$f":"IF(J487,LOOKUP(J487,'NEC Rules'!$A$2:$B$28),\"\")","v":""},null,null,{"$f":"IF(M487,LOOKUP(M487,'NEC Rules'!$A$2:$B$28),\"\")","v":""},null,null,{"$f":"IF(P487,LOOKUP(P487,'NEC Rules'!$A$2:$B$28),\"\")","v":""},null,"","",null,null,null,"","","",null,null,null,null,null,null,null,null,null,null,null,null,null,null,{"$error":"#VALUE!"}]
[{"$error":"#REF!"},null,null,null,{"$f":"IF(D488,LOOKUP(D488,'NEC Rules'!$A$2:$B$28),\"\")","v":""},null,null,{"$f":"IF(G488,LOOKUP(G488,'NEC Rules'!$A$2:$B$28),\"\")","v":""},null,null,{"$f":"IF(J488,LOOKUP(J488,'NEC Rules'!$A$2:$B$28),\"\")","v":""},null,null,{"$f":"IF(M488,LOOKUP(M488,'NEC Rules'!$A$2:$B$28),\"\")","v":""},null,null,{"$f":"IF(P488,LOOKUP(P488,'NEC Rules'!$A$2:$B$28),\"\")","v":""},null,"","",null,null,null,"","","",null,null,null,null,null,null,null,null,null,null,null,null,null,null,{"$error":"#VALUE!"}]
[{"$error":"#REF!"},null,null,null,{"$f":"IF(D489,LOOKUP(D489,'NEC Rules'!$A$2:$B$28),\"\")","v":""},null,null,{"$f":"IF(G489,LOOKUP(G489,'NEC Rules'!$A$2:$B$28),\"\")","v":""},null,null,{"$f":"IF(J489,LOOKUP(J489,'NEC Rules'!$A$2:$B$28),\"\")","v":""},null,null,{"$f":"IF(M489,LOOKUP(M489,'NEC Rules'!$A$2:$B$28),\"\")","v":""},null,null,{"$f":"IF(P489,LOOKUP(P489,'NEC Rules'!$A$2:$B$28),\"\")","v":""},null,"","",null,null,null,"","","",null,null,null,null,null,null,null,null,null,null,null,null,null,null,{"$error":"#VALUE!"}]
[{"$error":"#REF!"},null,null,null,{"$f":"IF(D490,LOOKUP(D490,'NEC Rules'!$A$2:$B$28),\"\")","v":""},null,null,{"$f":"IF(G490,LOOKUP(G490,'NEC Rules'!$A$2:$B$28),\"\")","v":""},null,null,{"$f":"IF(J490,LOOKUP(J490,'NEC Rules'!$A$2:$B$28),\"\")","v":""},null,null,{"$f":"IF(M490,LOOKUP(M490,'NEC Rules'!$A$2:$B$28),\"\")","v":""},null,null,{"$f":"IF(P490,LOOKUP(P490,'NEC Rules'!$A$2:$B$28),\"\")","v":""},null,"","",null,null,null,"","","",null,null,null,null,null,null,null,null,null,null,null,null,null,null,{"$error":"#VALUE!"}]
[{"$error":"#REF!"},null,null,null,{"$f":"IF(D491,LOOKUP(D491,'NEC Rules'!$A$2:$B$28),\"\")","v":""},null,null,{"$f":"IF(G491,LOOKUP(G491,'NEC Rules'!$A$2:$B$28),\"\")","v":""},null,null,{"$f":"IF(J491,LOOKUP(J491,'NEC Rules'!$A$2:$B$28),\"\")","v":""},null,null,{"$f":"IF(M491,LOOKUP(M491,'NEC Rules'!$A$2:$B$28),\"\")","v":""},null,null,{"$f":"IF(P491,LOOKUP(P491,'NEC Rules'!$A$2:$B$28),\"\")","v":""},null,"","",null,null,null,"","","",null,null,null,null,null,null,null,null,null,null,null,null,null,null,{"$error":"#VALUE!"}]
[{"$error":"#REF!"},null,null,null,{"$f":"IF(D492,LOOKUP(D492,'NEC Rules'!$A$2:$B$28),\"\")","v":""},null,null,{"$f":"IF(G492,LOOKUP(G492,'NEC Rules'!$A$2:$B$28),\"\")","v":""},null,null,{"$f":"IF(J492,LOOKUP(J492,'NEC Rules'!$A$2:$B$28),\"\")","v":""},null,null,{"$f":"IF(M492,LOOKUP(M492,'NEC Rules'!$A$2:$B$28),\"\")","v":""},null,null,{"$f":"IF(P492,LOOKUP(P492,'NEC Rules'!$A$2:$B$28),\"\")","v":""},null,"","",null,null,null,"","","",null,null,null,null,null,null,null,null,null,null,null,null,null,null,{"$error":"#VALUE!"}]
[{"$error":"#REF!"},null,null,null,{"$f":"IF(D493,LOOKUP(D493,'NEC Rules'!$A$2:$B$28),\"\")","v":""},null,null,{"$f":"IF(G493,LOOKUP(G493,'NEC Rules'!$A$2:$B$28),\"\")","v":""},null,null,{"$f":"IF(J493,LOOKUP(J493,'NEC Rules'!$A$2:$B$28),\"\")","v":""},null,null,{"$f":"IF(M493,LOOKUP(M493,'NEC Rules'!$A$2:$B$28),\"\")","v":""},null,null,{"$f":"IF(P493,LOOKUP(P493,'NEC Rules'!$A$2:$B$28),\"\")","v":""},null,"","",null,null,null,"","","",null,null,null,null,null,null,null,null,null,null,null,null,null,null,{"$error":"#VALUE!"}]
[{"$error":"#REF!"},null,null,null,{"$f":"IF(D494,LOOKUP(D494,'NEC Rules'!$A$2:$B$28),\"\")","v":""},null,null,{"$f":"IF(G494,LOOKUP(G494,'NEC Rules'!$A$2:$B$28),\"\")","v":""},null,null,{"$f":"IF(J494,LOOKUP(J494,'NEC Rules'!$A$2:$B$28),\"\")","v":""},null,null,{"$f":"IF(M494,LOOKUP(M494,'NEC Rules'!$A$2:$B$28),\"\")","v":""},null,null,{"$f":"IF(P494,LOOKUP(P494,'NEC Rules'!$A$2:$B$28),\"\")","v":""},null,"","",null,null,null,"","","",null,null,null,null,null,null,null,null,null,null,null,null,null,null,{"$error":"#VALUE!"}]
[{"$error":"#REF!"},null,null,null,{"$f":"IF(D495,LOOKUP(D495,'NEC Rules'!$A$2:$B$28),\"\")","v":""},null,null,{"$f":"IF(G495,LOOKUP(G495,'NEC Rules'!$A$2:$B$28),\"\")","v":""},null,null,{"$f":"IF(J495,LOOKUP(J495,'NEC Rules'!$A$2:$B$28),\"\")","v":""},null,null,{"$f":"IF(M495,LOOKUP(M495,'NEC Rules'!$A$2:$B$28),\"\")","v":""},null,null,{"$f":"IF(P495,LOOKUP(P495,'NEC Rules'!$A$2:$B$28),\"\")","v":""},null,"","",null,null,null,"","","",null,null,null,null,null,null,null,null,null,null,null,null,null,null,{"$error":"#VALUE!"}]
[{"$error":"#REF!"},null,null,null,{"$f":"IF(D496,LOOKUP(D496,'NEC Rules'!$A$2:$B$28),\"\")","v":""},null,null,{"$f":"IF(G496,LOOKUP(G496,'NEC Rules'!$A$2:$B$28),\"\")","v":""},null,null,{"$f":"IF(J496,LOOKUP(J496,'NEC Rules'!$A$2:$B$28),\"\")","v":""},null,null,{"$f":"IF(M496,LOOKUP(M496,'NEC Rules'!$A$2:$B$28),\"\")","v":""},null,null,{"$f":"IF(P496,LOOKUP(P496,'NEC Rules'!$A$2:$B$28),\"\")","v":""},null,"","",null,null,null,"","","",null,null,null,null,null,null,null,null,null,null,null,null,null,null,{"$error":"#VALUE!"}]
[{"$error":"#REF!"},null,null,null,{"$f":"IF(D497,LOOKUP(D497,'NEC Rules'!$A$2:$B$28),\"\")","v":""},null,null,{"$f":"IF(G497,LOOKUP(G497,'NEC Rules'!$A$2:$B$28),\"\")","v":""},null,null,{"$f":"IF(J497,LOOKUP(J497,'NEC Rules'!$A$2:$B$28),\"\")","v":""},null,null,{"$f":"IF(M497,LOOKUP(M497,'NEC Rules'!$A$2:$B$28),\"\")","v":""},null,null,{"$f":"IF(P497,LOOKUP(P497,'NEC Rules'!$A$2:$B$28),\"\")","v":""},null,"","",null,null,null,"","","",null,null,null,null,null,null,null,null,null,null,null,null,null,null,{"$error":"#VALUE!"}]
[{"$error":"#REF!"},null,null,null,{"$f":"IF(D498,LOOKUP(D498,'NEC Rules'!$A$2:$B$28),\"\")","v":""},null,null,{"$f":"IF(G498,LOOKUP(G498,'NEC Rules'!$A$2:$B$28),\"\")","v":""},null,null,{"$f":"IF(J498,LOOKUP(J498,'NEC Rules'!$A$2:$B$28),\"\")","v":""},null,null,{"$f":"IF(M498,LOOKUP(M498,'NEC Rules'!$A$2:$B$28),\"\")","v":""},null,null,{"$f":"IF(P498,LOOKUP(P498,'NEC Rules'!$A$2:$B$28),\"\")","v":""},null,"","",null,null,null,"","","",null,null,null,null,null,null,null,null,null,null,null,null,null,null,{"$error":"#VALUE!"}]
[{"$error":"#REF!"},null,null,null,{"$f":"IF(D499,LOOKUP(D499,'NEC Rules'!$A$2:$B$28),\"\")","v":""},null,null,{"$f":"IF(G499,LOOKUP(G499,'NEC Rules'!$A$2:$B$28),\"\")","v":""},null,null,{"$f":"IF(J499,LOOKUP(J499,'NEC Rules'!$A$2:$B$28),\"\")","v":""},null,null,{"$f":"IF(M499,LOOKUP(M499,'NEC Rules'!$A$2:$B$28),\"\")","v":""},null,null,{"$f":"IF(P499,LOOKUP(P499,'NEC Rules'!$A$2:$B$28),\"\")","v":""},null,"","",null,null,null,"","","",null,null,null,null,null,null,null,null,null,null,null,null,null,null,{"$error":"#VALUE!"},null,null,0.65,0]
[{"$error":"#REF!"},null,null,null,{"$f":"IF(D500,LOOKUP(D500,'NEC Rules'!$A$2:$B$28),\"\")","v":""},null,null,{"$f":"IF(G500,LOOKUP(G500,'NEC Rules'!$A$2:$B$28),\"\")","v":""},null,null,{"$f":"IF(J500,LOOKUP(J500,'NEC Rules'!$A$2:$B$28),\"\")","v":""},null,null,{"$f":"IF(M500,LOOKUP(M500,'NEC Rules'!$A$2:$B$28),\"\")","v":""},null,null,{"$f":"IF(P500,LOOKUP(P500,'NEC Rules'!$A$2:$B$28),\"\")","v":""},null,"","",null,null,null,"","","",null,null,null,null,null,null,null,null,null,null,null,null,null,null,{"$error":"#VALUE!"},null,null,0.65,0]
[{"$error":"#REF!"},null,null,null,{"$f":"IF(D501,LOOKUP(D501,'NEC Rules'!$A$2:$B$28),\"\")","v":""},null,null,{"$f":"IF(G501,LOOKUP(G501,'NEC Rules'!$A$2:$B$28),\"\")","v":""},null,null,{"$f":"IF(J501,LOOKUP(J501,'NEC Rules'!$A$2:$B$28),\"\")","v":""},null,null,{"$f":"IF(M501,LOOKUP(M501,'NEC Rules'!$A$2:$B$28),\"\")","v":""},null,null,{"$f":"IF(P501,LOOKUP(P501,'NEC Rules'!$A$2:$B$28),\"\")","v":""},null,"","",null,null,null,"","","",null,null,null,null,null,null,null,null,null,null,null,null,null,null,{"$error":"#VALUE!"},null,null,0.65]
[{"$error":"#REF!"},null,null,null,{"$f":"IF(D502,LOOKUP(D502,'NEC Rules'!$A$2:$B$28),\"\")","v":""},null,null,{"$f":"IF(G502,LOOKUP(G502,'NEC Rules'!$A$2:$B$28),\"\")","v":""},null,null,{"$f":"IF(J502,LOOKUP(J502,'NEC Rules'!$A$2:$B$28),\"\")","v":""},null,null,{"$f":"IF(M502,LOOKUP(M502,'NEC Rules'!$A$2:$B$28),\"\")","v":""},null,null,{"$f":"IF(P502,LOOKUP(P502,'NEC Rules'!$A$2:$B$28),\"\")","v":""},null,"","",null,null,null,"","","",null,null,null,null,null,null,null,null,null,null,null,null,null,null,{"$error":"#VALUE!"},null,null,0.65,0]
[{"$error":"#REF!"},null,null,null,{"$f":"IF(D503,LOOKUP(D503,'NEC Rules'!$A$2:$B$28),\"\")","v":""},null,null,{"$f":"IF(G503,LOOKUP(G503,'NEC Rules'!$A$2:$B$28),\"\")","v":""},null,null,{"$f":"IF(J503,LOOKUP(J503,'NEC Rules'!$A$2:$B$28),\"\")","v":""},null,null,{"$f":"IF(M503,LOOKUP(M503,'NEC Rules'!$A$2:$B$28),\"\")","v":""},null,null,{"$f":"IF(P503,LOOKUP(P503,'NEC Rules'!$A$2:$B$28),\"\")","v":""},null,"","",null,null,null,"","","",null,null,null,null,null,null,null,null,null,null,null,null,null,null,{"$error":"#VALUE!"},null,null,0.65,0]
[{"$error":"#REF!"},null,null,null,{"$f":"IF(D504,LOOKUP(D504,'NEC Rules'!$A$2:$B$28),\"\")","v":""},null,null,{"$f":"IF(G504,LOOKUP(G504,'NEC Rules'!$A$2:$B$28),\"\")","v":""},null,null,{"$f":"IF(J504,LOOKUP(J504,'NEC Rules'!$A$2:$B$28),\"\")","v":""},null,null,{"$f":"IF(M504,LOOKUP(M504,'NEC Rules'!$A$2:$B$28),\"\")","v":""},null,null,{"$f":"IF(P504,LOOKUP(P504,'NEC Rules'!$A$2:$B$28),\"\")","v":""},null,"","",null,null,null,"","","",null,null,null,null,null,null,null,null,null,null,null,null,null,null,{"$error":"#VALUE!"},null,null,0.65,0]
[{"$error":"#REF!"},null,null,null,{"$f":"IF(D505,LOOKUP(D505,'NEC Rules'!$A$2:$B$28),\"\")","v":""},null,null,{"$f":"IF(G505,LOOKUP(G505,'NEC Rules'!$A$2:$B$28),\"\")","v":""},null,null,{"$f":"IF(J505,LOOKUP(J505,'NEC Rules'!$A$2:$B$28),\"\")","v":""},null,null,{"$f":"IF(M505,LOOKUP(M505,'NEC Rules'!$A$2:$B$28),\"\")","v":""},null,null,{"$f":"IF(P505,LOOKUP(P505,'NEC Rules'!$A$2:$B$28),\"\")","v":""},null,"","",null,null,null,"","","",null,null,null,null,null,null,null,null,null,null,null,null,null,null,{"$error":"#VALUE!"},null,null,0.65,0]
[{"$error":"#REF!"},null,null,null,{"$f":"IF(D506,LOOKUP(D506,'NEC Rules'!$A$2:$B$28),\"\")","v":""},null,null,{"$f":"IF(G506,LOOKUP(G506,'NEC Rules'!$A$2:$B$28),\"\")","v":""},null,null,{"$f":"IF(J506,LOOKUP(J506,'NEC Rules'!$A$2:$B$28),\"\")","v":""},null,null,{"$f":"IF(M506,LOOKUP(M506,'NEC Rules'!$A$2:$B$28),\"\")","v":""},null,null,{"$f":"IF(P506,LOOKUP(P506,'NEC Rules'!$A$2:$B$28),\"\")","v":""},null,"","",null,null,null,"","","",null,null,null,null,null,null,null,null,null,null,null,null,null,null,{"$error":"#VALUE!"},null,null,0.65,0]
[{"$error":"#REF!"},null,null,null,{"$f":"IF(D507,LOOKUP(D507,'NEC Rules'!$A$2:$B$28),\"\")","v":""},null,null,{"$f":"IF(G507,LOOKUP(G507,'NEC Rules'!$A$2:$B$28),\"\")","v":""},null,null,{"$f":"IF(J507,LOOKUP(J507,'NEC Rules'!$A$2:$B$28),\"\")","v":""},null,null,{"$f":"IF(M507,LOOKUP(M507,'NEC Rules'!$A$2:$B$28),\"\")","v":""},null,null,{"$f":"IF(P507,LOOKUP(P507,'NEC Rules'!$A$2:$B$28),\"\")","v":""},null,"","",null,null,null,"","","",null,null,null,null,null,null,null,null,null,null,null,null,null,null,{"$error":"#VALUE!"},null,null,0.65,0]
[{"$error":"#REF!"},null,null,null,{"$f":"IF(D508,LOOKUP(D508,'NEC Rules'!$A$2:$B$28),\"\")","v":""},null,null,{"$f":"IF(G508,LOOKUP(G508,'NEC Rules'!$A$2:$B$28),\"\")","v":""},null,null,{"$f":"IF(J508,LOOKUP(J508,'NEC Rules'!$A$2:$B$28),\"\")","v":""},null,null,{"$f":"IF(M508,LOOKUP(M508,'NEC Rules'!$A$2:$B$28),\"\")","v":""},null,null,{"$f":"IF(P508,LOOKUP(P508,'NEC Rules'!$A$2:$B$28),\"\")","v":""},null,"","",null,null,null,"","","",null,null,null,null,null,null,null,null,null,null,null,null,null,null,{"$error":"#VALUE!"},null,null,0.65,0]
[{"$error":"#REF!"},null,null,null,{"$f":"IF(D509,LOOKUP(D509,'NEC Rules'!$A$2:$B$28),\"\")","v":""},null,null,{"$f":"IF(G509,LOOKUP(G509,'NEC Rules'!$A$2:$B$28),\"\")","v":""},null,null,{"$f":"IF(J509,LOOKUP(J509,'NEC Rules'!$A$2:$B$28),\"\")","v":""},null,null,{"$f":"IF(M509,LOOKUP(M509,'NEC Rules'!$A$2:$B$28),\"\")","v":""},null,null,{"$f":"IF(P509,LOOKUP(P509,'NEC Rules'!$A$2:$B$28),\"\")","v":""},null,"","",null,null,null,"","","",null,null,null,null,null,null,null,null,null,null,null,null,null,null,{"$error":"#VALUE!"},null,null,0.65,0]
[{"$error":"#REF!"},null,null,null,{"$f":"IF(D510,LOOKUP(D510,'NEC Rules'!$A$2:$B$28),\"\")","v":""},null,null,{"$f":"IF(G510,LOOKUP(G510,'NEC Rules'!$A$2:$B$28),\"\")","v":""},null,null,{"$f":"IF(J510,LOOKUP(J510,'NEC Rules'!$A$2:$B$28),\"\")","v":""},null,null,{"$f":"IF(M510,LOOKUP(M510,'NEC Rules'!$A$2:$B$28),\"\")","v":""},null,null,{"$f":"IF(P510,LOOKUP(P510,'NEC Rules'!$A$2:$B$28),\"\")","v":""},null,"","",null,null,null,"","","",null,null,null,null,null,null,null,null,null,null,null,null,null,null,{"$error":"#VALUE!"},null,null,0.65,0]
[{"$error":"#REF!"},null,null,null,{"$f":"IF(D511,LOOKUP(D511,'NEC Rules'!$A$2:$B$28),\"\")","v":""},null,null,{"$f":"IF(G511,LOOKUP(G511,'NEC Rules'!$A$2:$B$28),\"\")","v":""},null,null,{"$f":"IF(J511,LOOKUP(J511,'NEC Rules'!$A$2:$B$28),\"\")","v":""},null,null,{"$f":"IF(M511,LOOKUP(M511,'NEC Rules'!$A$2:$B$28),\"\")","v":""},null,null,{"$f":"IF(P511,LOOKUP(P511,'NEC Rules'!$A$2:$B$28),\"\")","v":""},null,"","",null,null,null,"","","",null,null,null,null,null,null,null,null,null,null,null,null,null,null,{"$error":"#VALUE!"},null,null,0.65,0]
[{"$error":"#REF!"},null,null,null,{"$f":"IF(D512,LOOKUP(D512,'NEC Rules'!$A$2:$B$28),\"\")","v":""},null,null,{"$f":"IF(G512,LOOKUP(G512,'NEC Rules'!$A$2:$B$28),\"\")","v":""},null,null,{"$f":"IF(J512,LOOKUP(J512,'NEC Rules'!$A$2:$B$28),\"\")","v":""},null,null,{"$f":"IF(M512,LOOKUP(M512,'NEC Rules'!$A$2:$B$28),\"\")","v":""},null,null,{"$f":"IF(P512,LOOKUP(P512,'NEC Rules'!$A$2:$B$28),\"\")","v":""},null,"","",null,null,null,"","","",null,null,null,null,null,null,null,null,null,null,null,null,null,null,{"$error":"#VALUE!"}]
[{"$error":"#REF!"},null,null,null,{"$f":"IF(D513,LOOKUP(D513,'NEC Rules'!$A$2:$B$28),\"\")","v":""},null,null,{"$f":"IF(G513,LOOKUP(G513,'NEC Rules'!$A$2:$B$28),\"\")","v":""},null,null,{"$f":"IF(J513,LOOKUP(J513,'NEC Rules'!$A$2:$B$28),\"\")","v":""},null,null,{"$f":"IF(M513,LOOKUP(M513,'NEC Rules'!$A$2:$B$28),\"\")","v":""},null,null,{"$f":"IF(P513,LOOKUP(P513,'NEC Rules'!$A$2:$B$28),\"\")","v":""},null,"","",null,null,null,"","","",null,null,null,null,null,null,null,null,null,null,null,null,null,null,{"$error":"#VALUE!"},null,null,0.65,0]
[{"$error":"#REF!"},null,null,null,{"$f":"IF(D514,LOOKUP(D514,'NEC Rules'!$A$2:$B$28),\"\")","v":""},null,null,{"$f":"IF(G514,LOOKUP(G514,'NEC Rules'!$A$2:$B$28),\"\")","v":""},null,null,{"$f":"IF(J514,LOOKUP(J514,'NEC Rules'!$A$2:$B$28),\"\")","v":""},null,null,{"$f":"IF(M514,LOOKUP(M514,'NEC Rules'!$A$2:$B$28),\"\")","v":""},null,null,{"$f":"IF(P514,LOOKUP(P514,'NEC Rules'!$A$2:$B$28),\"\")","v":""},null,{"$f":"CalcHP(D514,F514,G514,I514,J514,L514,M514,O514,P514,R514)","v":""},"",null,null,null,"","","",null,null,null,null,null,null,null,null,null,null,null,null,null,null,{"$error":"#VALUE!"},null,null,0.65,0]
[{"$error":"#REF!"},null,null,null,{"$f":"IF(D515,LOOKUP(D515,'NEC Rules'!$A$2:$B$28),\"\")","v":""},null,null,{"$f":"IF(G515,LOOKUP(G515,'NEC Rules'!$A$2:$B$28),\"\")","v":""},null,null,{"$f":"IF(J515,LOOKUP(J515,'NEC Rules'!$A$2:$B$28),\"\")","v":""},null,null,{"$f":"IF(M515,LOOKUP(M515,'NEC Rules'!$A$2:$B$28),\"\")","v":""},null,null,{"$f":"IF(P515,LOOKUP(P515,'NEC Rules'!$A$2:$B$28),\"\")","v":""},null,"","",null,null,null,"",{"$f":"CalcMPF(V515,D515,E515,F515,H515,I515,K515,L515,N515,O515,Q515,R515,T515,U515)","v":""},"",null,null,null,null,null,null,null,null,null,null,null,null,null,null,{"$error":"#VALUE!"},null,null,0.65,0]
[{"$error":"#REF!"},null,null,null,{"$f":"IF(D516,LOOKUP(D516,'NEC Rules'!$A$2:$B$28),\"\")","v":""},null,null,{"$f":"IF(G516,LOOKUP(G516,'NEC Rules'!$A$2:$B$28),\"\")","v":""},null,null,{"$f":"IF(J516,LOOKUP(J516,'NEC Rules'!$A$2:$B$28),\"\")","v":""},null,null,{"$f":"IF(M516,LOOKUP(M516,'NEC Rules'!$A$2:$B$28),\"\")","v":""},null,null,{"$f":"IF(P516,LOOKUP(P516,'NEC Rules'!$A$2:$B$28),\"\")","v":""},null,"",{"$f":"IF(D516,10,\"\")","v":""},null,null,null,{"$f":"IF((V516*W516),(V516*W516),\"\")","v":""},"",{"$f":"CalcPD(Y516)","v":""},null,null,null,null,null,null,null,null,null,null,null,null,null,null,{"$f":"X516*480*0.03","v":{"$error":"#VALUE!"}},null,null,0.65,0]
[{"$f":"A516+1","v":{"$error":"#REF!"}},null,null,null,{"$f":"IF(D517,LOOKUP(D517,'NEC Rules'!$A$2:$B$28),\"\")","v":""},null,null,{"$f":"IF(G517,LOOKUP(G517,'NEC Rules'!$A$2:$B$28),\"\")","v":""},null,null,{"$f":"IF(J517,LOOKUP(J517,'NEC Rules'!$A$2:$B$28),\"\")","v":""},null,null,{"$f":"IF(M517,LOOKUP(M517,'NEC Rules'!$A$2:$B$28),\"\")","v":""},null,null,{"$f":"IF(P517,LOOKUP(P517,'NEC Rules'!$A$2:$B$28),\"\")","v":""},null,"","",null,null,null,"","","",null,null,null,null,null,null,null,null,null,null,null,null,null,null,{"$error":"#VALUE!"},null,null,0.65,0]
[{"$error":"#REF!"},null,null,null,{"$f":"IF(D518,LOOKUP(D518,'NEC Rules'!$A$2:$B$28),\"\")","v":""},null,null,{"$f":"IF(G518,LOOKUP(G518,'NEC Rules'!$A$2:$B$28),\"\")","v":""},null,null,{"$f":"IF(J518,LOOKUP(J518,'NEC Rules'!$A$2:$B$28),\"\")","v":""},null,null,{"$f":"IF(M518,LOOKUP(M518,'NEC Rules'!$A$2:$B$28),\"\")","v":""},null,null,{"$f":"IF(P518,LOOKUP(P518,'NEC Rules'!$A$2:$B$28),\"\")","v":""},null,"","",null,null,null,"","","",null,null,null,null,null,null,null,null,null,null,null,null,null,null,{"$error":"#VALUE!"},null,null,0.65,0]
[{"$error":"#REF!"},null,null,null,{"$f":"IF(D519,LOOKUP(D519,'NEC Rules'!$A$2:$B$28),\"\")","v":""},null,null,{"$f":"IF(G519,LOOKUP(G519,'NEC Rules'!$A$2:$B$28),\"\")","v":""},null,null,{"$f":"IF(J519,LOOKUP(J519,'NEC Rules'!$A$2:$B$28),\"\")","v":""},null,null,{"$f":"IF(M519,LOOKUP(M519,'NEC Rules'!$A$2:$B$28),\"\")","v":""},null,null,{"$f":"IF(P519,LOOKUP(P519,'NEC Rules'!$A$2:$B$28),\"\")","v":""},null,"","",null,null,null,"","","",null,null,null,null,null,null,null,null,null,null,null,null,null,null,{"$error":"#VALUE!"},null,null,0.65,0]
[{"$error":"#REF!"},null,null,null,{"$f":"IF(D520,LOOKUP(D520,'NEC Rules'!$A$2:$B$28),\"\")","v":""},null,null,{"$f":"IF(G520,LOOKUP(G520,'NEC Rules'!$A$2:$B$28),\"\")","v":""},null,null,{"$f":"IF(J520,LOOKUP(J520,'NEC Rules'!$A$2:$B$28),\"\")","v":""},null,null,{"$f":"IF(M520,LOOKUP(M520,'NEC Rules'!$A$2:$B$28),\"\")","v":""},null,null,{"$f":"IF(P520,LOOKUP(P520,'NEC Rules'!$A$2:$B$28),\"\")","v":""},null,"","",null,null,null,"","","",null,null,null,null,null,null,null,null,null,null,null,null,null,null,{"$error":"#VALUE!"},null,null,0.65,0]
[{"$error":"#REF!"},null,null,null,{"$f":"IF(D521,LOOKUP(D521,'NEC Rules'!$A$2:$B$28),\"\")","v":""},null,null,{"$f":"IF(G521,LOOKUP(G521,'NEC Rules'!$A$2:$B$28),\"\")","v":""},null,null,{"$f":"IF(J521,LOOKUP(J521,'NEC Rules'!$A$2:$B$28),\"\")","v":""},null,null,{"$f":"IF(M521,LOOKUP(M521,'NEC Rules'!$A$2:$B$28),\"\")","v":""},null,null,{"$f":"IF(P521,LOOKUP(P521,'NEC Rules'!$A$2:$B$28),\"\")","v":""},null,"","",null,null,null,"","","",null,null,null,null,null,null,null,null,null,null,null,null,null,null,{"$error":"#VALUE!"},null,null,0.65,0]
[{"$error":"#REF!"},null,null,null,{"$f":"IF(D522,LOOKUP(D522,'NEC Rules'!$A$2:$B$28),\"\")","v":""},null,null,{"$f":"IF(G522,LOOKUP(G522,'NEC Rules'!$A$2:$B$28),\"\")","v":""},null,null,{"$f":"IF(J522,LOOKUP(J522,'NEC Rules'!$A$2:$B$28),\"\")","v":""},null,null,{"$f":"IF(M522,LOOKUP(M522,'NEC Rules'!$A$2:$B$28),\"\")","v":""},null,null,{"$f":"IF(P522,LOOKUP(P522,'NEC Rules'!$A$2:$B$28),\"\")","v":""},null,"","",null,null,null,"","","",null,null,null,null,null,null,null,null,null,null,null,null,null,null,{"$error":"#VALUE!"},null,null,0.65,0]
[{"$error":"#REF!"},null,null,null,{"$f":"IF(D523,LOOKUP(D523,'NEC Rules'!$A$2:$B$28),\"\")","v":""},null,null,{"$f":"IF(G523,LOOKUP(G523,'NEC Rules'!$A$2:$B$28),\"\")","v":""},null,null,{"$f":"IF(J523,LOOKUP(J523,'NEC Rules'!$A$2:$B$28),\"\")","v":""},null,null,{"$f":"IF(M523,LOOKUP(M523,'NEC Rules'!$A$2:$B$28),\"\")","v":""},null,null,{"$f":"IF(P523,LOOKUP(P523,'NEC Rules'!$A$2:$B$28),\"\")","v":""},null,"","",null,null,null,"","","",null,null,null,null,null,null,null,null,null,null,null,null,null,null,{"$error":"#VALUE!"},null,null,0.65,0]
[{"$error":"#REF!"},null,null,null,{"$f":"IF(D524,LOOKUP(D524,'NEC Rules'!$A$2:$B$28),\"\")","v":""},null,null,{"$f":"IF(G524,LOOKUP(G524,'NEC Rules'!$A$2:$B$28),\"\")","v":""},null,null,{"$f":"IF(J524,LOOKUP(J524,'NEC Rules'!$A$2:$B$28),\"\")","v":""},null,null,{"$f":"IF(M524,LOOKUP(M524,'NEC Rules'!$A$2:$B$28),\"\")","v":""},null,null,{"$f":"IF(P524,LOOKUP(P524,'NEC Rules'!$A$2:$B$28),\"\")","v":""},null,"","",null,null,null,"","","",null,null,null,null,null,null,null,null,null,null,null,null,null,null,{"$error":"#VALUE!"},null,null,0.65,0]
[{"$error":"#REF!"},null,null,null,{"$f":"IF(D525,LOOKUP(D525,'NEC Rules'!$A$2:$B$28),\"\")","v":""},null,null,{"$f":"IF(G525,LOOKUP(G525,'NEC Rules'!$A$2:$B$28),\"\")","v":""},null,null,{"$f":"IF(J525,LOOKUP(J525,'NEC Rules'!$A$2:$B$28),\"\")","v":""},null,null,{"$f":"IF(M525,LOOKUP(M525,'NEC Rules'!$A$2:$B$28),\"\")","v":""},null,null,{"$f":"IF(P525,LOOKUP(P525,'NEC Rules'!$A$2:$B$28),\"\")","v":""},null,"","",null,null,null,"","","",null,null,null,null,null,null,null,null,null,null,null,null,null,null,{"$error":"#VALUE!"},null,null,0.65,0]
[{"$error":"#REF!"},null,null,null,{"$f":"IF(D526,LOOKUP(D526,'NEC Rules'!$A$2:$B$28),\"\")","v":""},null,null,{"$f":"IF(G526,LOOKUP(G526,'NEC Rules'!$A$2:$B$28),\"\")","v":""},null,null,{"$f":"IF(J526,LOOKUP(J526,'NEC Rules'!$A$2:$B$28),\"\")","v":""},null,null,{"$f":"IF(M526,LOOKUP(M526,'NEC Rules'!$A$2:$B$28),\"\")","v":""},null,null,{"$f":"IF(P526,LOOKUP(P526,'NEC Rules'!$A$2:$B$28),\"\")","v":""},null,"","",null,null,null,"","","",null,null,null,null,null,null,null,null,null,null,null,null,null,null,{"$error":"#VALUE!"},null,null,0.65,0]
[{"$error":"#REF!"},null,null,null,{"$f":"IF(D527,LOOKUP(D527,'NEC Rules'!$A$2:$B$28),\"\")","v":""},null,null,{"$f":"IF(G527,LOOKUP(G527,'NEC Rules'!$A$2:$B$28),\"\")","v":""},null,null,{"$f":"IF(J527,LOOKUP(J527,'NEC Rules'!$A$2:$B$28),\"\")","v":""},null,null,{"$f":"IF(M527,LOOKUP(M527,'NEC Rules'!$A$2:$B$28),\"\")","v":""},null,null,{"$f":"IF(P527,LOOKUP(P527,'NEC Rules'!$A$2:$B$28),\"\")","v":""},null,"","",null,null,null,"","","",null,null,null,null,null,null,null,null,null,null,null,null,null,null,{"$error":"#VALUE!"},null,null,0.65,0]
[{"$error":"#REF!"},null,null,null,{"$f":"IF(D528,LOOKUP(D528,'NEC Rules'!$A$2:$B$28),\"\")","v":""},null,null,{"$f":"IF(G528,LOOKUP(G528,'NEC Rules'!$A$2:$B$28),\"\")","v":""},null,null,{"$f":"IF(J528,LOOKUP(J528,'NEC Rules'!$A$2:$B$28),\"\")","v":""},null,null,{"$f":"IF(M528,LOOKUP(M528,'NEC Rules'!$A$2:$B$28),\"\")","v":""},null,null,{"$f":"IF(P528,LOOKUP(P528,'NEC Rules'!$A$2:$B$28),\"\")","v":""},null,"","",null,null,null,"","","",null,null,null,null,null,null,null,null,null,null,null,null,null,null,{"$error":"#VALUE!"}]
[{"$error":"#REF!"},null,null,null,{"$f":"IF(D529,LOOKUP(D529,'NEC Rules'!$A$2:$B$28),\"\")","v":""},null,null,{"$f":"IF(G529,LOOKUP(G529,'NEC Rules'!$A$2:$B$28),\"\")","v":""},null,null,{"$f":"IF(J529,LOOKUP(J529,'NEC Rules'!$A$2:$B$28),\"\")","v":""},null,null,{"$f":"IF(M529,LOOKUP(M529,'NEC Rules'!$A$2:$B$28),\"\")","v":""},null,null,{"$f":"IF(P529,LOOKUP(P529,'NEC Rules'!$A$2:$B$28),\"\")","v":""},null,"","",null,null,null,"","","",null,null,null,null,null,null,null,null,null,null,null,null,null,null,{"$error":"#VALUE!"},null,null,0.65,0]
[{"$error":"#REF!"},null,null,null,{"$f":"IF(D530,LOOKUP(D530,'NEC Rules'!$A$2:$B$28),\"\")","v":""},null,null,{"$f":"IF(G530,LOOKUP(G530,'NEC Rules'!$A$2:$B$28),\"\")","v":""},null,null,{"$f":"IF(J530,LOOKUP(J530,'NEC Rules'!$A$2:$B$28),\"\")","v":""},null,null,{"$f":"IF(M530,LOOKUP(M530,'NEC Rules'!$A$2:$B$28),\"\")","v":""},null,null,{"$f":"IF(P530,LOOKUP(P530,'NEC Rules'!$A$2:$B$28),\"\")","v":""},null,"","",null,null,null,"","","",null,null,null,null,null,null,null,null,null,null,null,null,null,null,{"$error":"#VALUE!"},null,null,0.65,0]
[{"$error":"#REF!"},null,null,null,{"$f":"IF(D531,LOOKUP(D531,'NEC Rules'!$A$2:$B$28),\"\")","v":""},null,null,{"$f":"IF(G531,LOOKUP(G531,'NEC Rules'!$A$2:$B$28),\"\")","v":""},null,null,{"$f":"IF(J531,LOOKUP(J531,'NEC Rules'!$A$2:$B$28),\"\")","v":""},null,null,{"$f":"IF(M531,LOOKUP(M531,'NEC Rules'!$A$2:$B$28),\"\")","v":""},null,null,{"$f":"IF(P531,LOOKUP(P531,'NEC Rules'!$A$2:$B$28),\"\")","v":""},null,"","",null,null,null,"","","",null,null,null,null,null,null,null,null,null,null,null,null,null,null,{"$error":"#VALUE!"},null,null,0.65,0]
[{"$error":"#REF!"},null,null,null,{"$f":"IF(D532,LOOKUP(D532,'NEC Rules'!$A$2:$B$28),\"\")","v":""},null,null,{"$f":"IF(G532,LOOKUP(G532,'NEC Rules'!$A$2:$B$28),\"\")","v":""},null,null,{"$f":"IF(J532,LOOKUP(J532,'NEC Rules'!$A$2:$B$28),\"\")","v":""},null,null,{"$f":"IF(M532,LOOKUP(M532,'NEC Rules'!$A$2:$B$28),\"\")","v":""},null,null,{"$f":"IF(P532,LOOKUP(P532,'NEC Rules'!$A$2:$B$28),\"\")","v":""},null,"","",null,null,null,"","","",null,null,null,null,null,null,null,null,null,null,null,null,null,null,{"$error":"#VALUE!"},null,null,0.65,0]
[{"$error":"#REF!"},null,null,null,{"$f":"IF(D533,LOOKUP(D533,'NEC Rules'!$A$2:$B$28),\"\")","v":""},null,null,{"$f":"IF(G533,LOOKUP(G533,'NEC Rules'!$A$2:$B$28),\"\")","v":""},null,null,{"$f":"IF(J533,LOOKUP(J533,'NEC Rules'!$A$2:$B$28),\"\")","v":""},null,null,{"$f":"IF(M533,LOOKUP(M533,'NEC Rules'!$A$2:$B$28),\"\")","v":""},null,null,{"$f":"IF(P533,LOOKUP(P533,'NEC Rules'!$A$2:$B$28),\"\")","v":""},null,"","",null,null,null,"","","",null,null,null,null,null,null,null,null,null,null,null,null,null,null,{"$error":"#VALUE!"},null,null,0.65,0]
[{"$error":"#REF!"},null,null,null,{"$f":"IF(D534,LOOKUP(D534,'NEC Rules'!$A$2:$B$28),\"\")","v":""},null,null,{"$f":"IF(G534,LOOKUP(G534,'NEC Rules'!$A$2:$B$28),\"\")","v":""},null,null,{"$f":"IF(J534,LOOKUP(J534,'NEC Rules'!$A$2:$B$28),\"\")","v":""},null,null,{"$f":"IF(M534,LOOKUP(M534,'NEC Rules'!$A$2:$B$28),\"\")","v":""},null,null,{"$f":"IF(P534,LOOKUP(P534,'NEC Rules'!$A$2:$B$28),\"\")","v":""},null,"","",null,null,null,"","","",null,null,null,null,null,null,null,null,null,null,null,null,null,null,{"$error":"#VALUE!"},null,null,0.75,0]
[{"$error":"#REF!"},null,null,null,{"$f":"IF(D535,LOOKUP(D535,'NEC Rules'!$A$2:$B$28),\"\")","v":""},null,null,{"$f":"IF(G535,LOOKUP(G535,'NEC Rules'!$A$2:$B$28),\"\")","v":""},null,null,{"$f":"IF(J535,LOOKUP(J535,'NEC Rules'!$A$2:$B$28),\"\")","v":""},null,null,{"$f":"IF(M535,LOOKUP(M535,'NEC Rules'!$A$2:$B$28),\"\")","v":""},null,null,{"$f":"IF(P535,LOOKUP(P535,'NEC Rules'!$A$2:$B$28),\"\")","v":""},null,"","",null,null,null,"","","",null,null,null,null,null,null,null,null,null,null,null,null,null,null,{"$error":"#VALUE!"},null,null,0.6,0]
[{"$error":"#REF!"},null,null,null,{"$f":"IF(D536,LOOKUP(D536,'NEC Rules'!$A$2:$B$28),\"\")","v":""},null,null,{"$f":"IF(G536,LOOKUP(G536,'NEC Rules'!$A$2:$B$28),\"\")","v":""},null,null,{"$f":"IF(J536,LOOKUP(J536,'NEC Rules'!$A$2:$B$28),\"\")","v":""},null,null,{"$f":"IF(M536,LOOKUP(M536,'NEC Rules'!$A$2:$B$28),\"\")","v":""},null,null,{"$f":"IF(P536,LOOKUP(P536,'NEC Rules'!$A$2:$B$28),\"\")","v":""},null,"","",null,null,null,"","","",null,null,null,null,null,null,null,null,null,null,null,null,null,null,{"$error":"#VALUE!"},null,null,0.5,0]
[{"$error":"#REF!"},null,null,null,{"$f":"IF(D537,LOOKUP(D537,'NEC Rules'!$A$2:$B$28),\"\")","v":""},null,null,{"$f":"IF(G537,LOOKUP(G537,'NEC Rules'!$A$2:$B$28),\"\")","v":""},null,null,{"$f":"IF(J537,LOOKUP(J537,'NEC Rules'!$A$2:$B$28),\"\")","v":""},null,null,{"$f":"IF(M537,LOOKUP(M537,'NEC Rules'!$A$2:$B$28),\"\")","v":""},null,null,{"$f":"IF(P537,LOOKUP(P537,'NEC Rules'!$A$2:$B$28),\"\")","v":""},null,"","",null,null,null,"","","",null,null,null,null,null,null,null,null,null,null,null,null,null,null,{"$error":"#VALUE!"},null,null,0.6,0]
[{"$error":"#REF!"},null,null,null,{"$f":"IF(D538,LOOKUP(D538,'NEC Rules'!$A$2:$B$28),\"\")","v":""},null,null,{"$f":"IF(G538,LOOKUP(G538,'NEC Rules'!$A$2:$B$28),\"\")","v":""},null,null,{"$f":"IF(J538,LOOKUP(J538,'NEC Rules'!$A$2:$B$28),\"\")","v":""},null,null,{"$f":"IF(M538,LOOKUP(M538,'NEC Rules'!$A$2:$B$28),\"\")","v":""},null,null,{"$f":"IF(P538,LOOKUP(P538,'NEC Rules'!$A$2:$B$28),\"\")","v":""},null,"","",null,null,null,"","","",null,null,null,null,null,null,null,null,null,null,null,null,null,null,{"$error":"#VALUE!"},null,null,0.65]
[{"$error":"#REF!"},null,null,null,{"$f":"IF(D539,LOOKUP(D539,'NEC Rules'!$A$2:$B$28),\"\")","v":""},null,null,{"$f":"IF(G539,LOOKUP(G539,'NEC Rules'!$A$2:$B$28),\"\")","v":""},null,null,{"$f":"IF(J539,LOOKUP(J539,'NEC Rules'!$A$2:$B$28),\"\")","v":""},null,null,{"$f":"IF(M539,LOOKUP(M539,'NEC Rules'!$A$2:$B$28),\"\")","v":""},null,null,{"$f":"IF(P539,LOOKUP(P539,'NEC Rules'!$A$2:$B$28),\"\")","v":""},null,"","",null,null,null,"","","",null,null,null,null,null,null,null,null,null,null,null,null,null,null,{"$error":"#VALUE!"},null,null,1,0]
[{"$error":"#REF!"},null,null,null,{"$f":"IF(D540,LOOKUP(D540,'NEC Rules'!$A$2:$B$28),\"\")","v":""},null,null,{"$f":"IF(G540,LOOKUP(G540,'NEC Rules'!$A$2:$B$28),\"\")","v":""},null,null,{"$f":"IF(J540,LOOKUP(J540,'NEC Rules'!$A$2:$B$28),\"\")","v":""},null,null,{"$f":"IF(M540,LOOKUP(M540,'NEC Rules'!$A$2:$B$28),\"\")","v":""},null,null,{"$f":"IF(P540,LOOKUP(P540,'NEC Rules'!$A$2:$B$28),\"\")","v":""},null,"","",null,null,null,"","","",null,null,null,null,null,null,null,null,null,null,null,null,null,null,{"$error":"#VALUE!"},null,null,1]
[{"$error":"#REF!"},null,null,null,{"$f":"IF(D541,LOOKUP(D541,'NEC Rules'!$A$2:$B$28),\"\")","v":""},null,null,{"$f":"IF(G541,LOOKUP(G541,'NEC Rules'!$A$2:$B$28),\"\")","v":""},null,null,{"$f":"IF(J541,LOOKUP(J541,'NEC Rules'!$A$2:$B$28),\"\")","v":""},null,null,{"$f":"IF(M541,LOOKUP(M541,'NEC Rules'!$A$2:$B$28),\"\")","v":""},null,null,{"$f":"IF(P541,LOOKUP(P541,'NEC Rules'!$A$2:$B$28),\"\")","v":""},null,"","",null,null,null,"","","",null,null,null,null,null,null,null,null,null,null,null,null,null,null,{"$error":"#VALUE!"},null,null,1,0]
[{"$error":"#REF!"},null,null,null,{"$f":"IF(D542,LOOKUP(D542,'NEC Rules'!$A$2:$B$28),\"\")","v":""},null,null,{"$f":"IF(G542,LOOKUP(G542,'NEC Rules'!$A$2:$B$28),\"\")","v":""},null,null,{"$f":"IF(J542,LOOKUP(J542,'NEC Rules'!$A$2:$B$28),\"\")","v":""},null,null,{"$f":"IF(M542,LOOKUP(M542,'NEC Rules'!$A$2:$B$28),\"\")","v":""},null,null,{"$f":"IF(P542,LOOKUP(P542,'NEC Rules'!$A$2:$B$28),\"\")","v":""},null,"","",null,null,null,"","","",null,null,null,null,null,null,null,null,null,null,null,null,null,null,{"$error":"#VALUE!"},null,null,1,0]
[{"$error":"#REF!"},null,null,null,{"$f":"IF(D543,LOOKUP(D543,'NEC Rules'!$A$2:$B$28),\"\")","v":""},null,null,{"$f":"IF(G543,LOOKUP(G543,'NEC Rules'!$A$2:$B$28),\"\")","v":""},null,null,{"$f":"IF(J543,LOOKUP(J543,'NEC Rules'!$A$2:$B$28),\"\")","v":""},null,null,{"$f":"IF(M543,LOOKUP(M543,'NEC Rules'!$A$2:$B$28),\"\")","v":""},null,null,{"$f":"IF(P543,LOOKUP(P543,'NEC Rules'!$A$2:$B$28),\"\")","v":""},null,"","",null,null,null,"","","",null,null,null,null,null,null,null,null,null,null,null,null,null,null,{"$error":"#VALUE!"},null,null,1,0]
[{"$error":"#REF!"},null,null,null,{"$f":"IF(D544,LOOKUP(D544,'NEC Rules'!$A$2:$B$28),\"\")","v":""},null,null,{"$f":"IF(G544,LOOKUP(G544,'NEC Rules'!$A$2:$B$28),\"\")","v":""},null,null,{"$f":"IF(J544,LOOKUP(J544,'NEC Rules'!$A$2:$B$28),\"\")","v":""},null,null,{"$f":"IF(M544,LOOKUP(M544,'NEC Rules'!$A$2:$B$28),\"\")","v":""},null,null,{"$f":"IF(P544,LOOKUP(P544,'NEC Rules'!$A$2:$B$28),\"\")","v":""},null,"","",null,null,null,"","","",null,null,null,null,null,null,null,null,null,null,null,null,null,null,{"$error":"#VALUE!"},null,null,1,0]
[{"$error":"#REF!"},null,null,null,{"$f":"IF(D545,LOOKUP(D545,'NEC Rules'!$A$2:$B$28),\"\")","v":""},null,null,{"$f":"IF(G545,LOOKUP(G545,'NEC Rules'!$A$2:$B$28),\"\")","v":""},null,null,{"$f":"IF(J545,LOOKUP(J545,'NEC Rules'!$A$2:$B$28),\"\")","v":""},null,null,{"$f":"IF(M545,LOOKUP(M545,'NEC Rules'!$A$2:$B$28),\"\")","v":""},null,null,{"$f":"IF(P545,LOOKUP(P545,'NEC Rules'!$A$2:$B$28),\"\")","v":""},null,"","",null,null,null,"","","",null,null,null,null,null,null,null,null,null,null,null,null,null,null,{"$error":"#VALUE!"},null,null,1,0]
[{"$error":"#REF!"},null,null,null,{"$f":"IF(D546,LOOKUP(D546,'NEC Rules'!$A$2:$B$28),\"\")","v":""},null,null,{"$f":"IF(G546,LOOKUP(G546,'NEC Rules'!$A$2:$B$28),\"\")","v":""},null,null,{"$f":"IF(J546,LOOKUP(J546,'NEC Rules'!$A$2:$B$28),\"\")","v":""},null,null,{"$f":"IF(M546,LOOKUP(M546,'NEC Rules'!$A$2:$B$28),\"\")","v":""},null,null,{"$f":"IF(P546,LOOKUP(P546,'NEC Rules'!$A$2:$B$28),\"\")","v":""},null,"","",null,null,null,"","","",null,null,null,null,null,null,null,null,null,null,null,null,null,null,{"$error":"#VALUE!"},null,null,1,0]
[{"$error":"#REF!"},null,null,null,{"$f":"IF(D547,LOOKUP(D547,'NEC Rules'!$A$2:$B$28),\"\")","v":""},null,null,{"$f":"IF(G547,LOOKUP(G547,'NEC Rules'!$A$2:$B$28),\"\")","v":""},null,null,{"$f":"IF(J547,LOOKUP(J547,'NEC Rules'!$A$2:$B$28),\"\")","v":""},null,null,{"$f":"IF(M547,LOOKUP(M547,'NEC Rules'!$A$2:$B$28),\"\")","v":""},null,null,{"$f":"IF(P547,LOOKUP(P547,'NEC Rules'!$A$2:$B$28),\"\")","v":""},null,"","",null,null,null,"","","",null,null,null,null,null,null,null,null,null,null,null,null,null,null,{"$error":"#VALUE!"},null,null,1,0]
[{"$error":"#REF!"},null,null,null,{"$f":"IF(D548,LOOKUP(D548,'NEC Rules'!$A$2:$B$28),\"\")","v":""},null,null,{"$f":"IF(G548,LOOKUP(G548,'NEC Rules'!$A$2:$B$28),\"\")","v":""},null,null,{"$f":"IF(J548,LOOKUP(J548,'NEC Rules'!$A$2:$B$28),\"\")","v":""},null,null,{"$f":"IF(M548,LOOKUP(M548,'NEC Rules'!$A$2:$B$28),\"\")","v":""},null,null,{"$f":"IF(P548,LOOKUP(P548,'NEC Rules'!$A$2:$B$28),\"\")","v":""},null,"","",null,null,null,"","","",null,null,null,null,null,null,null,null,null,null,null,null,null,null,{"$error":"#VALUE!"},null,null,0.5,0]
[{"$error":"#REF!"},null,null,null,{"$f":"IF(D549,LOOKUP(D549,'NEC Rules'!$A$2:$B$28),\"\")","v":""},null,null,{"$f":"IF(G549,LOOKUP(G549,'NEC Rules'!$A$2:$B$28),\"\")","v":""},null,null,{"$f":"IF(J549,LOOKUP(J549,'NEC Rules'!$A$2:$B$28),\"\")","v":""},null,null,{"$f":"IF(M549,LOOKUP(M549,'NEC Rules'!$A$2:$B$28),\"\")","v":""},null,null,{"$f":"IF(P549,LOOKUP(P549,'NEC Rules'!$A$2:$B$28),\"\")","v":""},null,"","",null,null,null,"","","",null,null,null,null,null,null,null,null,null,null,null,null,null,null,{"$error":"#VALUE!"},null,null,1,0]
[{"$error":"#REF!"},null,null,null,{"$f":"IF(D550,LOOKUP(D550,'NEC Rules'!$A$2:$B$28),\"\")","v":""},null,null,{"$f":"IF(G550,LOOKUP(G550,'NEC Rules'!$A$2:$B$28),\"\")","v":""},null,null,{"$f":"IF(J550,LOOKUP(J550,'NEC Rules'!$A$2:$B$28),\"\")","v":""},null,null,{"$f":"IF(M550,LOOKUP(M550,'NEC Rules'!$A$2:$B$28),\"\")","v":""},null,null,{"$f":"IF(P550,LOOKUP(P550,'NEC Rules'!$A$2:$B$28),\"\")","v":""},null,"","",null,null,null,"","","",null,null,null,null,null,null,null,null,null,null,null,null,null,null,{"$error":"#VALUE!"},null,null,1,0]
[{"$error":"#REF!"},null,null,null,{"$f":"IF(D551,LOOKUP(D551,'NEC Rules'!$A$2:$B$28),\"\")","v":""},null,null,{"$f":"IF(G551,LOOKUP(G551,'NEC Rules'!$A$2:$B$28),\"\")","v":""},null,null,{"$f":"IF(J551,LOOKUP(J551,'NEC Rules'!$A$2:$B$28),\"\")","v":""},null,null,{"$f":"IF(M551,LOOKUP(M551,'NEC Rules'!$A$2:$B$28),\"\")","v":""},null,null,{"$f":"IF(P551,LOOKUP(P551,'NEC Rules'!$A$2:$B$28),\"\")","v":""},null,"","",null,null,null,"","","",null,null,null,null,null,null,null,null,null,null,null,null,null,null,{"$error":"#VALUE!"},null,null,1]
[{"$error":"#REF!"},null,null,null,{"$f":"IF(D552,LOOKUP(D552,'NEC Rules'!$A$2:$B$28),\"\")","v":""},null,null,{"$f":"IF(G552,LOOKUP(G552,'NEC Rules'!$A$2:$B$28),\"\")","v":""},null,null,{"$f":"IF(J552,LOOKUP(J552,'NEC Rules'!$A$2:$B$28),\"\")","v":""},null,null,{"$f":"IF(M552,LOOKUP(M552,'NEC Rules'!$A$2:$B$28),\"\")","v":""},null,null,{"$f":"IF(P552,LOOKUP(P552,'NEC Rules'!$A$2:$B$28),\"\")","v":""},null,"","",null,null,null,"","","",null,null,null,null,null,null,null,null,null,null,null,null,null,null,{"$error":"#VALUE!"},null,null,1,0]
[{"$error":"#REF!"},null,null,null,{"$f":"IF(D553,LOOKUP(D553,'NEC Rules'!$A$2:$B$28),\"\")","v":""},null,null,{"$f":"IF(G553,LOOKUP(G553,'NEC Rules'!$A$2:$B$28),\"\")","v":""},null,null,{"$f":"IF(J553,LOOKUP(J553,'NEC Rules'!$A$2:$B$28),\"\")","v":""},null,null,{"$f":"IF(M553,LOOKUP(M553,'NEC Rules'!$A$2:$B$28),\"\")","v":""},null,null,{"$f":"IF(P553,LOOKUP(P553,'NEC Rules'!$A$2:$B$28),\"\")","v":""},null,"","",null,null,null,"","","",null,null,null,null,null,null,null,null,null,null,null,null,null,null,{"$error":"#VALUE!"},null,null,1,0]
[{"$error":"#REF!"},null,null,null,{"$f":"IF(D554,LOOKUP(D554,'NEC Rules'!$A$2:$B$28),\"\")","v":""},null,null,{"$f":"IF(G554,LOOKUP(G554,'NEC Rules'!$A$2:$B$28),\"\")","v":""},null,null,{"$f":"IF(J554,LOOKUP(J554,'NEC Rules'!$A$2:$B$28),\"\")","v":""},null,null,{"$f":"IF(M554,LOOKUP(M554,'NEC Rules'!$A$2:$B$28),\"\")","v":""},null,null,{"$f":"IF(P554,LOOKUP(P554,'NEC Rules'!$A$2:$B$28),\"\")","v":""},null,"","",null,null,null,"","","",null,null,null,null,null,null,null,null,null,null,null,null,null,null,{"$error":"#VALUE!"},null,null,1,0]
[{"$error":"#REF!"},null,null,null,{"$f":"IF(D555,LOOKUP(D555,'NEC Rules'!$A$2:$B$28),\"\")","v":""},null,null,{"$f":"IF(G555,LOOKUP(G555,'NEC Rules'!$A$2:$B$28),\"\")","v":""},null,null,{"$f":"IF(J555,LOOKUP(J555,'NEC Rules'!$A$2:$B$28),\"\")","v":""},null,null,{"$f":"IF(M555,LOOKUP(M555,'NEC Rules'!$A$2:$B$28),\"\")","v":""},null,null,{"$f":"IF(P555,LOOKUP(P555,'NEC Rules'!$A$2:$B$28),\"\")","v":""},null,"","",null,null,null,"","","",null,null,null,null,null,null,null,null,null,null,null,null,null,null,{"$error":"#VALUE!"},null,null,0,0]
[{"$error":"#REF!"},null,null,null,{"$f":"IF(D556,LOOKUP(D556,'NEC Rules'!$A$2:$B$28),\"\")","v":""},null,null,{"$f":"IF(G556,LOOKUP(G556,'NEC Rules'!$A$2:$B$28),\"\")","v":""},null,null,{"$f":"IF(J556,LOOKUP(J556,'NEC Rules'!$A$2:$B$28),\"\")","v":""},null,null,{"$f":"IF(M556,LOOKUP(M556,'NEC Rules'!$A$2:$B$28),\"\")","v":""},null,null,{"$f":"IF(P556,LOOKUP(P556,'NEC Rules'!$A$2:$B$28),\"\")","v":""},null,"","",null,null,null,"","","",null,null,null,null,null,null,null,null,null,null,null,null,null,null,{"$error":"#VALUE!"},null,null,1,0]
[{"$error":"#REF!"},null,null,null,{"$f":"IF(D557,LOOKUP(D557,'NEC Rules'!$A$2:$B$28),\"\")","v":""},null,null,{"$f":"IF(G557,LOOKUP(G557,'NEC Rules'!$A$2:$B$28),\"\")","v":""},null,null,{"$f":"IF(J557,LOOKUP(J557,'NEC Rules'!$A$2:$B$28),\"\")","v":""},null,null,{"$f":"IF(M557,LOOKUP(M557,'NEC Rules'!$A$2:$B$28),\"\")","v":""},null,null,{"$f":"IF(P557,LOOKUP(P557,'NEC Rules'!$A$2:$B$28),\"\")","v":""},null,"","",null,null,null,"","","",null,null,null,null,null,null,null,null,null,null,null,null,null,null,{"$error":"#VALUE!"},null,null,1,0]
[{"$error":"#REF!"},null,null,null,{"$f":"IF(D558,LOOKUP(D558,'NEC Rules'!$A$2:$B$28),\"\")","v":""},null,null,{"$f":"IF(G558,LOOKUP(G558,'NEC Rules'!$A$2:$B$28),\"\")","v":""},null,null,{"$f":"IF(J558,LOOKUP(J558,'NEC Rules'!$A$2:$B$28),\"\")","v":""},null,null,{"$f":"IF(M558,LOOKUP(M558,'NEC Rules'!$A$2:$B$28),\"\")","v":""},null,null,{"$f":"IF(P558,LOOKUP(P558,'NEC Rules'!$A$2:$B$28),\"\")","v":""},null,"","",null,null,null,"","","",null,null,null,null,null,null,null,null,null,null,null,null,null,null,{"$error":"#VALUE!"},null,null,0,0]
[{"$error":"#REF!"},null,null,null,{"$f":"IF(D559,LOOKUP(D559,'NEC Rules'!$A$2:$B$28),\"\")","v":""},null,null,{"$f":"IF(G559,LOOKUP(G559,'NEC Rules'!$A$2:$B$28),\"\")","v":""},null,null,{"$f":"IF(J559,LOOKUP(J559,'NEC Rules'!$A$2:$B$28),\"\")","v":""},null,null,{"$f":"IF(M559,LOOKUP(M559,'NEC Rules'!$A$2:$B$28),\"\")","v":""},null,null,{"$f":"IF(P559,LOOKUP(P559,'NEC Rules'!$A$2:$B$28),\"\")","v":""},null,"","",null,null,null,"","","",null,null,null,null,null,null,null,null,null,null,null,null,null,null,{"$error":"#VALUE!"},null,null,1,0]
[{"$error":"#REF!"},null,null,null,{"$f":"IF(D560,LOOKUP(D560,'NEC Rules'!$A$2:$B$28),\"\")","v":""},null,null,{"$f":"IF(G560,LOOKUP(G560,'NEC Rules'!$A$2:$B$28),\"\")","v":""},null,null,{"$f":"IF(J560,LOOKUP(J560,'NEC Rules'!$A$2:$B$28),\"\")","v":""},null,null,{"$f":"IF(M560,LOOKUP(M560,'NEC Rules'!$A$2:$B$28),\"\")","v":""},null,null,{"$f":"IF(P560,LOOKUP(P560,'NEC Rules'!$A$2:$B$28),\"\")","v":""},null,"","",null,null,null,"","","",null,null,null,null,null,null,null,null,null,null,null,null,null,null,{"$error":"#VALUE!"},null,null,1,0]
[{"$error":"#REF!"},null,null,null,{"$f":"IF(D561,LOOKUP(D561,'NEC Rules'!$A$2:$B$28),\"\")","v":""},null,null,{"$f":"IF(G561,LOOKUP(G561,'NEC Rules'!$A$2:$B$28),\"\")","v":""},null,null,{"$f":"IF(J561,LOOKUP(J561,'NEC Rules'!$A$2:$B$28),\"\")","v":""},null,null,{"$f":"IF(M561,LOOKUP(M561,'NEC Rules'!$A$2:$B$28),\"\")","v":""},null,null,{"$f":"IF(P561,LOOKUP(P561,'NEC Rules'!$A$2:$B$28),\"\")","v":""},null,"","",null,null,null,"","","",null,null,null,null,null,null,null,null,null,null,null,null,null,null,{"$error":"#VALUE!"},null,null,1,0]
[{"$error":"#REF!"},null,null,null,{"$f":"IF(D562,LOOKUP(D562,'NEC Rules'!$A$2:$B$28),\"\")","v":""},null,null,{"$f":"IF(G562,LOOKUP(G562,'NEC Rules'!$A$2:$B$28),\"\")","v":""},null,null,{"$f":"IF(J562,LOOKUP(J562,'NEC Rules'!$A$2:$B$28),\"\")","v":""},null,null,{"$f":"IF(M562,LOOKUP(M562,'NEC Rules'!$A$2:$B$28),\"\")","v":""},null,null,{"$f":"IF(P562,LOOKUP(P562,'NEC Rules'!$A$2:$B$28),\"\")","v":""},null,"","",null,null,null,"","","",null,null,null,null,null,null,null,null,null,null,null,null,null,null,{"$error":"#VALUE!"},null,null,1]
[{"$error":"#REF!"},null,null,null,{"$f":"IF(D563,LOOKUP(D563,'NEC Rules'!$A$2:$B$28),\"\")","v":""},null,null,{"$f":"IF(G563,LOOKUP(G563,'NEC Rules'!$A$2:$B$28),\"\")","v":""},null,null,{"$f":"IF(J563,LOOKUP(J563,'NEC Rules'!$A$2:$B$28),\"\")","v":""},null,null,{"$f":"IF(M563,LOOKUP(M563,'NEC Rules'!$A$2:$B$28),\"\")","v":""},null,null,{"$f":"IF(P563,LOOKUP(P563,'NEC Rules'!$A$2:$B$28),\"\")","v":""},null,"","",null,null,null,"","","",null,null,null,null,null,null,null,null,null,null,null,null,null,null,{"$error":"#VALUE!"},null,null,1,0]
[{"$error":"#REF!"},null,null,null,{"$f":"IF(D564,LOOKUP(D564,'NEC Rules'!$A$2:$B$28),\"\")","v":""},null,null,{"$f":"IF(G564,LOOKUP(G564,'NEC Rules'!$A$2:$B$28),\"\")","v":""},null,null,{"$f":"IF(J564,LOOKUP(J564,'NEC Rules'!$A$2:$B$28),\"\")","v":""},null,null,{"$f":"IF(M564,LOOKUP(M564,'NEC Rules'!$A$2:$B$28),\"\")","v":""},null,null,{"$f":"IF(P564,LOOKUP(P564,'NEC Rules'!$A$2:$B$28),\"\")","v":""},null,"","",null,null,null,"","","",null,null,null,null,null,null,null,null,null,null,null,null,null,null,{"$error":"#VALUE!"},null,null,1,0]
[{"$error":"#REF!"},null,null,null,{"$f":"IF(D565,LOOKUP(D565,'NEC Rules'!$A$2:$B$28),\"\")","v":""},null,null,{"$f":"IF(G565,LOOKUP(G565,'NEC Rules'!$A$2:$B$28),\"\")","v":""},null,null,{"$f":"IF(J565,LOOKUP(J565,'NEC Rules'!$A$2:$B$28),\"\")","v":""},null,null,{"$f":"IF(M565,LOOKUP(M565,'NEC Rules'!$A$2:$B$28),\"\")","v":""},null,null,{"$f":"IF(P565,LOOKUP(P565,'NEC Rules'!$A$2:$B$28),\"\")","v":""},null,"","",null,null,null,"","","",null,null,null,null,null,null,null,null,null,null,null,null,null,null,{"$error":"#VALUE!"},null,null,1,0]
[{"$error":"#REF!"},null,null,null,{"$f":"IF(D566,LOOKUP(D566,'NEC Rules'!$A$2:$B$28),\"\")","v":""},null,null,{"$f":"IF(G566,LOOKUP(G566,'NEC Rules'!$A$2:$B$28),\"\")","v":""},null,null,{"$f":"IF(J566,LOOKUP(J566,'NEC Rules'!$A$2:$B$28),\"\")","v":""},null,null,{"$f":"IF(M566,LOOKUP(M566,'NEC Rules'!$A$2:$B$28),\"\")","v":""},null,null,{"$f":"IF(P566,LOOKUP(P566,'NEC Rules'!$A$2:$B$28),\"\")","v":""},null,"","",null,null,null,"","","",null,null,null,null,null,null,null,null,null,null,null,null,null,null,{"$error":"#VALUE!"},null,null,1,0]
[{"$error":"#REF!"},null,null,null,{"$f":"IF(D567,LOOKUP(D567,'NEC Rules'!$A$2:$B$28),\"\")","v":""},null,null,{"$f":"IF(G567,LOOKUP(G567,'NEC Rules'!$A$2:$B$28),\"\")","v":""},null,null,{"$f":"IF(J567,LOOKUP(J567,'NEC Rules'!$A$2:$B$28),\"\")","v":""},null,null,{"$f":"IF(M567,LOOKUP(M567,'NEC Rules'!$A$2:$B$28),\"\")","v":""},null,null,{"$f":"IF(P567,LOOKUP(P567,'NEC Rules'!$A$2:$B$28),\"\")","v":""},null,"","",null,null,null,"","","",null,null,null,null,null,null,null,null,null,null,null,null,null,null,{"$error":"#VALUE!"},null,null,1,0]
[{"$error":"#REF!"},null,null,null,{"$f":"IF(D568,LOOKUP(D568,'NEC Rules'!$A$2:$B$28),\"\")","v":""},null,null,{"$f":"IF(G568,LOOKUP(G568,'NEC Rules'!$A$2:$B$28),\"\")","v":""},null,null,{"$f":"IF(J568,LOOKUP(J568,'NEC Rules'!$A$2:$B$28),\"\")","v":""},null,null,{"$f":"IF(M568,LOOKUP(M568,'NEC Rules'!$A$2:$B$28),\"\")","v":""},null,null,{"$f":"IF(P568,LOOKUP(P568,'NEC Rules'!$A$2:$B$28),\"\")","v":""},null,"","",null,null,null,"","","",null,null,null,null,null,null,null,null,null,null,null,null,null,null,{"$error":"#VALUE!"},null,null,1,0]
[{"$error":"#REF!"},null,null,null,{"$f":"IF(D569,LOOKUP(D569,'NEC Rules'!$A$2:$B$28),\"\")","v":""},null,null,{"$f":"IF(G569,LOOKUP(G569,'NEC Rules'!$A$2:$B$28),\"\")","v":""},null,null,{"$f":"IF(J569,LOOKUP(J569,'NEC Rules'!$A$2:$B$28),\"\")","v":""},null,null,{"$f":"IF(M569,LOOKUP(M569,'NEC Rules'!$A$2:$B$28),\"\")","v":""},null,null,{"$f":"IF(P569,LOOKUP(P569,'NEC Rules'!$A$2:$B$28),\"\")","v":""},null,"","",null,null,null,"","","",null,null,null,null,null,null,null,null,null,null,null,null,null,null,{"$error":"#VALUE!"}]
[{"$error":"#REF!"},null,null,null,{"$f":"IF(D570,LOOKUP(D570,'NEC Rules'!$A$2:$B$28),\"\")","v":""},null,null,{"$f":"IF(G570,LOOKUP(G570,'NEC Rules'!$A$2:$B$28),\"\")","v":""},null,null,{"$f":"IF(J570,LOOKUP(J570,'NEC Rules'!$A$2:$B$28),\"\")","v":""},null,null,{"$f":"IF(M570,LOOKUP(M570,'NEC Rules'!$A$2:$B$28),\"\")","v":""},null,null,{"$f":"IF(P570,LOOKUP(P570,'NEC Rules'!$A$2:$B$28),\"\")","v":""},null,"","",null,null,null,"","","",null,null,null,null,null,null,null,null,null,null,null,null,null,null,{"$error":"#VALUE!"},null,null,1,0]
[{"$error":"#REF!"},null,null,null,{"$f":"IF(D571,LOOKUP(D571,'NEC Rules'!$A$2:$B$28),\"\")","v":""},null,null,{"$f":"IF(G571,LOOKUP(G571,'NEC Rules'!$A$2:$B$28),\"\")","v":""},null,null,{"$f":"IF(J571,LOOKUP(J571,'NEC Rules'!$A$2:$B$28),\"\")","v":""},null,null,{"$f":"IF(M571,LOOKUP(M571,'NEC Rules'!$A$2:$B$28),\"\")","v":""},null,null,{"$f":"IF(P571,LOOKUP(P571,'NEC Rules'!$A$2:$B$28),\"\")","v":""},null,"","",null,null,null,"","","",null,null,null,null,null,null,null,null,null,null,null,null,null,null,{"$error":"#VALUE!"},null,null,1,0]
[{"$error":"#REF!"},null,null,null,{"$f":"IF(D572,LOOKUP(D572,'NEC Rules'!$A$2:$B$28),\"\")","v":""},null,null,{"$f":"IF(G572,LOOKUP(G572,'NEC Rules'!$A$2:$B$28),\"\")","v":""},null,null,{"$f":"IF(J572,LOOKUP(J572,'NEC Rules'!$A$2:$B$28),\"\")","v":""},null,null,{"$f":"IF(M572,LOOKUP(M572,'NEC Rules'!$A$2:$B$28),\"\")","v":""},null,null,{"$f":"IF(P572,LOOKUP(P572,'NEC Rules'!$A$2:$B$28),\"\")","v":""},null,"","",null,null,null,"","","",null,null,null,null,null,null,null,null,null,null,null,null,null,null,{"$error":"#VALUE!"},null,null,1,0]
[{"$error":"#REF!"},null,null,null,{"$f":"IF(D573,LOOKUP(D573,'NEC Rules'!$A$2:$B$28),\"\")","v":""},null,null,{"$f":"IF(G573,LOOKUP(G573,'NEC Rules'!$A$2:$B$28),\"\")","v":""},null,null,{"$f":"IF(J573,LOOKUP(J573,'NEC Rules'!$A$2:$B$28),\"\")","v":""},null,null,{"$f":"IF(M573,LOOKUP(M573,'NEC Rules'!$A$2:$B$28),\"\")","v":""},null,null,{"$f":"IF(P573,LOOKUP(P573,'NEC Rules'!$A$2:$B$28),\"\")","v":""},null,"","",null,null,null,"","","",null,null,null,null,null,null,null,null,null,null,null,null,null,null,{"$error":"#VALUE!"},null,null,1,0]
[{"$error":"#REF!"},null,null,null,{"$f":"IF(D574,LOOKUP(D574,'NEC Rules'!$A$2:$B$28),\"\")","v":""},null,null,{"$f":"IF(G574,LOOKUP(G574,'NEC Rules'!$A$2:$B$28),\"\")","v":""},null,null,{"$f":"IF(J574,LOOKUP(J574,'NEC Rules'!$A$2:$B$28),\"\")","v":""},null,null,{"$f":"IF(M574,LOOKUP(M574,'NEC Rules'!$A$2:$B$28),\"\")","v":""},null,null,{"$f":"IF(P574,LOOKUP(P574,'NEC Rules'!$A$2:$B$28),\"\")","v":""},null,"","",null,null,null,"","","",null,null,null,null,null,null,null,null,null,null,null,null,null,null,{"$error":"#VALUE!"},null,null,0.65,0]
[{"$error":"#REF!"},null,null,null,{"$f":"IF(D575,LOOKUP(D575,'NEC Rules'!$A$2:$B$28),\"\")","v":""},null,null,{"$f":"IF(G575,LOOKUP(G575,'NEC Rules'!$A$2:$B$28),\"\")","v":""},null,null,{"$f":"IF(J575,LOOKUP(J575,'NEC Rules'!$A$2:$B$28),\"\")","v":""},null,null,{"$f":"IF(M575,LOOKUP(M575,'NEC Rules'!$A$2:$B$28),\"\")","v":""},null,null,{"$f":"IF(P575,LOOKUP(P575,'NEC Rules'!$A$2:$B$28),\"\")","v":""},null,"","",null,null,null,"","","",null,null,null,null,null,null,null,null,null,null,null,null,null,null,{"$error":"#VALUE!"},null,null,0.65,0]
[{"$error":"#REF!"},null,null,null,{"$f":"IF(D576,LOOKUP(D576,'NEC Rules'!$A$2:$B$28),\"\")","v":""},null,null,{"$f":"IF(G576,LOOKUP(G576,'NEC Rules'!$A$2:$B$28),\"\")","v":""},null,null,{"$f":"IF(J576,LOOKUP(J576,'NEC Rules'!$A$2:$B$28),\"\")","v":""},null,null,{"$f":"IF(M576,LOOKUP(M576,'NEC Rules'!$A$2:$B$28),\"\")","v":""},null,null,{"$f":"IF(P576,LOOKUP(P576,'NEC Rules'!$A$2:$B$28),\"\")","v":""},null,"","",null,null,null,"","","",null,null,null,null,null,null,null,null,null,null,null,null,null,null,{"$error":"#VALUE!"},null,null,0.65,0]
[{"$error":"#REF!"},null,null,null,{"$f":"IF(D577,LOOKUP(D577,'NEC Rules'!$A$2:$B$28),\"\")","v":""},null,null,{"$f":"IF(G577,LOOKUP(G577,'NEC Rules'!$A$2:$B$28),\"\")","v":""},null,null,{"$f":"IF(J577,LOOKUP(J577,'NEC Rules'!$A$2:$B$28),\"\")","v":""},null,null,{"$f":"IF(M577,LOOKUP(M577,'NEC Rules'!$A$2:$B$28),\"\")","v":""},null,null,{"$f":"IF(P577,LOOKUP(P577,'NEC Rules'!$A$2:$B$28),\"\")","v":""},null,"","",null,null,null,"","","",null,null,null,null,null,null,null,null,null,null,null,null,null,null,{"$error":"#VALUE!"},null,null,0.65,0]
[{"$error":"#REF!"},null,null,null,{"$f":"IF(D578,LOOKUP(D578,'NEC Rules'!$A$2:$B$28),\"\")","v":""},null,null,{"$f":"IF(G578,LOOKUP(G578,'NEC Rules'!$A$2:$B$28),\"\")","v":""},null,null,{"$f":"IF(J578,LOOKUP(J578,'NEC Rules'!$A$2:$B$28),\"\")","v":""},null,null,{"$f":"IF(M578,LOOKUP(M578,'NEC Rules'!$A$2:$B$28),\"\")","v":""},null,null,{"$f":"IF(P578,LOOKUP(P578,'NEC Rules'!$A$2:$B$28),\"\")","v":""},null,{"$f":"CalcHP(D578,F578,G578,I578,J578,L578,M578,O578,P578,R578)","v":""},"",null,null,null,"","","",null,null,null,null,null,null,null,null,null,null,null,null,null,null,{"$error":"#VALUE!"},null,null,0.65,0]
[{"$error":"#REF!"},null,null,null,{"$f":"IF(D579,LOOKUP(D579,'NEC Rules'!$A$2:$B$28),\"\")","v":""},null,null,{"$f":"IF(G579,LOOKUP(G579,'NEC Rules'!$A$2:$B$28),\"\")","v":""},null,null,{"$f":"IF(J579,LOOKUP(J579,'NEC Rules'!$A$2:$B$28),\"\")","v":""},null,null,{"$f":"IF(M579,LOOKUP(M579,'NEC Rules'!$A$2:$B$28),\"\")","v":""},null,null,{"$f":"IF(P579,LOOKUP(P579,'NEC Rules'!$A$2:$B$28),\"\")","v":""},null,"","",null,null,null,"",{"$f":"CalcMPF(V579,D579,E579,F579,H579,I579,K579,L579,N579,O579,Q579,R579,T579,U579)","v":""},"",null,null,null,null,null,null,null,null,null,null,null,null,null,null,{"$error":"#VALUE!"},null,null,0.65,0]
[{"$error":"#REF!"},null,null,null,{"$f":"IF(D580,LOOKUP(D580,'NEC Rules'!$A$2:$B$28),\"\")","v":""},null,null,{"$f":"IF(G580,LOOKUP(G580,'NEC Rules'!$A$2:$B$28),\"\")","v":""},null,null,{"$f":"IF(J580,LOOKUP(J580,'NEC Rules'!$A$2:$B$28),\"\")","v":""},null,null,{"$f":"IF(M580,LOOKUP(M580,'NEC Rules'!$A$2:$B$28),\"\")","v":""},null,null,{"$f":"IF(P580,LOOKUP(P580,'NEC Rules'!$A$2:$B$28),\"\")","v":""},null,"",{"$f":"IF(D580,10,\"\")","v":""},null,null,null,{"$f":"IF((V580*W580),(V580*W580),\"\")","v":""},"",{"$f":"CalcPD(Y580)","v":""},null,null,null,null,null,null,null,null,null,null,null,null,null,null,{"$f":"X580*480*0.03","v":{"$error":"#VALUE!"}},null,null,0.65,0]
[{"$f":"A580+1","v":{"$error":"#REF!"}},null,null,null,{"$f":"IF(D581,LOOKUP(D581,'NEC Rules'!$A$2:$B$28),\"\")","v":""},null,null,{"$f":"IF(G581,LOOKUP(G581,'NEC Rules'!$A$2:$B$28),\"\")","v":""},null,null,{"$f":"IF(J581,LOOKUP(J581,'NEC Rules'!$A$2:$B$28),\"\")","v":""},null,null,{"$f":"IF(M581,LOOKUP(M581,'NEC Rules'!$A$2:$B$28),\"\")","v":""},null,null,{"$f":"IF(P581,LOOKUP(P581,'NEC Rules'!$A$2:$B$28),\"\")","v":""},null,"","",null,null,null,"","","",null,null,null,null,null,null,null,null,null,null,null,null,null,null,{"$error":"#VALUE!"},null,null,0.65]
[{"$error":"#REF!"},null,null,null,{"$f":"IF(D582,LOOKUP(D582,'NEC Rules'!$A$2:$B$28),\"\")","v":""},null,null,{"$f":"IF(G582,LOOKUP(G582,'NEC Rules'!$A$2:$B$28),\"\")","v":""},null,null,{"$f":"IF(J582,LOOKUP(J582,'NEC Rules'!$A$2:$B$28),\"\")","v":""},null,null,{"$f":"IF(M582,LOOKUP(M582,'NEC Rules'!$A$2:$B$28),\"\")","v":""},null,null,{"$f":"IF(P582,LOOKUP(P582,'NEC Rules'!$A$2:$B$28),\"\")","v":""},null,"","",null,null,null,"","","",null,null,null,null,null,null,null,null,null,null,null,null,null,null,{"$error":"#VALUE!"},null,null,0.65,0]
[{"$error":"#REF!"},null,null,null,{"$f":"IF(D583,LOOKUP(D583,'NEC Rules'!$A$2:$B$28),\"\")","v":""},null,null,{"$f":"IF(G583,LOOKUP(G583,'NEC Rules'!$A$2:$B$28),\"\")","v":""},null,null,{"$f":"IF(J583,LOOKUP(J583,'NEC Rules'!$A$2:$B$28),\"\")","v":""},null,null,{"$f":"IF(M583,LOOKUP(M583,'NEC Rules'!$A$2:$B$28),\"\")","v":""},null,null,{"$f":"IF(P583,LOOKUP(P583,'NEC Rules'!$A$2:$B$28),\"\")","v":""},null,"","",null,null,null,"","","",null,null,null,null,null,null,null,null,null,null,null,null,null,null,{"$error":"#VALUE!"},null,null,0.65,0]
[{"$error":"#REF!"},null,null,null,{"$f":"IF(D584,LOOKUP(D584,'NEC Rules'!$A$2:$B$28),\"\")","v":""},null,null,{"$f":"IF(G584,LOOKUP(G584,'NEC Rules'!$A$2:$B$28),\"\")","v":""},null,null,{"$f":"IF(J584,LOOKUP(J584,'NEC Rules'!$A$2:$B$28),\"\")","v":""},null,null,{"$f":"IF(M584,LOOKUP(M584,'NEC Rules'!$A$2:$B$28),\"\")","v":""},null,null,{"$f":"IF(P584,LOOKUP(P584,'NEC Rules'!$A$2:$B$28),\"\")","v":""},null,"","",null,null,null,"","","",null,null,null,null,null,null,null,null,null,null,null,null,null,null,{"$error":"#VALUE!"},null,null,0.75,0]
[{"$error":"#REF!"},null,null,null,{"$f":"IF(D585,LOOKUP(D585,'NEC Rules'!$A$2:$B$28),\"\")","v":""},null,null,{"$f":"IF(G585,LOOKUP(G585,'NEC Rules'!$A$2:$B$28),\"\")","v":""},null,null,{"$f":"IF(J585,LOOKUP(J585,'NEC Rules'!$A$2:$B$28),\"\")","v":""},null,null,{"$f":"IF(M585,LOOKUP(M585,'NEC Rules'!$A$2:$B$28),\"\")","v":""},null,null,{"$f":"IF(P585,LOOKUP(P585,'NEC Rules'!$A$2:$B$28),\"\")","v":""},null,"","",null,null,null,"","","",null,null,null,null,null,null,null,null,null,null,null,null,null,null,{"$error":"#VALUE!"},null,null,0.75,0]
[{"$error":"#REF!"},null,null,null,{"$f":"IF(D586,LOOKUP(D586,'NEC Rules'!$A$2:$B$28),\"\")","v":""},null,null,{"$f":"IF(G586,LOOKUP(G586,'NEC Rules'!$A$2:$B$28),\"\")","v":""},null,null,{"$f":"IF(J586,LOOKUP(J586,'NEC Rules'!$A$2:$B$28),\"\")","v":""},null,null,{"$f":"IF(M586,LOOKUP(M586,'NEC Rules'!$A$2:$B$28),\"\")","v":""},null,null,{"$f":"IF(P586,LOOKUP(P586,'NEC Rules'!$A$2:$B$28),\"\")","v":""},null,"","",null,null,null,"","","",null,null,null,null,null,null,null,null,null,null,null,null,null,null,{"$error":"#VALUE!"},null,null,0.75,0]
[{"$error":"#REF!"},null,null,null,{"$f":"IF(D587,LOOKUP(D587,'NEC Rules'!$A$2:$B$28),\"\")","v":""},null,null,{"$f":"IF(G587,LOOKUP(G587,'NEC Rules'!$A$2:$B$28),\"\")","v":""},null,null,{"$f":"IF(J587,LOOKUP(J587,'NEC Rules'!$A$2:$B$28),\"\")","v":""},null,null,{"$f":"IF(M587,LOOKUP(M587,'NEC Rules'!$A$2:$B$28),\"\")","v":""},null,null,{"$f":"IF(P587,LOOKUP(P587,'NEC Rules'!$A$2:$B$28),\"\")","v":""},null,"","",null,null,null,"","","",null,null,null,null,null,null,null,null,null,null,null,null,null,null,{"$error":"#VALUE!"},null,null,0.75,0]
[{"$error":"#REF!"},null,null,null,{"$f":"IF(D588,LOOKUP(D588,'NEC Rules'!$A$2:$B$28),\"\")","v":""},null,null,{"$f":"IF(G588,LOOKUP(G588,'NEC Rules'!$A$2:$B$28),\"\")","v":""},null,null,{"$f":"IF(J588,LOOKUP(J588,'NEC Rules'!$A$2:$B$28),\"\")","v":""},null,null,{"$f":"IF(M588,LOOKUP(M588,'NEC Rules'!$A$2:$B$28),\"\")","v":""},null,null,{"$f":"IF(P588,LOOKUP(P588,'NEC Rules'!$A$2:$B$28),\"\")","v":""},null,"","",null,null,null,"","","",null,null,null,null,null,null,null,null,null,null,null,null,null,null,{"$error":"#VALUE!"},null,null,0.75,0]
[{"$error":"#REF!"},null,null,null,{"$f":"IF(D589,LOOKUP(D589,'NEC Rules'!$A$2:$B$28),\"\")","v":""},null,null,{"$f":"IF(G589,LOOKUP(G589,'NEC Rules'!$A$2:$B$28),\"\")","v":""},null,null,{"$f":"IF(J589,LOOKUP(J589,'NEC Rules'!$A$2:$B$28),\"\")","v":""},null,null,{"$f":"IF(M589,LOOKUP(M589,'NEC Rules'!$A$2:$B$28),\"\")","v":""},null,null,{"$f":"IF(P589,LOOKUP(P589,'NEC Rules'!$A$2:$B$28),\"\")","v":""},null,"","",null,null,null,"","","",null,null,null,null,null,null,null,null,null,null,null,null,null,null,{"$error":"#VALUE!"},null,null,0.75,0]
[{"$error":"#REF!"},null,null,null,{"$f":"IF(D590,LOOKUP(D590,'NEC Rules'!$A$2:$B$28),\"\")","v":""},null,null,{"$f":"IF(G590,LOOKUP(G590,'NEC Rules'!$A$2:$B$28),\"\")","v":""},null,null,{"$f":"IF(J590,LOOKUP(J590,'NEC Rules'!$A$2:$B$28),\"\")","v":""},null,null,{"$f":"IF(M590,LOOKUP(M590,'NEC Rules'!$A$2:$B$28),\"\")","v":""},null,null,{"$f":"IF(P590,LOOKUP(P590,'NEC Rules'!$A$2:$B$28),\"\")","v":""},null,"","",null,null,null,"","","",null,null,null,null,null,null,null,null,null,null,null,null,null,null,{"$error":"#VALUE!"},null,null,0.75,0]
[{"$error":"#REF!"},null,null,null,{"$f":"IF(D591,LOOKUP(D591,'NEC Rules'!$A$2:$B$28),\"\")","v":""},null,null,{"$f":"IF(G591,LOOKUP(G591,'NEC Rules'!$A$2:$B$28),\"\")","v":""},null,null,{"$f":"IF(J591,LOOKUP(J591,'NEC Rules'!$A$2:$B$28),\"\")","v":""},null,null,{"$f":"IF(M591,LOOKUP(M591,'NEC Rules'!$A$2:$B$28),\"\")","v":""},null,null,{"$f":"IF(P591,LOOKUP(P591,'NEC Rules'!$A$2:$B$28),\"\")","v":""},null,"","",null,null,null,"","","",null,null,null,null,null,null,null,null,null,null,null,null,null,null,{"$error":"#VALUE!"},null,null,0.75,0]
[{"$error":"#REF!"},null,null,null,{"$f":"IF(D592,LOOKUP(D592,'NEC Rules'!$A$2:$B$28),\"\")","v":""},null,null,{"$f":"IF(G592,LOOKUP(G592,'NEC Rules'!$A$2:$B$28),\"\")","v":""},null,null,{"$f":"IF(J592,LOOKUP(J592,'NEC Rules'!$A$2:$B$28),\"\")","v":""},null,null,{"$f":"IF(M592,LOOKUP(M592,'NEC Rules'!$A$2:$B$28),\"\")","v":""},null,null,{"$f":"IF(P592,LOOKUP(P592,'NEC Rules'!$A$2:$B$28),\"\")","v":""},null,"","",null,null,null,"","","",null,null,null,null,null,null,null,null,null,null,null,null,null,null,{"$error":"#VALUE!"},null,null,0.75,0]
[{"$error":"#REF!"},null,null,null,{"$f":"IF(D593,LOOKUP(D593,'NEC Rules'!$A$2:$B$28),\"\")","v":""},null,null,{"$f":"IF(G593,LOOKUP(G593,'NEC Rules'!$A$2:$B$28),\"\")","v":""},null,null,{"$f":"IF(J593,LOOKUP(J593,'NEC Rules'!$A$2:$B$28),\"\")","v":""},null,null,{"$f":"IF(M593,LOOKUP(M593,'NEC Rules'!$A$2:$B$28),\"\")","v":""},null,null,{"$f":"IF(P593,LOOKUP(P593,'NEC Rules'!$A$2:$B$28),\"\")","v":""},null,"","",null,null,null,"","","",null,null,null,null,null,null,null,null,null,null,null,null,null,null,{"$error":"#VALUE!"},null,null,0.75,0]
[{"$error":"#REF!"},null,null,null,{"$f":"IF(D594,LOOKUP(D594,'NEC Rules'!$A$2:$B$28),\"\")","v":""},null,null,{"$f":"IF(G594,LOOKUP(G594,'NEC Rules'!$A$2:$B$28),\"\")","v":""},null,null,{"$f":"IF(J594,LOOKUP(J594,'NEC Rules'!$A$2:$B$28),\"\")","v":""},null,null,{"$f":"IF(M594,LOOKUP(M594,'NEC Rules'!$A$2:$B$28),\"\")","v":""},null,null,{"$f":"IF(P594,LOOKUP(P594,'NEC Rules'!$A$2:$B$28),\"\")","v":""},null,"","",null,null,null,"","","",null,null,null,null,null,null,null,null,null,null,null,null,null,null,{"$error":"#VALUE!"},null,null,0.75,0]
[{"$error":"#REF!"},null,null,null,{"$f":"IF(D595,LOOKUP(D595,'NEC Rules'!$A$2:$B$28),\"\")","v":""},null,null,{"$f":"IF(G595,LOOKUP(G595,'NEC Rules'!$A$2:$B$28),\"\")","v":""},null,null,{"$f":"IF(J595,LOOKUP(J595,'NEC Rules'!$A$2:$B$28),\"\")","v":""},null,null,{"$f":"IF(M595,LOOKUP(M595,'NEC Rules'!$A$2:$B$28),\"\")","v":""},null,null,{"$f":"IF(P595,LOOKUP(P595,'NEC Rules'!$A$2:$B$28),\"\")","v":""},null,"","",null,null,null,"","","",null,null,null,null,null,null,null,null,null,null,null,null,null,null,{"$error":"#VALUE!"},null,null,0.75,0]
[{"$error":"#REF!"},null,null,null,{"$f":"IF(D596,LOOKUP(D596,'NEC Rules'!$A$2:$B$28),\"\")","v":""},null,null,{"$f":"IF(G596,LOOKUP(G596,'NEC Rules'!$A$2:$B$28),\"\")","v":""},null,null,{"$f":"IF(J596,LOOKUP(J596,'NEC Rules'!$A$2:$B$28),\"\")","v":""},null,null,{"$f":"IF(M596,LOOKUP(M596,'NEC Rules'!$A$2:$B$28),\"\")","v":""},null,null,{"$f":"IF(P596,LOOKUP(P596,'NEC Rules'!$A$2:$B$28),\"\")","v":""},null,"","",null,null,null,"","","",null,null,null,null,null,null,null,null,null,null,null,null,null,null,{"$error":"#VALUE!"},null,null,0.75,0]
[{"$error":"#REF!"},null,null,null,{"$f":"IF(D597,LOOKUP(D597,'NEC Rules'!$A$2:$B$28),\"\")","v":""},null,null,{"$f":"IF(G597,LOOKUP(G597,'NEC Rules'!$A$2:$B$28),\"\")","v":""},null,null,{"$f":"IF(J597,LOOKUP(J597,'NEC Rules'!$A$2:$B$28),\"\")","v":""},null,null,{"$f":"IF(M597,LOOKUP(M597,'NEC Rules'!$A$2:$B$28),\"\")","v":""},null,null,{"$f":"IF(P597,LOOKUP(P597,'NEC Rules'!$A$2:$B$28),\"\")","v":""},null,"","",null,null,null,"","","",null,null,null,null,null,null,null,null,null,null,null,null,null,null,{"$error":"#VALUE!"},null,null,0.75,0]
[{"$error":"#REF!"},null,null,null,{"$f":"IF(D598,LOOKUP(D598,'NEC Rules'!$A$2:$B$28),\"\")","v":""},null,null,{"$f":"IF(G598,LOOKUP(G598,'NEC Rules'!$A$2:$B$28),\"\")","v":""},null,null,{"$f":"IF(J598,LOOKUP(J598,'NEC Rules'!$A$2:$B$28),\"\")","v":""},null,null,{"$f":"IF(M598,LOOKUP(M598,'NEC Rules'!$A$2:$B$28),\"\")","v":""},null,null,{"$f":"IF(P598,LOOKUP(P598,'NEC Rules'!$A$2:$B$28),\"\")","v":""},null,"","",null,null,null,"","","",null,null,null,null,null,null,null,null,null,null,null,null,null,null,{"$error":"#VALUE!"},null,null,0.75,0]
[{"$error":"#REF!"},null,null,null,{"$f":"IF(D599,LOOKUP(D599,'NEC Rules'!$A$2:$B$28),\"\")","v":""},null,null,{"$f":"IF(G599,LOOKUP(G599,'NEC Rules'!$A$2:$B$28),\"\")","v":""},null,null,{"$f":"IF(J599,LOOKUP(J599,'NEC Rules'!$A$2:$B$28),\"\")","v":""},null,null,{"$f":"IF(M599,LOOKUP(M599,'NEC Rules'!$A$2:$B$28),\"\")","v":""},null,null,{"$f":"IF(P599,LOOKUP(P599,'NEC Rules'!$A$2:$B$28),\"\")","v":""},null,"","",null,null,null,"","","",null,null,null,null,null,null,null,null,null,null,null,null,null,null,{"$error":"#VALUE!"},null,null,0.75,0]
[{"$error":"#REF!"},null,null,null,{"$f":"IF(D600,LOOKUP(D600,'NEC Rules'!$A$2:$B$28),\"\")","v":""},null,null,{"$f":"IF(G600,LOOKUP(G600,'NEC Rules'!$A$2:$B$28),\"\")","v":""},null,null,{"$f":"IF(J600,LOOKUP(J600,'NEC Rules'!$A$2:$B$28),\"\")","v":""},null,null,{"$f":"IF(M600,LOOKUP(M600,'NEC Rules'!$A$2:$B$28),\"\")","v":""},null,null,{"$f":"IF(P600,LOOKUP(P600,'NEC Rules'!$A$2:$B$28),\"\")","v":""},null,"","",null,null,null,"","","",null,null,null,null,null,null,null,null,null,null,null,null,null,null,{"$error":"#VALUE!"},null,null,0.75,0]
[{"$error":"#REF!"},null,null,null,{"$f":"IF(D601,LOOKUP(D601,'NEC Rules'!$A$2:$B$28),\"\")","v":""},null,null,{"$f":"IF(G601,LOOKUP(G601,'NEC Rules'!$A$2:$B$28),\"\")","v":""},null,null,{"$f":"IF(J601,LOOKUP(J601,'NEC Rules'!$A$2:$B$28),\"\")","v":""},null,null,{"$f":"IF(M601,LOOKUP(M601,'NEC Rules'!$A$2:$B$28),\"\")","v":""},null,null,{"$f":"IF(P601,LOOKUP(P601,'NEC Rules'!$A$2:$B$28),\"\")","v":""},null,"","",null,null,null,"","","",null,null,null,null,null,null,null,null,null,null,null,null,null,null,{"$error":"#VALUE!"},null,null,0.75,0]
[{"$error":"#REF!"},null,null,null,{"$f":"IF(D602,LOOKUP(D602,'NEC Rules'!$A$2:$B$28),\"\")","v":""},null,null,{"$f":"IF(G602,LOOKUP(G602,'NEC Rules'!$A$2:$B$28),\"\")","v":""},null,null,{"$f":"IF(J602,LOOKUP(J602,'NEC Rules'!$A$2:$B$28),\"\")","v":""},null,null,{"$f":"IF(M602,LOOKUP(M602,'NEC Rules'!$A$2:$B$28),\"\")","v":""},null,null,{"$f":"IF(P602,LOOKUP(P602,'NEC Rules'!$A$2:$B$28),\"\")","v":""},null,"","",null,null,null,"","","",null,null,null,null,null,null,null,null,null,null,null,null,null,null,{"$error":"#VALUE!"},null,null,0.75,0]
[{"$error":"#REF!"},null,null,null,{"$f":"IF(D603,LOOKUP(D603,'NEC Rules'!$A$2:$B$28),\"\")","v":""},null,null,{"$f":"IF(G603,LOOKUP(G603,'NEC Rules'!$A$2:$B$28),\"\")","v":""},null,null,{"$f":"IF(J603,LOOKUP(J603,'NEC Rules'!$A$2:$B$28),\"\")","v":""},null,null,{"$f":"IF(M603,LOOKUP(M603,'NEC Rules'!$A$2:$B$28),\"\")","v":""},null,null,{"$f":"IF(P603,LOOKUP(P603,'NEC Rules'!$A$2:$B$28),\"\")","v":""},null,"","",null,null,null,"","","",null,null,null,null,null,null,null,null,null,null,null,null,null,null,{"$error":"#VALUE!"},null,null,0.75,0]
[{"$error":"#REF!"},null,null,null,{"$f":"IF(D604,LOOKUP(D604,'NEC Rules'!$A$2:$B$28),\"\")","v":""},null,null,{"$f":"IF(G604,LOOKUP(G604,'NEC Rules'!$A$2:$B$28),\"\")","v":""},null,null,{"$f":"IF(J604,LOOKUP(J604,'NEC Rules'!$A$2:$B$28),\"\")","v":""},null,null,{"$f":"IF(M604,LOOKUP(M604,'NEC Rules'!$A$2:$B$28),\"\")","v":""},null,null,{"$f":"IF(P604,LOOKUP(P604,'NEC Rules'!$A$2:$B$28),\"\")","v":""},null,"","",null,null,null,"","","",null,null,null,null,null,null,null,null,null,null,null,null,null,null,{"$error":"#VALUE!"},null,null,0.75,0]
[{"$error":"#REF!"},null,null,null,{"$f":"IF(D605,LOOKUP(D605,'NEC Rules'!$A$2:$B$28),\"\")","v":""},null,null,{"$f":"IF(G605,LOOKUP(G605,'NEC Rules'!$A$2:$B$28),\"\")","v":""},null,null,{"$f":"IF(J605,LOOKUP(J605,'NEC Rules'!$A$2:$B$28),\"\")","v":""},null,null,{"$f":"IF(M605,LOOKUP(M605,'NEC Rules'!$A$2:$B$28),\"\")","v":""},null,null,{"$f":"IF(P605,LOOKUP(P605,'NEC Rules'!$A$2:$B$28),\"\")","v":""},null,"","",null,null,null,"","","",null,null,null,null,null,null,null,null,null,null,null,null,null,null,{"$error":"#VALUE!"},null,null,0.75,0]
[{"$error":"#REF!"},null,null,null,{"$f":"IF(D606,LOOKUP(D606,'NEC Rules'!$A$2:$B$28),\"\")","v":""},null,null,{"$f":"IF(G606,LOOKUP(G606,'NEC Rules'!$A$2:$B$28),\"\")","v":""},null,null,{"$f":"IF(J606,LOOKUP(J606,'NEC Rules'!$A$2:$B$28),\"\")","v":""},null,null,{"$f":"IF(M606,LOOKUP(M606,'NEC Rules'!$A$2:$B$28),\"\")","v":""},null,null,{"$f":"IF(P606,LOOKUP(P606,'NEC Rules'!$A$2:$B$28),\"\")","v":""},null,"","",null,null,null,"","","",null,null,null,null,null,null,null,null,null,null,null,null,null,null,{"$error":"#VALUE!"},null,null,0.75,0]
[{"$error":"#REF!"},null,null,null,{"$f":"IF(D607,LOOKUP(D607,'NEC Rules'!$A$2:$B$28),\"\")","v":""},null,null,{"$f":"IF(G607,LOOKUP(G607,'NEC Rules'!$A$2:$B$28),\"\")","v":""},null,null,{"$f":"IF(J607,LOOKUP(J607,'NEC Rules'!$A$2:$B$28),\"\")","v":""},null,null,{"$f":"IF(M607,LOOKUP(M607,'NEC Rules'!$A$2:$B$28),\"\")","v":""},null,null,{"$f":"IF(P607,LOOKUP(P607,'NEC Rules'!$A$2:$B$28),\"\")","v":""},null,"","",null,null,null,"","","",null,null,null,null,null,null,null,null,null,null,null,null,null,null,{"$error":"#VALUE!"},null,null,0.75,0]
[{"$error":"#REF!"},null,null,null,{"$f":"IF(D608,LOOKUP(D608,'NEC Rules'!$A$2:$B$28),\"\")","v":""},null,null,{"$f":"IF(G608,LOOKUP(G608,'NEC Rules'!$A$2:$B$28),\"\")","v":""},null,null,{"$f":"IF(J608,LOOKUP(J608,'NEC Rules'!$A$2:$B$28),\"\")","v":""},null,null,{"$f":"IF(M608,LOOKUP(M608,'NEC Rules'!$A$2:$B$28),\"\")","v":""},null,null,{"$f":"IF(P608,LOOKUP(P608,'NEC Rules'!$A$2:$B$28),\"\")","v":""},null,"","",null,null,null,"","","",null,null,null,null,null,null,null,null,null,null,null,null,null,null,{"$error":"#VALUE!"},null,null,0.75,0]
[{"$error":"#REF!"},null,null,null,{"$f":"IF(D609,LOOKUP(D609,'NEC Rules'!$A$2:$B$28),\"\")","v":""},null,null,{"$f":"IF(G609,LOOKUP(G609,'NEC Rules'!$A$2:$B$28),\"\")","v":""},null,null,{"$f":"IF(J609,LOOKUP(J609,'NEC Rules'!$A$2:$B$28),\"\")","v":""},null,null,{"$f":"IF(M609,LOOKUP(M609,'NEC Rules'!$A$2:$B$28),\"\")","v":""},null,null,{"$f":"IF(P609,LOOKUP(P609,'NEC Rules'!$A$2:$B$28),\"\")","v":""},null,"","",null,null,null,"","","",null,null,null,null,null,null,null,null,null,null,null,null,null,null,{"$error":"#VALUE!"},null,null,0.75,0]
[{"$error":"#REF!"},null,null,null,{"$f":"IF(D610,LOOKUP(D610,'NEC Rules'!$A$2:$B$28),\"\")","v":""},null,null,{"$f":"IF(G610,LOOKUP(G610,'NEC Rules'!$A$2:$B$28),\"\")","v":""},null,null,{"$f":"IF(J610,LOOKUP(J610,'NEC Rules'!$A$2:$B$28),\"\")","v":""},null,null,{"$f":"IF(M610,LOOKUP(M610,'NEC Rules'!$A$2:$B$28),\"\")","v":""},null,null,{"$f":"IF(P610,LOOKUP(P610,'NEC Rules'!$A$2:$B$28),\"\")","v":""},null,"","",null,null,null,"","","",null,null,null,null,null,null,null,null,null,null,null,null,null,null,{"$error":"#VALUE!"},null,null,0.75,0]
[{"$error":"#REF!"},null,null,null,{"$f":"IF(D611,LOOKUP(D611,'NEC Rules'!$A$2:$B$28),\"\")","v":""},null,null,{"$f":"IF(G611,LOOKUP(G611,'NEC Rules'!$A$2:$B$28),\"\")","v":""},null,null,{"$f":"IF(J611,LOOKUP(J611,'NEC Rules'!$A$2:$B$28),\"\")","v":""},null,null,{"$f":"IF(M611,LOOKUP(M611,'NEC Rules'!$A$2:$B$28),\"\")","v":""},null,null,{"$f":"IF(P611,LOOKUP(P611,'NEC Rules'!$A$2:$B$28),\"\")","v":""},null,"","",null,null,null,"","","",null,null,null,null,null,null,null,null,null,null,null,null,null,null,{"$error":"#VALUE!"},null,null,0.75,0]
[{"$error":"#REF!"},null,null,null,{"$f":"IF(D612,LOOKUP(D612,'NEC Rules'!$A$2:$B$28),\"\")","v":""},null,null,{"$f":"IF(G612,LOOKUP(G612,'NEC Rules'!$A$2:$B$28),\"\")","v":""},null,null,{"$f":"IF(J612,LOOKUP(J612,'NEC Rules'!$A$2:$B$28),\"\")","v":""},null,null,{"$f":"IF(M612,LOOKUP(M612,'NEC Rules'!$A$2:$B$28),\"\")","v":""},null,null,{"$f":"IF(P612,LOOKUP(P612,'NEC Rules'!$A$2:$B$28),\"\")","v":""},null,{"$f":"CalcHP(D612,F612,G612,I612,J612,L612,M612,O612,P612,R612)","v":""},"",null,null,null,"","","",null,null,null,null,null,null,null,null,null,null,null,null,null,null,{"$error":"#VALUE!"},null,null,0.75,0]
[{"$error":"#REF!"},null,null,null,{"$f":"IF(D613,LOOKUP(D613,'NEC Rules'!$A$2:$B$28),\"\")","v":""},null,null,{"$f":"IF(G613,LOOKUP(G613,'NEC Rules'!$A$2:$B$28),\"\")","v":""},null,null,{"$f":"IF(J613,LOOKUP(J613,'NEC Rules'!$A$2:$B$28),\"\")","v":""},null,null,{"$f":"IF(M613,LOOKUP(M613,'NEC Rules'!$A$2:$B$28),\"\")","v":""},null,null,{"$f":"IF(P613,LOOKUP(P613,'NEC Rules'!$A$2:$B$28),\"\")","v":""},null,"","",null,null,null,"","","",null,null,null,null,null,null,null,null,null,null,null,null,null,null,{"$error":"#VALUE!"},null,null,0.75,0]
[{"$error":"#REF!"},null,null,null,{"$f":"IF(D614,LOOKUP(D614,'NEC Rules'!$A$2:$B$28),\"\")","v":""},null,null,{"$f":"IF(G614,LOOKUP(G614,'NEC Rules'!$A$2:$B$28),\"\")","v":""},null,null,{"$f":"IF(J614,LOOKUP(J614,'NEC Rules'!$A$2:$B$28),\"\")","v":""},null,null,{"$f":"IF(M614,LOOKUP(M614,'NEC Rules'!$A$2:$B$28),\"\")","v":""},null,null,{"$f":"IF(P614,LOOKUP(P614,'NEC Rules'!$A$2:$B$28),\"\")","v":""},null,"","",null,null,null,"","","",null,null,null,null,null,null,null,null,null,null,null,null,null,null,{"$error":"#VALUE!"}]
[{"$error":"#REF!"},null,null,null,{"$f":"IF(D615,LOOKUP(D615,'NEC Rules'!$A$2:$B$28),\"\")","v":""},null,null,{"$f":"IF(G615,LOOKUP(G615,'NEC Rules'!$A$2:$B$28),\"\")","v":""},null,null,{"$f":"IF(J615,LOOKUP(J615,'NEC Rules'!$A$2:$B$28),\"\")","v":""},null,null,{"$f":"IF(M615,LOOKUP(M615,'NEC Rules'!$A$2:$B$28),\"\")","v":""},null,null,{"$f":"IF(P615,LOOKUP(P615,'NEC Rules'!$A$2:$B$28),\"\")","v":""},null,"","",null,null,null,"","","",null,null,null,null,null,null,null,null,null,null,null,null,null,null,{"$error":"#VALUE!"}]
[{"$error":"#REF!"},null,null,null,{"$f":"IF(D616,LOOKUP(D616,'NEC Rules'!$A$2:$B$28),\"\")","v":""},null,null,{"$f":"IF(G616,LOOKUP(G616,'NEC Rules'!$A$2:$B$28),\"\")","v":""},null,null,{"$f":"IF(J616,LOOKUP(J616,'NEC Rules'!$A$2:$B$28),\"\")","v":""},null,null,{"$f":"IF(M616,LOOKUP(M616,'NEC Rules'!$A$2:$B$28),\"\")","v":""},null,null,{"$f":"IF(P616,LOOKUP(P616,'NEC Rules'!$A$2:$B$28),\"\")","v":""},null,"","",null,null,null,"","","",null,null,null,null,null,null,null,null,null,null,null,null,null,null,{"$error":"#VALUE!"}]
[{"$error":"#REF!"},null,null,null,{"$f":"IF(D617,LOOKUP(D617,'NEC Rules'!$A$2:$B$28),\"\")","v":""},null,null,{"$f":"IF(G617,LOOKUP(G617,'NEC Rules'!$A$2:$B$28),\"\")","v":""},null,null,{"$f":"IF(J617,LOOKUP(J617,'NEC Rules'!$A$2:$B$28),\"\")","v":""},null,null,{"$f":"IF(M617,LOOKUP(M617,'NEC Rules'!$A$2:$B$28),\"\")","v":""},null,null,{"$f":"IF(P617,LOOKUP(P617,'NEC Rules'!$A$2:$B$28),\"\")","v":""},null,{"$f":"CalcHP(D617,F617,G617,I617,J617,L617,M617,O617,P617,R617)","v":""},"",null,null,null,"","","",null,null,null,null,null,null,null,null,null,null,null,null,null,null,{"$error":"#VALUE!"}]
[{"$error":"#REF!"},null,null,null,{"$f":"IF(D618,LOOKUP(D618,'NEC Rules'!$A$2:$B$28),\"\")","v":""},null,null,{"$f":"IF(G618,LOOKUP(G618,'NEC Rules'!$A$2:$B$28),\"\")","v":""},null,null,{"$f":"IF(J618,LOOKUP(J618,'NEC Rules'!$A$2:$B$28),\"\")","v":""},null,null,{"$f":"IF(M618,LOOKUP(M618,'NEC Rules'!$A$2:$B$28),\"\")","v":""},null,null,{"$f":"IF(P618,LOOKUP(P618,'NEC Rules'!$A$2:$B$28),\"\")","v":""},null,"","",null,null,null,"","","",null,null,null,null,null,null,null,null,null,null,null,null,null,null,{"$error":"#VALUE!"}]
[{"$error":"#REF!"},null,null,null,{"$f":"IF(D619,LOOKUP(D619,'NEC Rules'!$A$2:$B$28),\"\")","v":""},null,null,{"$f":"IF(G619,LOOKUP(G619,'NEC Rules'!$A$2:$B$28),\"\")","v":""},null,null,{"$f":"IF(J619,LOOKUP(J619,'NEC Rules'!$A$2:$B$28),\"\")","v":""},null,null,{"$f":"IF(M619,LOOKUP(M619,'NEC Rules'!$A$2:$B$28),\"\")","v":""},null,null,{"$f":"IF(P619,LOOKUP(P619,'NEC Rules'!$A$2:$B$28),\"\")","v":""},null,"","",null,null,null,"","","",null,null,null,null,null,null,null,null,null,null,null,null,null,null,{"$error":"#VALUE!"}]
[{"$error":"#REF!"},null,null,null,{"$f":"IF(D620,LOOKUP(D620,'NEC Rules'!$A$2:$B$28),\"\")","v":""},null,null,{"$f":"IF(G620,LOOKUP(G620,'NEC Rules'!$A$2:$B$28),\"\")","v":""},null,null,{"$f":"IF(J620,LOOKUP(J620,'NEC Rules'!$A$2:$B$28),\"\")","v":""},null,null,{"$f":"IF(M620,LOOKUP(M620,'NEC Rules'!$A$2:$B$28),\"\")","v":""},null,null,{"$f":"IF(P620,LOOKUP(P620,'NEC Rules'!$A$2:$B$28),\"\")","v":""},null,"","",null,null,null,"","","",null,null,null,null,null,null,null,null,null,null,null,null,null,null,{"$error":"#VALUE!"}]
[{"$error":"#REF!"},null,null,null,{"$f":"IF(D621,LOOKUP(D621,'NEC Rules'!$A$2:$B$28),\"\")","v":""},null,null,{"$f":"IF(G621,LOOKUP(G621,'NEC Rules'!$A$2:$B$28),\"\")","v":""},null,null,{"$f":"IF(J621,LOOKUP(J621,'NEC Rules'!$A$2:$B$28),\"\")","v":""},null,null,{"$f":"IF(M621,LOOKUP(M621,'NEC Rules'!$A$2:$B$28),\"\")","v":""},null,null,{"$f":"IF(P621,LOOKUP(P621,'NEC Rules'!$A$2:$B$28),\"\")","v":""},null,"","",null,null,null,"","","",null,null,null,null,null,null,null,null,null,null,null,null,null,null,{"$error":"#VALUE!"}]
[{"$error":"#REF!"},null,null,null,{"$f":"IF(D622,LOOKUP(D622,'NEC Rules'!$A$2:$B$28),\"\")","v":""},null,null,{"$f":"IF(G622,LOOKUP(G622,'NEC Rules'!$A$2:$B$28),\"\")","v":""},null,null,{"$f":"IF(J622,LOOKUP(J622,'NEC Rules'!$A$2:$B$28),\"\")","v":""},null,null,{"$f":"IF(M622,LOOKUP(M622,'NEC Rules'!$A$2:$B$28),\"\")","v":""},null,null,{"$f":"IF(P622,LOOKUP(P622,'NEC Rules'!$A$2:$B$28),\"\")","v":""},null,{"$f":"CalcHP(D622,F622,G622,I622,J622,L622,M622,O622,P622,R622)","v":""},"",null,null,null,"","","",null,null,null,null,null,null,null,null,null,null,null,null,null,null,{"$error":"#VALUE!"}]
[{"$error":"#REF!"},null,null,null,{"$f":"IF(D623,LOOKUP(D623,'NEC Rules'!$A$2:$B$28),\"\")","v":""},null,null,{"$f":"IF(G623,LOOKUP(G623,'NEC Rules'!$A$2:$B$28),\"\")","v":""},null,null,{"$f":"IF(J623,LOOKUP(J623,'NEC Rules'!$A$2:$B$28),\"\")","v":""},null,null,{"$f":"IF(M623,LOOKUP(M623,'NEC Rules'!$A$2:$B$28),\"\")","v":""},null,null,{"$f":"IF(P623,LOOKUP(P623,'NEC Rules'!$A$2:$B$28),\"\")","v":""},null,"","",null,null,null,"","","",null,null,null,null,null,null,null,null,null,null,null,null,null,null,{"$error":"#VALUE!"}]
[{"$error":"#REF!"},null,null,null,{"$f":"IF(D624,LOOKUP(D624,'NEC Rules'!$A$2:$B$28),\"\")","v":""},null,null,{"$f":"IF(G624,LOOKUP(G624,'NEC Rules'!$A$2:$B$28),\"\")","v":""},null,null,{"$f":"IF(J624,LOOKUP(J624,'NEC Rules'!$A$2:$B$28),\"\")","v":""},null,null,{"$f":"IF(M624,LOOKUP(M624,'NEC Rules'!$A$2:$B$28),\"\")","v":""},null,null,{"$f":"IF(P624,LOOKUP(P624,'NEC Rules'!$A$2:$B$28),\"\")","v":""},null,"","",null,null,null,"","","",null,null,null,null,null,null,null,null,null,null,null,null,null,null,{"$error":"#VALUE!"}]
[{"$error":"#REF!"},null,null,null,{"$f":"IF(D625,LOOKUP(D625,'NEC Rules'!$A$2:$B$28),\"\")","v":""},null,null,{"$f":"IF(G625,LOOKUP(G625,'NEC Rules'!$A$2:$B$28),\"\")","v":""},null,null,{"$f":"IF(J625,LOOKUP(J625,'NEC Rules'!$A$2:$B$28),\"\")","v":""},null,null,{"$f":"IF(M625,LOOKUP(M625,'NEC Rules'!$A$2:$B$28),\"\")","v":""},null,null,{"$f":"IF(P625,LOOKUP(P625,'NEC Rules'!$A$2:$B$28),\"\")","v":""},null,"","",null,null,null,"","","",null,null,null,null,null,null,null,null,null,null,null,null,null,null,{"$error":"#VALUE!"}]
[{"$error":"#REF!"},null,null,null,{"$f":"IF(D626,LOOKUP(D626,'NEC Rules'!$A$2:$B$28),\"\")","v":""},null,null,{"$f":"IF(G626,LOOKUP(G626,'NEC Rules'!$A$2:$B$28),\"\")","v":""},null,null,{"$f":"IF(J626,LOOKUP(J626,'NEC Rules'!$A$2:$B$28),\"\")","v":""},null,null,{"$f":"IF(M626,LOOKUP(M626,'NEC Rules'!$A$2:$B$28),\"\")","v":""},null,null,{"$f":"IF(P626,LOOKUP(P626,'NEC Rules'!$A$2:$B$28),\"\")","v":""},null,"","",null,null,null,"","","",null,null,null,null,null,null,null,null,null,null,null,null,null,null,{"$error":"#VALUE!"}]
[{"$error":"#REF!"},null,null,null,{"$f":"IF(D627,LOOKUP(D627,'NEC Rules'!$A$2:$B$28),\"\")","v":""},null,null,{"$f":"IF(G627,LOOKUP(G627,'NEC Rules'!$A$2:$B$28),\"\")","v":""},null,null,{"$f":"IF(J627,LOOKUP(J627,'NEC Rules'!$A$2:$B$28),\"\")","v":""},null,null,{"$f":"IF(M627,LOOKUP(M627,'NEC Rules'!$A$2:$B$28),\"\")","v":""},null,null,{"$f":"IF(P627,LOOKUP(P627,'NEC Rules'!$A$2:$B$28),\"\")","v":""},null,"","",null,null,null,"","","",null,null,null,null,null,null,null,null,null,null,null,null,null,null,{"$error":"#VALUE!"}]
[{"$error":"#REF!"},null,null,null,{"$f":"IF(D628,LOOKUP(D628,'NEC Rules'!$A$2:$B$28),\"\")","v":""},null,null,{"$f":"IF(G628,LOOKUP(G628,'NEC Rules'!$A$2:$B$28),\"\")","v":""},null,null,{"$f":"IF(J628,LOOKUP(J628,'NEC Rules'!$A$2:$B$28),\"\")","v":""},null,null,{"$f":"IF(M628,LOOKUP(M628,'NEC Rules'!$A$2:$B$28),\"\")","v":""},null,null,{"$f":"IF(P628,LOOKUP(P628,'NEC Rules'!$A$2:$B$28),\"\")","v":""},null,"","",null,null,null,"","","",null,null,null,null,null,null,null,null,null,null,null,null,null,null,{"$error":"#VALUE!"}]
[{"$error":"#REF!"},null,null,null,{"$f":"IF(D629,LOOKUP(D629,'NEC Rules'!$A$2:$B$28),\"\")","v":""},null,null,{"$f":"IF(G629,LOOKUP(G629,'NEC Rules'!$A$2:$B$28),\"\")","v":""},null,null,{"$f":"IF(J629,LOOKUP(J629,'NEC Rules'!$A$2:$B$28),\"\")","v":""},null,null,{"$f":"IF(M629,LOOKUP(M629,'NEC Rules'!$A$2:$B$28),\"\")","v":""},null,null,{"$f":"IF(P629,LOOKUP(P629,'NEC Rules'!$A$2:$B$28),\"\")","v":""},null,"","",null,null,null,"","","",null,null,null,null,null,null,null,null,null,null,null,null,null,null,{"$error":"#VALUE!"}]
[{"$error":"#REF!"},null,null,null,{"$f":"IF(D630,LOOKUP(D630,'NEC Rules'!$A$2:$B$28),\"\")","v":""},null,null,{"$f":"IF(G630,LOOKUP(G630,'NEC Rules'!$A$2:$B$28),\"\")","v":""},null,null,{"$f":"IF(J630,LOOKUP(J630,'NEC Rules'!$A$2:$B$28),\"\")","v":""},null,null,{"$f":"IF(M630,LOOKUP(M630,'NEC Rules'!$A$2:$B$28),\"\")","v":""},null,null,{"$f":"IF(P630,LOOKUP(P630,'NEC Rules'!$A$2:$B$28),\"\")","v":""},null,"","",null,null,null,"","","",null,null,null,null,null,null,null,null,null,null,null,null,null,null,{"$error":"#VALUE!"}]
[{"$error":"#REF!"},null,null,null,{"$f":"IF(D631,LOOKUP(D631,'NEC Rules'!$A$2:$B$28),\"\")","v":""},null,null,{"$f":"IF(G631,LOOKUP(G631,'NEC Rules'!$A$2:$B$28),\"\")","v":""},null,null,{"$f":"IF(J631,LOOKUP(J631,'NEC Rules'!$A$2:$B$28),\"\")","v":""},null,null,{"$f":"IF(M631,LOOKUP(M631,'NEC Rules'!$A$2:$B$28),\"\")","v":""},null,null,{"$f":"IF(P631,LOOKUP(P631,'NEC Rules'!$A$2:$B$28),\"\")","v":""},null,"","",null,null,null,"","","",null,null,null,null,null,null,null,null,null,null,null,null,null,null,{"$error":"#VALUE!"}]
[{"$error":"#REF!"},null,null,null,{"$f":"IF(D632,LOOKUP(D632,'NEC Rules'!$A$2:$B$28),\"\")","v":""},null,null,{"$f":"IF(G632,LOOKUP(G632,'NEC Rules'!$A$2:$B$28),\"\")","v":""},null,null,{"$f":"IF(J632,LOOKUP(J632,'NEC Rules'!$A$2:$B$28),\"\")","v":""},null,null,{"$f":"IF(M632,LOOKUP(M632,'NEC Rules'!$A$2:$B$28),\"\")","v":""},null,null,{"$f":"IF(P632,LOOKUP(P632,'NEC Rules'!$A$2:$B$28),\"\")","v":""},null,"","",null,null,null,"","","",null,null,null,null,null,null,null,null,null,null,null,null,null,null,{"$error":"#VALUE!"}]
[{"$error":"#REF!"},null,null,null,{"$f":"IF(D633,LOOKUP(D633,'NEC Rules'!$A$2:$B$28),\"\")","v":""},null,null,{"$f":"IF(G633,LOOKUP(G633,'NEC Rules'!$A$2:$B$28),\"\")","v":""},null,null,{"$f":"IF(J633,LOOKUP(J633,'NEC Rules'!$A$2:$B$28),\"\")","v":""},null,null,{"$f":"IF(M633,LOOKUP(M633,'NEC Rules'!$A$2:$B$28),\"\")","v":""},null,null,{"$f":"IF(P633,LOOKUP(P633,'NEC Rules'!$A$2:$B$28),\"\")","v":""},null,"","",null,null,null,"","","",null,null,null,null,null,null,null,null,null,null,null,null,null,null,{"$error":"#VALUE!"}]
[{"$error":"#REF!"},null,null,null,{"$f":"IF(D634,LOOKUP(D634,'NEC Rules'!$A$2:$B$28),\"\")","v":""},null,null,{"$f":"IF(G634,LOOKUP(G634,'NEC Rules'!$A$2:$B$28),\"\")","v":""},null,null,{"$f":"IF(J634,LOOKUP(J634,'NEC Rules'!$A$2:$B$28),\"\")","v":""},null,null,{"$f":"IF(M634,LOOKUP(M634,'NEC Rules'!$A$2:$B$28),\"\")","v":""},null,null,{"$f":"IF(P634,LOOKUP(P634,'NEC Rules'!$A$2:$B$28),\"\")","v":""},null,"","",null,null,null,"","","",null,null,null,null,null,null,null,null,null,null,null,null,null,null,{"$error":"#VALUE!"}]
[{"$error":"#REF!"},null,null,null,{"$f":"IF(D635,LOOKUP(D635,'NEC Rules'!$A$2:$B$28),\"\")","v":""},null,null,{"$f":"IF(G635,LOOKUP(G635,'NEC Rules'!$A$2:$B$28),\"\")","v":""},null,null,{"$f":"IF(J635,LOOKUP(J635,'NEC Rules'!$A$2:$B$28),\"\")","v":""},null,null,{"$f":"IF(M635,LOOKUP(M635,'NEC Rules'!$A$2:$B$28),\"\")","v":""},null,null,{"$f":"IF(P635,LOOKUP(P635,'NEC Rules'!$A$2:$B$28),\"\")","v":""},null,"","",null,null,null,"","","",null,null,null,null,null,null,null,null,null,null,null,null,null,null,{"$error":"#VALUE!"}]
[{"$error":"#REF!"},null,null,null,{"$f":"IF(D636,LOOKUP(D636,'NEC Rules'!$A$2:$B$28),\"\")","v":""},null,null,{"$f":"IF(G636,LOOKUP(G636,'NEC Rules'!$A$2:$B$28),\"\")","v":""},null,null,{"$f":"IF(J636,LOOKUP(J636,'NEC Rules'!$A$2:$B$28),\"\")","v":""},null,null,{"$f":"IF(M636,LOOKUP(M636,'NEC Rules'!$A$2:$B$28),\"\")","v":""},null,null,{"$f":"IF(P636,LOOKUP(P636,'NEC Rules'!$A$2:$B$28),\"\")","v":""},null,{"$f":"CalcHP(D636,F636,G636,I636,J636,L636,M636,O636,P636,R636)","v":""},"",null,null,null,"","","",null,null,null,null,null,null,null,null,null,null,null,null,null,null,{"$error":"#VALUE!"}]
[{"$error":"#REF!"},null,null,null,{"$f":"IF(D637,LOOKUP(D637,'NEC Rules'!$A$2:$B$28),\"\")","v":""},null,null,{"$f":"IF(G637,LOOKUP(G637,'NEC Rules'!$A$2:$B$28),\"\")","v":""},null,null,{"$f":"IF(J637,LOOKUP(J637,'NEC Rules'!$A$2:$B$28),\"\")","v":""},null,null,{"$f":"IF(M637,LOOKUP(M637,'NEC Rules'!$A$2:$B$28),\"\")","v":""},null,null,{"$f":"IF(P637,LOOKUP(P637,'NEC Rules'!$A$2:$B$28),\"\")","v":""},null,"","",null,null,null,"","","",null,null,null,null,null,null,null,null,null,null,null,null,null,null,{"$error":"#VALUE!"}]
[{"$error":"#REF!"},null,null,null,{"$f":"IF(D638,LOOKUP(D638,'NEC Rules'!$A$2:$B$28),\"\")","v":""},null,null,{"$f":"IF(G638,LOOKUP(G638,'NEC Rules'!$A$2:$B$28),\"\")","v":""},null,null,{"$f":"IF(J638,LOOKUP(J638,'NEC Rules'!$A$2:$B$28),\"\")","v":""},null,null,{"$f":"IF(M638,LOOKUP(M638,'NEC Rules'!$A$2:$B$28),\"\")","v":""},null,null,{"$f":"IF(P638,LOOKUP(P638,'NEC Rules'!$A$2:$B$28),\"\")","v":""},null,"","",null,null,null,"","","",null,null,null,null,null,null,null,null,null,null,null,null,null,null,{"$error":"#VALUE!"}]
[{"$error":"#REF!"},null,null,null,{"$f":"IF(D639,LOOKUP(D639,'NEC Rules'!$A$2:$B$28),\"\")","v":""},null,null,{"$f":"IF(G639,LOOKUP(G639,'NEC Rules'!$A$2:$B$28),\"\")","v":""},null,null,{"$f":"IF(J639,LOOKUP(J639,'NEC Rules'!$A$2:$B$28),\"\")","v":""},null,null,{"$f":"IF(M639,LOOKUP(M639,'NEC Rules'!$A$2:$B$28),\"\")","v":""},null,null,{"$f":"IF(P639,LOOKUP(P639,'NEC Rules'!$A$2:$B$28),\"\")","v":""},null,"","",null,null,null,"","","",null,null,null,null,null,null,null,null,null,null,null,null,null,null,{"$error":"#VALUE!"}]
[{"$error":"#REF!"},null,null,null,{"$f":"IF(D640,LOOKUP(D640,'NEC Rules'!$A$2:$B$28),\"\")","v":""},null,null,{"$f":"IF(G640,LOOKUP(G640,'NEC Rules'!$A$2:$B$28),\"\")","v":""},null,null,{"$f":"IF(J640,LOOKUP(J640,'NEC Rules'!$A$2:$B$28),\"\")","v":""},null,null,{"$f":"IF(M640,LOOKUP(M640,'NEC Rules'!$A$2:$B$28),\"\")","v":""},null,null,{"$f":"IF(P640,LOOKUP(P640,'NEC Rules'!$A$2:$B$28),\"\")","v":""},null,"","",null,null,null,"","","",null,null,null,null,null,null,null,null,null,null,null,null,null,null,{"$error":"#VALUE!"}]
[{"$error":"#REF!"},null,null,null,{"$f":"IF(D641,LOOKUP(D641,'NEC Rules'!$A$2:$B$28),\"\")","v":""},null,null,{"$f":"IF(G641,LOOKUP(G641,'NEC Rules'!$A$2:$B$28),\"\")","v":""},null,null,{"$f":"IF(J641,LOOKUP(J641,'NEC Rules'!$A$2:$B$28),\"\")","v":""},null,null,{"$f":"IF(M641,LOOKUP(M641,'NEC Rules'!$A$2:$B$28),\"\")","v":""},null,null,{"$f":"IF(P641,LOOKUP(P641,'NEC Rules'!$A$2:$B$28),\"\")","v":""},null,"","",null,null,null,"","","",null,null,null,null,null,null,null,null,null,null,null,null,null,null,{"$error":"#VALUE!"}]
[{"$error":"#REF!"},null,null,null,{"$f":"IF(D642,LOOKUP(D642,'NEC Rules'!$A$2:$B$28),\"\")","v":""},null,null,{"$f":"IF(G642,LOOKUP(G642,'NEC Rules'!$A$2:$B$28),\"\")","v":""},null,null,{"$f":"IF(J642,LOOKUP(J642,'NEC Rules'!$A$2:$B$28),\"\")","v":""},null,null,{"$f":"IF(M642,LOOKUP(M642,'NEC Rules'!$A$2:$B$28),\"\")","v":""},null,null,{"$f":"IF(P642,LOOKUP(P642,'NEC Rules'!$A$2:$B$28),\"\")","v":""},null,"","",null,null,null,"","","",null,null,null,null,null,null,null,null,null,null,null,null,null,null,{"$error":"#VALUE!"}]
[{"$error":"#REF!"},null,null,null,{"$f":"IF(D643,LOOKUP(D643,'NEC Rules'!$A$2:$B$28),\"\")","v":""},null,null,{"$f":"IF(G643,LOOKUP(G643,'NEC Rules'!$A$2:$B$28),\"\")","v":""},null,null,{"$f":"IF(J643,LOOKUP(J643,'NEC Rules'!$A$2:$B$28),\"\")","v":""},null,null,{"$f":"IF(M643,LOOKUP(M643,'NEC Rules'!$A$2:$B$28),\"\")","v":""},null,null,{"$f":"IF(P643,LOOKUP(P643,'NEC Rules'!$A$2:$B$28),\"\")","v":""},null,"","",null,null,null,"",{"$f":"CalcMPF(V643,D643,E643,F643,H643,I643,K643,L643,N643,O643,Q643,R643,T643,U643)","v":""},"",null,null,null,null,null,null,null,null,null,null,null,null,null,null,{"$error":"#VALUE!"}]
[{"$error":"#REF!"},null,null,null,{"$f":"IF(D644,LOOKUP(D644,'NEC Rules'!$A$2:$B$28),\"\")","v":""},null,null,{"$f":"IF(G644,LOOKUP(G644,'NEC Rules'!$A$2:$B$28),\"\")","v":""},null,null,{"$f":"IF(J644,LOOKUP(J644,'NEC Rules'!$A$2:$B$28),\"\")","v":""},null,null,{"$f":"IF(M644,LOOKUP(M644,'NEC Rules'!$A$2:$B$28),\"\")","v":""},null,null,{"$f":"IF(P644,LOOKUP(P644,'NEC Rules'!$A$2:$B$28),\"\")","v":""},null,"",{"$f":"IF(D644,10,\"\")","v":""},null,null,null,{"$f":"IF((V644*W644),(V644*W644),\"\")","v":""},"",{"$f":"CalcPD(Y644)","v":""},null,null,null,null,null,null,null,null,null,null,null,null,null,null,{"$f":"X644*480*0.03","v":{"$error":"#VALUE!"}}]
[{"$f":"A644+1","v":{"$error":"#REF!"}},null,null,null,{"$f":"IF(D645,LOOKUP(D645,'NEC Rules'!$A$2:$B$28),\"\")","v":""},null,null,{"$f":"IF(G645,LOOKUP(G645,'NEC Rules'!$A$2:$B$28),\"\")","v":""},null,null,{"$f":"IF(J645,LOOKUP(J645,'NEC Rules'!$A$2:$B$28),\"\")","v":""},null,null,{"$f":"IF(M645,LOOKUP(M645,'NEC Rules'!$A$2:$B$28),\"\")","v":""},null,null,{"$f":"IF(P645,LOOKUP(P645,'NEC Rules'!$A$2:$B$28),\"\")","v":""},null,"","",null,null,null,"","","",null,null,null,null,null,null,null,null,null,null,null,null,null,null,{"$error":"#VALUE!"}]
[{"$error":"#REF!"},null,null,null,{"$f":"IF(D646,LOOKUP(D646,'NEC Rules'!$A$2:$B$28),\"\")","v":""},null,null,{"$f":"IF(G646,LOOKUP(G646,'NEC Rules'!$A$2:$B$28),\"\")","v":""},null,null,{"$f":"IF(J646,LOOKUP(J646,'NEC Rules'!$A$2:$B$28),\"\")","v":""},null,null,{"$f":"IF(M646,LOOKUP(M646,'NEC Rules'!$A$2:$B$28),\"\")","v":""},null,null,{"$f":"IF(P646,LOOKUP(P646,'NEC Rules'!$A$2:$B$28),\"\")","v":""},null,"","",null,null,null,"","","",null,null,null,null,null,null,null,null,null,null,null,null,null,null,{"$error":"#VALUE!"}]
[{"$error":"#REF!"},null,null,null,{"$f":"IF(D647,LOOKUP(D647,'NEC Rules'!$A$2:$B$28),\"\")","v":""},null,null,{"$f":"IF(G647,LOOKUP(G647,'NEC Rules'!$A$2:$B$28),\"\")","v":""},null,null,{"$f":"IF(J647,LOOKUP(J647,'NEC Rules'!$A$2:$B$28),\"\")","v":""},null,null,{"$f":"IF(M647,LOOKUP(M647,'NEC Rules'!$A$2:$B$28),\"\")","v":""},null,null,{"$f":"IF(P647,LOOKUP(P647,'NEC Rules'!$A$2:$B$28),\"\")","v":""},null,"","",null,null,null,"","","",null,null,null,null,null,null,null,null,null,null,null,null,null,null,{"$error":"#VALUE!"}]
[{"$error":"#REF!"},null,null,null,{"$f":"IF(D648,LOOKUP(D648,'NEC Rules'!$A$2:$B$28),\"\")","v":""},null,null,{"$f":"IF(G648,LOOKUP(G648,'NEC Rules'!$A$2:$B$28),\"\")","v":""},null,null,{"$f":"IF(J648,LOOKUP(J648,'NEC Rules'!$A$2:$B$28),\"\")","v":""},null,null,{"$f":"IF(M648,LOOKUP(M648,'NEC Rules'!$A$2:$B$28),\"\")","v":""},null,null,{"$f":"IF(P648,LOOKUP(P648,'NEC Rules'!$A$2:$B$28),\"\")","v":""},null,"","",null,null,null,"","","",null,null,null,null,null,null,null,null,null,null,null,null,null,null,{"$error":"#VALUE!"}]
[{"$error":"#REF!"},null,null,null,{"$f":"IF(D649,LOOKUP(D649,'NEC Rules'!$A$2:$B$28),\"\")","v":""},null,null,{"$f":"IF(G649,LOOKUP(G649,'NEC Rules'!$A$2:$B$28),\"\")","v":""},null,null,{"$f":"IF(J649,LOOKUP(J649,'NEC Rules'!$A$2:$B$28),\"\")","v":""},null,null,{"$f":"IF(M649,LOOKUP(M649,'NEC Rules'!$A$2:$B$28),\"\")","v":""},null,null,{"$f":"IF(P649,LOOKUP(P649,'NEC Rules'!$A$2:$B$28),\"\")","v":""},null,"","",null,null,null,"","","",null,null,null,null,null,null,null,null,null,null,null,null,null,null,{"$error":"#VALUE!"}]
[{"$error":"#REF!"},null,null,null,{"$f":"IF(D650,LOOKUP(D650,'NEC Rules'!$A$2:$B$28),\"\")","v":""},null,null,{"$f":"IF(G650,LOOKUP(G650,'NEC Rules'!$A$2:$B$28),\"\")","v":""},null,null,{"$f":"IF(J650,LOOKUP(J650,'NEC Rules'!$A$2:$B$28),\"\")","v":""},null,null,{"$f":"IF(M650,LOOKUP(M650,'NEC Rules'!$A$2:$B$28),\"\")","v":""},null,null,{"$f":"IF(P650,LOOKUP(P650,'NEC Rules'!$A$2:$B$28),\"\")","v":""},null,"","",null,null,null,"","","",null,null,null,null,null,null,null,null,null,null,null,null,null,null,{"$error":"#VALUE!"}]
[{"$error":"#REF!"},null,null,null,{"$f":"IF(D651,LOOKUP(D651,'NEC Rules'!$A$2:$B$28),\"\")","v":""},null,null,{"$f":"IF(G651,LOOKUP(G651,'NEC Rules'!$A$2:$B$28),\"\")","v":""},null,null,{"$f":"IF(J651,LOOKUP(J651,'NEC Rules'!$A$2:$B$28),\"\")","v":""},null,null,{"$f":"IF(M651,LOOKUP(M651,'NEC Rules'!$A$2:$B$28),\"\")","v":""},null,null,{"$f":"IF(P651,LOOKUP(P651,'NEC Rules'!$A$2:$B$28),\"\")","v":""},null,"","",null,null,null,"","","",null,null,null,null,null,null,null,null,null,null,null,null,null,null,{"$error":"#VALUE!"}]
[{"$error":"#REF!"},null,null,null,{"$f":"IF(D652,LOOKUP(D652,'NEC Rules'!$A$2:$B$28),\"\")","v":""},null,null,{"$f":"IF(G652,LOOKUP(G652,'NEC Rules'!$A$2:$B$28),\"\")","v":""},null,null,{"$f":"IF(J652,LOOKUP(J652,'NEC Rules'!$A$2:$B$28),\"\")","v":""},null,null,{"$f":"IF(M652,LOOKUP(M652,'NEC Rules'!$A$2:$B$28),\"\")","v":""},null,null,{"$f":"IF(P652,LOOKUP(P652,'NEC Rules'!$A$2:$B$28),\"\")","v":""},null,"","",null,null,null,"","","",null,null,null,null,null,null,null,null,null,null,null,null,null,null,{"$error":"#VALUE!"}]
[{"$error":"#REF!"},null,null,null,{"$f":"IF(D653,LOOKUP(D653,'NEC Rules'!$A$2:$B$28),\"\")","v":""},null,null,{"$f":"IF(G653,LOOKUP(G653,'NEC Rules'!$A$2:$B$28),\"\")","v":""},null,null,{"$f":"IF(J653,LOOKUP(J653,'NEC Rules'!$A$2:$B$28),\"\")","v":""},null,null,{"$f":"IF(M653,LOOKUP(M653,'NEC Rules'!$A$2:$B$28),\"\")","v":""},null,null,{"$f":"IF(P653,LOOKUP(P653,'NEC Rules'!$A$2:$B$28),\"\")","v":""},null,"","",null,null,null,"","","",null,null,null,null,null,null,null,null,null,null,null,null,null,null,{"$error":"#VALUE!"}]
[{"$error":"#REF!"},null,null,null,{"$f":"IF(D654,LOOKUP(D654,'NEC Rules'!$A$2:$B$28),\"\")","v":""},null,null,{"$f":"IF(G654,LOOKUP(G654,'NEC Rules'!$A$2:$B$28),\"\")","v":""},null,null,{"$f":"IF(J654,LOOKUP(J654,'NEC Rules'!$A$2:$B$28),\"\")","v":""},null,null,{"$f":"IF(M654,LOOKUP(M654,'NEC Rules'!$A$2:$B$28),\"\")","v":""},null,null,{"$f":"IF(P654,LOOKUP(P654,'NEC Rules'!$A$2:$B$28),\"\")","v":""},null,"","",null,null,null,"","","",null,null,null,null,null,null,null,null,null,null,null,null,null,null,{"$error":"#VALUE!"}]
[{"$error":"#REF!"},null,null,null,{"$f":"IF(D655,LOOKUP(D655,'NEC Rules'!$A$2:$B$28),\"\")","v":""},null,null,{"$f":"IF(G655,LOOKUP(G655,'NEC Rules'!$A$2:$B$28),\"\")","v":""},null,null,{"$f":"IF(J655,LOOKUP(J655,'NEC Rules'!$A$2:$B$28),\"\")","v":""},null,null,{"$f":"IF(M655,LOOKUP(M655,'NEC Rules'!$A$2:$B$28),\"\")","v":""},null,null,{"$f":"IF(P655,LOOKUP(P655,'NEC Rules'!$A$2:$B$28),\"\")","v":""},null,{"$f":"CalcHP(D655,F655,G655,I655,J655,L655,M655,O655,P655,R655)","v":""},"",null,null,null,"","","",null,null,null,null,null,null,null,null,null,null,null,null,null,null,{"$error":"#VALUE!"}]
[{"$error":"#REF!"},null,null,null,{"$f":"IF(D656,LOOKUP(D656,'NEC Rules'!$A$2:$B$28),\"\")","v":""},null,null,{"$f":"IF(G656,LOOKUP(G656,'NEC Rules'!$A$2:$B$28),\"\")","v":""},null,null,{"$f":"IF(J656,LOOKUP(J656,'NEC Rules'!$A$2:$B$28),\"\")","v":""},null,null,{"$f":"IF(M656,LOOKUP(M656,'NEC Rules'!$A$2:$B$28),\"\")","v":""},null,null,{"$f":"IF(P656,LOOKUP(P656,'NEC Rules'!$A$2:$B$28),\"\")","v":""},null,{"$f":"CalcHP(D656,F656,G656,I656,J656,L656,M656,O656,P656,R656)","v":""},"",null,null,null,"","","",null,null,null,null,null,null,null,null,null,null,null,null,null,null,{"$error":"#VALUE!"}]
[{"$error":"#REF!"},null,null,null,{"$f":"IF(D657,LOOKUP(D657,'NEC Rules'!$A$2:$B$28),\"\")","v":""},null,null,{"$f":"IF(G657,LOOKUP(G657,'NEC Rules'!$A$2:$B$28),\"\")","v":""},null,null,{"$f":"IF(J657,LOOKUP(J657,'NEC Rules'!$A$2:$B$28),\"\")","v":""},null,null,{"$f":"IF(M657,LOOKUP(M657,'NEC Rules'!$A$2:$B$28),\"\")","v":""},null,null,{"$f":"IF(P657,LOOKUP(P657,'NEC Rules'!$A$2:$B$28),\"\")","v":""},null,"","",null,null,null,"","","",null,null,null,null,null,null,null,null,null,null,null,null,null,null,{"$error":"#VALUE!"}]
[{"$error":"#REF!"},null,null,null,{"$f":"IF(D658,LOOKUP(D658,'NEC Rules'!$A$2:$B$28),\"\")","v":""},null,null,{"$f":"IF(G658,LOOKUP(G658,'NEC Rules'!$A$2:$B$28),\"\")","v":""},null,null,{"$f":"IF(J658,LOOKUP(J658,'NEC Rules'!$A$2:$B$28),\"\")","v":""},null,null,{"$f":"IF(M658,LOOKUP(M658,'NEC Rules'!$A$2:$B$28),\"\")","v":""},null,null,{"$f":"IF(P658,LOOKUP(P658,'NEC Rules'!$A$2:$B$28),\"\")","v":""},null,"","",null,null,null,"","","",null,null,null,null,null,null,null,null,null,null,null,null,null,null,{"$error":"#VALUE!"}]
[{"$error":"#REF!"},null,null,null,{"$f":"IF(D659,LOOKUP(D659,'NEC Rules'!$A$2:$B$28),\"\")","v":""},null,null,{"$f":"IF(G659,LOOKUP(G659,'NEC Rules'!$A$2:$B$28),\"\")","v":""},null,null,{"$f":"IF(J659,LOOKUP(J659,'NEC Rules'!$A$2:$B$28),\"\")","v":""},null,null,{"$f":"IF(M659,LOOKUP(M659,'NEC Rules'!$A$2:$B$28),\"\")","v":""},null,null,{"$f":"IF(P659,LOOKUP(P659,'NEC Rules'!$A$2:$B$28),\"\")","v":""},null,"","",null,null,null,"","","",null,null,null,null,null,null,null,null,null,null,null,null,null,null,{"$error":"#VALUE!"}]
[{"$error":"#REF!"},null,null,null,{"$f":"IF(D660,LOOKUP(D660,'NEC Rules'!$A$2:$B$28),\"\")","v":""},null,null,{"$f":"IF(G660,LOOKUP(G660,'NEC Rules'!$A$2:$B$28),\"\")","v":""},null,null,{"$f":"IF(J660,LOOKUP(J660,'NEC Rules'!$A$2:$B$28),\"\")","v":""},null,null,{"$f":"IF(M660,LOOKUP(M660,'NEC Rules'!$A$2:$B$28),\"\")","v":""},null,null,{"$f":"IF(P660,LOOKUP(P660,'NEC Rules'!$A$2:$B$28),\"\")","v":""},null,"","",null,null,null,"","","",null,null,null,null,null,null,null,null,null,null,null,null,null,null,{"$error":"#VALUE!"}]
[{"$error":"#REF!"},null,null,null,{"$f":"IF(D661,LOOKUP(D661,'NEC Rules'!$A$2:$B$28),\"\")","v":""},null,null,{"$f":"IF(G661,LOOKUP(G661,'NEC Rules'!$A$2:$B$28),\"\")","v":""},null,null,{"$f":"IF(J661,LOOKUP(J661,'NEC Rules'!$A$2:$B$28),\"\")","v":""},null,null,{"$f":"IF(M661,LOOKUP(M661,'NEC Rules'!$A$2:$B$28),\"\")","v":""},null,null,{"$f":"IF(P661,LOOKUP(P661,'NEC Rules'!$A$2:$B$28),\"\")","v":""},null,"","",null,null,null,"","","",null,null,null,null,null,null,null,null,null,null,null,null,null,null,{"$error":"#VALUE!"}]
[{"$error":"#REF!"},null,null,null,{"$f":"IF(D662,LOOKUP(D662,'NEC Rules'!$A$2:$B$28),\"\")","v":""},null,null,{"$f":"IF(G662,LOOKUP(G662,'NEC Rules'!$A$2:$B$28),\"\")","v":""},null,null,{"$f":"IF(J662,LOOKUP(J662,'NEC Rules'!$A$2:$B$28),\"\")","v":""},null,null,{"$f":"IF(M662,LOOKUP(M662,'NEC Rules'!$A$2:$B$28),\"\")","v":""},null,null,{"$f":"IF(P662,LOOKUP(P662,'NEC Rules'!$A$2:$B$28),\"\")","v":""},null,"","",null,null,null,"","","",null,null,null,null,null,null,null,null,null,null,null,null,null,null,{"$error":"#VALUE!"}]
[{"$error":"#REF!"},null,null,null,{"$f":"IF(D663,LOOKUP(D663,'NEC Rules'!$A$2:$B$28),\"\")","v":""},null,null,{"$f":"IF(G663,LOOKUP(G663,'NEC Rules'!$A$2:$B$28),\"\")","v":""},null,null,{"$f":"IF(J663,LOOKUP(J663,'NEC Rules'!$A$2:$B$28),\"\")","v":""},null,null,{"$f":"IF(M663,LOOKUP(M663,'NEC Rules'!$A$2:$B$28),\"\")","v":""},null,null,{"$f":"IF(P663,LOOKUP(P663,'NEC Rules'!$A$2:$B$28),\"\")","v":""},null,"","",null,null,null,"","","",null,null,null,null,null,null,null,null,null,null,null,null,null,null,{"$error":"#VALUE!"}]
[{"$error":"#REF!"},null,null,null,{"$f":"IF(D664,LOOKUP(D664,'NEC Rules'!$A$2:$B$28),\"\")","v":""},null,null,{"$f":"IF(G664,LOOKUP(G664,'NEC Rules'!$A$2:$B$28),\"\")","v":""},null,null,{"$f":"IF(J664,LOOKUP(J664,'NEC Rules'!$A$2:$B$28),\"\")","v":""},null,null,{"$f":"IF(M664,LOOKUP(M664,'NEC Rules'!$A$2:$B$28),\"\")","v":""},null,null,{"$f":"IF(P664,LOOKUP(P664,'NEC Rules'!$A$2:$B$28),\"\")","v":""},null,"","",null,null,null,"","","",null,null,null,null,null,null,null,null,null,null,null,null,null,null,{"$error":"#VALUE!"}]
[{"$error":"#REF!"},null,null,null,{"$f":"IF(D665,LOOKUP(D665,'NEC Rules'!$A$2:$B$28),\"\")","v":""},null,null,{"$f":"IF(G665,LOOKUP(G665,'NEC Rules'!$A$2:$B$28),\"\")","v":""},null,null,{"$f":"IF(J665,LOOKUP(J665,'NEC Rules'!$A$2:$B$28),\"\")","v":""},null,null,{"$f":"IF(M665,LOOKUP(M665,'NEC Rules'!$A$2:$B$28),\"\")","v":""},null,null,{"$f":"IF(P665,LOOKUP(P665,'NEC Rules'!$A$2:$B$28),\"\")","v":""},null,"","",null,null,null,"","","",null,null,null,null,null,null,null,null,null,null,null,null,null,null,{"$error":"#VALUE!"}]
[{"$error":"#REF!"},null,null,null,{"$f":"IF(D666,LOOKUP(D666,'NEC Rules'!$A$2:$B$28),\"\")","v":""},null,null,{"$f":"IF(G666,LOOKUP(G666,'NEC Rules'!$A$2:$B$28),\"\")","v":""},null,null,{"$f":"IF(J666,LOOKUP(J666,'NEC Rules'!$A$2:$B$28),\"\")","v":""},null,null,{"$f":"IF(M666,LOOKUP(M666,'NEC Rules'!$A$2:$B$28),\"\")","v":""},null,null,{"$f":"IF(P666,LOOKUP(P666,'NEC Rules'!$A$2:$B$28),\"\")","v":""},null,"","",null,null,null,"","","",null,null,null,null,null,null,null,null,null,null,null,null,null,null,{"$error":"#VALUE!"}]
[{"$error":"#REF!"},null,null,null,{"$f":"IF(D667,LOOKUP(D667,'NEC Rules'!$A$2:$B$28),\"\")","v":""},null,null,{"$f":"IF(G667,LOOKUP(G667,'NEC Rules'!$A$2:$B$28),\"\")","v":""},null,null,{"$f":"IF(J667,LOOKUP(J667,'NEC Rules'!$A$2:$B$28),\"\")","v":""},null,null,{"$f":"IF(M667,LOOKUP(M667,'NEC Rules'!$A$2:$B$28),\"\")","v":""},null,null,{"$f":"IF(P667,LOOKUP(P667,'NEC Rules'!$A$2:$B$28),\"\")","v":""},null,"","",null,null,null,"","","",null,null,null,null,null,null,null,null,null,null,null,null,null,null,{"$error":"#VALUE!"}]
[{"$error":"#REF!"},null,null,null,{"$f":"IF(D668,LOOKUP(D668,'NEC Rules'!$A$2:$B$28),\"\")","v":""},null,null,{"$f":"IF(G668,LOOKUP(G668,'NEC Rules'!$A$2:$B$28),\"\")","v":""},null,null,{"$f":"IF(J668,LOOKUP(J668,'NEC Rules'!$A$2:$B$28),\"\")","v":""},null,null,{"$f":"IF(M668,LOOKUP(M668,'NEC Rules'!$A$2:$B$28),\"\")","v":""},null,null,{"$f":"IF(P668,LOOKUP(P668,'NEC Rules'!$A$2:$B$28),\"\")","v":""},null,"","",null,null,null,"","","",null,null,null,null,null,null,null,null,null,null,null,null,null,null,{"$error":"#VALUE!"}]
[{"$error":"#REF!"},null,null,null,{"$f":"IF(D669,LOOKUP(D669,'NEC Rules'!$A$2:$B$28),\"\")","v":""},null,null,{"$f":"IF(G669,LOOKUP(G669,'NEC Rules'!$A$2:$B$28),\"\")","v":""},null,null,{"$f":"IF(J669,LOOKUP(J669,'NEC Rules'!$A$2:$B$28),\"\")","v":""},null,null,{"$f":"IF(M669,LOOKUP(M669,'NEC Rules'!$A$2:$B$28),\"\")","v":""},null,null,{"$f":"IF(P669,LOOKUP(P669,'NEC Rules'!$A$2:$B$28),\"\")","v":""},null,"","",null,null,null,"","","",null,null,null,null,null,null,null,null,null,null,null,null,null,null,{"$error":"#VALUE!"}]
[{"$error":"#REF!"},null,null,null,{"$f":"IF(D670,LOOKUP(D670,'NEC Rules'!$A$2:$B$28),\"\")","v":""},null,null,{"$f":"IF(G670,LOOKUP(G670,'NEC Rules'!$A$2:$B$28),\"\")","v":""},null,null,{"$f":"IF(J670,LOOKUP(J670,'NEC Rules'!$A$2:$B$28),\"\")","v":""},null,null,{"$f":"IF(M670,LOOKUP(M670,'NEC Rules'!$A$2:$B$28),\"\")","v":""},null,null,{"$f":"IF(P670,LOOKUP(P670,'NEC Rules'!$A$2:$B$28),\"\")","v":""},null,"","",null,null,null,"","","",null,null,null,null,null,null,null,null,null,null,null,null,null,null,{"$error":"#VALUE!"}]
[{"$error":"#REF!"},null,null,null,{"$f":"IF(D671,LOOKUP(D671,'NEC Rules'!$A$2:$B$28),\"\")","v":""},null,null,{"$f":"IF(G671,LOOKUP(G671,'NEC Rules'!$A$2:$B$28),\"\")","v":""},null,null,{"$f":"IF(J671,LOOKUP(J671,'NEC Rules'!$A$2:$B$28),\"\")","v":""},null,null,{"$f":"IF(M671,LOOKUP(M671,'NEC Rules'!$A$2:$B$28),\"\")","v":""},null,null,{"$f":"IF(P671,LOOKUP(P671,'NEC Rules'!$A$2:$B$28),\"\")","v":""},null,"","",null,null,null,"","","",null,null,null,null,null,null,null,null,null,null,null,null,null,null,{"$error":"#VALUE!"}]
[{"$error":"#REF!"},null,null,null,{"$f":"IF(D672,LOOKUP(D672,'NEC Rules'!$A$2:$B$28),\"\")","v":""},null,null,{"$f":"IF(G672,LOOKUP(G672,'NEC Rules'!$A$2:$B$28),\"\")","v":""},null,null,{"$f":"IF(J672,LOOKUP(J672,'NEC Rules'!$A$2:$B$28),\"\")","v":""},null,null,{"$f":"IF(M672,LOOKUP(M672,'NEC Rules'!$A$2:$B$28),\"\")","v":""},null,null,{"$f":"IF(P672,LOOKUP(P672,'NEC Rules'!$A$2:$B$28),\"\")","v":""},null,"","",null,null,null,"","","",null,null,null,null,null,null,null,null,null,null,null,null,null,null,{"$error":"#VALUE!"}]
[{"$error":"#REF!"},null,null,null,{"$f":"IF(D673,LOOKUP(D673,'NEC Rules'!$A$2:$B$28),\"\")","v":""},null,null,{"$f":"IF(G673,LOOKUP(G673,'NEC Rules'!$A$2:$B$28),\"\")","v":""},null,null,{"$f":"IF(J673,LOOKUP(J673,'NEC Rules'!$A$2:$B$28),\"\")","v":""},null,null,{"$f":"IF(M673,LOOKUP(M673,'NEC Rules'!$A$2:$B$28),\"\")","v":""},null,null,{"$f":"IF(P673,LOOKUP(P673,'NEC Rules'!$A$2:$B$28),\"\")","v":""},null,"","",null,null,null,"","","",null,null,null,null,null,null,null,null,null,null,null,null,null,null,{"$error":"#VALUE!"}]
[{"$error":"#REF!"},null,null,null,{"$f":"IF(D674,LOOKUP(D674,'NEC Rules'!$A$2:$B$28),\"\")","v":""},null,null,{"$f":"IF(G674,LOOKUP(G674,'NEC Rules'!$A$2:$B$28),\"\")","v":""},null,null,{"$f":"IF(J674,LOOKUP(J674,'NEC Rules'!$A$2:$B$28),\"\")","v":""},null,null,{"$f":"IF(M674,LOOKUP(M674,'NEC Rules'!$A$2:$B$28),\"\")","v":""},null,null,{"$f":"IF(P674,LOOKUP(P674,'NEC Rules'!$A$2:$B$28),\"\")","v":""},null,"","",null,null,null,"","","",null,null,null,null,null,null,null,null,null,null,null,null,null,null,{"$error":"#VALUE!"}]
[{"$error":"#REF!"},null,null,null,{"$f":"IF(D675,LOOKUP(D675,'NEC Rules'!$A$2:$B$28),\"\")","v":""},null,null,{"$f":"IF(G675,LOOKUP(G675,'NEC Rules'!$A$2:$B$28),\"\")","v":""},null,null,{"$f":"IF(J675,LOOKUP(J675,'NEC Rules'!$A$2:$B$28),\"\")","v":""},null,null,{"$f":"IF(M675,LOOKUP(M675,'NEC Rules'!$A$2:$B$28),\"\")","v":""},null,null,{"$f":"IF(P675,LOOKUP(P675,'NEC Rules'!$A$2:$B$28),\"\")","v":""},null,"","",null,null,null,"","","",null,null,null,null,null,null,null,null,null,null,null,null,null,null,{"$error":"#VALUE!"}]
[{"$error":"#REF!"},null,null,null,{"$f":"IF(D676,LOOKUP(D676,'NEC Rules'!$A$2:$B$28),\"\")","v":""},null,null,{"$f":"IF(G676,LOOKUP(G676,'NEC Rules'!$A$2:$B$28),\"\")","v":""},null,null,{"$f":"IF(J676,LOOKUP(J676,'NEC Rules'!$A$2:$B$28),\"\")","v":""},null,null,{"$f":"IF(M676,LOOKUP(M676,'NEC Rules'!$A$2:$B$28),\"\")","v":""},null,null,{"$f":"IF(P676,LOOKUP(P676,'NEC Rules'!$A$2:$B$28),\"\")","v":""},null,"","",null,null,null,"","","",null,null,null,null,null,null,null,null,null,null,null,null,null,null,{"$error":"#VALUE!"}]
[{"$error":"#REF!"},null,null,null,{"$f":"IF(D677,LOOKUP(D677,'NEC Rules'!$A$2:$B$28),\"\")","v":""},null,null,{"$f":"IF(G677,LOOKUP(G677,'NEC Rules'!$A$2:$B$28),\"\")","v":""},null,null,{"$f":"IF(J677,LOOKUP(J677,'NEC Rules'!$A$2:$B$28),\"\")","v":""},null,null,{"$f":"IF(M677,LOOKUP(M677,'NEC Rules'!$A$2:$B$28),\"\")","v":""},null,null,{"$f":"IF(P677,LOOKUP(P677,'NEC Rules'!$A$2:$B$28),\"\")","v":""},null,"","",null,null,null,"","","",null,null,null,null,null,null,null,null,null,null,null,null,null,null,{"$error":"#VALUE!"}]
[{"$error":"#REF!"},null,null,null,{"$f":"IF(D678,LOOKUP(D678,'NEC Rules'!$A$2:$B$28),\"\")","v":""},null,null,{"$f":"IF(G678,LOOKUP(G678,'NEC Rules'!$A$2:$B$28),\"\")","v":""},null,null,{"$f":"IF(J678,LOOKUP(J678,'NEC Rules'!$A$2:$B$28),\"\")","v":""},null,null,{"$f":"IF(M678,LOOKUP(M678,'NEC Rules'!$A$2:$B$28),\"\")","v":""},null,null,{"$f":"IF(P678,LOOKUP(P678,'NEC Rules'!$A$2:$B$28),\"\")","v":""},null,"","",null,null,null,"","","",null,null,null,null,null,null,null,null,null,null,null,null,null,null,{"$error":"#VALUE!"}]
[{"$error":"#REF!"},null,null,null,{"$f":"IF(D679,LOOKUP(D679,'NEC Rules'!$A$2:$B$28),\"\")","v":""},null,null,{"$f":"IF(G679,LOOKUP(G679,'NEC Rules'!$A$2:$B$28),\"\")","v":""},null,null,{"$f":"IF(J679,LOOKUP(J679,'NEC Rules'!$A$2:$B$28),\"\")","v":""},null,null,{"$f":"IF(M679,LOOKUP(M679,'NEC Rules'!$A$2:$B$28),\"\")","v":""},null,null,{"$f":"IF(P679,LOOKUP(P679,'NEC Rules'!$A$2:$B$28),\"\")","v":""},null,"","",null,null,null,"","","",null,null,null,null,null,null,null,null,null,null,null,null,null,null,{"$error":"#VALUE!"}]
[{"$error":"#REF!"},null,null,null,{"$f":"IF(D680,LOOKUP(D680,'NEC Rules'!$A$2:$B$28),\"\")","v":""},null,null,{"$f":"IF(G680,LOOKUP(G680,'NEC Rules'!$A$2:$B$28),\"\")","v":""},null,null,{"$f":"IF(J680,LOOKUP(J680,'NEC Rules'!$A$2:$B$28),\"\")","v":""},null,null,{"$f":"IF(M680,LOOKUP(M680,'NEC Rules'!$A$2:$B$28),\"\")","v":""},null,null,{"$f":"IF(P680,LOOKUP(P680,'NEC Rules'!$A$2:$B$28),\"\")","v":""},null,"","",null,null,null,"","","",null,null,null,null,null,null,null,null,null,null,null,null,null,null,{"$error":"#VALUE!"}]
[{"$error":"#REF!"},null,null,null,{"$f":"IF(D681,LOOKUP(D681,'NEC Rules'!$A$2:$B$28),\"\")","v":""},null,null,{"$f":"IF(G681,LOOKUP(G681,'NEC Rules'!$A$2:$B$28),\"\")","v":""},null,null,{"$f":"IF(J681,LOOKUP(J681,'NEC Rules'!$A$2:$B$28),\"\")","v":""},null,null,{"$f":"IF(M681,LOOKUP(M681,'NEC Rules'!$A$2:$B$28),\"\")","v":""},null,null,{"$f":"IF(P681,LOOKUP(P681,'NEC Rules'!$A$2:$B$28),\"\")","v":""},null,"","",null,null,null,"","","",null,null,null,null,null,null,null,null,null,null,null,null,null,null,{"$error":"#VALUE!"}]
[{"$error":"#REF!"},null,null,null,{"$f":"IF(D682,LOOKUP(D682,'NEC Rules'!$A$2:$B$28),\"\")","v":""},null,null,{"$f":"IF(G682,LOOKUP(G682,'NEC Rules'!$A$2:$B$28),\"\")","v":""},null,null,{"$f":"IF(J682,LOOKUP(J682,'NEC Rules'!$A$2:$B$28),\"\")","v":""},null,null,{"$f":"IF(M682,LOOKUP(M682,'NEC Rules'!$A$2:$B$28),\"\")","v":""},null,null,{"$f":"IF(P682,LOOKUP(P682,'NEC Rules'!$A$2:$B$28),\"\")","v":""},null,"","",null,null,null,"","","",null,null,null,null,null,null,null,null,null,null,null,null,null,null,{"$error":"#VALUE!"}]
[{"$error":"#REF!"},null,null,null,{"$f":"IF(D683,LOOKUP(D683,'NEC Rules'!$A$2:$B$28),\"\")","v":""},null,null,{"$f":"IF(G683,LOOKUP(G683,'NEC Rules'!$A$2:$B$28),\"\")","v":""},null,null,{"$f":"IF(J683,LOOKUP(J683,'NEC Rules'!$A$2:$B$28),\"\")","v":""},null,null,{"$f":"IF(M683,LOOKUP(M683,'NEC Rules'!$A$2:$B$28),\"\")","v":""},null,null,{"$f":"IF(P683,LOOKUP(P683,'NEC Rules'!$A$2:$B$28),\"\")","v":""},null,"","",null,null,null,"","","",null,null,null,null,null,null,null,null,null,null,null,null,null,null,{"$error":"#VALUE!"}]
[{"$error":"#REF!"},null,null,null,{"$f":"IF(D684,LOOKUP(D684,'NEC Rules'!$A$2:$B$28),\"\")","v":""},null,null,{"$f":"IF(G684,LOOKUP(G684,'NEC Rules'!$A$2:$B$28),\"\")","v":""},null,null,{"$f":"IF(J684,LOOKUP(J684,'NEC Rules'!$A$2:$B$28),\"\")","v":""},null,null,{"$f":"IF(M684,LOOKUP(M684,'NEC Rules'!$A$2:$B$28),\"\")","v":""},null,null,{"$f":"IF(P684,LOOKUP(P684,'NEC Rules'!$A$2:$B$28),\"\")","v":""},null,"","",null,null,null,"","","",null,null,null,null,null,null,null,null,null,null,null,null,null,null,{"$error":"#VALUE!"}]
[{"$error":"#REF!"},null,null,null,{"$f":"IF(D685,LOOKUP(D685,'NEC Rules'!$A$2:$B$28),\"\")","v":""},null,null,{"$f":"IF(G685,LOOKUP(G685,'NEC Rules'!$A$2:$B$28),\"\")","v":""},null,null,{"$f":"IF(J685,LOOKUP(J685,'NEC Rules'!$A$2:$B$28),\"\")","v":""},null,null,{"$f":"IF(M685,LOOKUP(M685,'NEC Rules'!$A$2:$B$28),\"\")","v":""},null,null,{"$f":"IF(P685,LOOKUP(P685,'NEC Rules'!$A$2:$B$28),\"\")","v":""},null,"","",null,null,null,"","","",null,null,null,null,null,null,null,null,null,null,null,null,null,null,{"$error":"#VALUE!"}]
[{"$error":"#REF!"},null,null,null,{"$f":"IF(D686,LOOKUP(D686,'NEC Rules'!$A$2:$B$28),\"\")","v":""},null,null,{"$f":"IF(G686,LOOKUP(G686,'NEC Rules'!$A$2:$B$28),\"\")","v":""},null,null,{"$f":"IF(J686,LOOKUP(J686,'NEC Rules'!$A$2:$B$28),\"\")","v":""},null,null,{"$f":"IF(M686,LOOKUP(M686,'NEC Rules'!$A$2:$B$28),\"\")","v":""},null,null,{"$f":"IF(P686,LOOKUP(P686,'NEC Rules'!$A$2:$B$28),\"\")","v":""},null,"","",null,null,null,"","","",null,null,null,null,null,null,null,null,null,null,null,null,null,null,{"$error":"#VALUE!"}]
[{"$error":"#REF!"},null,null,null,{"$f":"IF(D687,LOOKUP(D687,'NEC Rules'!$A$2:$B$28),\"\")","v":""},null,null,{"$f":"IF(G687,LOOKUP(G687,'NEC Rules'!$A$2:$B$28),\"\")","v":""},null,null,{"$f":"IF(J687,LOOKUP(J687,'NEC Rules'!$A$2:$B$28),\"\")","v":""},null,null,{"$f":"IF(M687,LOOKUP(M687,'NEC Rules'!$A$2:$B$28),\"\")","v":""},null,null,{"$f":"IF(P687,LOOKUP(P687,'NEC Rules'!$A$2:$B$28),\"\")","v":""},null,"","",null,null,null,"","","",null,null,null,null,null,null,null,null,null,null,null,null,null,null,{"$error":"#VALUE!"}]
[{"$error":"#REF!"},null,null,null,{"$f":"IF(D688,LOOKUP(D688,'NEC Rules'!$A$2:$B$28),\"\")","v":""},null,null,{"$f":"IF(G688,LOOKUP(G688,'NEC Rules'!$A$2:$B$28),\"\")","v":""},null,null,{"$f":"IF(J688,LOOKUP(J688,'NEC Rules'!$A$2:$B$28),\"\")","v":""},null,null,{"$f":"IF(M688,LOOKUP(M688,'NEC Rules'!$A$2:$B$28),\"\")","v":""},null,null,{"$f":"IF(P688,LOOKUP(P688,'NEC Rules'!$A$2:$B$28),\"\")","v":""},null,{"$f":"CalcHP(D688,F688,G688,I688,J688,L688,M688,O688,P688,R688)","v":""},"",null,null,null,"","","",null,null,null,null,null,null,null,null,null,null,null,null,null,null,{"$error":"#VALUE!"}]
[{"$error":"#REF!"},null,null,null,{"$f":"IF(D689,LOOKUP(D689,'NEC Rules'!$A$2:$B$28),\"\")","v":""},null,null,{"$f":"IF(G689,LOOKUP(G689,'NEC Rules'!$A$2:$B$28),\"\")","v":""},null,null,{"$f":"IF(J689,LOOKUP(J689,'NEC Rules'!$A$2:$B$28),\"\")","v":""},null,null,{"$f":"IF(M689,LOOKUP(M689,'NEC Rules'!$A$2:$B$28),\"\")","v":""},null,null,{"$f":"IF(P689,LOOKUP(P689,'NEC Rules'!$A$2:$B$28),\"\")","v":""},null,"","",null,null,null,"","","",null,null,null,null,null,null,null,null,null,null,null,null,null,null,{"$error":"#VALUE!"}]
[{"$error":"#REF!"},null,null,null,{"$f":"IF(D690,LOOKUP(D690,'NEC Rules'!$A$2:$B$28),\"\")","v":""},null,null,{"$f":"IF(G690,LOOKUP(G690,'NEC Rules'!$A$2:$B$28),\"\")","v":""},null,null,{"$f":"IF(J690,LOOKUP(J690,'NEC Rules'!$A$2:$B$28),\"\")","v":""},null,null,{"$f":"IF(M690,LOOKUP(M690,'NEC Rules'!$A$2:$B$28),\"\")","v":""},null,null,{"$f":"IF(P690,LOOKUP(P690,'NEC Rules'!$A$2:$B$28),\"\")","v":""},null,"","",null,null,null,"","","",null,null,null,null,null,null,null,null,null,null,null,null,null,null,{"$error":"#VALUE!"}]
[{"$error":"#REF!"},null,null,null,{"$f":"IF(D691,LOOKUP(D691,'NEC Rules'!$A$2:$B$28),\"\")","v":""},null,null,{"$f":"IF(G691,LOOKUP(G691,'NEC Rules'!$A$2:$B$28),\"\")","v":""},null,null,{"$f":"IF(J691,LOOKUP(J691,'NEC Rules'!$A$2:$B$28),\"\")","v":""},null,null,{"$f":"IF(M691,LOOKUP(M691,'NEC Rules'!$A$2:$B$28),\"\")","v":""},null,null,{"$f":"IF(P691,LOOKUP(P691,'NEC Rules'!$A$2:$B$28),\"\")","v":""},null,"","",null,null,null,"","","",null,null,null,null,null,null,null,null,null,null,null,null,null,null,{"$error":"#VALUE!"}]
[{"$error":"#REF!"},null,null,null,{"$f":"IF(D692,LOOKUP(D692,'NEC Rules'!$A$2:$B$28),\"\")","v":""},null,null,{"$f":"IF(G692,LOOKUP(G692,'NEC Rules'!$A$2:$B$28),\"\")","v":""},null,null,{"$f":"IF(J692,LOOKUP(J692,'NEC Rules'!$A$2:$B$28),\"\")","v":""},null,null,{"$f":"IF(M692,LOOKUP(M692,'NEC Rules'!$A$2:$B$28),\"\")","v":""},null,null,{"$f":"IF(P692,LOOKUP(P692,'NEC Rules'!$A$2:$B$28),\"\")","v":""},null,"","",null,null,null,"","","",null,null,null,null,null,null,null,null,null,null,null,null,null,null,{"$error":"#VALUE!"}]
[{"$error":"#REF!"},null,null,null,{"$f":"IF(D693,LOOKUP(D693,'NEC Rules'!$A$2:$B$28),\"\")","v":""},null,null,{"$f":"IF(G693,LOOKUP(G693,'NEC Rules'!$A$2:$B$28),\"\")","v":""},null,null,{"$f":"IF(J693,LOOKUP(J693,'NEC Rules'!$A$2:$B$28),\"\")","v":""},null,null,{"$f":"IF(M693,LOOKUP(M693,'NEC Rules'!$A$2:$B$28),\"\")","v":""},null,null,{"$f":"IF(P693,LOOKUP(P693,'NEC Rules'!$A$2:$B$28),\"\")","v":""},null,"","",null,null,null,"","","",null,null,null,null,null,null,null,null,null,null,null,null,null,null,{"$error":"#VALUE!"}]
[{"$error":"#REF!"},null,null,null,{"$f":"IF(D694,LOOKUP(D694,'NEC Rules'!$A$2:$B$28),\"\")","v":""},null,null,{"$f":"IF(G694,LOOKUP(G694,'NEC Rules'!$A$2:$B$28),\"\")","v":""},null,null,{"$f":"IF(J694,LOOKUP(J694,'NEC Rules'!$A$2:$B$28),\"\")","v":""},null,null,{"$f":"IF(M694,LOOKUP(M694,'NEC Rules'!$A$2:$B$28),\"\")","v":""},null,null,{"$f":"IF(P694,LOOKUP(P694,'NEC Rules'!$A$2:$B$28),\"\")","v":""},null,"","",null,null,null,"","","",null,null,null,null,null,null,null,null,null,null,null,null,null,null,{"$error":"#VALUE!"}]
[{"$error":"#REF!"},null,null,null,{"$f":"IF(D695,LOOKUP(D695,'NEC Rules'!$A$2:$B$28),\"\")","v":""},null,null,{"$f":"IF(G695,LOOKUP(G695,'NEC Rules'!$A$2:$B$28),\"\")","v":""},null,null,{"$f":"IF(J695,LOOKUP(J695,'NEC Rules'!$A$2:$B$28),\"\")","v":""},null,null,{"$f":"IF(M695,LOOKUP(M695,'NEC Rules'!$A$2:$B$28),\"\")","v":""},null,null,{"$f":"IF(P695,LOOKUP(P695,'NEC Rules'!$A$2:$B$28),\"\")","v":""},null,"","",null,null,null,"","","",null,null,null,null,null,null,null,null,null,null,null,null,null,null,{"$error":"#VALUE!"}]
[{"$error":"#REF!"},null,null,null,{"$f":"IF(D696,LOOKUP(D696,'NEC Rules'!$A$2:$B$28),\"\")","v":""},null,null,{"$f":"IF(G696,LOOKUP(G696,'NEC Rules'!$A$2:$B$28),\"\")","v":""},null,null,{"$f":"IF(J696,LOOKUP(J696,'NEC Rules'!$A$2:$B$28),\"\")","v":""},null,null,{"$f":"IF(M696,LOOKUP(M696,'NEC Rules'!$A$2:$B$28),\"\")","v":""},null,null,{"$f":"IF(P696,LOOKUP(P696,'NEC Rules'!$A$2:$B$28),\"\")","v":""},null,"","",null,null,null,"","","",null,null,null,null,null,null,null,null,null,null,null,null,null,null,{"$error":"#VALUE!"}]
[{"$error":"#REF!"},null,null,null,{"$f":"IF(D697,LOOKUP(D697,'NEC Rules'!$A$2:$B$28),\"\")","v":""},null,null,{"$f":"IF(G697,LOOKUP(G697,'NEC Rules'!$A$2:$B$28),\"\")","v":""},null,null,{"$f":"IF(J697,LOOKUP(J697,'NEC Rules'!$A$2:$B$28),\"\")","v":""},null,null,{"$f":"IF(M697,LOOKUP(M697,'NEC Rules'!$A$2:$B$28),\"\")","v":""},null,null,{"$f":"IF(P697,LOOKUP(P697,'NEC Rules'!$A$2:$B$28),\"\")","v":""},null,"","",null,null,null,"","","",null,null,null,null,null,null,null,null,null,null,null,null,null,null,{"$error":"#VALUE!"}]
[{"$error":"#REF!"},null,null,null,{"$f":"IF(D698,LOOKUP(D698,'NEC Rules'!$A$2:$B$28),\"\")","v":""},null,null,{"$f":"IF(G698,LOOKUP(G698,'NEC Rules'!$A$2:$B$28),\"\")","v":""},null,null,{"$f":"IF(J698,LOOKUP(J698,'NEC Rules'!$A$2:$B$28),\"\")","v":""},null,null,{"$f":"IF(M698,LOOKUP(M698,'NEC Rules'!$A$2:$B$28),\"\")","v":""},null,null,{"$f":"IF(P698,LOOKUP(P698,'NEC Rules'!$A$2:$B$28),\"\")","v":""},null,"","",null,null,null,"","","",null,null,null,null,null,null,null,null,null,null,null,null,null,null,{"$error":"#VALUE!"}]
[{"$error":"#REF!"},null,null,null,{"$f":"IF(D699,LOOKUP(D699,'NEC Rules'!$A$2:$B$28),\"\")","v":""},null,null,{"$f":"IF(G699,LOOKUP(G699,'NEC Rules'!$A$2:$B$28),\"\")","v":""},null,null,{"$f":"IF(J699,LOOKUP(J699,'NEC Rules'!$A$2:$B$28),\"\")","v":""},null,null,{"$f":"IF(M699,LOOKUP(M699,'NEC Rules'!$A$2:$B$28),\"\")","v":""},null,null,{"$f":"IF(P699,LOOKUP(P699,'NEC Rules'!$A$2:$B$28),\"\")","v":""},null,"","",null,null,null,"","","",null,null,null,null,null,null,null,null,null,null,null,null,null,null,{"$error":"#VALUE!"}]
[{"$error":"#REF!"},null,null,null,{"$f":"IF(D700,LOOKUP(D700,'NEC Rules'!$A$2:$B$28),\"\")","v":""},null,null,{"$f":"IF(G700,LOOKUP(G700,'NEC Rules'!$A$2:$B$28),\"\")","v":""},null,null,{"$f":"IF(J700,LOOKUP(J700,'NEC Rules'!$A$2:$B$28),\"\")","v":""},null,null,{"$f":"IF(M700,LOOKUP(M700,'NEC Rules'!$A$2:$B$28),\"\")","v":""},null,null,{"$f":"IF(P700,LOOKUP(P700,'NEC Rules'!$A$2:$B$28),\"\")","v":""},null,"","",null,null,null,"","","",null,null,null,null,null,null,null,null,null,null,null,null,null,null,{"$error":"#VALUE!"}]
[{"$error":"#REF!"},null,null,null,{"$f":"IF(D701,LOOKUP(D701,'NEC Rules'!$A$2:$B$28),\"\")","v":""},null,null,{"$f":"IF(G701,LOOKUP(G701,'NEC Rules'!$A$2:$B$28),\"\")","v":""},null,null,{"$f":"IF(J701,LOOKUP(J701,'NEC Rules'!$A$2:$B$28),\"\")","v":""},null,null,{"$f":"IF(M701,LOOKUP(M701,'NEC Rules'!$A$2:$B$28),\"\")","v":""},null,null,{"$f":"IF(P701,LOOKUP(P701,'NEC Rules'!$A$2:$B$28),\"\")","v":""},null,"","",null,null,null,"","","",null,null,null,null,null,null,null,null,null,null,null,null,null,null,{"$error":"#VALUE!"}]
[{"$error":"#REF!"},null,null,null,{"$f":"IF(D702,LOOKUP(D702,'NEC Rules'!$A$2:$B$28),\"\")","v":""},null,null,{"$f":"IF(G702,LOOKUP(G702,'NEC Rules'!$A$2:$B$28),\"\")","v":""},null,null,{"$f":"IF(J702,LOOKUP(J702,'NEC Rules'!$A$2:$B$28),\"\")","v":""},null,null,{"$f":"IF(M702,LOOKUP(M702,'NEC Rules'!$A$2:$B$28),\"\")","v":""},null,null,{"$f":"IF(P702,LOOKUP(P702,'NEC Rules'!$A$2:$B$28),\"\")","v":""},null,"","",null,null,null,"","","",null,null,null,null,null,null,null,null,null,null,null,null,null,null,{"$error":"#VALUE!"}]
[{"$error":"#REF!"},null,null,null,{"$f":"IF(D703,LOOKUP(D703,'NEC Rules'!$A$2:$B$28),\"\")","v":""},null,null,{"$f":"IF(G703,LOOKUP(G703,'NEC Rules'!$A$2:$B$28),\"\")","v":""},null,null,{"$f":"IF(J703,LOOKUP(J703,'NEC Rules'!$A$2:$B$28),\"\")","v":""},null,null,{"$f":"IF(M703,LOOKUP(M703,'NEC Rules'!$A$2:$B$28),\"\")","v":""},null,null,{"$f":"IF(P703,LOOKUP(P703,'NEC Rules'!$A$2:$B$28),\"\")","v":""},null,"","",null,null,null,"","","",null,null,null,null,null,null,null,null,null,null,null,null,null,null,{"$error":"#VALUE!"}]
[{"$error":"#REF!"},null,null,null,{"$f":"IF(D704,LOOKUP(D704,'NEC Rules'!$A$2:$B$28),\"\")","v":""},null,null,{"$f":"IF(G704,LOOKUP(G704,'NEC Rules'!$A$2:$B$28),\"\")","v":""},null,null,{"$f":"IF(J704,LOOKUP(J704,'NEC Rules'!$A$2:$B$28),\"\")","v":""},null,null,{"$f":"IF(M704,LOOKUP(M704,'NEC Rules'!$A$2:$B$28),\"\")","v":""},null,null,{"$f":"IF(P704,LOOKUP(P704,'NEC Rules'!$A$2:$B$28),\"\")","v":""},null,"","",null,null,null,"","","",null,null,null,null,null,null,null,null,null,null,null,null,null,null,{"$error":"#VALUE!"}]
[{"$error":"#REF!"},null,null,null,{"$f":"IF(D705,LOOKUP(D705,'NEC Rules'!$A$2:$B$28),\"\")","v":""},null,null,{"$f":"IF(G705,LOOKUP(G705,'NEC Rules'!$A$2:$B$28),\"\")","v":""},null,null,{"$f":"IF(J705,LOOKUP(J705,'NEC Rules'!$A$2:$B$28),\"\")","v":""},null,null,{"$f":"IF(M705,LOOKUP(M705,'NEC Rules'!$A$2:$B$28),\"\")","v":""},null,null,{"$f":"IF(P705,LOOKUP(P705,'NEC Rules'!$A$2:$B$28),\"\")","v":""},null,"","",null,null,null,"","","",null,null,null,null,null,null,null,null,null,null,null,null,null,null,{"$error":"#VALUE!"}]
[{"$error":"#REF!"},null,null,null,{"$f":"IF(D706,LOOKUP(D706,'NEC Rules'!$A$2:$B$28),\"\")","v":""},null,null,{"$f":"IF(G706,LOOKUP(G706,'NEC Rules'!$A$2:$B$28),\"\")","v":""},null,null,{"$f":"IF(J706,LOOKUP(J706,'NEC Rules'!$A$2:$B$28),\"\")","v":""},null,null,{"$f":"IF(M706,LOOKUP(M706,'NEC Rules'!$A$2:$B$28),\"\")","v":""},null,null,{"$f":"IF(P706,LOOKUP(P706,'NEC Rules'!$A$2:$B$28),\"\")","v":""},null,{"$f":"CalcHP(D706,F706,G706,I706,J706,L706,M706,O706,P706,R706)","v":""},"",null,null,null,"","","",null,null,null,null,null,null,null,null,null,null,null,null,null,null,{"$error":"#VALUE!"}]
[{"$error":"#REF!"},null,null,null,{"$f":"IF(D707,LOOKUP(D707,'NEC Rules'!$A$2:$B$28),\"\")","v":""},null,null,{"$f":"IF(G707,LOOKUP(G707,'NEC Rules'!$A$2:$B$28),\"\")","v":""},null,null,{"$f":"IF(J707,LOOKUP(J707,'NEC Rules'!$A$2:$B$28),\"\")","v":""},null,null,{"$f":"IF(M707,LOOKUP(M707,'NEC Rules'!$A$2:$B$28),\"\")","v":""},null,null,{"$f":"IF(P707,LOOKUP(P707,'NEC Rules'!$A$2:$B$28),\"\")","v":""},null,"","",null,null,null,"",{"$f":"CalcMPF(V707,D707,E707,F707,H707,I707,K707,L707,N707,O707,Q707,R707,T707,U707)","v":""},"",null,null,null,null,null,null,null,null,null,null,null,null,null,null,{"$error":"#VALUE!"}]
[{"$error":"#REF!"},null,null,null,{"$f":"IF(D708,LOOKUP(D708,'NEC Rules'!$A$2:$B$28),\"\")","v":""},null,null,{"$f":"IF(G708,LOOKUP(G708,'NEC Rules'!$A$2:$B$28),\"\")","v":""},null,null,{"$f":"IF(J708,LOOKUP(J708,'NEC Rules'!$A$2:$B$28),\"\")","v":""},null,null,{"$f":"IF(M708,LOOKUP(M708,'NEC Rules'!$A$2:$B$28),\"\")","v":""},null,null,{"$f":"IF(P708,LOOKUP(P708,'NEC Rules'!$A$2:$B$28),\"\")","v":""},null,"",{"$f":"IF(D708,10,\"\")","v":""},null,null,null,{"$f":"IF((V708*W708),(V708*W708),\"\")","v":""},"",{"$f":"CalcPD(Y708)","v":""},null,null,null,null,null,null,null,null,null,null,null,null,null,null,{"$f":"X708*480*0.03","v":{"$error":"#VALUE!"}}]
[{"$f":"A708+1","v":{"$error":"#REF!"}},null,null,null,{"$f":"IF(D709,LOOKUP(D709,'NEC Rules'!$A$2:$B$28),\"\")","v":""},null,null,{"$f":"IF(G709,LOOKUP(G709,'NEC Rules'!$A$2:$B$28),\"\")","v":""},null,null,{"$f":"IF(J709,LOOKUP(J709,'NEC Rules'!$A$2:$B$28),\"\")","v":""},null,null,{"$f":"IF(M709,LOOKUP(M709,'NEC Rules'!$A$2:$B$28),\"\")","v":""},null,null,{"$f":"IF(P709,LOOKUP(P709,'NEC Rules'!$A$2:$B$28),\"\")","v":""},null,"","",null,null,null,"","","",null,null,null,null,null,null,null,null,null,null,null,null,null,null,{"$error":"#VALUE!"}]
[{"$error":"#REF!"},null,null,null,{"$f":"IF(D710,LOOKUP(D710,'NEC Rules'!$A$2:$B$28),\"\")","v":""},null,null,{"$f":"IF(G710,LOOKUP(G710,'NEC Rules'!$A$2:$B$28),\"\")","v":""},null,null,{"$f":"IF(J710,LOOKUP(J710,'NEC Rules'!$A$2:$B$28),\"\")","v":""},null,null,{"$f":"IF(M710,LOOKUP(M710,'NEC Rules'!$A$2:$B$28),\"\")","v":""},null,null,{"$f":"IF(P710,LOOKUP(P710,'NEC Rules'!$A$2:$B$28),\"\")","v":""},null,"","",null,null,null,"","","",null,null,null,null,null,null,null,null,null,null,null,null,null,null,{"$error":"#VALUE!"}]
[{"$error":"#REF!"},null,null,null,{"$f":"IF(D711,LOOKUP(D711,'NEC Rules'!$A$2:$B$28),\"\")","v":""},null,null,{"$f":"IF(G711,LOOKUP(G711,'NEC Rules'!$A$2:$B$28),\"\")","v":""},null,null,{"$f":"IF(J711,LOOKUP(J711,'NEC Rules'!$A$2:$B$28),\"\")","v":""},null,null,{"$f":"IF(M711,LOOKUP(M711,'NEC Rules'!$A$2:$B$28),\"\")","v":""},null,null,{"$f":"IF(P711,LOOKUP(P711,'NEC Rules'!$A$2:$B$28),\"\")","v":""},null,"","",null,null,null,"","","",null,null,null,null,null,null,null,null,null,null,null,null,null,null,{"$error":"#VALUE!"}]
[{"$error":"#REF!"},null,null,null,{"$f":"IF(D712,LOOKUP(D712,'NEC Rules'!$A$2:$B$28),\"\")","v":""},null,null,{"$f":"IF(G712,LOOKUP(G712,'NEC Rules'!$A$2:$B$28),\"\")","v":""},null,null,{"$f":"IF(J712,LOOKUP(J712,'NEC Rules'!$A$2:$B$28),\"\")","v":""},null,null,{"$f":"IF(M712,LOOKUP(M712,'NEC Rules'!$A$2:$B$28),\"\")","v":""},null,null,{"$f":"IF(P712,LOOKUP(P712,'NEC Rules'!$A$2:$B$28),\"\")","v":""},null,"","",null,null,null,"","","",null,null,null,null,null,null,null,null,null,null,null,null,null,null,{"$error":"#VALUE!"}]
[{"$error":"#REF!"},null,null,null,{"$f":"IF(D713,LOOKUP(D713,'NEC Rules'!$A$2:$B$28),\"\")","v":""},null,null,{"$f":"IF(G713,LOOKUP(G713,'NEC Rules'!$A$2:$B$28),\"\")","v":""},null,null,{"$f":"IF(J713,LOOKUP(J713,'NEC Rules'!$A$2:$B$28),\"\")","v":""},null,null,{"$f":"IF(M713,LOOKUP(M713,'NEC Rules'!$A$2:$B$28),\"\")","v":""},null,null,{"$f":"IF(P713,LOOKUP(P713,'NEC Rules'!$A$2:$B$28),\"\")","v":""},null,"","",null,null,null,"","","",null,null,null,null,null,null,null,null,null,null,null,null,null,null,{"$error":"#VALUE!"}]
[{"$error":"#REF!"},null,null,null,{"$f":"IF(D714,LOOKUP(D714,'NEC Rules'!$A$2:$B$28),\"\")","v":""},null,null,{"$f":"IF(G714,LOOKUP(G714,'NEC Rules'!$A$2:$B$28),\"\")","v":""},null,null,{"$f":"IF(J714,LOOKUP(J714,'NEC Rules'!$A$2:$B$28),\"\")","v":""},null,null,{"$f":"IF(M714,LOOKUP(M714,'NEC Rules'!$A$2:$B$28),\"\")","v":""},null,null,{"$f":"IF(P714,LOOKUP(P714,'NEC Rules'!$A$2:$B$28),\"\")","v":""},null,"","",null,null,null,"","","",null,null,null,null,null,null,null,null,null,null,null,null,null,null,{"$error":"#VALUE!"}]
[{"$error":"#REF!"},null,null,null,{"$f":"IF(D715,LOOKUP(D715,'NEC Rules'!$A$2:$B$28),\"\")","v":""},null,null,{"$f":"IF(G715,LOOKUP(G715,'NEC Rules'!$A$2:$B$28),\"\")","v":""},null,null,{"$f":"IF(J715,LOOKUP(J715,'NEC Rules'!$A$2:$B$28),\"\")","v":""},null,null,{"$f":"IF(M715,LOOKUP(M715,'NEC Rules'!$A$2:$B$28),\"\")","v":""},null,null,{"$f":"IF(P715,LOOKUP(P715,'NEC Rules'!$A$2:$B$28),\"\")","v":""},null,"","",null,null,null,"","","",null,null,null,null,null,null,null,null,null,null,null,null,null,null,{"$error":"#VALUE!"}]
[{"$error":"#REF!"},null,null,null,{"$f":"IF(D716,LOOKUP(D716,'NEC Rules'!$A$2:$B$28),\"\")","v":""},null,null,{"$f":"IF(G716,LOOKUP(G716,'NEC Rules'!$A$2:$B$28),\"\")","v":""},null,null,{"$f":"IF(J716,LOOKUP(J716,'NEC Rules'!$A$2:$B$28),\"\")","v":""},null,null,{"$f":"IF(M716,LOOKUP(M716,'NEC Rules'!$A$2:$B$28),\"\")","v":""},null,null,{"$f":"IF(P716,LOOKUP(P716,'NEC Rules'!$A$2:$B$28),\"\")","v":""},null,"","",null,null,null,"","","",null,null,null,null,null,null,null,null,null,null,null,null,null,null,{"$error":"#VALUE!"}]
[{"$error":"#REF!"},null,null,null,{"$f":"IF(D717,LOOKUP(D717,'NEC Rules'!$A$2:$B$28),\"\")","v":""},null,null,{"$f":"IF(G717,LOOKUP(G717,'NEC Rules'!$A$2:$B$28),\"\")","v":""},null,null,{"$f":"IF(J717,LOOKUP(J717,'NEC Rules'!$A$2:$B$28),\"\")","v":""},null,null,{"$f":"IF(M717,LOOKUP(M717,'NEC Rules'!$A$2:$B$28),\"\")","v":""},null,null,{"$f":"IF(P717,LOOKUP(P717,'NEC Rules'!$A$2:$B$28),\"\")","v":""},null,"","",null,null,null,"","","",null,null,null,null,null,null,null,null,null,null,null,null,null,null,{"$error":"#VALUE!"}]
[{"$error":"#REF!"},null,null,null,{"$f":"IF(D718,LOOKUP(D718,'NEC Rules'!$A$2:$B$28),\"\")","v":""},null,null,{"$f":"IF(G718,LOOKUP(G718,'NEC Rules'!$A$2:$B$28),\"\")","v":""},null,null,{"$f":"IF(J718,LOOKUP(J718,'NEC Rules'!$A$2:$B$28),\"\")","v":""},null,null,{"$f":"IF(M718,LOOKUP(M718,'NEC Rules'!$A$2:$B$28),\"\")","v":""},null,null,{"$f":"IF(P718,LOOKUP(P718,'NEC Rules'!$A$2:$B$28),\"\")","v":""},null,"","",null,null,null,"","","",null,null,null,null,null,null,null,null,null,null,null,null,null,null,{"$error":"#VALUE!"}]
[{"$error":"#REF!"},null,null,null,{"$f":"IF(D719,LOOKUP(D719,'NEC Rules'!$A$2:$B$28),\"\")","v":""},null,null,{"$f":"IF(G719,LOOKUP(G719,'NEC Rules'!$A$2:$B$28),\"\")","v":""},null,null,{"$f":"IF(J719,LOOKUP(J719,'NEC Rules'!$A$2:$B$28),\"\")","v":""},null,null,{"$f":"IF(M719,LOOKUP(M719,'NEC Rules'!$A$2:$B$28),\"\")","v":""},null,null,{"$f":"IF(P719,LOOKUP(P719,'NEC Rules'!$A$2:$B$28),\"\")","v":""},null,"","",null,null,null,"","","",null,null,null,null,null,null,null,null,null,null,null,null,null,null,{"$error":"#VALUE!"}]
[{"$error":"#REF!"},null,null,null,{"$f":"IF(D720,LOOKUP(D720,'NEC Rules'!$A$2:$B$28),\"\")","v":""},null,null,{"$f":"IF(G720,LOOKUP(G720,'NEC Rules'!$A$2:$B$28),\"\")","v":""},null,null,{"$f":"IF(J720,LOOKUP(J720,'NEC Rules'!$A$2:$B$28),\"\")","v":""},null,null,{"$f":"IF(M720,LOOKUP(M720,'NEC Rules'!$A$2:$B$28),\"\")","v":""},null,null,{"$f":"IF(P720,LOOKUP(P720,'NEC Rules'!$A$2:$B$28),\"\")","v":""},null,"","",null,null,null,"","","",null,null,null,null,null,null,null,null,null,null,null,null,null,null,{"$error":"#VALUE!"}]
[{"$error":"#REF!"},null,null,null,{"$f":"IF(D721,LOOKUP(D721,'NEC Rules'!$A$2:$B$28),\"\")","v":""},null,null,{"$f":"IF(G721,LOOKUP(G721,'NEC Rules'!$A$2:$B$28),\"\")","v":""},null,null,{"$f":"IF(J721,LOOKUP(J721,'NEC Rules'!$A$2:$B$28),\"\")","v":""},null,null,{"$f":"IF(M721,LOOKUP(M721,'NEC Rules'!$A$2:$B$28),\"\")","v":""},null,null,{"$f":"IF(P721,LOOKUP(P721,'NEC Rules'!$A$2:$B$28),\"\")","v":""},null,"","",null,null,null,"","","",null,null,null,null,null,null,null,null,null,null,null,null,null,null,{"$error":"#VALUE!"}]
[{"$error":"#REF!"},null,null,null,{"$f":"IF(D722,LOOKUP(D722,'NEC Rules'!$A$2:$B$28),\"\")","v":""},null,null,{"$f":"IF(G722,LOOKUP(G722,'NEC Rules'!$A$2:$B$28),\"\")","v":""},null,null,{"$f":"IF(J722,LOOKUP(J722,'NEC Rules'!$A$2:$B$28),\"\")","v":""},null,null,{"$f":"IF(M722,LOOKUP(M722,'NEC Rules'!$A$2:$B$28),\"\")","v":""},null,null,{"$f":"IF(P722,LOOKUP(P722,'NEC Rules'!$A$2:$B$28),\"\")","v":""},null,"","",null,null,null,"","","",null,null,null,null,null,null,null,null,null,null,null,null,null,null,{"$error":"#VALUE!"}]
[{"$error":"#REF!"},null,null,null,{"$f":"IF(D723,LOOKUP(D723,'NEC Rules'!$A$2:$B$28),\"\")","v":""},null,null,{"$f":"IF(G723,LOOKUP(G723,'NEC Rules'!$A$2:$B$28),\"\")","v":""},null,null,{"$f":"IF(J723,LOOKUP(J723,'NEC Rules'!$A$2:$B$28),\"\")","v":""},null,null,{"$f":"IF(M723,LOOKUP(M723,'NEC Rules'!$A$2:$B$28),\"\")","v":""},null,null,{"$f":"IF(P723,LOOKUP(P723,'NEC Rules'!$A$2:$B$28),\"\")","v":""},null,"","",null,null,null,"","","",null,null,null,null,null,null,null,null,null,null,null,null,null,null,{"$error":"#VALUE!"}]
[{"$error":"#REF!"},null,null,null,{"$f":"IF(D724,LOOKUP(D724,'NEC Rules'!$A$2:$B$28),\"\")","v":""},null,null,{"$f":"IF(G724,LOOKUP(G724,'NEC Rules'!$A$2:$B$28),\"\")","v":""},null,null,{"$f":"IF(J724,LOOKUP(J724,'NEC Rules'!$A$2:$B$28),\"\")","v":""},null,null,{"$f":"IF(M724,LOOKUP(M724,'NEC Rules'!$A$2:$B$28),\"\")","v":""},null,null,{"$f":"IF(P724,LOOKUP(P724,'NEC Rules'!$A$2:$B$28),\"\")","v":""},null,"","",null,null,null,"","","",null,null,null,null,null,null,null,null,null,null,null,null,null,null,{"$error":"#VALUE!"}]
[{"$error":"#REF!"},null,null,null,{"$f":"IF(D725,LOOKUP(D725,'NEC Rules'!$A$2:$B$28),\"\")","v":""},null,null,{"$f":"IF(G725,LOOKUP(G725,'NEC Rules'!$A$2:$B$28),\"\")","v":""},null,null,{"$f":"IF(J725,LOOKUP(J725,'NEC Rules'!$A$2:$B$28),\"\")","v":""},null,null,{"$f":"IF(M725,LOOKUP(M725,'NEC Rules'!$A$2:$B$28),\"\")","v":""},null,null,{"$f":"IF(P725,LOOKUP(P725,'NEC Rules'!$A$2:$B$28),\"\")","v":""},null,"","",null,null,null,"","","",null,null,null,null,null,null,null,null,null,null,null,null,null,null,{"$error":"#VALUE!"}]
[{"$error":"#REF!"},null,null,null,{"$f":"IF(D726,LOOKUP(D726,'NEC Rules'!$A$2:$B$28),\"\")","v":""},null,null,{"$f":"IF(G726,LOOKUP(G726,'NEC Rules'!$A$2:$B$28),\"\")","v":""},null,null,{"$f":"IF(J726,LOOKUP(J726,'NEC Rules'!$A$2:$B$28),\"\")","v":""},null,null,{"$f":"IF(M726,LOOKUP(M726,'NEC Rules'!$A$2:$B$28),\"\")","v":""},null,null,{"$f":"IF(P726,LOOKUP(P726,'NEC Rules'!$A$2:$B$28),\"\")","v":""},null,"","",null,null,null,"","","",null,null,null,null,null,null,null,null,null,null,null,null,null,null,{"$error":"#VALUE!"}]
[{"$error":"#REF!"},null,null,null,{"$f":"IF(D727,LOOKUP(D727,'NEC Rules'!$A$2:$B$28),\"\")","v":""},null,null,{"$f":"IF(G727,LOOKUP(G727,'NEC Rules'!$A$2:$B$28),\"\")","v":""},null,null,{"$f":"IF(J727,LOOKUP(J727,'NEC Rules'!$A$2:$B$28),\"\")","v":""},null,null,{"$f":"IF(M727,LOOKUP(M727,'NEC Rules'!$A$2:$B$28),\"\")","v":""},null,null,{"$f":"IF(P727,LOOKUP(P727,'NEC Rules'!$A$2:$B$28),\"\")","v":""},null,"","",null,null,null,"","","",null,null,null,null,null,null,null,null,null,null,null,null,null,null,{"$error":"#VALUE!"}]
[{"$error":"#REF!"},null,null,null,{"$f":"IF(D728,LOOKUP(D728,'NEC Rules'!$A$2:$B$28),\"\")","v":""},null,null,{"$f":"IF(G728,LOOKUP(G728,'NEC Rules'!$A$2:$B$28),\"\")","v":""},null,null,{"$f":"IF(J728,LOOKUP(J728,'NEC Rules'!$A$2:$B$28),\"\")","v":""},null,null,{"$f":"IF(M728,LOOKUP(M728,'NEC Rules'!$A$2:$B$28),\"\")","v":""},null,null,{"$f":"IF(P728,LOOKUP(P728,'NEC Rules'!$A$2:$B$28),\"\")","v":""},null,"","",null,null,null,"","","",null,null,null,null,null,null,null,null,null,null,null,null,null,null,{"$error":"#VALUE!"}]
[{"$error":"#REF!"},null,null,null,{"$f":"IF(D729,LOOKUP(D729,'NEC Rules'!$A$2:$B$28),\"\")","v":""},null,null,{"$f":"IF(G729,LOOKUP(G729,'NEC Rules'!$A$2:$B$28),\"\")","v":""},null,null,{"$f":"IF(J729,LOOKUP(J729,'NEC Rules'!$A$2:$B$28),\"\")","v":""},null,null,{"$f":"IF(M729,LOOKUP(M729,'NEC Rules'!$A$2:$B$28),\"\")","v":""},null,null,{"$f":"IF(P729,LOOKUP(P729,'NEC Rules'!$A$2:$B$28),\"\")","v":""},null,"","",null,null,null,"","","",null,null,null,null,null,null,null,null,null,null,null,null,null,null,{"$error":"#VALUE!"}]
[{"$error":"#REF!"},null,null,null,{"$f":"IF(D730,LOOKUP(D730,'NEC Rules'!$A$2:$B$28),\"\")","v":""},null,null,{"$f":"IF(G730,LOOKUP(G730,'NEC Rules'!$A$2:$B$28),\"\")","v":""},null,null,{"$f":"IF(J730,LOOKUP(J730,'NEC Rules'!$A$2:$B$28),\"\")","v":""},null,null,{"$f":"IF(M730,LOOKUP(M730,'NEC Rules'!$A$2:$B$28),\"\")","v":""},null,null,{"$f":"IF(P730,LOOKUP(P730,'NEC Rules'!$A$2:$B$28),\"\")","v":""},null,"","",null,null,null,"","","",null,null,null,null,null,null,null,null,null,null,null,null,null,null,{"$error":"#VALUE!"}]
[{"$error":"#REF!"},null,null,null,{"$f":"IF(D731,LOOKUP(D731,'NEC Rules'!$A$2:$B$28),\"\")","v":""},null,null,{"$f":"IF(G731,LOOKUP(G731,'NEC Rules'!$A$2:$B$28),\"\")","v":""},null,null,{"$f":"IF(J731,LOOKUP(J731,'NEC Rules'!$A$2:$B$28),\"\")","v":""},null,null,{"$f":"IF(M731,LOOKUP(M731,'NEC Rules'!$A$2:$B$28),\"\")","v":""},null,null,{"$f":"IF(P731,LOOKUP(P731,'NEC Rules'!$A$2:$B$28),\"\")","v":""},null,"","",null,null,null,"","","",null,null,null,null,null,null,null,null,null,null,null,null,null,null,{"$error":"#VALUE!"}]
[{"$error":"#REF!"},null,null,null,{"$f":"IF(D732,LOOKUP(D732,'NEC Rules'!$A$2:$B$28),\"\")","v":""},null,null,{"$f":"IF(G732,LOOKUP(G732,'NEC Rules'!$A$2:$B$28),\"\")","v":""},null,null,{"$f":"IF(J732,LOOKUP(J732,'NEC Rules'!$A$2:$B$28),\"\")","v":""},null,null,{"$f":"IF(M732,LOOKUP(M732,'NEC Rules'!$A$2:$B$28),\"\")","v":""},null,null,{"$f":"IF(P732,LOOKUP(P732,'NEC Rules'!$A$2:$B$28),\"\")","v":""},null,"","",null,null,null,"","","",null,null,null,null,null,null,null,null,null,null,null,null,null,null,{"$error":"#VALUE!"}]
[{"$error":"#REF!"},null,null,null,{"$f":"IF(D733,LOOKUP(D733,'NEC Rules'!$A$2:$B$28),\"\")","v":""},null,null,{"$f":"IF(G733,LOOKUP(G733,'NEC Rules'!$A$2:$B$28),\"\")","v":""},null,null,{"$f":"IF(J733,LOOKUP(J733,'NEC Rules'!$A$2:$B$28),\"\")","v":""},null,null,{"$f":"IF(M733,LOOKUP(M733,'NEC Rules'!$A$2:$B$28),\"\")","v":""},null,null,{"$f":"IF(P733,LOOKUP(P733,'NEC Rules'!$A$2:$B$28),\"\")","v":""},null,"","",null,null,null,"","","",null,null,null,null,null,null,null,null,null,null,null,null,null,null,{"$error":"#VALUE!"}]
[{"$error":"#REF!"},null,null,null,{"$f":"IF(D734,LOOKUP(D734,'NEC Rules'!$A$2:$B$28),\"\")","v":""},null,null,{"$f":"IF(G734,LOOKUP(G734,'NEC Rules'!$A$2:$B$28),\"\")","v":""},null,null,{"$f":"IF(J734,LOOKUP(J734,'NEC Rules'!$A$2:$B$28),\"\")","v":""},null,null,{"$f":"IF(M734,LOOKUP(M734,'NEC Rules'!$A$2:$B$28),\"\")","v":""},null,null,{"$f":"IF(P734,LOOKUP(P734,'NEC Rules'!$A$2:$B$28),\"\")","v":""},null,"","",null,null,null,"","","",null,null,null,null,null,null,null,null,null,null,null,null,null,null,{"$error":"#VALUE!"}]
[{"$error":"#REF!"},null,null,null,{"$f":"IF(D735,LOOKUP(D735,'NEC Rules'!$A$2:$B$28),\"\")","v":""},null,null,{"$f":"IF(G735,LOOKUP(G735,'NEC Rules'!$A$2:$B$28),\"\")","v":""},null,null,{"$f":"IF(J735,LOOKUP(J735,'NEC Rules'!$A$2:$B$28),\"\")","v":""},null,null,{"$f":"IF(M735,LOOKUP(M735,'NEC Rules'!$A$2:$B$28),\"\")","v":""},null,null,{"$f":"IF(P735,LOOKUP(P735,'NEC Rules'!$A$2:$B$28),\"\")","v":""},null,"","",null,null,null,"","","",null,null,null,null,null,null,null,null,null,null,null,null,null,null,{"$error":"#VALUE!"}]
[{"$error":"#REF!"},null,null,null,{"$f":"IF(D736,LOOKUP(D736,'NEC Rules'!$A$2:$B$28),\"\")","v":""},null,null,{"$f":"IF(G736,LOOKUP(G736,'NEC Rules'!$A$2:$B$28),\"\")","v":""},null,null,{"$f":"IF(J736,LOOKUP(J736,'NEC Rules'!$A$2:$B$28),\"\")","v":""},null,null,{"$f":"IF(M736,LOOKUP(M736,'NEC Rules'!$A$2:$B$28),\"\")","v":""},null,null,{"$f":"IF(P736,LOOKUP(P736,'NEC Rules'!$A$2:$B$28),\"\")","v":""},null,"","",null,null,null,"","","",null,null,null,null,null,null,null,null,null,null,null,null,null,null,{"$error":"#VALUE!"}]
[{"$error":"#REF!"},null,null,null,{"$f":"IF(D737,LOOKUP(D737,'NEC Rules'!$A$2:$B$28),\"\")","v":""},null,null,{"$f":"IF(G737,LOOKUP(G737,'NEC Rules'!$A$2:$B$28),\"\")","v":""},null,null,{"$f":"IF(J737,LOOKUP(J737,'NEC Rules'!$A$2:$B$28),\"\")","v":""},null,null,{"$f":"IF(M737,LOOKUP(M737,'NEC Rules'!$A$2:$B$28),\"\")","v":""},null,null,{"$f":"IF(P737,LOOKUP(P737,'NEC Rules'!$A$2:$B$28),\"\")","v":""},null,"","",null,null,null,"","","",null,null,null,null,null,null,null,null,null,null,null,null,null,null,{"$error":"#VALUE!"}]
[{"$error":"#REF!"},null,null,null,{"$f":"IF(D738,LOOKUP(D738,'NEC Rules'!$A$2:$B$28),\"\")","v":""},null,null,{"$f":"IF(G738,LOOKUP(G738,'NEC Rules'!$A$2:$B$28),\"\")","v":""},null,null,{"$f":"IF(J738,LOOKUP(J738,'NEC Rules'!$A$2:$B$28),\"\")","v":""},null,null,{"$f":"IF(M738,LOOKUP(M738,'NEC Rules'!$A$2:$B$28),\"\")","v":""},null,null,{"$f":"IF(P738,LOOKUP(P738,'NEC Rules'!$A$2:$B$28),\"\")","v":""},null,"","",null,null,null,"","","",null,null,null,null,null,null,null,null,null,null,null,null,null,null,{"$error":"#VALUE!"}]
[{"$error":"#REF!"},null,null,null,{"$f":"IF(D739,LOOKUP(D739,'NEC Rules'!$A$2:$B$28),\"\")","v":""},null,null,{"$f":"IF(G739,LOOKUP(G739,'NEC Rules'!$A$2:$B$28),\"\")","v":""},null,null,{"$f":"IF(J739,LOOKUP(J739,'NEC Rules'!$A$2:$B$28),\"\")","v":""},null,null,{"$f":"IF(M739,LOOKUP(M739,'NEC Rules'!$A$2:$B$28),\"\")","v":""},null,null,{"$f":"IF(P739,LOOKUP(P739,'NEC Rules'!$A$2:$B$28),\"\")","v":""},null,"","",null,null,null,"","","",null,null,null,null,null,null,null,null,null,null,null,null,null,null,{"$error":"#VALUE!"}]
[{"$error":"#REF!"},null,null,null,{"$f":"IF(D740,LOOKUP(D740,'NEC Rules'!$A$2:$B$28),\"\")","v":""},null,null,{"$f":"IF(G740,LOOKUP(G740,'NEC Rules'!$A$2:$B$28),\"\")","v":""},null,null,{"$f":"IF(J740,LOOKUP(J740,'NEC Rules'!$A$2:$B$28),\"\")","v":""},null,null,{"$f":"IF(M740,LOOKUP(M740,'NEC Rules'!$A$2:$B$28),\"\")","v":""},null,null,{"$f":"IF(P740,LOOKUP(P740,'NEC Rules'!$A$2:$B$28),\"\")","v":""},null,"","",null,null,null,"","","",null,null,null,null,null,null,null,null,null,null,null,null,null,null,{"$error":"#VALUE!"}]
[{"$error":"#REF!"},null,null,null,{"$f":"IF(D741,LOOKUP(D741,'NEC Rules'!$A$2:$B$28),\"\")","v":""},null,null,{"$f":"IF(G741,LOOKUP(G741,'NEC Rules'!$A$2:$B$28),\"\")","v":""},null,null,{"$f":"IF(J741,LOOKUP(J741,'NEC Rules'!$A$2:$B$28),\"\")","v":""},null,null,{"$f":"IF(M741,LOOKUP(M741,'NEC Rules'!$A$2:$B$28),\"\")","v":""},null,null,{"$f":"IF(P741,LOOKUP(P741,'NEC Rules'!$A$2:$B$28),\"\")","v":""},null,"","",null,null,null,"","","",null,null,null,null,null,null,null,null,null,null,null,null,null,null,{"$error":"#VALUE!"}]
[{"$error":"#REF!"},null,null,null,{"$f":"IF(D742,LOOKUP(D742,'NEC Rules'!$A$2:$B$28),\"\")","v":""},null,null,{"$f":"IF(G742,LOOKUP(G742,'NEC Rules'!$A$2:$B$28),\"\")","v":""},null,null,{"$f":"IF(J742,LOOKUP(J742,'NEC Rules'!$A$2:$B$28),\"\")","v":""},null,null,{"$f":"IF(M742,LOOKUP(M742,'NEC Rules'!$A$2:$B$28),\"\")","v":""},null,null,{"$f":"IF(P742,LOOKUP(P742,'NEC Rules'!$A$2:$B$28),\"\")","v":""},null,"","",null,null,null,"","","",null,null,null,null,null,null,null,null,null,null,null,null,null,null,{"$error":"#VALUE!"}]
[{"$error":"#REF!"},null,null,null,{"$f":"IF(D743,LOOKUP(D743,'NEC Rules'!$A$2:$B$28),\"\")","v":""},null,null,{"$f":"IF(G743,LOOKUP(G743,'NEC Rules'!$A$2:$B$28),\"\")","v":""},null,null,{"$f":"IF(J743,LOOKUP(J743,'NEC Rules'!$A$2:$B$28),\"\")","v":""},null,null,{"$f":"IF(M743,LOOKUP(M743,'NEC Rules'!$A$2:$B$28),\"\")","v":""},null,null,{"$f":"IF(P743,LOOKUP(P743,'NEC Rules'!$A$2:$B$28),\"\")","v":""},null,"","",null,null,null,"","","",null,null,null,null,null,null,null,null,null,null,null,null,null,null,{"$error":"#VALUE!"}]
[{"$error":"#REF!"},null,null,null,{"$f":"IF(D744,LOOKUP(D744,'NEC Rules'!$A$2:$B$28),\"\")","v":""},null,null,{"$f":"IF(G744,LOOKUP(G744,'NEC Rules'!$A$2:$B$28),\"\")","v":""},null,null,{"$f":"IF(J744,LOOKUP(J744,'NEC Rules'!$A$2:$B$28),\"\")","v":""},null,null,{"$f":"IF(M744,LOOKUP(M744,'NEC Rules'!$A$2:$B$28),\"\")","v":""},null,null,{"$f":"IF(P744,LOOKUP(P744,'NEC Rules'!$A$2:$B$28),\"\")","v":""},null,"","",null,null,null,"","","",null,null,null,null,null,null,null,null,null,null,null,null,null,null,{"$error":"#VALUE!"}]
[{"$error":"#REF!"},null,null,null,{"$f":"IF(D745,LOOKUP(D745,'NEC Rules'!$A$2:$B$28),\"\")","v":""},null,null,{"$f":"IF(G745,LOOKUP(G745,'NEC Rules'!$A$2:$B$28),\"\")","v":""},null,null,{"$f":"IF(J745,LOOKUP(J745,'NEC Rules'!$A$2:$B$28),\"\")","v":""},null,null,{"$f":"IF(M745,LOOKUP(M745,'NEC Rules'!$A$2:$B$28),\"\")","v":""},null,null,{"$f":"IF(P745,LOOKUP(P745,'NEC Rules'!$A$2:$B$28),\"\")","v":""},null,"","",null,null,null,"","","",null,null,null,null,null,null,null,null,null,null,null,null,null,null,{"$error":"#VALUE!"}]
[{"$error":"#REF!"},null,null,null,{"$f":"IF(D746,LOOKUP(D746,'NEC Rules'!$A$2:$B$28),\"\")","v":""},null,null,{"$f":"IF(G746,LOOKUP(G746,'NEC Rules'!$A$2:$B$28),\"\")","v":""},null,null,{"$f":"IF(J746,LOOKUP(J746,'NEC Rules'!$A$2:$B$28),\"\")","v":""},null,null,{"$f":"IF(M746,LOOKUP(M746,'NEC Rules'!$A$2:$B$28),\"\")","v":""},null,null,{"$f":"IF(P746,LOOKUP(P746,'NEC Rules'!$A$2:$B$28),\"\")","v":""},null,"","",null,null,null,"","","",null,null,null,null,null,null,null,null,null,null,null,null,null,null,{"$error":"#VALUE!"}]
[{"$error":"#REF!"},null,null,null,{"$f":"IF(D747,LOOKUP(D747,'NEC Rules'!$A$2:$B$28),\"\")","v":""},null,null,{"$f":"IF(G747,LOOKUP(G747,'NEC Rules'!$A$2:$B$28),\"\")","v":""},null,null,{"$f":"IF(J747,LOOKUP(J747,'NEC Rules'!$A$2:$B$28),\"\")","v":""},null,null,{"$f":"IF(M747,LOOKUP(M747,'NEC Rules'!$A$2:$B$28),\"\")","v":""},null,null,{"$f":"IF(P747,LOOKUP(P747,'NEC Rules'!$A$2:$B$28),\"\")","v":""},null,"","",null,null,null,"","","",null,null,null,null,null,null,null,null,null,null,null,null,null,null,{"$error":"#VALUE!"}]
[{"$error":"#REF!"},null,null,null,{"$f":"IF(D748,LOOKUP(D748,'NEC Rules'!$A$2:$B$28),\"\")","v":""},null,null,{"$f":"IF(G748,LOOKUP(G748,'NEC Rules'!$A$2:$B$28),\"\")","v":""},null,null,{"$f":"IF(J748,LOOKUP(J748,'NEC Rules'!$A$2:$B$28),\"\")","v":""},null,null,{"$f":"IF(M748,LOOKUP(M748,'NEC Rules'!$A$2:$B$28),\"\")","v":""},null,null,{"$f":"IF(P748,LOOKUP(P748,'NEC Rules'!$A$2:$B$28),\"\")","v":""},null,"","",null,null,null,"","","",null,null,null,null,null,null,null,null,null,null,null,null,null,null,{"$error":"#VALUE!"}]
[{"$error":"#REF!"},null,null,null,{"$f":"IF(D749,LOOKUP(D749,'NEC Rules'!$A$2:$B$28),\"\")","v":""},null,null,{"$f":"IF(G749,LOOKUP(G749,'NEC Rules'!$A$2:$B$28),\"\")","v":""},null,null,{"$f":"IF(J749,LOOKUP(J749,'NEC Rules'!$A$2:$B$28),\"\")","v":""},null,null,{"$f":"IF(M749,LOOKUP(M749,'NEC Rules'!$A$2:$B$28),\"\")","v":""},null,null,{"$f":"IF(P749,LOOKUP(P749,'NEC Rules'!$A$2:$B$28),\"\")","v":""},null,"","",null,null,null,"","","",null,null,null,null,null,null,null,null,null,null,null,null,null,null,{"$error":"#VALUE!"}]
[{"$error":"#REF!"},null,null,null,{"$f":"IF(D750,LOOKUP(D750,'NEC Rules'!$A$2:$B$28),\"\")","v":""},null,null,{"$f":"IF(G750,LOOKUP(G750,'NEC Rules'!$A$2:$B$28),\"\")","v":""},null,null,{"$f":"IF(J750,LOOKUP(J750,'NEC Rules'!$A$2:$B$28),\"\")","v":""},null,null,{"$f":"IF(M750,LOOKUP(M750,'NEC Rules'!$A$2:$B$28),\"\")","v":""},null,null,{"$f":"IF(P750,LOOKUP(P750,'NEC Rules'!$A$2:$B$28),\"\")","v":""},null,"","",null,null,null,"","","",null,null,null,null,null,null,null,null,null,null,null,null,null,null,{"$error":"#VALUE!"}]
[{"$error":"#REF!"},null,null,null,{"$f":"IF(D751,LOOKUP(D751,'NEC Rules'!$A$2:$B$28),\"\")","v":""},null,null,{"$f":"IF(G751,LOOKUP(G751,'NEC Rules'!$A$2:$B$28),\"\")","v":""},null,null,{"$f":"IF(J751,LOOKUP(J751,'NEC Rules'!$A$2:$B$28),\"\")","v":""},null,null,{"$f":"IF(M751,LOOKUP(M751,'NEC Rules'!$A$2:$B$28),\"\")","v":""},null,null,{"$f":"IF(P751,LOOKUP(P751,'NEC Rules'!$A$2:$B$28),\"\")","v":""},null,"","",null,null,null,"","","",null,null,null,null,null,null,null,null,null,null,null,null,null,null,{"$error":"#VALUE!"}]
[{"$error":"#REF!"},null,null,null,{"$f":"IF(D752,LOOKUP(D752,'NEC Rules'!$A$2:$B$28),\"\")","v":""},null,null,{"$f":"IF(G752,LOOKUP(G752,'NEC Rules'!$A$2:$B$28),\"\")","v":""},null,null,{"$f":"IF(J752,LOOKUP(J752,'NEC Rules'!$A$2:$B$28),\"\")","v":""},null,null,{"$f":"IF(M752,LOOKUP(M752,'NEC Rules'!$A$2:$B$28),\"\")","v":""},null,null,{"$f":"IF(P752,LOOKUP(P752,'NEC Rules'!$A$2:$B$28),\"\")","v":""},null,"","",null,null,null,"","","",null,null,null,null,null,null,null,null,null,null,null,null,null,null,{"$error":"#VALUE!"}]
[{"$error":"#REF!"},null,null,null,{"$f":"IF(D753,LOOKUP(D753,'NEC Rules'!$A$2:$B$28),\"\")","v":""},null,null,{"$f":"IF(G753,LOOKUP(G753,'NEC Rules'!$A$2:$B$28),\"\")","v":""},null,null,{"$f":"IF(J753,LOOKUP(J753,'NEC Rules'!$A$2:$B$28),\"\")","v":""},null,null,{"$f":"IF(M753,LOOKUP(M753,'NEC Rules'!$A$2:$B$28),\"\")","v":""},null,null,{"$f":"IF(P753,LOOKUP(P753,'NEC Rules'!$A$2:$B$28),\"\")","v":""},null,"","",null,null,null,"","","",null,null,null,null,null,null,null,null,null,null,null,null,null,null,{"$error":"#VALUE!"}]
[{"$error":"#REF!"},null,null,null,{"$f":"IF(D754,LOOKUP(D754,'NEC Rules'!$A$2:$B$28),\"\")","v":""},null,null,{"$f":"IF(G754,LOOKUP(G754,'NEC Rules'!$A$2:$B$28),\"\")","v":""},null,null,{"$f":"IF(J754,LOOKUP(J754,'NEC Rules'!$A$2:$B$28),\"\")","v":""},null,null,{"$f":"IF(M754,LOOKUP(M754,'NEC Rules'!$A$2:$B$28),\"\")","v":""},null,null,{"$f":"IF(P754,LOOKUP(P754,'NEC Rules'!$A$2:$B$28),\"\")","v":""},null,"","",null,null,null,"","","",null,null,null,null,null,null,null,null,null,null,null,null,null,null,{"$error":"#VALUE!"}]
[{"$error":"#REF!"},null,null,null,{"$f":"IF(D755,LOOKUP(D755,'NEC Rules'!$A$2:$B$28),\"\")","v":""},null,null,{"$f":"IF(G755,LOOKUP(G755,'NEC Rules'!$A$2:$B$28),\"\")","v":""},null,null,{"$f":"IF(J755,LOOKUP(J755,'NEC Rules'!$A$2:$B$28),\"\")","v":""},null,null,{"$f":"IF(M755,LOOKUP(M755,'NEC Rules'!$A$2:$B$28),\"\")","v":""},null,null,{"$f":"IF(P755,LOOKUP(P755,'NEC Rules'!$A$2:$B$28),\"\")","v":""},null,"","",null,null,null,"","","",null,null,null,null,null,null,null,null,null,null,null,null,null,null,{"$error":"#VALUE!"}]
[{"$error":"#REF!"},null,null,null,{"$f":"IF(D756,LOOKUP(D756,'NEC Rules'!$A$2:$B$28),\"\")","v":""},null,null,{"$f":"IF(G756,LOOKUP(G756,'NEC Rules'!$A$2:$B$28),\"\")","v":""},null,null,{"$f":"IF(J756,LOOKUP(J756,'NEC Rules'!$A$2:$B$28),\"\")","v":""},null,null,{"$f":"IF(M756,LOOKUP(M756,'NEC Rules'!$A$2:$B$28),\"\")","v":""},null,null,{"$f":"IF(P756,LOOKUP(P756,'NEC Rules'!$A$2:$B$28),\"\")","v":""},null,"","",null,null,null,"","","",null,null,null,null,null,null,null,null,null,null,null,null,null,null,{"$error":"#VALUE!"}]
[{"$error":"#REF!"},null,null,null,{"$f":"IF(D757,LOOKUP(D757,'NEC Rules'!$A$2:$B$28),\"\")","v":""},null,null,{"$f":"IF(G757,LOOKUP(G757,'NEC Rules'!$A$2:$B$28),\"\")","v":""},null,null,{"$f":"IF(J757,LOOKUP(J757,'NEC Rules'!$A$2:$B$28),\"\")","v":""},null,null,{"$f":"IF(M757,LOOKUP(M757,'NEC Rules'!$A$2:$B$28),\"\")","v":""},null,null,{"$f":"IF(P757,LOOKUP(P757,'NEC Rules'!$A$2:$B$28),\"\")","v":""},null,"","",null,null,null,"","","",null,null,null,null,null,null,null,null,null,null,null,null,null,null,{"$error":"#VALUE!"}]
[{"$error":"#REF!"},null,null,null,{"$f":"IF(D758,LOOKUP(D758,'NEC Rules'!$A$2:$B$28),\"\")","v":""},null,null,{"$f":"IF(G758,LOOKUP(G758,'NEC Rules'!$A$2:$B$28),\"\")","v":""},null,null,{"$f":"IF(J758,LOOKUP(J758,'NEC Rules'!$A$2:$B$28),\"\")","v":""},null,null,{"$f":"IF(M758,LOOKUP(M758,'NEC Rules'!$A$2:$B$28),\"\")","v":""},null,null,{"$f":"IF(P758,LOOKUP(P758,'NEC Rules'!$A$2:$B$28),\"\")","v":""},null,"","",null,null,null,"","","",null,null,null,null,null,null,null,null,null,null,null,null,null,null,{"$error":"#VALUE!"}]
[{"$error":"#REF!"},null,null,null,{"$f":"IF(D759,LOOKUP(D759,'NEC Rules'!$A$2:$B$28),\"\")","v":""},null,null,{"$f":"IF(G759,LOOKUP(G759,'NEC Rules'!$A$2:$B$28),\"\")","v":""},null,null,{"$f":"IF(J759,LOOKUP(J759,'NEC Rules'!$A$2:$B$28),\"\")","v":""},null,null,{"$f":"IF(M759,LOOKUP(M759,'NEC Rules'!$A$2:$B$28),\"\")","v":""},null,null,{"$f":"IF(P759,LOOKUP(P759,'NEC Rules'!$A$2:$B$28),\"\")","v":""},null,"","",null,null,null,"","","",null,null,null,null,null,null,null,null,null,null,null,null,null,null,{"$error":"#VALUE!"}]
[{"$error":"#REF!"},null,null,null,{"$f":"IF(D760,LOOKUP(D760,'NEC Rules'!$A$2:$B$28),\"\")","v":""},null,null,{"$f":"IF(G760,LOOKUP(G760,'NEC Rules'!$A$2:$B$28),\"\")","v":""},null,null,{"$f":"IF(J760,LOOKUP(J760,'NEC Rules'!$A$2:$B$28),\"\")","v":""},null,null,{"$f":"IF(M760,LOOKUP(M760,'NEC Rules'!$A$2:$B$28),\"\")","v":""},null,null,{"$f":"IF(P760,LOOKUP(P760,'NEC Rules'!$A$2:$B$28),\"\")","v":""},null,"","",null,null,null,"","","",null,null,null,null,null,null,null,null,null,null,null,null,null,null,{"$error":"#VALUE!"}]
[{"$error":"#REF!"},null,null,null,{"$f":"IF(D761,LOOKUP(D761,'NEC Rules'!$A$2:$B$28),\"\")","v":""},null,null,{"$f":"IF(G761,LOOKUP(G761,'NEC Rules'!$A$2:$B$28),\"\")","v":""},null,null,{"$f":"IF(J761,LOOKUP(J761,'NEC Rules'!$A$2:$B$28),\"\")","v":""},null,null,{"$f":"IF(M761,LOOKUP(M761,'NEC Rules'!$A$2:$B$28),\"\")","v":""},null,null,{"$f":"IF(P761,LOOKUP(P761,'NEC Rules'!$A$2:$B$28),\"\")","v":""},null,"","",null,null,null,"","","",null,null,null,null,null,null,null,null,null,null,null,null,null,null,{"$error":"#VALUE!"}]
[{"$error":"#REF!"},null,null,null,{"$f":"IF(D762,LOOKUP(D762,'NEC Rules'!$A$2:$B$28),\"\")","v":""},null,null,{"$f":"IF(G762,LOOKUP(G762,'NEC Rules'!$A$2:$B$28),\"\")","v":""},null,null,{"$f":"IF(J762,LOOKUP(J762,'NEC Rules'!$A$2:$B$28),\"\")","v":""},null,null,{"$f":"IF(M762,LOOKUP(M762,'NEC Rules'!$A$2:$B$28),\"\")","v":""},null,null,{"$f":"IF(P762,LOOKUP(P762,'NEC Rules'!$A$2:$B$28),\"\")","v":""},null,"","",null,null,null,"","","",null,null,null,null,null,null,null,null,null,null,null,null,null,null,{"$error":"#VALUE!"}]
[{"$error":"#REF!"},null,null,null,{"$f":"IF(D763,LOOKUP(D763,'NEC Rules'!$A$2:$B$28),\"\")","v":""},null,null,{"$f":"IF(G763,LOOKUP(G763,'NEC Rules'!$A$2:$B$28),\"\")","v":""},null,null,{"$f":"IF(J763,LOOKUP(J763,'NEC Rules'!$A$2:$B$28),\"\")","v":""},null,null,{"$f":"IF(M763,LOOKUP(M763,'NEC Rules'!$A$2:$B$28),\"\")","v":""},null,null,{"$f":"IF(P763,LOOKUP(P763,'NEC Rules'!$A$2:$B$28),\"\")","v":""},null,"","",null,null,null,"","","",null,null,null,null,null,null,null,null,null,null,null,null,null,null,{"$error":"#VALUE!"}]
[{"$error":"#REF!"},null,null,null,{"$f":"IF(D764,LOOKUP(D764,'NEC Rules'!$A$2:$B$28),\"\")","v":""},null,null,{"$f":"IF(G764,LOOKUP(G764,'NEC Rules'!$A$2:$B$28),\"\")","v":""},null,null,{"$f":"IF(J764,LOOKUP(J764,'NEC Rules'!$A$2:$B$28),\"\")","v":""},null,null,{"$f":"IF(M764,LOOKUP(M764,'NEC Rules'!$A$2:$B$28),\"\")","v":""},null,null,{"$f":"IF(P764,LOOKUP(P764,'NEC Rules'!$A$2:$B$28),\"\")","v":""},null,"","",null,null,null,"","","",null,null,null,null,null,null,null,null,null,null,null,null,null,null,{"$error":"#VALUE!"}]
[{"$error":"#REF!"},null,null,null,{"$f":"IF(D765,LOOKUP(D765,'NEC Rules'!$A$2:$B$28),\"\")","v":""},null,null,{"$f":"IF(G765,LOOKUP(G765,'NEC Rules'!$A$2:$B$28),\"\")","v":""},null,null,{"$f":"IF(J765,LOOKUP(J765,'NEC Rules'!$A$2:$B$28),\"\")","v":""},null,null,{"$f":"IF(M765,LOOKUP(M765,'NEC Rules'!$A$2:$B$28),\"\")","v":""},null,null,{"$f":"IF(P765,LOOKUP(P765,'NEC Rules'!$A$2:$B$28),\"\")","v":""},null,"","",null,null,null,"","","",null,null,null,null,null,null,null,null,null,null,null,null,null,null,{"$error":"#VALUE!"}]
[{"$error":"#REF!"},null,null,null,{"$f":"IF(D766,LOOKUP(D766,'NEC Rules'!$A$2:$B$28),\"\")","v":""},null,null,{"$f":"IF(G766,LOOKUP(G766,'NEC Rules'!$A$2:$B$28),\"\")","v":""},null,null,{"$f":"IF(J766,LOOKUP(J766,'NEC Rules'!$A$2:$B$28),\"\")","v":""},null,null,{"$f":"IF(M766,LOOKUP(M766,'NEC Rules'!$A$2:$B$28),\"\")","v":""},null,null,{"$f":"IF(P766,LOOKUP(P766,'NEC Rules'!$A$2:$B$28),\"\")","v":""},null,"","",null,null,null,"","","",null,null,null,null,null,null,null,null,null,null,null,null,null,null,{"$error":"#VALUE!"}]
[{"$error":"#REF!"},null,null,null,{"$f":"IF(D767,LOOKUP(D767,'NEC Rules'!$A$2:$B$28),\"\")","v":""},null,null,{"$f":"IF(G767,LOOKUP(G767,'NEC Rules'!$A$2:$B$28),\"\")","v":""},null,null,{"$f":"IF(J767,LOOKUP(J767,'NEC Rules'!$A$2:$B$28),\"\")","v":""},null,null,{"$f":"IF(M767,LOOKUP(M767,'NEC Rules'!$A$2:$B$28),\"\")","v":""},null,null,{"$f":"IF(P767,LOOKUP(P767,'NEC Rules'!$A$2:$B$28),\"\")","v":""},null,"","",null,null,null,"","","",null,null,null,null,null,null,null,null,null,null,null,null,null,null,{"$error":"#VALUE!"}]
[{"$error":"#REF!"},null,null,null,{"$f":"IF(D768,LOOKUP(D768,'NEC Rules'!$A$2:$B$28),\"\")","v":""},null,null,{"$f":"IF(G768,LOOKUP(G768,'NEC Rules'!$A$2:$B$28),\"\")","v":""},null,null,{"$f":"IF(J768,LOOKUP(J768,'NEC Rules'!$A$2:$B$28),\"\")","v":""},null,null,{"$f":"IF(M768,LOOKUP(M768,'NEC Rules'!$A$2:$B$28),\"\")","v":""},null,null,{"$f":"IF(P768,LOOKUP(P768,'NEC Rules'!$A$2:$B$28),\"\")","v":""},null,"","",null,null,null,"","","",null,null,null,null,null,null,null,null,null,null,null,null,null,null,{"$error":"#VALUE!"}]
[{"$error":"#REF!"},null,null,null,{"$f":"IF(D769,LOOKUP(D769,'NEC Rules'!$A$2:$B$28),\"\")","v":""},null,null,{"$f":"IF(G769,LOOKUP(G769,'NEC Rules'!$A$2:$B$28),\"\")","v":""},null,null,{"$f":"IF(J769,LOOKUP(J769,'NEC Rules'!$A$2:$B$28),\"\")","v":""},null,null,{"$f":"IF(M769,LOOKUP(M769,'NEC Rules'!$A$2:$B$28),\"\")","v":""},null,null,{"$f":"IF(P769,LOOKUP(P769,'NEC Rules'!$A$2:$B$28),\"\")","v":""},null,"","",null,null,null,"","","",null,null,null,null,null,null,null,null,null,null,null,null,null,null,{"$error":"#VALUE!"}]
[{"$error":"#REF!"},null,null,null,{"$f":"IF(D770,LOOKUP(D770,'NEC Rules'!$A$2:$B$28),\"\")","v":""},null,null,{"$f":"IF(G770,LOOKUP(G770,'NEC Rules'!$A$2:$B$28),\"\")","v":""},null,null,{"$f":"IF(J770,LOOKUP(J770,'NEC Rules'!$A$2:$B$28),\"\")","v":""},null,null,{"$f":"IF(M770,LOOKUP(M770,'NEC Rules'!$A$2:$B$28),\"\")","v":""},null,null,{"$f":"IF(P770,LOOKUP(P770,'NEC Rules'!$A$2:$B$28),\"\")","v":""},null,{"$f":"CalcHP(D770,F770,G770,I770,J770,L770,M770,O770,P770,R770)","v":""},"",null,null,null,"","","",null,null,null,null,null,null,null,null,null,null,null,null,null,null,{"$error":"#VALUE!"}]
[{"$error":"#REF!"},null,null,null,{"$f":"IF(D771,LOOKUP(D771,'NEC Rules'!$A$2:$B$28),\"\")","v":""},null,null,{"$f":"IF(G771,LOOKUP(G771,'NEC Rules'!$A$2:$B$28),\"\")","v":""},null,null,{"$f":"IF(J771,LOOKUP(J771,'NEC Rules'!$A$2:$B$28),\"\")","v":""},null,null,{"$f":"IF(M771,LOOKUP(M771,'NEC Rules'!$A$2:$B$28),\"\")","v":""},null,null,{"$f":"IF(P771,LOOKUP(P771,'NEC Rules'!$A$2:$B$28),\"\")","v":""},null,"","",null,null,null,"",{"$f":"CalcMPF(V771,D771,E771,F771,H771,I771,K771,L771,N771,O771,Q771,R771,T771,U771)","v":""},"",null,null,null,null,null,null,null,null,null,null,null,null,null,null,{"$error":"#VALUE!"}]
[{"$error":"#REF!"},null,null,null,{"$f":"IF(D772,LOOKUP(D772,'NEC Rules'!$A$2:$B$28),\"\")","v":""},null,null,{"$f":"IF(G772,LOOKUP(G772,'NEC Rules'!$A$2:$B$28),\"\")","v":""},null,null,{"$f":"IF(J772,LOOKUP(J772,'NEC Rules'!$A$2:$B$28),\"\")","v":""},null,null,{"$f":"IF(M772,LOOKUP(M772,'NEC Rules'!$A$2:$B$28),\"\")","v":""},null,null,{"$f":"IF(P772,LOOKUP(P772,'NEC Rules'!$A$2:$B$28),\"\")","v":""},null,"",{"$f":"IF(D772,10,\"\")","v":""},null,null,null,{"$f":"IF((V772*W772),(V772*W772),\"\")","v":""},"",{"$f":"CalcPD(Y772)","v":""},null,null,null,null,null,null,null,null,null,null,null,null,null,null,{"$f":"X772*480*0.03","v":{"$error":"#VALUE!"}}]
[{"$f":"A772+1","v":{"$error":"#REF!"}},null,null,null,{"$f":"IF(D773,LOOKUP(D773,'NEC Rules'!$A$2:$B$28),\"\")","v":""},null,null,{"$f":"IF(G773,LOOKUP(G773,'NEC Rules'!$A$2:$B$28),\"\")","v":""},null,null,{"$f":"IF(J773,LOOKUP(J773,'NEC Rules'!$A$2:$B$28),\"\")","v":""},null,null,{"$f":"IF(M773,LOOKUP(M773,'NEC Rules'!$A$2:$B$28),\"\")","v":""},null,null,{"$f":"IF(P773,LOOKUP(P773,'NEC Rules'!$A$2:$B$28),\"\")","v":""},null,"","",null,null,null,"","","",null,null,null,null,null,null,null,null,null,null,null,null,null,null,{"$error":"#VALUE!"}]
[{"$error":"#REF!"},null,null,null,{"$f":"IF(D774,LOOKUP(D774,'NEC Rules'!$A$2:$B$28),\"\")","v":""},null,null,{"$f":"IF(G774,LOOKUP(G774,'NEC Rules'!$A$2:$B$28),\"\")","v":""},null,null,{"$f":"IF(J774,LOOKUP(J774,'NEC Rules'!$A$2:$B$28),\"\")","v":""},null,null,{"$f":"IF(M774,LOOKUP(M774,'NEC Rules'!$A$2:$B$28),\"\")","v":""},null,null,{"$f":"IF(P774,LOOKUP(P774,'NEC Rules'!$A$2:$B$28),\"\")","v":""},null,"","",null,null,null,"","","",null,null,null,null,null,null,null,null,null,null,null,null,null,null,{"$error":"#VALUE!"}]
[{"$error":"#REF!"},null,null,null,{"$f":"IF(D775,LOOKUP(D775,'NEC Rules'!$A$2:$B$28),\"\")","v":""},null,null,{"$f":"IF(G775,LOOKUP(G775,'NEC Rules'!$A$2:$B$28),\"\")","v":""},null,null,{"$f":"IF(J775,LOOKUP(J775,'NEC Rules'!$A$2:$B$28),\"\")","v":""},null,null,{"$f":"IF(M775,LOOKUP(M775,'NEC Rules'!$A$2:$B$28),\"\")","v":""},null,null,{"$f":"IF(P775,LOOKUP(P775,'NEC Rules'!$A$2:$B$28),\"\")","v":""},null,"","",null,null,null,"","","",null,null,null,null,null,null,null,null,null,null,null,null,null,null,{"$error":"#VALUE!"}]
[{"$error":"#REF!"},null,null,null,{"$f":"IF(D776,LOOKUP(D776,'NEC Rules'!$A$2:$B$28),\"\")","v":""},null,null,{"$f":"IF(G776,LOOKUP(G776,'NEC Rules'!$A$2:$B$28),\"\")","v":""},null,null,{"$f":"IF(J776,LOOKUP(J776,'NEC Rules'!$A$2:$B$28),\"\")","v":""},null,null,{"$f":"IF(M776,LOOKUP(M776,'NEC Rules'!$A$2:$B$28),\"\")","v":""},null,null,{"$f":"IF(P776,LOOKUP(P776,'NEC Rules'!$A$2:$B$28),\"\")","v":""},null,"","",null,null,null,"","","",null,null,null,null,null,null,null,null,null,null,null,null,null,null,{"$error":"#VALUE!"}]
[{"$error":"#REF!"},null,null,null,{"$f":"IF(D777,LOOKUP(D777,'NEC Rules'!$A$2:$B$28),\"\")","v":""},null,null,{"$f":"IF(G777,LOOKUP(G777,'NEC Rules'!$A$2:$B$28),\"\")","v":""},null,null,{"$f":"IF(J777,LOOKUP(J777,'NEC Rules'!$A$2:$B$28),\"\")","v":""},null,null,{"$f":"IF(M777,LOOKUP(M777,'NEC Rules'!$A$2:$B$28),\"\")","v":""},null,null,{"$f":"IF(P777,LOOKUP(P777,'NEC Rules'!$A$2:$B$28),\"\")","v":""},null,"","",null,null,null,"","","",null,null,null,null,null,null,null,null,null,null,null,null,null,null,{"$error":"#VALUE!"}]
[{"$error":"#REF!"},null,null,null,{"$f":"IF(D778,LOOKUP(D778,'NEC Rules'!$A$2:$B$28),\"\")","v":""},null,null,{"$f":"IF(G778,LOOKUP(G778,'NEC Rules'!$A$2:$B$28),\"\")","v":""},null,null,{"$f":"IF(J778,LOOKUP(J778,'NEC Rules'!$A$2:$B$28),\"\")","v":""},null,null,{"$f":"IF(M778,LOOKUP(M778,'NEC Rules'!$A$2:$B$28),\"\")","v":""},null,null,{"$f":"IF(P778,LOOKUP(P778,'NEC Rules'!$A$2:$B$28),\"\")","v":""},null,"","",null,null,null,"","","",null,null,null,null,null,null,null,null,null,null,null,null,null,null,{"$error":"#VALUE!"}]
[{"$error":"#REF!"},null,null,null,{"$f":"IF(D779,LOOKUP(D779,'NEC Rules'!$A$2:$B$28),\"\")","v":""},null,null,{"$f":"IF(G779,LOOKUP(G779,'NEC Rules'!$A$2:$B$28),\"\")","v":""},null,null,{"$f":"IF(J779,LOOKUP(J779,'NEC Rules'!$A$2:$B$28),\"\")","v":""},null,null,{"$f":"IF(M779,LOOKUP(M779,'NEC Rules'!$A$2:$B$28),\"\")","v":""},null,null,{"$f":"IF(P779,LOOKUP(P779,'NEC Rules'!$A$2:$B$28),\"\")","v":""},null,"","",null,null,null,"","","",null,null,null,null,null,null,null,null,null,null,null,null,null,null,{"$error":"#VALUE!"}]
[{"$error":"#REF!"},null,null,null,{"$f":"IF(D780,LOOKUP(D780,'NEC Rules'!$A$2:$B$28),\"\")","v":""},null,null,{"$f":"IF(G780,LOOKUP(G780,'NEC Rules'!$A$2:$B$28),\"\")","v":""},null,null,{"$f":"IF(J780,LOOKUP(J780,'NEC Rules'!$A$2:$B$28),\"\")","v":""},null,null,{"$f":"IF(M780,LOOKUP(M780,'NEC Rules'!$A$2:$B$28),\"\")","v":""},null,null,{"$f":"IF(P780,LOOKUP(P780,'NEC Rules'!$A$2:$B$28),\"\")","v":""},null,"","",null,null,null,"","","",null,null,null,null,null,null,null,null,null,null,null,null,null,null,{"$error":"#VALUE!"}]
[{"$error":"#REF!"},null,null,null,{"$f":"IF(D781,LOOKUP(D781,'NEC Rules'!$A$2:$B$28),\"\")","v":""},null,null,{"$f":"IF(G781,LOOKUP(G781,'NEC Rules'!$A$2:$B$28),\"\")","v":""},null,null,{"$f":"IF(J781,LOOKUP(J781,'NEC Rules'!$A$2:$B$28),\"\")","v":""},null,null,{"$f":"IF(M781,LOOKUP(M781,'NEC Rules'!$A$2:$B$28),\"\")","v":""},null,null,{"$f":"IF(P781,LOOKUP(P781,'NEC Rules'!$A$2:$B$28),\"\")","v":""},null,"","",null,null,null,"","","",null,null,null,null,null,null,null,null,null,null,null,null,null,null,{"$error":"#VALUE!"}]
[{"$error":"#REF!"},null,null,null,{"$f":"IF(D782,LOOKUP(D782,'NEC Rules'!$A$2:$B$28),\"\")","v":""},null,null,{"$f":"IF(G782,LOOKUP(G782,'NEC Rules'!$A$2:$B$28),\"\")","v":""},null,null,{"$f":"IF(J782,LOOKUP(J782,'NEC Rules'!$A$2:$B$28),\"\")","v":""},null,null,{"$f":"IF(M782,LOOKUP(M782,'NEC Rules'!$A$2:$B$28),\"\")","v":""},null,null,{"$f":"IF(P782,LOOKUP(P782,'NEC Rules'!$A$2:$B$28),\"\")","v":""},null,"","",null,null,null,"","","",null,null,null,null,null,null,null,null,null,null,null,null,null,null,{"$error":"#VALUE!"}]
[{"$error":"#REF!"},null,null,null,{"$f":"IF(D783,LOOKUP(D783,'NEC Rules'!$A$2:$B$28),\"\")","v":""},null,null,{"$f":"IF(G783,LOOKUP(G783,'NEC Rules'!$A$2:$B$28),\"\")","v":""},null,null,{"$f":"IF(J783,LOOKUP(J783,'NEC Rules'!$A$2:$B$28),\"\")","v":""},null,null,{"$f":"IF(M783,LOOKUP(M783,'NEC Rules'!$A$2:$B$28),\"\")","v":""},null,null,{"$f":"IF(P783,LOOKUP(P783,'NEC Rules'!$A$2:$B$28),\"\")","v":""},null,"","",null,null,null,"","","",null,null,null,null,null,null,null,null,null,null,null,null,null,null,{"$error":"#VALUE!"}]
[{"$error":"#REF!"},null,null,null,{"$f":"IF(D784,LOOKUP(D784,'NEC Rules'!$A$2:$B$28),\"\")","v":""},null,null,{"$f":"IF(G784,LOOKUP(G784,'NEC Rules'!$A$2:$B$28),\"\")","v":""},null,null,{"$f":"IF(J784,LOOKUP(J784,'NEC Rules'!$A$2:$B$28),\"\")","v":""},null,null,{"$f":"IF(M784,LOOKUP(M784,'NEC Rules'!$A$2:$B$28),\"\")","v":""},null,null,{"$f":"IF(P784,LOOKUP(P784,'NEC Rules'!$A$2:$B$28),\"\")","v":""},null,"","",null,null,null,"","","",null,null,null,null,null,null,null,null,null,null,null,null,null,null,{"$error":"#VALUE!"}]
[{"$error":"#REF!"},null,null,null,{"$f":"IF(D785,LOOKUP(D785,'NEC Rules'!$A$2:$B$28),\"\")","v":""},null,null,{"$f":"IF(G785,LOOKUP(G785,'NEC Rules'!$A$2:$B$28),\"\")","v":""},null,null,{"$f":"IF(J785,LOOKUP(J785,'NEC Rules'!$A$2:$B$28),\"\")","v":""},null,null,{"$f":"IF(M785,LOOKUP(M785,'NEC Rules'!$A$2:$B$28),\"\")","v":""},null,null,{"$f":"IF(P785,LOOKUP(P785,'NEC Rules'!$A$2:$B$28),\"\")","v":""},null,"","",null,null,null,"","","",null,null,null,null,null,null,null,null,null,null,null,null,null,null,{"$error":"#VALUE!"}]
[{"$error":"#REF!"},null,null,null,{"$f":"IF(D786,LOOKUP(D786,'NEC Rules'!$A$2:$B$28),\"\")","v":""},null,null,{"$f":"IF(G786,LOOKUP(G786,'NEC Rules'!$A$2:$B$28),\"\")","v":""},null,null,{"$f":"IF(J786,LOOKUP(J786,'NEC Rules'!$A$2:$B$28),\"\")","v":""},null,null,{"$f":"IF(M786,LOOKUP(M786,'NEC Rules'!$A$2:$B$28),\"\")","v":""},null,null,{"$f":"IF(P786,LOOKUP(P786,'NEC Rules'!$A$2:$B$28),\"\")","v":""},null,"","",null,null,null,"","","",null,null,null,null,null,null,null,null,null,null,null,null,null,null,{"$error":"#VALUE!"}]
[{"$error":"#REF!"},null,null,null,{"$f":"IF(D787,LOOKUP(D787,'NEC Rules'!$A$2:$B$28),\"\")","v":""},null,null,{"$f":"IF(G787,LOOKUP(G787,'NEC Rules'!$A$2:$B$28),\"\")","v":""},null,null,{"$f":"IF(J787,LOOKUP(J787,'NEC Rules'!$A$2:$B$28),\"\")","v":""},null,null,{"$f":"IF(M787,LOOKUP(M787,'NEC Rules'!$A$2:$B$28),\"\")","v":""},null,null,{"$f":"IF(P787,LOOKUP(P787,'NEC Rules'!$A$2:$B$28),\"\")","v":""},null,"","",null,null,null,"","","",null,null,null,null,null,null,null,null,null,null,null,null,null,null,{"$error":"#VALUE!"}]
[{"$error":"#REF!"},null,null,null,{"$f":"IF(D788,LOOKUP(D788,'NEC Rules'!$A$2:$B$28),\"\")","v":""},null,null,{"$f":"IF(G788,LOOKUP(G788,'NEC Rules'!$A$2:$B$28),\"\")","v":""},null,null,{"$f":"IF(J788,LOOKUP(J788,'NEC Rules'!$A$2:$B$28),\"\")","v":""},null,null,{"$f":"IF(M788,LOOKUP(M788,'NEC Rules'!$A$2:$B$28),\"\")","v":""},null,null,{"$f":"IF(P788,LOOKUP(P788,'NEC Rules'!$A$2:$B$28),\"\")","v":""},null,"","",null,null,null,"","","",null,null,null,null,null,null,null,null,null,null,null,null,null,null,{"$error":"#VALUE!"}]
[{"$error":"#REF!"},null,null,null,{"$f":"IF(D789,LOOKUP(D789,'NEC Rules'!$A$2:$B$28),\"\")","v":""},null,null,{"$f":"IF(G789,LOOKUP(G789,'NEC Rules'!$A$2:$B$28),\"\")","v":""},null,null,{"$f":"IF(J789,LOOKUP(J789,'NEC Rules'!$A$2:$B$28),\"\")","v":""},null,null,{"$f":"IF(M789,LOOKUP(M789,'NEC Rules'!$A$2:$B$28),\"\")","v":""},null,null,{"$f":"IF(P789,LOOKUP(P789,'NEC Rules'!$A$2:$B$28),\"\")","v":""},null,"","",null,null,null,"","","",null,null,null,null,null,null,null,null,null,null,null,null,null,null,{"$error":"#VALUE!"}]
[{"$error":"#REF!"},null,null,null,{"$f":"IF(D790,LOOKUP(D790,'NEC Rules'!$A$2:$B$28),\"\")","v":""},null,null,{"$f":"IF(G790,LOOKUP(G790,'NEC Rules'!$A$2:$B$28),\"\")","v":""},null,null,{"$f":"IF(J790,LOOKUP(J790,'NEC Rules'!$A$2:$B$28),\"\")","v":""},null,null,{"$f":"IF(M790,LOOKUP(M790,'NEC Rules'!$A$2:$B$28),\"\")","v":""},null,null,{"$f":"IF(P790,LOOKUP(P790,'NEC Rules'!$A$2:$B$28),\"\")","v":""},null,"","",null,null,null,"","","",null,null,null,null,null,null,null,null,null,null,null,null,null,null,{"$error":"#VALUE!"}]
[{"$error":"#REF!"},null,null,null,{"$f":"IF(D791,LOOKUP(D791,'NEC Rules'!$A$2:$B$28),\"\")","v":""},null,null,{"$f":"IF(G791,LOOKUP(G791,'NEC Rules'!$A$2:$B$28),\"\")","v":""},null,null,{"$f":"IF(J791,LOOKUP(J791,'NEC Rules'!$A$2:$B$28),\"\")","v":""},null,null,{"$f":"IF(M791,LOOKUP(M791,'NEC Rules'!$A$2:$B$28),\"\")","v":""},null,null,{"$f":"IF(P791,LOOKUP(P791,'NEC Rules'!$A$2:$B$28),\"\")","v":""},null,"","",null,null,null,"","","",null,null,null,null,null,null,null,null,null,null,null,null,null,null,{"$error":"#VALUE!"}]
[{"$error":"#REF!"},null,null,null,{"$f":"IF(D792,LOOKUP(D792,'NEC Rules'!$A$2:$B$28),\"\")","v":""},null,null,{"$f":"IF(G792,LOOKUP(G792,'NEC Rules'!$A$2:$B$28),\"\")","v":""},null,null,{"$f":"IF(J792,LOOKUP(J792,'NEC Rules'!$A$2:$B$28),\"\")","v":""},null,null,{"$f":"IF(M792,LOOKUP(M792,'NEC Rules'!$A$2:$B$28),\"\")","v":""},null,null,{"$f":"IF(P792,LOOKUP(P792,'NEC Rules'!$A$2:$B$28),\"\")","v":""},null,"","",null,null,null,"","","",null,null,null,null,null,null,null,null,null,null,null,null,null,null,{"$error":"#VALUE!"}]
[{"$error":"#REF!"},null,null,null,{"$f":"IF(D793,LOOKUP(D793,'NEC Rules'!$A$2:$B$28),\"\")","v":""},null,null,{"$f":"IF(G793,LOOKUP(G793,'NEC Rules'!$A$2:$B$28),\"\")","v":""},null,null,{"$f":"IF(J793,LOOKUP(J793,'NEC Rules'!$A$2:$B$28),\"\")","v":""},null,null,{"$f":"IF(M793,LOOKUP(M793,'NEC Rules'!$A$2:$B$28),\"\")","v":""},null,null,{"$f":"IF(P793,LOOKUP(P793,'NEC Rules'!$A$2:$B$28),\"\")","v":""},null,"","",null,null,null,"","","",null,null,null,null,null,null,null,null,null,null,null,null,null,null,{"$error":"#VALUE!"}]
[{"$error":"#REF!"},null,null,null,{"$f":"IF(D794,LOOKUP(D794,'NEC Rules'!$A$2:$B$28),\"\")","v":""},null,null,{"$f":"IF(G794,LOOKUP(G794,'NEC Rules'!$A$2:$B$28),\"\")","v":""},null,null,{"$f":"IF(J794,LOOKUP(J794,'NEC Rules'!$A$2:$B$28),\"\")","v":""},null,null,{"$f":"IF(M794,LOOKUP(M794,'NEC Rules'!$A$2:$B$28),\"\")","v":""},null,null,{"$f":"IF(P794,LOOKUP(P794,'NEC Rules'!$A$2:$B$28),\"\")","v":""},null,"","",null,null,null,"","","",null,null,null,null,null,null,null,null,null,null,null,null,null,null,{"$error":"#VALUE!"}]
[{"$error":"#REF!"},null,null,null,{"$f":"IF(D795,LOOKUP(D795,'NEC Rules'!$A$2:$B$28),\"\")","v":""},null,null,{"$f":"IF(G795,LOOKUP(G795,'NEC Rules'!$A$2:$B$28),\"\")","v":""},null,null,{"$f":"IF(J795,LOOKUP(J795,'NEC Rules'!$A$2:$B$28),\"\")","v":""},null,null,{"$f":"IF(M795,LOOKUP(M795,'NEC Rules'!$A$2:$B$28),\"\")","v":""},null,null,{"$f":"IF(P795,LOOKUP(P795,'NEC Rules'!$A$2:$B$28),\"\")","v":""},null,"","",null,null,null,"","","",null,null,null,null,null,null,null,null,null,null,null,null,null,null,{"$error":"#VALUE!"}]
[{"$error":"#REF!"},null,null,null,{"$f":"IF(D796,LOOKUP(D796,'NEC Rules'!$A$2:$B$28),\"\")","v":""},null,null,{"$f":"IF(G796,LOOKUP(G796,'NEC Rules'!$A$2:$B$28),\"\")","v":""},null,null,{"$f":"IF(J796,LOOKUP(J796,'NEC Rules'!$A$2:$B$28),\"\")","v":""},null,null,{"$f":"IF(M796,LOOKUP(M796,'NEC Rules'!$A$2:$B$28),\"\")","v":""},null,null,{"$f":"IF(P796,LOOKUP(P796,'NEC Rules'!$A$2:$B$28),\"\")","v":""},null,"","",null,null,null,"","","",null,null,null,null,null,null,null,null,null,null,null,null,null,null,{"$error":"#VALUE!"}]
[{"$error":"#REF!"},null,null,null,{"$f":"IF(D797,LOOKUP(D797,'NEC Rules'!$A$2:$B$28),\"\")","v":""},null,null,{"$f":"IF(G797,LOOKUP(G797,'NEC Rules'!$A$2:$B$28),\"\")","v":""},null,null,{"$f":"IF(J797,LOOKUP(J797,'NEC Rules'!$A$2:$B$28),\"\")","v":""},null,null,{"$f":"IF(M797,LOOKUP(M797,'NEC Rules'!$A$2:$B$28),\"\")","v":""},null,null,{"$f":"IF(P797,LOOKUP(P797,'NEC Rules'!$A$2:$B$28),\"\")","v":""},null,"","",null,null,null,"","","",null,null,null,null,null,null,null,null,null,null,null,null,null,null,{"$error":"#VALUE!"}]
[{"$error":"#REF!"},null,null,null,{"$f":"IF(D798,LOOKUP(D798,'NEC Rules'!$A$2:$B$28),\"\")","v":""},null,null,{"$f":"IF(G798,LOOKUP(G798,'NEC Rules'!$A$2:$B$28),\"\")","v":""},null,null,{"$f":"IF(J798,LOOKUP(J798,'NEC Rules'!$A$2:$B$28),\"\")","v":""},null,null,{"$f":"IF(M798,LOOKUP(M798,'NEC Rules'!$A$2:$B$28),\"\")","v":""},null,null,{"$f":"IF(P798,LOOKUP(P798,'NEC Rules'!$A$2:$B$28),\"\")","v":""},null,"","",null,null,null,"","","",null,null,null,null,null,null,null,null,null,null,null,null,null,null,{"$error":"#VALUE!"}]
[{"$error":"#REF!"},null,null,null,{"$f":"IF(D799,LOOKUP(D799,'NEC Rules'!$A$2:$B$28),\"\")","v":""},null,null,{"$f":"IF(G799,LOOKUP(G799,'NEC Rules'!$A$2:$B$28),\"\")","v":""},null,null,{"$f":"IF(J799,LOOKUP(J799,'NEC Rules'!$A$2:$B$28),\"\")","v":""},null,null,{"$f":"IF(M799,LOOKUP(M799,'NEC Rules'!$A$2:$B$28),\"\")","v":""},null,null,{"$f":"IF(P799,LOOKUP(P799,'NEC Rules'!$A$2:$B$28),\"\")","v":""},null,"","",null,null,null,"","","",null,null,null,null,null,null,null,null,null,null,null,null,null,null,{"$error":"#VALUE!"}]
[{"$error":"#REF!"},null,null,null,{"$f":"IF(D800,LOOKUP(D800,'NEC Rules'!$A$2:$B$28),\"\")","v":""},null,null,{"$f":"IF(G800,LOOKUP(G800,'NEC Rules'!$A$2:$B$28),\"\")","v":""},null,null,{"$f":"IF(J800,LOOKUP(J800,'NEC Rules'!$A$2:$B$28),\"\")","v":""},null,null,{"$f":"IF(M800,LOOKUP(M800,'NEC Rules'!$A$2:$B$28),\"\")","v":""},null,null,{"$f":"IF(P800,LOOKUP(P800,'NEC Rules'!$A$2:$B$28),\"\")","v":""},null,"","",null,null,null,"","","",null,null,null,null,null,null,null,null,null,null,null,null,null,null,{"$error":"#VALUE!"}]
[{"$error":"#REF!"},null,null,null,{"$f":"IF(D801,LOOKUP(D801,'NEC Rules'!$A$2:$B$28),\"\")","v":""},null,null,{"$f":"IF(G801,LOOKUP(G801,'NEC Rules'!$A$2:$B$28),\"\")","v":""},null,null,{"$f":"IF(J801,LOOKUP(J801,'NEC Rules'!$A$2:$B$28),\"\")","v":""},null,null,{"$f":"IF(M801,LOOKUP(M801,'NEC Rules'!$A$2:$B$28),\"\")","v":""},null,null,{"$f":"IF(P801,LOOKUP(P801,'NEC Rules'!$A$2:$B$28),\"\")","v":""},null,"","",null,null,null,"","","",null,null,null,null,null,null,null,null,null,null,null,null,null,null,{"$error":"#VALUE!"}]
[{"$error":"#REF!"},null,null,null,{"$f":"IF(D802,LOOKUP(D802,'NEC Rules'!$A$2:$B$28),\"\")","v":""},null,null,{"$f":"IF(G802,LOOKUP(G802,'NEC Rules'!$A$2:$B$28),\"\")","v":""},null,null,{"$f":"IF(J802,LOOKUP(J802,'NEC Rules'!$A$2:$B$28),\"\")","v":""},null,null,{"$f":"IF(M802,LOOKUP(M802,'NEC Rules'!$A$2:$B$28),\"\")","v":""},null,null,{"$f":"IF(P802,LOOKUP(P802,'NEC Rules'!$A$2:$B$28),\"\")","v":""},null,"","",null,null,null,"","","",null,null,null,null,null,null,null,null,null,null,null,null,null,null,{"$error":"#VALUE!"}]
[{"$error":"#REF!"},null,null,null,{"$f":"IF(D803,LOOKUP(D803,'NEC Rules'!$A$2:$B$28),\"\")","v":""},null,null,{"$f":"IF(G803,LOOKUP(G803,'NEC Rules'!$A$2:$B$28),\"\")","v":""},null,null,{"$f":"IF(J803,LOOKUP(J803,'NEC Rules'!$A$2:$B$28),\"\")","v":""},null,null,{"$f":"IF(M803,LOOKUP(M803,'NEC Rules'!$A$2:$B$28),\"\")","v":""},null,null,{"$f":"IF(P803,LOOKUP(P803,'NEC Rules'!$A$2:$B$28),\"\")","v":""},null,"","",null,null,null,"","","",null,null,null,null,null,null,null,null,null,null,null,null,null,null,{"$error":"#VALUE!"}]
[{"$error":"#REF!"},null,null,null,{"$f":"IF(D804,LOOKUP(D804,'NEC Rules'!$A$2:$B$28),\"\")","v":""},null,null,{"$f":"IF(G804,LOOKUP(G804,'NEC Rules'!$A$2:$B$28),\"\")","v":""},null,null,{"$f":"IF(J804,LOOKUP(J804,'NEC Rules'!$A$2:$B$28),\"\")","v":""},null,null,{"$f":"IF(M804,LOOKUP(M804,'NEC Rules'!$A$2:$B$28),\"\")","v":""},null,null,{"$f":"IF(P804,LOOKUP(P804,'NEC Rules'!$A$2:$B$28),\"\")","v":""},null,"","",null,null,null,"","","",null,null,null,null,null,null,null,null,null,null,null,null,null,null,{"$error":"#VALUE!"}]
[{"$error":"#REF!"},null,null,null,{"$f":"IF(D805,LOOKUP(D805,'NEC Rules'!$A$2:$B$28),\"\")","v":""},null,null,{"$f":"IF(G805,LOOKUP(G805,'NEC Rules'!$A$2:$B$28),\"\")","v":""},null,null,{"$f":"IF(J805,LOOKUP(J805,'NEC Rules'!$A$2:$B$28),\"\")","v":""},null,null,{"$f":"IF(M805,LOOKUP(M805,'NEC Rules'!$A$2:$B$28),\"\")","v":""},null,null,{"$f":"IF(P805,LOOKUP(P805,'NEC Rules'!$A$2:$B$28),\"\")","v":""},null,"","",null,null,null,"","","",null,null,null,null,null,null,null,null,null,null,null,null,null,null,{"$error":"#VALUE!"}]
[{"$error":"#REF!"},null,null,null,{"$f":"IF(D806,LOOKUP(D806,'NEC Rules'!$A$2:$B$28),\"\")","v":""},null,null,{"$f":"IF(G806,LOOKUP(G806,'NEC Rules'!$A$2:$B$28),\"\")","v":""},null,null,{"$f":"IF(J806,LOOKUP(J806,'NEC Rules'!$A$2:$B$28),\"\")","v":""},null,null,{"$f":"IF(M806,LOOKUP(M806,'NEC Rules'!$A$2:$B$28),\"\")","v":""},null,null,{"$f":"IF(P806,LOOKUP(P806,'NEC Rules'!$A$2:$B$28),\"\")","v":""},null,"","",null,null,null,"","","",null,null,null,null,null,null,null,null,null,null,null,null,null,null,{"$error":"#VALUE!"}]
[{"$error":"#REF!"},null,null,null,{"$f":"IF(D807,LOOKUP(D807,'NEC Rules'!$A$2:$B$28),\"\")","v":""},null,null,{"$f":"IF(G807,LOOKUP(G807,'NEC Rules'!$A$2:$B$28),\"\")","v":""},null,null,{"$f":"IF(J807,LOOKUP(J807,'NEC Rules'!$A$2:$B$28),\"\")","v":""},null,null,{"$f":"IF(M807,LOOKUP(M807,'NEC Rules'!$A$2:$B$28),\"\")","v":""},null,null,{"$f":"IF(P807,LOOKUP(P807,'NEC Rules'!$A$2:$B$28),\"\")","v":""},null,"","",null,null,null,"","","",null,null,null,null,null,null,null,null,null,null,null,null,null,null,{"$error":"#VALUE!"}]
[{"$error":"#REF!"},null,null,null,{"$f":"IF(D808,LOOKUP(D808,'NEC Rules'!$A$2:$B$28),\"\")","v":""},null,null,{"$f":"IF(G808,LOOKUP(G808,'NEC Rules'!$A$2:$B$28),\"\")","v":""},null,null,{"$f":"IF(J808,LOOKUP(J808,'NEC Rules'!$A$2:$B$28),\"\")","v":""},null,null,{"$f":"IF(M808,LOOKUP(M808,'NEC Rules'!$A$2:$B$28),\"\")","v":""},null,null,{"$f":"IF(P808,LOOKUP(P808,'NEC Rules'!$A$2:$B$28),\"\")","v":""},null,"","",null,null,null,"","","",null,null,null,null,null,null,null,null,null,null,null,null,null,null,{"$error":"#VALUE!"}]
[{"$error":"#REF!"},null,null,null,{"$f":"IF(D809,LOOKUP(D809,'NEC Rules'!$A$2:$B$28),\"\")","v":""},null,null,{"$f":"IF(G809,LOOKUP(G809,'NEC Rules'!$A$2:$B$28),\"\")","v":""},null,null,{"$f":"IF(J809,LOOKUP(J809,'NEC Rules'!$A$2:$B$28),\"\")","v":""},null,null,{"$f":"IF(M809,LOOKUP(M809,'NEC Rules'!$A$2:$B$28),\"\")","v":""},null,null,{"$f":"IF(P809,LOOKUP(P809,'NEC Rules'!$A$2:$B$28),\"\")","v":""},null,"","",null,null,null,"","","",null,null,null,null,null,null,null,null,null,null,null,null,null,null,{"$error":"#VALUE!"}]
[{"$error":"#REF!"},null,null,null,{"$f":"IF(D810,LOOKUP(D810,'NEC Rules'!$A$2:$B$28),\"\")","v":""},null,null,{"$f":"IF(G810,LOOKUP(G810,'NEC Rules'!$A$2:$B$28),\"\")","v":""},null,null,{"$f":"IF(J810,LOOKUP(J810,'NEC Rules'!$A$2:$B$28),\"\")","v":""},null,null,{"$f":"IF(M810,LOOKUP(M810,'NEC Rules'!$A$2:$B$28),\"\")","v":""},null,null,{"$f":"IF(P810,LOOKUP(P810,'NEC Rules'!$A$2:$B$28),\"\")","v":""},null,"","",null,null,null,"","","",null,null,null,null,null,null,null,null,null,null,null,null,null,null,{"$error":"#VALUE!"}]
[{"$error":"#REF!"},null,null,null,{"$f":"IF(D811,LOOKUP(D811,'NEC Rules'!$A$2:$B$28),\"\")","v":""},null,null,{"$f":"IF(G811,LOOKUP(G811,'NEC Rules'!$A$2:$B$28),\"\")","v":""},null,null,{"$f":"IF(J811,LOOKUP(J811,'NEC Rules'!$A$2:$B$28),\"\")","v":""},null,null,{"$f":"IF(M811,LOOKUP(M811,'NEC Rules'!$A$2:$B$28),\"\")","v":""},null,null,{"$f":"IF(P811,LOOKUP(P811,'NEC Rules'!$A$2:$B$28),\"\")","v":""},null,"","",null,null,null,"","","",null,null,null,null,null,null,null,null,null,null,null,null,null,null,{"$error":"#VALUE!"}]
[{"$error":"#REF!"},null,null,null,{"$f":"IF(D812,LOOKUP(D812,'NEC Rules'!$A$2:$B$28),\"\")","v":""},null,null,{"$f":"IF(G812,LOOKUP(G812,'NEC Rules'!$A$2:$B$28),\"\")","v":""},null,null,{"$f":"IF(J812,LOOKUP(J812,'NEC Rules'!$A$2:$B$28),\"\")","v":""},null,null,{"$f":"IF(M812,LOOKUP(M812,'NEC Rules'!$A$2:$B$28),\"\")","v":""},null,null,{"$f":"IF(P812,LOOKUP(P812,'NEC Rules'!$A$2:$B$28),\"\")","v":""},null,"","",null,null,null,"","","",null,null,null,null,null,null,null,null,null,null,null,null,null,null,{"$error":"#VALUE!"}]
[{"$error":"#REF!"},null,null,null,{"$f":"IF(D813,LOOKUP(D813,'NEC Rules'!$A$2:$B$28),\"\")","v":""},null,null,{"$f":"IF(G813,LOOKUP(G813,'NEC Rules'!$A$2:$B$28),\"\")","v":""},null,null,{"$f":"IF(J813,LOOKUP(J813,'NEC Rules'!$A$2:$B$28),\"\")","v":""},null,null,{"$f":"IF(M813,LOOKUP(M813,'NEC Rules'!$A$2:$B$28),\"\")","v":""},null,null,{"$f":"IF(P813,LOOKUP(P813,'NEC Rules'!$A$2:$B$28),\"\")","v":""},null,"","",null,null,null,"","","",null,null,null,null,null,null,null,null,null,null,null,null,null,null,{"$error":"#VALUE!"}]
[{"$error":"#REF!"},null,null,null,{"$f":"IF(D814,LOOKUP(D814,'NEC Rules'!$A$2:$B$28),\"\")","v":""},null,null,{"$f":"IF(G814,LOOKUP(G814,'NEC Rules'!$A$2:$B$28),\"\")","v":""},null,null,{"$f":"IF(J814,LOOKUP(J814,'NEC Rules'!$A$2:$B$28),\"\")","v":""},null,null,{"$f":"IF(M814,LOOKUP(M814,'NEC Rules'!$A$2:$B$28),\"\")","v":""},null,null,{"$f":"IF(P814,LOOKUP(P814,'NEC Rules'!$A$2:$B$28),\"\")","v":""},null,"","",null,null,null,"","","",null,null,null,null,null,null,null,null,null,null,null,null,null,null,{"$error":"#VALUE!"}]
[{"$error":"#REF!"},null,null,null,{"$f":"IF(D815,LOOKUP(D815,'NEC Rules'!$A$2:$B$28),\"\")","v":""},null,null,{"$f":"IF(G815,LOOKUP(G815,'NEC Rules'!$A$2:$B$28),\"\")","v":""},null,null,{"$f":"IF(J815,LOOKUP(J815,'NEC Rules'!$A$2:$B$28),\"\")","v":""},null,null,{"$f":"IF(M815,LOOKUP(M815,'NEC Rules'!$A$2:$B$28),\"\")","v":""},null,null,{"$f":"IF(P815,LOOKUP(P815,'NEC Rules'!$A$2:$B$28),\"\")","v":""},null,"","",null,null,null,"","","",null,null,null,null,null,null,null,null,null,null,null,null,null,null,{"$error":"#VALUE!"}]
[{"$error":"#REF!"},null,null,null,{"$f":"IF(D816,LOOKUP(D816,'NEC Rules'!$A$2:$B$28),\"\")","v":""},null,null,{"$f":"IF(G816,LOOKUP(G816,'NEC Rules'!$A$2:$B$28),\"\")","v":""},null,null,{"$f":"IF(J816,LOOKUP(J816,'NEC Rules'!$A$2:$B$28),\"\")","v":""},null,null,{"$f":"IF(M816,LOOKUP(M816,'NEC Rules'!$A$2:$B$28),\"\")","v":""},null,null,{"$f":"IF(P816,LOOKUP(P816,'NEC Rules'!$A$2:$B$28),\"\")","v":""},null,"","",null,null,null,"","","",null,null,null,null,null,null,null,null,null,null,null,null,null,null,{"$error":"#VALUE!"}]
[{"$error":"#REF!"},null,null,null,{"$f":"IF(D817,LOOKUP(D817,'NEC Rules'!$A$2:$B$28),\"\")","v":""},null,null,{"$f":"IF(G817,LOOKUP(G817,'NEC Rules'!$A$2:$B$28),\"\")","v":""},null,null,{"$f":"IF(J817,LOOKUP(J817,'NEC Rules'!$A$2:$B$28),\"\")","v":""},null,null,{"$f":"IF(M817,LOOKUP(M817,'NEC Rules'!$A$2:$B$28),\"\")","v":""},null,null,{"$f":"IF(P817,LOOKUP(P817,'NEC Rules'!$A$2:$B$28),\"\")","v":""},null,"","",null,null,null,"","","",null,null,null,null,null,null,null,null,null,null,null,null,null,null,{"$error":"#VALUE!"}]
[{"$error":"#REF!"},null,null,null,{"$f":"IF(D818,LOOKUP(D818,'NEC Rules'!$A$2:$B$28),\"\")","v":""},null,null,{"$f":"IF(G818,LOOKUP(G818,'NEC Rules'!$A$2:$B$28),\"\")","v":""},null,null,{"$f":"IF(J818,LOOKUP(J818,'NEC Rules'!$A$2:$B$28),\"\")","v":""},null,null,{"$f":"IF(M818,LOOKUP(M818,'NEC Rules'!$A$2:$B$28),\"\")","v":""},null,null,{"$f":"IF(P818,LOOKUP(P818,'NEC Rules'!$A$2:$B$28),\"\")","v":""},null,"","",null,null,null,"","","",null,null,null,null,null,null,null,null,null,null,null,null,null,null,{"$error":"#VALUE!"}]
[{"$error":"#REF!"},null,null,null,{"$f":"IF(D819,LOOKUP(D819,'NEC Rules'!$A$2:$B$28),\"\")","v":""},null,null,{"$f":"IF(G819,LOOKUP(G819,'NEC Rules'!$A$2:$B$28),\"\")","v":""},null,null,{"$f":"IF(J819,LOOKUP(J819,'NEC Rules'!$A$2:$B$28),\"\")","v":""},null,null,{"$f":"IF(M819,LOOKUP(M819,'NEC Rules'!$A$2:$B$28),\"\")","v":""},null,null,{"$f":"IF(P819,LOOKUP(P819,'NEC Rules'!$A$2:$B$28),\"\")","v":""},null,"","",null,null,null,"","","",null,null,null,null,null,null,null,null,null,null,null,null,null,null,{"$error":"#VALUE!"}]
[{"$error":"#REF!"},null,null,null,{"$f":"IF(D820,LOOKUP(D820,'NEC Rules'!$A$2:$B$28),\"\")","v":""},null,null,{"$f":"IF(G820,LOOKUP(G820,'NEC Rules'!$A$2:$B$28),\"\")","v":""},null,null,{"$f":"IF(J820,LOOKUP(J820,'NEC Rules'!$A$2:$B$28),\"\")","v":""},null,null,{"$f":"IF(M820,LOOKUP(M820,'NEC Rules'!$A$2:$B$28),\"\")","v":""},null,null,{"$f":"IF(P820,LOOKUP(P820,'NEC Rules'!$A$2:$B$28),\"\")","v":""},null,"","",null,null,null,"","","",null,null,null,null,null,null,null,null,null,null,null,null,null,null,{"$error":"#VALUE!"}]
[{"$error":"#REF!"},null,null,null,{"$f":"IF(D821,LOOKUP(D821,'NEC Rules'!$A$2:$B$28),\"\")","v":""},null,null,{"$f":"IF(G821,LOOKUP(G821,'NEC Rules'!$A$2:$B$28),\"\")","v":""},null,null,{"$f":"IF(J821,LOOKUP(J821,'NEC Rules'!$A$2:$B$28),\"\")","v":""},null,null,{"$f":"IF(M821,LOOKUP(M821,'NEC Rules'!$A$2:$B$28),\"\")","v":""},null,null,{"$f":"IF(P821,LOOKUP(P821,'NEC Rules'!$A$2:$B$28),\"\")","v":""},null,"","",null,null,null,"","","",null,null,null,null,null,null,null,null,null,null,null,null,null,null,{"$error":"#VALUE!"}]
[{"$error":"#REF!"},null,null,null,{"$f":"IF(D822,LOOKUP(D822,'NEC Rules'!$A$2:$B$28),\"\")","v":""},null,null,{"$f":"IF(G822,LOOKUP(G822,'NEC Rules'!$A$2:$B$28),\"\")","v":""},null,null,{"$f":"IF(J822,LOOKUP(J822,'NEC Rules'!$A$2:$B$28),\"\")","v":""},null,null,{"$f":"IF(M822,LOOKUP(M822,'NEC Rules'!$A$2:$B$28),\"\")","v":""},null,null,{"$f":"IF(P822,LOOKUP(P822,'NEC Rules'!$A$2:$B$28),\"\")","v":""},null,"","",null,null,null,"","","",null,null,null,null,null,null,null,null,null,null,null,null,null,null,{"$error":"#VALUE!"}]
[{"$error":"#REF!"},null,null,null,{"$f":"IF(D823,LOOKUP(D823,'NEC Rules'!$A$2:$B$28),\"\")","v":""},null,null,{"$f":"IF(G823,LOOKUP(G823,'NEC Rules'!$A$2:$B$28),\"\")","v":""},null,null,{"$f":"IF(J823,LOOKUP(J823,'NEC Rules'!$A$2:$B$28),\"\")","v":""},null,null,{"$f":"IF(M823,LOOKUP(M823,'NEC Rules'!$A$2:$B$28),\"\")","v":""},null,null,{"$f":"IF(P823,LOOKUP(P823,'NEC Rules'!$A$2:$B$28),\"\")","v":""},null,"","",null,null,null,"","","",null,null,null,null,null,null,null,null,null,null,null,null,null,null,{"$error":"#VALUE!"}]
[{"$error":"#REF!"},null,null,null,{"$f":"IF(D824,LOOKUP(D824,'NEC Rules'!$A$2:$B$28),\"\")","v":""},null,null,{"$f":"IF(G824,LOOKUP(G824,'NEC Rules'!$A$2:$B$28),\"\")","v":""},null,null,{"$f":"IF(J824,LOOKUP(J824,'NEC Rules'!$A$2:$B$28),\"\")","v":""},null,null,{"$f":"IF(M824,LOOKUP(M824,'NEC Rules'!$A$2:$B$28),\"\")","v":""},null,null,{"$f":"IF(P824,LOOKUP(P824,'NEC Rules'!$A$2:$B$28),\"\")","v":""},null,"","",null,null,null,"","","",null,null,null,null,null,null,null,null,null,null,null,null,null,null,{"$error":"#VALUE!"}]
[{"$error":"#REF!"},null,null,null,{"$f":"IF(D825,LOOKUP(D825,'NEC Rules'!$A$2:$B$28),\"\")","v":""},null,null,{"$f":"IF(G825,LOOKUP(G825,'NEC Rules'!$A$2:$B$28),\"\")","v":""},null,null,{"$f":"IF(J825,LOOKUP(J825,'NEC Rules'!$A$2:$B$28),\"\")","v":""},null,null,{"$f":"IF(M825,LOOKUP(M825,'NEC Rules'!$A$2:$B$28),\"\")","v":""},null,null,{"$f":"IF(P825,LOOKUP(P825,'NEC Rules'!$A$2:$B$28),\"\")","v":""},null,"","",null,null,null,"","","",null,null,null,null,null,null,null,null,null,null,null,null,null,null,{"$error":"#VALUE!"}]
[{"$error":"#REF!"},null,null,null,{"$f":"IF(D826,LOOKUP(D826,'NEC Rules'!$A$2:$B$28),\"\")","v":""},null,null,{"$f":"IF(G826,LOOKUP(G826,'NEC Rules'!$A$2:$B$28),\"\")","v":""},null,null,{"$f":"IF(J826,LOOKUP(J826,'NEC Rules'!$A$2:$B$28),\"\")","v":""},null,null,{"$f":"IF(M826,LOOKUP(M826,'NEC Rules'!$A$2:$B$28),\"\")","v":""},null,null,{"$f":"IF(P826,LOOKUP(P826,'NEC Rules'!$A$2:$B$28),\"\")","v":""},null,"","",null,null,null,"","","",null,null,null,null,null,null,null,null,null,null,null,null,null,null,{"$error":"#VALUE!"}]
[{"$error":"#REF!"},null,null,null,{"$f":"IF(D827,LOOKUP(D827,'NEC Rules'!$A$2:$B$28),\"\")","v":""},null,null,{"$f":"IF(G827,LOOKUP(G827,'NEC Rules'!$A$2:$B$28),\"\")","v":""},null,null,{"$f":"IF(J827,LOOKUP(J827,'NEC Rules'!$A$2:$B$28),\"\")","v":""},null,null,{"$f":"IF(M827,LOOKUP(M827,'NEC Rules'!$A$2:$B$28),\"\")","v":""},null,null,{"$f":"IF(P827,LOOKUP(P827,'NEC Rules'!$A$2:$B$28),\"\")","v":""},null,"","",null,null,null,"","","",null,null,null,null,null,null,null,null,null,null,null,null,null,null,{"$error":"#VALUE!"}]
[{"$error":"#REF!"},null,null,null,{"$f":"IF(D828,LOOKUP(D828,'NEC Rules'!$A$2:$B$28),\"\")","v":""},null,null,{"$f":"IF(G828,LOOKUP(G828,'NEC Rules'!$A$2:$B$28),\"\")","v":""},null,null,{"$f":"IF(J828,LOOKUP(J828,'NEC Rules'!$A$2:$B$28),\"\")","v":""},null,null,{"$f":"IF(M828,LOOKUP(M828,'NEC Rules'!$A$2:$B$28),\"\")","v":""},null,null,{"$f":"IF(P828,LOOKUP(P828,'NEC Rules'!$A$2:$B$28),\"\")","v":""},null,"","",null,null,null,"","","",null,null,null,null,null,null,null,null,null,null,null,null,null,null,{"$error":"#VALUE!"}]
[{"$error":"#REF!"},null,null,null,{"$f":"IF(D829,LOOKUP(D829,'NEC Rules'!$A$2:$B$28),\"\")","v":""},null,null,{"$f":"IF(G829,LOOKUP(G829,'NEC Rules'!$A$2:$B$28),\"\")","v":""},null,null,{"$f":"IF(J829,LOOKUP(J829,'NEC Rules'!$A$2:$B$28),\"\")","v":""},null,null,{"$f":"IF(M829,LOOKUP(M829,'NEC Rules'!$A$2:$B$28),\"\")","v":""},null,null,{"$f":"IF(P829,LOOKUP(P829,'NEC Rules'!$A$2:$B$28),\"\")","v":""},null,"","",null,null,null,"","","",null,null,null,null,null,null,null,null,null,null,null,null,null,null,{"$error":"#VALUE!"}]
[{"$error":"#REF!"},null,null,null,{"$f":"IF(D830,LOOKUP(D830,'NEC Rules'!$A$2:$B$28),\"\")","v":""},null,null,{"$f":"IF(G830,LOOKUP(G830,'NEC Rules'!$A$2:$B$28),\"\")","v":""},null,null,{"$f":"IF(J830,LOOKUP(J830,'NEC Rules'!$A$2:$B$28),\"\")","v":""},null,null,{"$f":"IF(M830,LOOKUP(M830,'NEC Rules'!$A$2:$B$28),\"\")","v":""},null,null,{"$f":"IF(P830,LOOKUP(P830,'NEC Rules'!$A$2:$B$28),\"\")","v":""},null,"","",null,null,null,"","","",null,null,null,null,null,null,null,null,null,null,null,null,null,null,{"$error":"#VALUE!"}]
[{"$error":"#REF!"},null,null,null,{"$f":"IF(D831,LOOKUP(D831,'NEC Rules'!$A$2:$B$28),\"\")","v":""},null,null,{"$f":"IF(G831,LOOKUP(G831,'NEC Rules'!$A$2:$B$28),\"\")","v":""},null,null,{"$f":"IF(J831,LOOKUP(J831,'NEC Rules'!$A$2:$B$28),\"\")","v":""},null,null,{"$f":"IF(M831,LOOKUP(M831,'NEC Rules'!$A$2:$B$28),\"\")","v":""},null,null,{"$f":"IF(P831,LOOKUP(P831,'NEC Rules'!$A$2:$B$28),\"\")","v":""},null,"","",null,null,null,"","","",null,null,null,null,null,null,null,null,null,null,null,null,null,null,{"$error":"#VALUE!"}]
[{"$error":"#REF!"},null,null,null,{"$f":"IF(D832,LOOKUP(D832,'NEC Rules'!$A$2:$B$28),\"\")","v":""},null,null,{"$f":"IF(G832,LOOKUP(G832,'NEC Rules'!$A$2:$B$28),\"\")","v":""},null,null,{"$f":"IF(J832,LOOKUP(J832,'NEC Rules'!$A$2:$B$28),\"\")","v":""},null,null,{"$f":"IF(M832,LOOKUP(M832,'NEC Rules'!$A$2:$B$28),\"\")","v":""},null,null,{"$f":"IF(P832,LOOKUP(P832,'NEC Rules'!$A$2:$B$28),\"\")","v":""},null,"","",null,null,null,"","","",null,null,null,null,null,null,null,null,null,null,null,null,null,null,{"$error":"#VALUE!"}]
[{"$error":"#REF!"},null,null,null,{"$f":"IF(D833,LOOKUP(D833,'NEC Rules'!$A$2:$B$28),\"\")","v":""},null,null,{"$f":"IF(G833,LOOKUP(G833,'NEC Rules'!$A$2:$B$28),\"\")","v":""},null,null,{"$f":"IF(J833,LOOKUP(J833,'NEC Rules'!$A$2:$B$28),\"\")","v":""},null,null,{"$f":"IF(M833,LOOKUP(M833,'NEC Rules'!$A$2:$B$28),\"\")","v":""},null,null,{"$f":"IF(P833,LOOKUP(P833,'NEC Rules'!$A$2:$B$28),\"\")","v":""},null,"","",null,null,null,"","","",null,null,null,null,null,null,null,null,null,null,null,null,null,null,{"$error":"#VALUE!"}]
[{"$error":"#REF!"},null,null,null,{"$f":"IF(D834,LOOKUP(D834,'NEC Rules'!$A$2:$B$28),\"\")","v":""},null,null,{"$f":"IF(G834,LOOKUP(G834,'NEC Rules'!$A$2:$B$28),\"\")","v":""},null,null,{"$f":"IF(J834,LOOKUP(J834,'NEC Rules'!$A$2:$B$28),\"\")","v":""},null,null,{"$f":"IF(M834,LOOKUP(M834,'NEC Rules'!$A$2:$B$28),\"\")","v":""},null,null,{"$f":"IF(P834,LOOKUP(P834,'NEC Rules'!$A$2:$B$28),\"\")","v":""},null,{"$f":"CalcHP(D834,F834,G834,I834,J834,L834,M834,O834,P834,R834)","v":""},"",null,null,null,"","","",null,null,null,null,null,null,null,null,null,null,null,null,null,null,{"$error":"#VALUE!"}]
[{"$error":"#REF!"},null,null,null,{"$f":"IF(D835,LOOKUP(D835,'NEC Rules'!$A$2:$B$28),\"\")","v":""},null,null,{"$f":"IF(G835,LOOKUP(G835,'NEC Rules'!$A$2:$B$28),\"\")","v":""},null,null,{"$f":"IF(J835,LOOKUP(J835,'NEC Rules'!$A$2:$B$28),\"\")","v":""},null,null,{"$f":"IF(M835,LOOKUP(M835,'NEC Rules'!$A$2:$B$28),\"\")","v":""},null,null,{"$f":"IF(P835,LOOKUP(P835,'NEC Rules'!$A$2:$B$28),\"\")","v":""},null,"","",null,null,null,"",{"$f":"CalcMPF(V835,D835,E835,F835,H835,I835,K835,L835,N835,O835,Q835,R835,T835,U835)","v":""},"",null,null,null,null,null,null,null,null,null,null,null,null,null,null,{"$error":"#VALUE!"}]
[{"$error":"#REF!"},null,null,null,{"$f":"IF(D836,LOOKUP(D836,'NEC Rules'!$A$2:$B$28),\"\")","v":""},null,null,{"$f":"IF(G836,LOOKUP(G836,'NEC Rules'!$A$2:$B$28),\"\")","v":""},null,null,{"$f":"IF(J836,LOOKUP(J836,'NEC Rules'!$A$2:$B$28),\"\")","v":""},null,null,{"$f":"IF(M836,LOOKUP(M836,'NEC Rules'!$A$2:$B$28),\"\")","v":""},null,null,{"$f":"IF(P836,LOOKUP(P836,'NEC Rules'!$A$2:$B$28),\"\")","v":""},null,"",{"$f":"IF(D836,10,\"\")","v":""},null,null,null,{"$f":"IF((V836*W836),(V836*W836),\"\")","v":""},"",{"$f":"CalcPD(Y836)","v":""},null,null,null,null,null,null,null,null,null,null,null,null,null,null,{"$f":"X836*480*0.03","v":{"$error":"#VALUE!"}}]
[{"$f":"A836+1","v":{"$error":"#REF!"}},null,null,null,{"$f":"IF(D837,LOOKUP(D837,'NEC Rules'!$A$2:$B$28),\"\")","v":""},null,null,{"$f":"IF(G837,LOOKUP(G837,'NEC Rules'!$A$2:$B$28),\"\")","v":""},null,null,{"$f":"IF(J837,LOOKUP(J837,'NEC Rules'!$A$2:$B$28),\"\")","v":""},null,null,{"$f":"IF(M837,LOOKUP(M837,'NEC Rules'!$A$2:$B$28),\"\")","v":""},null,null,{"$f":"IF(P837,LOOKUP(P837,'NEC Rules'!$A$2:$B$28),\"\")","v":""},null,"","",null,null,null,"","","",null,null,null,null,null,null,null,null,null,null,null,null,null,null,{"$error":"#VALUE!"}]
[{"$error":"#REF!"},null,null,null,{"$f":"IF(D838,LOOKUP(D838,'NEC Rules'!$A$2:$B$28),\"\")","v":""},null,null,{"$f":"IF(G838,LOOKUP(G838,'NEC Rules'!$A$2:$B$28),\"\")","v":""},null,null,{"$f":"IF(J838,LOOKUP(J838,'NEC Rules'!$A$2:$B$28),\"\")","v":""},null,null,{"$f":"IF(M838,LOOKUP(M838,'NEC Rules'!$A$2:$B$28),\"\")","v":""},null,null,{"$f":"IF(P838,LOOKUP(P838,'NEC Rules'!$A$2:$B$28),\"\")","v":""},null,"","",null,null,null,"","","",null,null,null,null,null,null,null,null,null,null,null,null,null,null,{"$error":"#VALUE!"}]
[{"$error":"#REF!"},null,null,null,{"$f":"IF(D839,LOOKUP(D839,'NEC Rules'!$A$2:$B$28),\"\")","v":""},null,null,{"$f":"IF(G839,LOOKUP(G839,'NEC Rules'!$A$2:$B$28),\"\")","v":""},null,null,{"$f":"IF(J839,LOOKUP(J839,'NEC Rules'!$A$2:$B$28),\"\")","v":""},null,null,{"$f":"IF(M839,LOOKUP(M839,'NEC Rules'!$A$2:$B$28),\"\")","v":""},null,null,{"$f":"IF(P839,LOOKUP(P839,'NEC Rules'!$A$2:$B$28),\"\")","v":""},null,"","",null,null,null,"","","",null,null,null,null,null,null,null,null,null,null,null,null,null,null,{"$error":"#VALUE!"}]
[{"$error":"#REF!"},null,null,null,{"$f":"IF(D840,LOOKUP(D840,'NEC Rules'!$A$2:$B$28),\"\")","v":""},null,null,{"$f":"IF(G840,LOOKUP(G840,'NEC Rules'!$A$2:$B$28),\"\")","v":""},null,null,{"$f":"IF(J840,LOOKUP(J840,'NEC Rules'!$A$2:$B$28),\"\")","v":""},null,null,{"$f":"IF(M840,LOOKUP(M840,'NEC Rules'!$A$2:$B$28),\"\")","v":""},null,null,{"$f":"IF(P840,LOOKUP(P840,'NEC Rules'!$A$2:$B$28),\"\")","v":""},null,"","",null,null,null,"","","",null,null,null,null,null,null,null,null,null,null,null,null,null,null,{"$error":"#VALUE!"}]
[{"$error":"#REF!"},null,null,null,{"$f":"IF(D841,LOOKUP(D841,'NEC Rules'!$A$2:$B$28),\"\")","v":""},null,null,{"$f":"IF(G841,LOOKUP(G841,'NEC Rules'!$A$2:$B$28),\"\")","v":""},null,null,{"$f":"IF(J841,LOOKUP(J841,'NEC Rules'!$A$2:$B$28),\"\")","v":""},null,null,{"$f":"IF(M841,LOOKUP(M841,'NEC Rules'!$A$2:$B$28),\"\")","v":""},null,null,{"$f":"IF(P841,LOOKUP(P841,'NEC Rules'!$A$2:$B$28),\"\")","v":""},null,"","",null,null,null,"","","",null,null,null,null,null,null,null,null,null,null,null,null,null,null,{"$error":"#VALUE!"}]
[{"$error":"#REF!"},null,null,null,{"$f":"IF(D842,LOOKUP(D842,'NEC Rules'!$A$2:$B$28),\"\")","v":""},null,null,{"$f":"IF(G842,LOOKUP(G842,'NEC Rules'!$A$2:$B$28),\"\")","v":""},null,null,{"$f":"IF(J842,LOOKUP(J842,'NEC Rules'!$A$2:$B$28),\"\")","v":""},null,null,{"$f":"IF(M842,LOOKUP(M842,'NEC Rules'!$A$2:$B$28),\"\")","v":""},null,null,{"$f":"IF(P842,LOOKUP(P842,'NEC Rules'!$A$2:$B$28),\"\")","v":""},null,"","",null,null,null,"","","",null,null,null,null,null,null,null,null,null,null,null,null,null,null,{"$error":"#VALUE!"}]
[{"$error":"#REF!"},null,null,null,{"$f":"IF(D843,LOOKUP(D843,'NEC Rules'!$A$2:$B$28),\"\")","v":""},null,null,{"$f":"IF(G843,LOOKUP(G843,'NEC Rules'!$A$2:$B$28),\"\")","v":""},null,null,{"$f":"IF(J843,LOOKUP(J843,'NEC Rules'!$A$2:$B$28),\"\")","v":""},null,null,{"$f":"IF(M843,LOOKUP(M843,'NEC Rules'!$A$2:$B$28),\"\")","v":""},null,null,{"$f":"IF(P843,LOOKUP(P843,'NEC Rules'!$A$2:$B$28),\"\")","v":""},null,"","",null,null,null,"","","",null,null,null,null,null,null,null,null,null,null,null,null,null,null,{"$error":"#VALUE!"}]
[{"$error":"#REF!"},null,null,null,{"$f":"IF(D844,LOOKUP(D844,'NEC Rules'!$A$2:$B$28),\"\")","v":""},null,null,{"$f":"IF(G844,LOOKUP(G844,'NEC Rules'!$A$2:$B$28),\"\")","v":""},null,null,{"$f":"IF(J844,LOOKUP(J844,'NEC Rules'!$A$2:$B$28),\"\")","v":""},null,null,{"$f":"IF(M844,LOOKUP(M844,'NEC Rules'!$A$2:$B$28),\"\")","v":""},null,null,{"$f":"IF(P844,LOOKUP(P844,'NEC Rules'!$A$2:$B$28),\"\")","v":""},null,"","",null,null,null,"","","",null,null,{"$f":"IF(AE844>600,\"SUB\",IF(AE844>0,\"BUS\",\"\"))","v":"SUB"},null,{"$f":"CalcPD(AF844)","v":""},{"$f":"CalcOCP(Z844)","v":""},{"$f":"CalcWS(AF844)","v":""},null,null,null,null,null,null,null,{"$error":"#VALUE!"}]
[{"$error":"#REF!"},null,null,null,{"$f":"IF(D845,LOOKUP(D845,'NEC Rules'!$A$2:$B$28),\"\")","v":""},null,null,{"$f":"IF(G845,LOOKUP(G845,'NEC Rules'!$A$2:$B$28),\"\")","v":""},null,null,{"$f":"IF(J845,LOOKUP(J845,'NEC Rules'!$A$2:$B$28),\"\")","v":""},null,null,{"$f":"IF(M845,LOOKUP(M845,'NEC Rules'!$A$2:$B$28),\"\")","v":""},null,null,{"$f":"IF(P845,LOOKUP(P845,'NEC Rules'!$A$2:$B$28),\"\")","v":""},null,"","",null,null,null,"","","",null,null,"SUB",null,"","","",null,null,null,null,null,null,null,{"$error":"#VALUE!"}]
[{"$error":"#REF!"},null,null,null,{"$f":"IF(D846,LOOKUP(D846,'NEC Rules'!$A$2:$B$28),\"\")","v":""},null,null,{"$f":"IF(G846,LOOKUP(G846,'NEC Rules'!$A$2:$B$28),\"\")","v":""},null,null,{"$f":"IF(J846,LOOKUP(J846,'NEC Rules'!$A$2:$B$28),\"\")","v":""},null,null,{"$f":"IF(M846,LOOKUP(M846,'NEC Rules'!$A$2:$B$28),\"\")","v":""},null,null,{"$f":"IF(P846,LOOKUP(P846,'NEC Rules'!$A$2:$B$28),\"\")","v":""},null,"","",null,null,null,"","","",null,null,"SUB",null,"","","",null,null,null,null,null,null,null,{"$error":"#VALUE!"}]
[{"$error":"#REF!"},null,null,null,{"$f":"IF(D847,LOOKUP(D847,'NEC Rules'!$A$2:$B$28),\"\")","v":""},null,null,{"$f":"IF(G847,LOOKUP(G847,'NEC Rules'!$A$2:$B$28),\"\")","v":""},null,null,{"$f":"IF(J847,LOOKUP(J847,'NEC Rules'!$A$2:$B$28),\"\")","v":""},null,null,{"$f":"IF(M847,LOOKUP(M847,'NEC Rules'!$A$2:$B$28),\"\")","v":""},null,null,{"$f":"IF(P847,LOOKUP(P847,'NEC Rules'!$A$2:$B$28),\"\")","v":""},null,"","",null,null,null,"","","",null,null,"SUB",null,"","","",null,null,null,null,null,null,null,{"$error":"#VALUE!"}]
[{"$error":"#REF!"},null,null,null,{"$f":"IF(D848,LOOKUP(D848,'NEC Rules'!$A$2:$B$28),\"\")","v":""},null,null,{"$f":"IF(G848,LOOKUP(G848,'NEC Rules'!$A$2:$B$28),\"\")","v":""},null,null,{"$f":"IF(J848,LOOKUP(J848,'NEC Rules'!$A$2:$B$28),\"\")","v":""},null,null,{"$f":"IF(M848,LOOKUP(M848,'NEC Rules'!$A$2:$B$28),\"\")","v":""},null,null,{"$f":"IF(P848,LOOKUP(P848,'NEC Rules'!$A$2:$B$28),\"\")","v":""},null,"","",null,null,null,"","","",null,null,"SUB",null,"","","",null,null,null,null,null,null,null,{"$error":"#VALUE!"}]
[{"$error":"#REF!"},null,null,null,{"$f":"IF(D849,LOOKUP(D849,'NEC Rules'!$A$2:$B$28),\"\")","v":""},null,null,{"$f":"IF(G849,LOOKUP(G849,'NEC Rules'!$A$2:$B$28),\"\")","v":""},null,null,{"$f":"IF(J849,LOOKUP(J849,'NEC Rules'!$A$2:$B$28),\"\")","v":""},null,null,{"$f":"IF(M849,LOOKUP(M849,'NEC Rules'!$A$2:$B$28),\"\")","v":""},null,null,{"$f":"IF(P849,LOOKUP(P849,'NEC Rules'!$A$2:$B$28),\"\")","v":""},null,"","",null,null,null,"","","",null,null,"SUB",null,"","","",null,null,null,null,null,null,null,{"$error":"#VALUE!"}]
[{"$error":"#REF!"},null,null,null,{"$f":"IF(D850,LOOKUP(D850,'NEC Rules'!$A$2:$B$28),\"\")","v":""},null,null,{"$f":"IF(G850,LOOKUP(G850,'NEC Rules'!$A$2:$B$28),\"\")","v":""},null,null,{"$f":"IF(J850,LOOKUP(J850,'NEC Rules'!$A$2:$B$28),\"\")","v":""},null,null,{"$f":"IF(M850,LOOKUP(M850,'NEC Rules'!$A$2:$B$28),\"\")","v":""},null,null,{"$f":"IF(P850,LOOKUP(P850,'NEC Rules'!$A$2:$B$28),\"\")","v":""},null,"","",null,null,null,"","","",null,null,{"$f":"IF(AE850>600,\"SUB\",IF(AE850>0,\"BUS\",\"\"))","v":"SUB"},null,"","","",null,null,null,null,null,null,null,{"$error":"#VALUE!"}]
[{"$error":"#REF!"},null,null,null,{"$f":"IF(D851,LOOKUP(D851,'NEC Rules'!$A$2:$B$28),\"\")","v":""},null,null,{"$f":"IF(G851,LOOKUP(G851,'NEC Rules'!$A$2:$B$28),\"\")","v":""},null,null,{"$f":"IF(J851,LOOKUP(J851,'NEC Rules'!$A$2:$B$28),\"\")","v":""},null,null,{"$f":"IF(M851,LOOKUP(M851,'NEC Rules'!$A$2:$B$28),\"\")","v":""},null,null,{"$f":"IF(P851,LOOKUP(P851,'NEC Rules'!$A$2:$B$28),\"\")","v":""},null,"","",null,null,null,"","","",null,null,"SUB",null,"","","",null,null,null,null,null,null,null,{"$error":"#VALUE!"}]
[{"$error":"#REF!"},null,null,null,{"$f":"IF(D852,LOOKUP(D852,'NEC Rules'!$A$2:$B$28),\"\")","v":""},null,null,{"$f":"IF(G852,LOOKUP(G852,'NEC Rules'!$A$2:$B$28),\"\")","v":""},null,null,{"$f":"IF(J852,LOOKUP(J852,'NEC Rules'!$A$2:$B$28),\"\")","v":""},null,null,{"$f":"IF(M852,LOOKUP(M852,'NEC Rules'!$A$2:$B$28),\"\")","v":""},null,null,{"$f":"IF(P852,LOOKUP(P852,'NEC Rules'!$A$2:$B$28),\"\")","v":""},null,"","",null,null,null,"","","",null,null,"SUB",null,"","","",null,null,null,null,null,null,null,{"$error":"#VALUE!"}]
[{"$error":"#REF!"},null,null,null,{"$f":"IF(D853,LOOKUP(D853,'NEC Rules'!$A$2:$B$28),\"\")","v":""},null,null,{"$f":"IF(G853,LOOKUP(G853,'NEC Rules'!$A$2:$B$28),\"\")","v":""},null,null,{"$f":"IF(J853,LOOKUP(J853,'NEC Rules'!$A$2:$B$28),\"\")","v":""},null,null,{"$f":"IF(M853,LOOKUP(M853,'NEC Rules'!$A$2:$B$28),\"\")","v":""},null,null,{"$f":"IF(P853,LOOKUP(P853,'NEC Rules'!$A$2:$B$28),\"\")","v":""},null,"","",null,null,null,"","","",null,null,"SUB",null,"","","",null,null,null,null,null,null,null,{"$error":"#VALUE!"}]
[{"$error":"#REF!"},null,null,null,{"$f":"IF(D854,LOOKUP(D854,'NEC Rules'!$A$2:$B$28),\"\")","v":""},null,null,{"$f":"IF(G854,LOOKUP(G854,'NEC Rules'!$A$2:$B$28),\"\")","v":""},null,null,{"$f":"IF(J854,LOOKUP(J854,'NEC Rules'!$A$2:$B$28),\"\")","v":""},null,null,{"$f":"IF(M854,LOOKUP(M854,'NEC Rules'!$A$2:$B$28),\"\")","v":""},null,null,{"$f":"IF(P854,LOOKUP(P854,'NEC Rules'!$A$2:$B$28),\"\")","v":""},null,"","",null,null,null,"","","",null,null,"SUB",null,"","","",null,null,null,null,null,null,null,{"$error":"#VALUE!"}]
[{"$error":"#REF!"},null,null,null,{"$f":"IF(D855,LOOKUP(D855,'NEC Rules'!$A$2:$B$28),\"\")","v":""},null,null,{"$f":"IF(G855,LOOKUP(G855,'NEC Rules'!$A$2:$B$28),\"\")","v":""},null,null,{"$f":"IF(J855,LOOKUP(J855,'NEC Rules'!$A$2:$B$28),\"\")","v":""},null,null,{"$f":"IF(M855,LOOKUP(M855,'NEC Rules'!$A$2:$B$28),\"\")","v":""},null,null,{"$f":"IF(P855,LOOKUP(P855,'NEC Rules'!$A$2:$B$28),\"\")","v":""},null,"","",null,null,null,"","","",null,null,"SUB",null,"","","",null,null,null,null,null,null,null,{"$error":"#VALUE!"}]
[{"$error":"#REF!"},null,null,null,{"$f":"IF(D856,LOOKUP(D856,'NEC Rules'!$A$2:$B$28),\"\")","v":""},null,null,{"$f":"IF(G856,LOOKUP(G856,'NEC Rules'!$A$2:$B$28),\"\")","v":""},null,null,{"$f":"IF(J856,LOOKUP(J856,'NEC Rules'!$A$2:$B$28),\"\")","v":""},null,null,{"$f":"IF(M856,LOOKUP(M856,'NEC Rules'!$A$2:$B$28),\"\")","v":""},null,null,{"$f":"IF(P856,LOOKUP(P856,'NEC Rules'!$A$2:$B$28),\"\")","v":""},null,"","",null,null,null,"","","",null,null,"SUB",null,"","","",null,null,null,null,null,null,null,{"$error":"#VALUE!"}]
[{"$error":"#REF!"},null,null,null,{"$f":"IF(D857,LOOKUP(D857,'NEC Rules'!$A$2:$B$28),\"\")","v":""},null,null,{"$f":"IF(G857,LOOKUP(G857,'NEC Rules'!$A$2:$B$28),\"\")","v":""},null,null,{"$f":"IF(J857,LOOKUP(J857,'NEC Rules'!$A$2:$B$28),\"\")","v":""},null,null,{"$f":"IF(M857,LOOKUP(M857,'NEC Rules'!$A$2:$B$28),\"\")","v":""},null,null,{"$f":"IF(P857,LOOKUP(P857,'NEC Rules'!$A$2:$B$28),\"\")","v":""},null,"","",null,null,null,"","","",null,null,"SUB",null,"","","",null,null,null,null,null,null,null,{"$error":"#VALUE!"}]
[{"$error":"#REF!"},null,null,null,{"$f":"IF(D858,LOOKUP(D858,'NEC Rules'!$A$2:$B$28),\"\")","v":""},null,null,{"$f":"IF(G858,LOOKUP(G858,'NEC Rules'!$A$2:$B$28),\"\")","v":""},null,null,{"$f":"IF(J858,LOOKUP(J858,'NEC Rules'!$A$2:$B$28),\"\")","v":""},null,null,{"$f":"IF(M858,LOOKUP(M858,'NEC Rules'!$A$2:$B$28),\"\")","v":""},null,null,{"$f":"IF(P858,LOOKUP(P858,'NEC Rules'!$A$2:$B$28),\"\")","v":""},null,"","",null,null,null,"","","",null,null,"SUB",null,"","","",null,null,null,null,null,null,null,{"$error":"#VALUE!"}]
[{"$error":"#REF!"},null,null,null,{"$f":"IF(D859,LOOKUP(D859,'NEC Rules'!$A$2:$B$28),\"\")","v":""},null,null,{"$f":"IF(G859,LOOKUP(G859,'NEC Rules'!$A$2:$B$28),\"\")","v":""},null,null,{"$f":"IF(J859,LOOKUP(J859,'NEC Rules'!$A$2:$B$28),\"\")","v":""},null,null,{"$f":"IF(M859,LOOKUP(M859,'NEC Rules'!$A$2:$B$28),\"\")","v":""},null,null,{"$f":"IF(P859,LOOKUP(P859,'NEC Rules'!$A$2:$B$28),\"\")","v":""},null,"","",null,null,null,"","","",null,null,"SUB",null,"","","",null,null,null,null,null,null,null,{"$error":"#VALUE!"}]
[{"$error":"#REF!"},null,null,null,{"$f":"IF(D860,LOOKUP(D860,'NEC Rules'!$A$2:$B$28),\"\")","v":""},null,null,{"$f":"IF(G860,LOOKUP(G860,'NEC Rules'!$A$2:$B$28),\"\")","v":""},null,null,{"$f":"IF(J860,LOOKUP(J860,'NEC Rules'!$A$2:$B$28),\"\")","v":""},null,null,{"$f":"IF(M860,LOOKUP(M860,'NEC Rules'!$A$2:$B$28),\"\")","v":""},null,null,{"$f":"IF(P860,LOOKUP(P860,'NEC Rules'!$A$2:$B$28),\"\")","v":""},null,"","",null,null,null,"","","",null,null,"SUB",null,"","","",null,null,null,null,null,null,null,{"$error":"#VALUE!"}]
[{"$error":"#REF!"},null,null,null,{"$f":"IF(D861,LOOKUP(D861,'NEC Rules'!$A$2:$B$28),\"\")","v":""},null,null,{"$f":"IF(G861,LOOKUP(G861,'NEC Rules'!$A$2:$B$28),\"\")","v":""},null,null,{"$f":"IF(J861,LOOKUP(J861,'NEC Rules'!$A$2:$B$28),\"\")","v":""},null,null,{"$f":"IF(M861,LOOKUP(M861,'NEC Rules'!$A$2:$B$28),\"\")","v":""},null,null,{"$f":"IF(P861,LOOKUP(P861,'NEC Rules'!$A$2:$B$28),\"\")","v":""},null,"","",null,null,null,"","","",null,null,"SUB",null,"","","",null,null,null,null,null,null,null,{"$error":"#VALUE!"}]
[{"$error":"#REF!"},null,null,null,{"$f":"IF(D862,LOOKUP(D862,'NEC Rules'!$A$2:$B$28),\"\")","v":""},null,null,{"$f":"IF(G862,LOOKUP(G862,'NEC Rules'!$A$2:$B$28),\"\")","v":""},null,null,{"$f":"IF(J862,LOOKUP(J862,'NEC Rules'!$A$2:$B$28),\"\")","v":""},null,null,{"$f":"IF(M862,LOOKUP(M862,'NEC Rules'!$A$2:$B$28),\"\")","v":""},null,null,{"$f":"IF(P862,LOOKUP(P862,'NEC Rules'!$A$2:$B$28),\"\")","v":""},null,"","",null,null,null,"","","",null,null,"SUB",null,"","","",null,null,null,null,null,null,null,{"$error":"#VALUE!"}]
[{"$error":"#REF!"},null,null,null,{"$f":"IF(D863,LOOKUP(D863,'NEC Rules'!$A$2:$B$28),\"\")","v":""},null,null,{"$f":"IF(G863,LOOKUP(G863,'NEC Rules'!$A$2:$B$28),\"\")","v":""},null,null,{"$f":"IF(J863,LOOKUP(J863,'NEC Rules'!$A$2:$B$28),\"\")","v":""},null,null,{"$f":"IF(M863,LOOKUP(M863,'NEC Rules'!$A$2:$B$28),\"\")","v":""},null,null,{"$f":"IF(P863,LOOKUP(P863,'NEC Rules'!$A$2:$B$28),\"\")","v":""},null,"","",null,null,null,"","","",null,null,"SUB",null,"","","",null,null,null,null,null,null,null,{"$error":"#VALUE!"}]
[{"$error":"#REF!"},null,null,null,{"$f":"IF(D864,LOOKUP(D864,'NEC Rules'!$A$2:$B$28),\"\")","v":""},null,null,{"$f":"IF(G864,LOOKUP(G864,'NEC Rules'!$A$2:$B$28),\"\")","v":""},null,null,{"$f":"IF(J864,LOOKUP(J864,'NEC Rules'!$A$2:$B$28),\"\")","v":""},null,null,{"$f":"IF(M864,LOOKUP(M864,'NEC Rules'!$A$2:$B$28),\"\")","v":""},null,null,{"$f":"IF(P864,LOOKUP(P864,'NEC Rules'!$A$2:$B$28),\"\")","v":""},null,"","",null,null,null,"","","",null,null,"SUB",null,"","","",null,null,null,null,null,null,null,{"$error":"#VALUE!"}]
[{"$error":"#REF!"},null,null,null,{"$f":"IF(D865,LOOKUP(D865,'NEC Rules'!$A$2:$B$28),\"\")","v":""},null,null,{"$f":"IF(G865,LOOKUP(G865,'NEC Rules'!$A$2:$B$28),\"\")","v":""},null,null,{"$f":"IF(J865,LOOKUP(J865,'NEC Rules'!$A$2:$B$28),\"\")","v":""},null,null,{"$f":"IF(M865,LOOKUP(M865,'NEC Rules'!$A$2:$B$28),\"\")","v":""},null,null,{"$f":"IF(P865,LOOKUP(P865,'NEC Rules'!$A$2:$B$28),\"\")","v":""},null,"","",null,null,null,"","","",null,null,"SUB",null,"","","",null,null,null,null,null,null,null,{"$error":"#VALUE!"}]
[{"$error":"#REF!"},null,null,null,{"$f":"IF(D866,LOOKUP(D866,'NEC Rules'!$A$2:$B$28),\"\")","v":""},null,null,{"$f":"IF(G866,LOOKUP(G866,'NEC Rules'!$A$2:$B$28),\"\")","v":""},null,null,{"$f":"IF(J866,LOOKUP(J866,'NEC Rules'!$A$2:$B$28),\"\")","v":""},null,null,{"$f":"IF(M866,LOOKUP(M866,'NEC Rules'!$A$2:$B$28),\"\")","v":""},null,null,{"$f":"IF(P866,LOOKUP(P866,'NEC Rules'!$A$2:$B$28),\"\")","v":""},null,"","",null,null,null,"","","",null,null,"SUB",null,"","","",null,null,null,null,null,null,null,{"$error":"#VALUE!"}]
[{"$error":"#REF!"},null,null,null,{"$f":"IF(D867,LOOKUP(D867,'NEC Rules'!$A$2:$B$28),\"\")","v":""},null,null,{"$f":"IF(G867,LOOKUP(G867,'NEC Rules'!$A$2:$B$28),\"\")","v":""},null,null,{"$f":"IF(J867,LOOKUP(J867,'NEC Rules'!$A$2:$B$28),\"\")","v":""},null,null,{"$f":"IF(M867,LOOKUP(M867,'NEC Rules'!$A$2:$B$28),\"\")","v":""},null,null,{"$f":"IF(P867,LOOKUP(P867,'NEC Rules'!$A$2:$B$28),\"\")","v":""},null,"","",null,null,null,"","","",null,null,"SUB",null,"","","",null,null,null,null,null,null,null,{"$error":"#VALUE!"}]
[{"$error":"#REF!"},null,null,null,{"$f":"IF(D868,LOOKUP(D868,'NEC Rules'!$A$2:$B$28),\"\")","v":""},null,null,{"$f":"IF(G868,LOOKUP(G868,'NEC Rules'!$A$2:$B$28),\"\")","v":""},null,null,{"$f":"IF(J868,LOOKUP(J868,'NEC Rules'!$A$2:$B$28),\"\")","v":""},null,null,{"$f":"IF(M868,LOOKUP(M868,'NEC Rules'!$A$2:$B$28),\"\")","v":""},null,null,{"$f":"IF(P868,LOOKUP(P868,'NEC Rules'!$A$2:$B$28),\"\")","v":""},null,"","",null,null,null,"","","",null,null,"SUB",null,"","","",null,null,null,null,null,null,null,{"$error":"#VALUE!"}]
[{"$error":"#REF!"},null,null,null,{"$f":"IF(D869,LOOKUP(D869,'NEC Rules'!$A$2:$B$28),\"\")","v":""},null,null,{"$f":"IF(G869,LOOKUP(G869,'NEC Rules'!$A$2:$B$28),\"\")","v":""},null,null,{"$f":"IF(J869,LOOKUP(J869,'NEC Rules'!$A$2:$B$28),\"\")","v":""},null,null,{"$f":"IF(M869,LOOKUP(M869,'NEC Rules'!$A$2:$B$28),\"\")","v":""},null,null,{"$f":"IF(P869,LOOKUP(P869,'NEC Rules'!$A$2:$B$28),\"\")","v":""},null,"","",null,null,null,"","","",null,null,"SUB",null,"","","",null,null,null,null,null,null,null,{"$error":"#VALUE!"}]
[{"$error":"#REF!"},null,null,null,{"$f":"IF(D870,LOOKUP(D870,'NEC Rules'!$A$2:$B$28),\"\")","v":""},null,null,{"$f":"IF(G870,LOOKUP(G870,'NEC Rules'!$A$2:$B$28),\"\")","v":""},null,null,{"$f":"IF(J870,LOOKUP(J870,'NEC Rules'!$A$2:$B$28),\"\")","v":""},null,null,{"$f":"IF(M870,LOOKUP(M870,'NEC Rules'!$A$2:$B$28),\"\")","v":""},null,null,{"$f":"IF(P870,LOOKUP(P870,'NEC Rules'!$A$2:$B$28),\"\")","v":""},null,"","",null,null,null,"","","",null,null,"SUB",null,"","","",null,null,null,null,null,null,null,{"$error":"#VALUE!"}]
[{"$error":"#REF!"},null,null,null,{"$f":"IF(D871,LOOKUP(D871,'NEC Rules'!$A$2:$B$28),\"\")","v":""},null,null,{"$f":"IF(G871,LOOKUP(G871,'NEC Rules'!$A$2:$B$28),\"\")","v":""},null,null,{"$f":"IF(J871,LOOKUP(J871,'NEC Rules'!$A$2:$B$28),\"\")","v":""},null,null,{"$f":"IF(M871,LOOKUP(M871,'NEC Rules'!$A$2:$B$28),\"\")","v":""},null,null,{"$f":"IF(P871,LOOKUP(P871,'NEC Rules'!$A$2:$B$28),\"\")","v":""},null,"","",null,null,null,"","","",null,null,"SUB",null,"","","",null,null,null,null,null,null,null,{"$error":"#VALUE!"}]
[{"$error":"#REF!"},null,null,null,{"$f":"IF(D872,LOOKUP(D872,'NEC Rules'!$A$2:$B$28),\"\")","v":""},null,null,{"$f":"IF(G872,LOOKUP(G872,'NEC Rules'!$A$2:$B$28),\"\")","v":""},null,null,{"$f":"IF(J872,LOOKUP(J872,'NEC Rules'!$A$2:$B$28),\"\")","v":""},null,null,{"$f":"IF(M872,LOOKUP(M872,'NEC Rules'!$A$2:$B$28),\"\")","v":""},null,null,{"$f":"IF(P872,LOOKUP(P872,'NEC Rules'!$A$2:$B$28),\"\")","v":""},null,"","",null,null,null,"","","",null,null,"SUB",null,"","","",null,null,null,null,null,null,null,{"$error":"#VALUE!"}]
[{"$error":"#REF!"},null,null,null,{"$f":"IF(D873,LOOKUP(D873,'NEC Rules'!$A$2:$B$28),\"\")","v":""},null,null,{"$f":"IF(G873,LOOKUP(G873,'NEC Rules'!$A$2:$B$28),\"\")","v":""},null,null,{"$f":"IF(J873,LOOKUP(J873,'NEC Rules'!$A$2:$B$28),\"\")","v":""},null,null,{"$f":"IF(M873,LOOKUP(M873,'NEC Rules'!$A$2:$B$28),\"\")","v":""},null,null,{"$f":"IF(P873,LOOKUP(P873,'NEC Rules'!$A$2:$B$28),\"\")","v":""},null,"","",null,null,null,"","","",null,null,"SUB",null,"","","",null,null,null,null,null,null,null,{"$error":"#VALUE!"}]
[{"$error":"#REF!"},null,null,null,{"$f":"IF(D874,LOOKUP(D874,'NEC Rules'!$A$2:$B$28),\"\")","v":""},null,null,{"$f":"IF(G874,LOOKUP(G874,'NEC Rules'!$A$2:$B$28),\"\")","v":""},null,null,{"$f":"IF(J874,LOOKUP(J874,'NEC Rules'!$A$2:$B$28),\"\")","v":""},null,null,{"$f":"IF(M874,LOOKUP(M874,'NEC Rules'!$A$2:$B$28),\"\")","v":""},null,null,{"$f":"IF(P874,LOOKUP(P874,'NEC Rules'!$A$2:$B$28),\"\")","v":""},null,"","",null,null,null,"","","",null,null,"SUB",null,"","","",null,null,null,null,null,null,null,{"$error":"#VALUE!"}]
[{"$error":"#REF!"},null,null,null,{"$f":"IF(D875,LOOKUP(D875,'NEC Rules'!$A$2:$B$28),\"\")","v":""},null,null,{"$f":"IF(G875,LOOKUP(G875,'NEC Rules'!$A$2:$B$28),\"\")","v":""},null,null,{"$f":"IF(J875,LOOKUP(J875,'NEC Rules'!$A$2:$B$28),\"\")","v":""},null,null,{"$f":"IF(M875,LOOKUP(M875,'NEC Rules'!$A$2:$B$28),\"\")","v":""},null,null,{"$f":"IF(P875,LOOKUP(P875,'NEC Rules'!$A$2:$B$28),\"\")","v":""},null,"","",null,null,null,"","","",null,null,"SUB",null,"","","",null,null,null,null,null,null,null,{"$error":"#VALUE!"}]
[{"$error":"#REF!"},null,null,null,{"$f":"IF(D876,LOOKUP(D876,'NEC Rules'!$A$2:$B$28),\"\")","v":""},null,null,{"$f":"IF(G876,LOOKUP(G876,'NEC Rules'!$A$2:$B$28),\"\")","v":""},null,null,{"$f":"IF(J876,LOOKUP(J876,'NEC Rules'!$A$2:$B$28),\"\")","v":""},null,null,{"$f":"IF(M876,LOOKUP(M876,'NEC Rules'!$A$2:$B$28),\"\")","v":""},null,null,{"$f":"IF(P876,LOOKUP(P876,'NEC Rules'!$A$2:$B$28),\"\")","v":""},null,"","",null,null,null,"","","",null,null,"SUB",null,"","","",null,null,null,null,null,null,null,{"$error":"#VALUE!"}]
[{"$error":"#REF!"},null,null,null,{"$f":"IF(D877,LOOKUP(D877,'NEC Rules'!$A$2:$B$28),\"\")","v":""},null,null,{"$f":"IF(G877,LOOKUP(G877,'NEC Rules'!$A$2:$B$28),\"\")","v":""},null,null,{"$f":"IF(J877,LOOKUP(J877,'NEC Rules'!$A$2:$B$28),\"\")","v":""},null,null,{"$f":"IF(M877,LOOKUP(M877,'NEC Rules'!$A$2:$B$28),\"\")","v":""},null,null,{"$f":"IF(P877,LOOKUP(P877,'NEC Rules'!$A$2:$B$28),\"\")","v":""},null,"","",null,null,null,"","","",null,null,"SUB",null,"","","",null,null,null,null,null,null,null,{"$error":"#VALUE!"}]
[{"$error":"#REF!"},null,null,null,{"$f":"IF(D878,LOOKUP(D878,'NEC Rules'!$A$2:$B$28),\"\")","v":""},null,null,{"$f":"IF(G878,LOOKUP(G878,'NEC Rules'!$A$2:$B$28),\"\")","v":""},null,null,{"$f":"IF(J878,LOOKUP(J878,'NEC Rules'!$A$2:$B$28),\"\")","v":""},null,null,{"$f":"IF(M878,LOOKUP(M878,'NEC Rules'!$A$2:$B$28),\"\")","v":""},null,null,{"$f":"IF(P878,LOOKUP(P878,'NEC Rules'!$A$2:$B$28),\"\")","v":""},null,"","",null,null,null,"","","",null,null,"SUB",null,"","","",null,null,null,null,null,null,null,{"$error":"#VALUE!"}]
[{"$error":"#REF!"},null,null,null,{"$f":"IF(D879,LOOKUP(D879,'NEC Rules'!$A$2:$B$28),\"\")","v":""},null,null,{"$f":"IF(G879,LOOKUP(G879,'NEC Rules'!$A$2:$B$28),\"\")","v":""},null,null,{"$f":"IF(J879,LOOKUP(J879,'NEC Rules'!$A$2:$B$28),\"\")","v":""},null,null,{"$f":"IF(M879,LOOKUP(M879,'NEC Rules'!$A$2:$B$28),\"\")","v":""},null,null,{"$f":"IF(P879,LOOKUP(P879,'NEC Rules'!$A$2:$B$28),\"\")","v":""},null,"","",null,null,null,"","","",null,null,"SUB",null,"","","",null,null,null,null,null,null,null,{"$error":"#VALUE!"}]
[{"$error":"#REF!"},null,null,null,{"$f":"IF(D880,LOOKUP(D880,'NEC Rules'!$A$2:$B$28),\"\")","v":""},null,null,{"$f":"IF(G880,LOOKUP(G880,'NEC Rules'!$A$2:$B$28),\"\")","v":""},null,null,{"$f":"IF(J880,LOOKUP(J880,'NEC Rules'!$A$2:$B$28),\"\")","v":""},null,null,{"$f":"IF(M880,LOOKUP(M880,'NEC Rules'!$A$2:$B$28),\"\")","v":""},null,null,{"$f":"IF(P880,LOOKUP(P880,'NEC Rules'!$A$2:$B$28),\"\")","v":""},null,"","",null,null,null,"","","",null,null,"SUB",null,"","","",null,null,null,null,null,null,null,{"$error":"#VALUE!"}]
[{"$error":"#REF!"},null,null,null,{"$f":"IF(D881,LOOKUP(D881,'NEC Rules'!$A$2:$B$28),\"\")","v":""},null,null,{"$f":"IF(G881,LOOKUP(G881,'NEC Rules'!$A$2:$B$28),\"\")","v":""},null,null,{"$f":"IF(J881,LOOKUP(J881,'NEC Rules'!$A$2:$B$28),\"\")","v":""},null,null,{"$f":"IF(M881,LOOKUP(M881,'NEC Rules'!$A$2:$B$28),\"\")","v":""},null,null,{"$f":"IF(P881,LOOKUP(P881,'NEC Rules'!$A$2:$B$28),\"\")","v":""},null,"","",null,null,null,"","","",null,null,"SUB",null,"","","",null,null,null,null,null,null,null,{"$error":"#VALUE!"}]
[{"$error":"#REF!"},null,null,null,{"$f":"IF(D882,LOOKUP(D882,'NEC Rules'!$A$2:$B$28),\"\")","v":""},null,null,{"$f":"IF(G882,LOOKUP(G882,'NEC Rules'!$A$2:$B$28),\"\")","v":""},null,null,{"$f":"IF(J882,LOOKUP(J882,'NEC Rules'!$A$2:$B$28),\"\")","v":""},null,null,{"$f":"IF(M882,LOOKUP(M882,'NEC Rules'!$A$2:$B$28),\"\")","v":""},null,null,{"$f":"IF(P882,LOOKUP(P882,'NEC Rules'!$A$2:$B$28),\"\")","v":""},null,"","",null,null,null,"","","",null,null,"SUB",null,"","","",null,null,null,null,null,null,null,{"$error":"#VALUE!"}]
[{"$error":"#REF!"},null,null,null,{"$f":"IF(D883,LOOKUP(D883,'NEC Rules'!$A$2:$B$28),\"\")","v":""},null,null,{"$f":"IF(G883,LOOKUP(G883,'NEC Rules'!$A$2:$B$28),\"\")","v":""},null,null,{"$f":"IF(J883,LOOKUP(J883,'NEC Rules'!$A$2:$B$28),\"\")","v":""},null,null,{"$f":"IF(M883,LOOKUP(M883,'NEC Rules'!$A$2:$B$28),\"\")","v":""},null,null,{"$f":"IF(P883,LOOKUP(P883,'NEC Rules'!$A$2:$B$28),\"\")","v":""},null,"","",null,null,null,"","","",null,null,"SUB",null,"","","",null,null,null,null,null,null,null,{"$error":"#VALUE!"}]
[{"$error":"#REF!"},null,null,null,{"$f":"IF(D884,LOOKUP(D884,'NEC Rules'!$A$2:$B$28),\"\")","v":""},null,null,{"$f":"IF(G884,LOOKUP(G884,'NEC Rules'!$A$2:$B$28),\"\")","v":""},null,null,{"$f":"IF(J884,LOOKUP(J884,'NEC Rules'!$A$2:$B$28),\"\")","v":""},null,null,{"$f":"IF(M884,LOOKUP(M884,'NEC Rules'!$A$2:$B$28),\"\")","v":""},null,null,{"$f":"IF(P884,LOOKUP(P884,'NEC Rules'!$A$2:$B$28),\"\")","v":""},null,"","",null,null,null,"","","",null,null,"SUB",null,"","","",null,null,null,null,null,null,null,{"$error":"#VALUE!"}]
[{"$error":"#REF!"},null,null,null,{"$f":"IF(D885,LOOKUP(D885,'NEC Rules'!$A$2:$B$28),\"\")","v":""},null,null,{"$f":"IF(G885,LOOKUP(G885,'NEC Rules'!$A$2:$B$28),\"\")","v":""},null,null,{"$f":"IF(J885,LOOKUP(J885,'NEC Rules'!$A$2:$B$28),\"\")","v":""},null,null,{"$f":"IF(M885,LOOKUP(M885,'NEC Rules'!$A$2:$B$28),\"\")","v":""},null,null,{"$f":"IF(P885,LOOKUP(P885,'NEC Rules'!$A$2:$B$28),\"\")","v":""},null,"","",null,null,null,"","","",null,null,"SUB",null,"","","",null,null,null,null,null,null,null,{"$error":"#VALUE!"}]
[{"$error":"#REF!"},null,null,null,{"$f":"IF(D886,LOOKUP(D886,'NEC Rules'!$A$2:$B$28),\"\")","v":""},null,null,{"$f":"IF(G886,LOOKUP(G886,'NEC Rules'!$A$2:$B$28),\"\")","v":""},null,null,{"$f":"IF(J886,LOOKUP(J886,'NEC Rules'!$A$2:$B$28),\"\")","v":""},null,null,{"$f":"IF(M886,LOOKUP(M886,'NEC Rules'!$A$2:$B$28),\"\")","v":""},null,null,{"$f":"IF(P886,LOOKUP(P886,'NEC Rules'!$A$2:$B$28),\"\")","v":""},null,"","",null,null,null,"","","",null,null,"SUB",null,"","","",null,null,null,null,null,null,null,{"$error":"#VALUE!"}]
[{"$error":"#REF!"},null,null,null,{"$f":"IF(D887,LOOKUP(D887,'NEC Rules'!$A$2:$B$28),\"\")","v":""},null,null,{"$f":"IF(G887,LOOKUP(G887,'NEC Rules'!$A$2:$B$28),\"\")","v":""},null,null,{"$f":"IF(J887,LOOKUP(J887,'NEC Rules'!$A$2:$B$28),\"\")","v":""},null,null,{"$f":"IF(M887,LOOKUP(M887,'NEC Rules'!$A$2:$B$28),\"\")","v":""},null,null,{"$f":"IF(P887,LOOKUP(P887,'NEC Rules'!$A$2:$B$28),\"\")","v":""},null,"","",null,null,null,"","","",null,null,"SUB",null,"","","",null,null,null,null,null,null,null,{"$error":"#VALUE!"}]
[{"$error":"#REF!"},null,null,null,{"$f":"IF(D888,LOOKUP(D888,'NEC Rules'!$A$2:$B$28),\"\")","v":""},null,null,{"$f":"IF(G888,LOOKUP(G888,'NEC Rules'!$A$2:$B$28),\"\")","v":""},null,null,{"$f":"IF(J888,LOOKUP(J888,'NEC Rules'!$A$2:$B$28),\"\")","v":""},null,null,{"$f":"IF(M888,LOOKUP(M888,'NEC Rules'!$A$2:$B$28),\"\")","v":""},null,null,{"$f":"IF(P888,LOOKUP(P888,'NEC Rules'!$A$2:$B$28),\"\")","v":""},null,"","",null,null,null,"","","",null,null,"SUB",null,"","","",null,null,null,null,null,null,null,{"$error":"#VALUE!"}]
[{"$error":"#REF!"},null,null,null,{"$f":"IF(D889,LOOKUP(D889,'NEC Rules'!$A$2:$B$28),\"\")","v":""},null,null,{"$f":"IF(G889,LOOKUP(G889,'NEC Rules'!$A$2:$B$28),\"\")","v":""},null,null,{"$f":"IF(J889,LOOKUP(J889,'NEC Rules'!$A$2:$B$28),\"\")","v":""},null,null,{"$f":"IF(M889,LOOKUP(M889,'NEC Rules'!$A$2:$B$28),\"\")","v":""},null,null,{"$f":"IF(P889,LOOKUP(P889,'NEC Rules'!$A$2:$B$28),\"\")","v":""},null,"","",null,null,null,"","","",null,null,"SUB",null,"","","",null,null,null,null,null,null,null,{"$error":"#VALUE!"}]
[{"$error":"#REF!"},null,null,null,{"$f":"IF(D890,LOOKUP(D890,'NEC Rules'!$A$2:$B$28),\"\")","v":""},null,null,{"$f":"IF(G890,LOOKUP(G890,'NEC Rules'!$A$2:$B$28),\"\")","v":""},null,null,{"$f":"IF(J890,LOOKUP(J890,'NEC Rules'!$A$2:$B$28),\"\")","v":""},null,null,{"$f":"IF(M890,LOOKUP(M890,'NEC Rules'!$A$2:$B$28),\"\")","v":""},null,null,{"$f":"IF(P890,LOOKUP(P890,'NEC Rules'!$A$2:$B$28),\"\")","v":""},null,"","",null,null,null,"","","",null,null,"SUB",null,"","","",null,null,null,null,null,null,null,{"$error":"#VALUE!"}]
[{"$error":"#REF!"},null,null,null,{"$f":"IF(D891,LOOKUP(D891,'NEC Rules'!$A$2:$B$28),\"\")","v":""},null,null,{"$f":"IF(G891,LOOKUP(G891,'NEC Rules'!$A$2:$B$28),\"\")","v":""},null,null,{"$f":"IF(J891,LOOKUP(J891,'NEC Rules'!$A$2:$B$28),\"\")","v":""},null,null,{"$f":"IF(M891,LOOKUP(M891,'NEC Rules'!$A$2:$B$28),\"\")","v":""},null,null,{"$f":"IF(P891,LOOKUP(P891,'NEC Rules'!$A$2:$B$28),\"\")","v":""},null,"","",null,null,null,"","","",null,null,"SUB",null,"","","",null,null,null,null,null,null,null,{"$error":"#VALUE!"}]
[{"$error":"#REF!"},null,null,null,{"$f":"IF(D892,LOOKUP(D892,'NEC Rules'!$A$2:$B$28),\"\")","v":""},null,null,{"$f":"IF(G892,LOOKUP(G892,'NEC Rules'!$A$2:$B$28),\"\")","v":""},null,null,{"$f":"IF(J892,LOOKUP(J892,'NEC Rules'!$A$2:$B$28),\"\")","v":""},null,null,{"$f":"IF(M892,LOOKUP(M892,'NEC Rules'!$A$2:$B$28),\"\")","v":""},null,null,{"$f":"IF(P892,LOOKUP(P892,'NEC Rules'!$A$2:$B$28),\"\")","v":""},null,"","",null,null,null,"","","",null,null,"SUB",null,"","","",null,null,null,null,null,null,null,{"$error":"#VALUE!"}]
[{"$error":"#REF!"},null,null,null,{"$f":"IF(D893,LOOKUP(D893,'NEC Rules'!$A$2:$B$28),\"\")","v":""},null,null,{"$f":"IF(G893,LOOKUP(G893,'NEC Rules'!$A$2:$B$28),\"\")","v":""},null,null,{"$f":"IF(J893,LOOKUP(J893,'NEC Rules'!$A$2:$B$28),\"\")","v":""},null,null,{"$f":"IF(M893,LOOKUP(M893,'NEC Rules'!$A$2:$B$28),\"\")","v":""},null,null,{"$f":"IF(P893,LOOKUP(P893,'NEC Rules'!$A$2:$B$28),\"\")","v":""},null,"","",null,null,null,"","","",null,null,"SUB",null,"","","",null,null,null,null,null,null,null,{"$error":"#VALUE!"}]
[{"$error":"#REF!"},null,null,null,{"$f":"IF(D894,LOOKUP(D894,'NEC Rules'!$A$2:$B$28),\"\")","v":""},null,null,{"$f":"IF(G894,LOOKUP(G894,'NEC Rules'!$A$2:$B$28),\"\")","v":""},null,null,{"$f":"IF(J894,LOOKUP(J894,'NEC Rules'!$A$2:$B$28),\"\")","v":""},null,null,{"$f":"IF(M894,LOOKUP(M894,'NEC Rules'!$A$2:$B$28),\"\")","v":""},null,null,{"$f":"IF(P894,LOOKUP(P894,'NEC Rules'!$A$2:$B$28),\"\")","v":""},null,"","",null,null,null,"","","",null,null,"SUB",null,"","","",null,null,null,null,null,null,null,{"$error":"#VALUE!"}]
[{"$error":"#REF!"},null,null,null,{"$f":"IF(D895,LOOKUP(D895,'NEC Rules'!$A$2:$B$28),\"\")","v":""},null,null,{"$f":"IF(G895,LOOKUP(G895,'NEC Rules'!$A$2:$B$28),\"\")","v":""},null,null,{"$f":"IF(J895,LOOKUP(J895,'NEC Rules'!$A$2:$B$28),\"\")","v":""},null,null,{"$f":"IF(M895,LOOKUP(M895,'NEC Rules'!$A$2:$B$28),\"\")","v":""},null,null,{"$f":"IF(P895,LOOKUP(P895,'NEC Rules'!$A$2:$B$28),\"\")","v":""},null,"",{"$f":"IF(D895,10,\"\")","v":""},null,null,null,"","","",null,null,"SUB",null,"","","",null,null,null,null,null,null,null,{"$error":"#VALUE!"}]
[{"$error":"#REF!"},null,null,null,{"$f":"IF(D896,LOOKUP(D896,'NEC Rules'!$A$2:$B$28),\"\")","v":""},null,null,{"$f":"IF(G896,LOOKUP(G896,'NEC Rules'!$A$2:$B$28),\"\")","v":""},null,null,{"$f":"IF(J896,LOOKUP(J896,'NEC Rules'!$A$2:$B$28),\"\")","v":""},null,null,{"$f":"IF(M896,LOOKUP(M896,'NEC Rules'!$A$2:$B$28),\"\")","v":""},null,null,{"$f":"IF(P896,LOOKUP(P896,'NEC Rules'!$A$2:$B$28),\"\")","v":""},null,"","",null,null,null,"","","",null,null,"SUB",null,"","","",null,null,null,null,null,null,null,{"$error":"#VALUE!"}]
[{"$error":"#REF!"},null,null,null,{"$f":"IF(D897,LOOKUP(D897,'NEC Rules'!$A$2:$B$28),\"\")","v":""},null,null,{"$f":"IF(G897,LOOKUP(G897,'NEC Rules'!$A$2:$B$28),\"\")","v":""},null,null,{"$f":"IF(J897,LOOKUP(J897,'NEC Rules'!$A$2:$B$28),\"\")","v":""},null,null,{"$f":"IF(M897,LOOKUP(M897,'NEC Rules'!$A$2:$B$28),\"\")","v":""},null,null,{"$f":"IF(P897,LOOKUP(P897,'NEC Rules'!$A$2:$B$28),\"\")","v":""},null,"","",null,null,null,"","","",null,null,"SUB",null,"","","",null,null,null,null,null,null,null,{"$error":"#VALUE!"}]
[{"$error":"#REF!"},null,null,null,{"$f":"IF(D898,LOOKUP(D898,'NEC Rules'!$A$2:$B$28),\"\")","v":""},null,null,{"$f":"IF(G898,LOOKUP(G898,'NEC Rules'!$A$2:$B$28),\"\")","v":""},null,null,{"$f":"IF(J898,LOOKUP(J898,'NEC Rules'!$A$2:$B$28),\"\")","v":""},null,null,{"$f":"IF(M898,LOOKUP(M898,'NEC Rules'!$A$2:$B$28),\"\")","v":""},null,null,{"$f":"IF(P898,LOOKUP(P898,'NEC Rules'!$A$2:$B$28),\"\")","v":""},null,{"$f":"CalcHP(D898,F898,G898,I898,J898,L898,M898,O898,P898,R898)","v":""},"",null,null,null,"","","",null,null,"SUB",null,"","","",null,null,null,null,null,null,null,{"$error":"#VALUE!"}]
[{"$error":"#REF!"},null,null,null,{"$f":"IF(D899,LOOKUP(D899,'NEC Rules'!$A$2:$B$28),\"\")","v":""},null,null,{"$f":"IF(G899,LOOKUP(G899,'NEC Rules'!$A$2:$B$28),\"\")","v":""},null,null,{"$f":"IF(J899,LOOKUP(J899,'NEC Rules'!$A$2:$B$28),\"\")","v":""},null,null,{"$f":"IF(M899,LOOKUP(M899,'NEC Rules'!$A$2:$B$28),\"\")","v":""},null,null,{"$f":"IF(P899,LOOKUP(P899,'NEC Rules'!$A$2:$B$28),\"\")","v":""},null,{"$f":"CalcHP(D899,F899,G899,I899,J899,L899,M899,O899,P899,R899)","v":""},"",null,null,null,"",{"$f":"CalcMPF(V899,D899,E899,F899,H899,I899,K899,L899,N899,O899,Q899,R899,T899,U899)","v":""},"",null,null,"SUB",null,"","","",null,null,null,null,null,null,null,{"$error":"#VALUE!"}]
[{"$error":"#REF!"},null,null,null,{"$f":"IF(D900,LOOKUP(D900,'NEC Rules'!$A$2:$B$28),\"\")","v":""},null,null,{"$f":"IF(G900,LOOKUP(G900,'NEC Rules'!$A$2:$B$28),\"\")","v":""},null,null,{"$f":"IF(J900,LOOKUP(J900,'NEC Rules'!$A$2:$B$28),\"\")","v":""},null,null,{"$f":"IF(M900,LOOKUP(M900,'NEC Rules'!$A$2:$B$28),\"\")","v":""},null,null,{"$f":"IF(P900,LOOKUP(P900,'NEC Rules'!$A$2:$B$28),\"\")","v":""},null,{"$f":"CalcHP(D900,F900,G900,I900,J900,L900,M900,O900,P900,R900)","v":""},"",null,null,null,{"$f":"IF((V900*W900),(V900*W900),\"\")","v":""},{"$f":"CalcMPF(V900,D900,E900,F900,H900,I900,K900,L900,N900,O900,Q900,R900,T900,U900)","v":""},{"$f":"CalcPD(Y900)","v":""},null,null,"SUB",null,{"$f":"CalcPD(AF900)","v":""},"",{"$f":"CalcWS(AF900)","v":""},null,null,null,null,null,null,null,{"$f":"X900*480*0.03","v":{"$error":"#VALUE!"}}]
[null,null,null,null,null,null,null,null,null,null,null,null,null,null,null,null,"TOTALS",null,{"$f":"SUM(S3:S900)","v":762.5},{"$f":"SUM(T3:T900)","v":0},null,{"$f":"SUM(V3:V900)","v":1019.5999999999999},null,{"$f":"SUM(X3:X900)","v":815.68000000000018}]
[]
[]
[]
[]
[]
[null,null,null,null,null,null,null,null,null,null,null,null,null,null,null,null,"TOTAL KW LOAD",null,null,null,null,{"$f":"480*1.73*V901/1000","v":846.67583999999988},null,{"$f":"480*1.73*X901/1000","v":677.34067200000015}]

{"sheet":"NEC Rules","index":2,"n_rows":66,"n_cols":29,"rows_kept":66,"cut":false,"hidden":false,"merged":[[0,27,0,28],[29,0,30,7],[50,0,50,7],[0,9,0,10],[0,18,0,19],[0,21,0,22],[0,24,0,25],[35,0,35,7],[38,0,38,7],[42,0,42,4],[46,0,46,7],[47,0,47,7]]}
["Motor HP","NEC\n430-150\n460V FLA","Durr\nFuse\nSizes","NEMA Starter Size","430-52(c)(1) Maximum NEC Fuse or Breaker Size","430-22(a) Wire Size","Minimum Ground Conductor Size","Maximum Circuit Length (ft.)",null,"Standard Fuse Size LookUp Table",null,null,"Current ","Wire Size",null,"Current","Ground Size",null,"RoundDown Fuse Size LookUp Table",null,null,"Standard Disconnect Size LookUp Table",null,null,"Standard Transformer Size LookUp Table",null,null,"Nearest Fuse Size LookUp Table"]
[0.5,1.1000000000000001,{"$f":"LOOKUP(B2*1.5,$J$2:$K$66)","v":1.8},1,{"$f":"LOOKUP(B2*1.75,$J$2:$K$66)","v":2},{"$f":"LOOKUP(B2*1.25,$M$2:$N$28)","v":12},{"$f":"LOOKUP(B2*1.25,$P$2:$Q$28)","v":14},4157,null,null,1,null,0,12,null,0,14,null,1,1,null,0,30,null,0,1000,null,null,1]
[0.75,1.6,2.5,1,3,12,14,2969,null,1,1.25,null,25,10,null,15,12,null,3,3,null,30,60,null,1000,1500,null,1.125,1.25]
[1,2.1,3.2,1,4,12,14,2309,null,1.25,1.6,null,35,8,null,20,10,null,6,6,null,60,100,null,1500,2000,null,1.425,1.6]
[1.5,3,5,1,5.6,12,14,1599,null,1.6,1.8,null,50,6,null,30,10,null,10,10,null,100,200,null,2000,3000,null,1.7,1.8]
[2,3.4,5.6,1,6,12,14,1223,null,1.8,2,null,65,4,null,40,10,null,15,15,null,200,400,null,3000,5000,null,1.9,2]
[3,5.2,8,1,10,12,14,866,null,2,2.25,null,85,3,null,60,8,null,20,20,null,400,600,null,5000,7500,null,2.125,2.25]
[5,7.6,12,1,15,12,14,547,null,2.25,2.5,null,100,2,null,100,6,null,25,25,null,600,"SUB",null,7500,null,null,2.375,2.5]
[7.5,11,17.5,1,20,12,14,378,null,2.5,2.8,null,115,1,null,200,4,null,30,30,null,1200,"SUB",null,null,null,null,2.65,2.8]
[10,14,25,1,25,12,12,297,null,2.8,3,null,130,"1/0",null,300,3,null,35,35,null,3000,null,null,null,null,null,2.9,3]
[15,21,35,2,40,10,10,314,null,3,3.2,null,150,"2/0",null,400,2,null,40,40,null,null,null,null,null,null,null,3.1,3.2]
[20,27,45,2,50,10,10,378,null,3.2,3.5,null,175,"3/0",null,500,1,null,45,45,null,null,null,null,null,null,null,3.35,3.5]
[25,34,60,2,60,8,10,300,null,3.5,4,null,200,"4/0",null,600,"1/0",null,50,50,null,null,null,null,null,null,null,3.75,4]
[30,40,70,3,75,6,10,404,null,4,4.5,null,230,250,null,800,"2/0",null,60,60,null,null,null,null,null,null,null,4.25,4.5]
[40,52,80,3,100,4,8,310,null,4.5,5,null,255,300,null,1000,"3/0",null,70,70,null,null,null,null,null,null,null,4.75,5]
[50,65,100,3,125,4,8,391,null,5,5.6,null,285,350,null,1200,"4/0",null,80,80,null,null,null,null,null,null,null,5.3,5.6]
[60,77,125,4,150,3,8,514,null,5.6,6,null,310,400,null,1600,250,null,90,90,null,null,null,null,null,null,null,5.8,6]
[75,96,150,4,175,1,6,509,null,6,6.25,null,335,500,null,2000,350,null,100,100,null,null,null,null,null,null,null,6.125,6.25]
[100,124,200,4,225,"2/0",6,583,null,6.25,7,null,380,600,null,2500,400,null,110,110,null,null,null,null,null,null,null,6.625,7]
[125,156,250,5,275,"3/0",6,556,null,7,7.5,null,420,700,null,null,null,null,125,125,null,null,null,null,null,null,null,7.25,7.5]
[150,180,275,5,325,"4/0",4,570,null,7.5,8,null,460,750,null,null,null,null,150,150,null,null,null,null,null,null,null,7.75,8]
[200,240,400,5,450,350,3,561,null,8,9,null,475,800,null,null,null,null,175,175,null,null,null,null,null,null,null,8.5,9]
[250,302,500,6,600,500,3,null,null,9,10,null,490,900,null,null,null,null,200,200,null,null,null,null,null,null,null,9.5,10]
[300,361,600,6,700,700,2,null,null,10,12,null,520,1000,null,null,null,null,225,225,null,null,null,null,null,null,null,11,12]
[350,414,700,6,800,900,1,null,null,12,15,null,545,1250,null,null,null,null,250,250,null,null,null,null,null,null,null,13.5,15]
[400,477,800,6,1000,1500,1,null,null,15,17.5,null,590,1500,null,null,null,null,300,300,null,null,null,null,null,null,null,16.25,17.5]
[450,515,800,7,1000,1750,"1/0",null,null,17.5,20,null,625,1750,null,null,null,null,350,350,null,null,null,null,null,null,null,18.75,20]
[500,590,1000,7,1200,2000,"1/0",null,null,20,25,null,650,2000,null,null,null,null,400,400,null,null,null,null,null,null,null,22.5,25]
[null,null,null,null,null,null,null,null,null,25,30,null,665,null,null,null,null,null,450,450,null,null,null,null,null,null,null,27.5,30]
["Use this table for 460 volt motors in a 480 volt system, with NEMA starters and Class R fuses.",null,null,null,null,null,null,null,null,30,35,null,null,null,null,null,null,null,500,500,null,null,null,null,null,null,null,32.5,35]
[null,null,null,null,null,null,null,null,null,35,40,null,null,null,null,null,null,null,600,600,null,null,null,null,null,null,null,37.5,40]
[null,null,null,null,null,null,null,null,null,40,45,null,null,null,null,null,null,null,700,700,null,null,null,null,null,null,null,42.5,45]
["SIZING GUIDELINES (NEC Article Reference)",null,null,null,null,null,null,null,null,45,50,null,null,null,null,null,null,null,800,800,null,null,null,null,null,null,null,47.5,50]
[null,null,null,null,null,null,null,null,null,50,60,null,null,null,null,null,null,null,1000,1000,null,null,null,null,null,null,null,55,60]
["Ampacity and Motor Rating Determination 430-6(a)(1)",null,null,null,null,null,null,null,null,60,70,null,null,null,null,null,null,null,1200,1200,null,null,null,null,null,null,null,65,70]
["This section states that cable ampacities shall be from NEC 310-15(b) Table or (c) calculated & Motor Amps shall be per NEC Tables 430-147 to 150",null,null,null,null,null,null,null,null,70,75,null,null,null,null,null,null,null,1600,1600,null,null,null,null,null,null,null,72.5,75]
[null,null,null,null,null,null,null,null,null,75,80,null,null,null,null,null,null,null,2000,2000,null,null,null,null,null,null,null,77.5,80]
["Individual Motor Feeds (430-22):",null,null,null,null,null,null,null,null,80,85,null,null,null,null,null,null,null,2500,2500,null,null,null,null,null,null,null,82.5,85]
["Branch circuit conductors shall have an ampacity of not less than 125% of the motors full load current rating as determined by Section 430-6(a)(1):  ",null,null,null,null,null,null,null,null,85,90,null,null,null,null,null,null,null,3000,3000,null,null,null,null,null,null,null,87.5,90]
[null,null,null,null,null,null,null,null,null,90,100,null,null,null,null,null,null,null,4000,4000,null,null,null,null,null,null,null,95,100]
["Motor Overload Sizing (430-32):",null,null,null,null,null,null,null,null,100,110,null,null,null,null,null,null,null,null,null,null,null,null,null,null,null,null,105,110]
["Motors with a marked service factor not less than 1.15",null,null,null,null,1.25,"Name Plate FLA",null,null,110,125,null,null,null,null,null,null,null,5000,5000,null,null,null,null,null,null,null,117.5,125]
["Motors with a marked temperature rise not over 40 °C",null,null,null,null,1.25,"Name Plate FLA",null,null,125,150,null,null,null,null,null,null,null,6000,6000,null,null,null,null,null,null,null,137.5,150]
["All other motors",null,null,null,null,1.1499999999999999,"Name Plate FLA",null,null,150,175,null,null,null,null,null,null,null,null,null,null,null,null,null,null,null,null,162.5,175]
[null,null,null,null,null,null,null,null,null,175,200,null,null,null,null,null,null,null,null,null,null,null,null,null,null,null,null,187.5,200]
["Individual Motor Fuses (430-52(c)(1) & Table 430-152):",null,null,null,null,null,null,null,null,200,225,null,null,null,null,null,null,null,null,null,null,null,null,null,null,null,null,212.5,225]
["A protective device that has a rating or setting not exceeding the value calculated according to the values given in Table 430-152 shall be used.",null,null,null,null,null,null,null,null,225,250,null,null,null,null,null,null,null,null,null,null,null,null,null,null,null,null,237.5,250]
["The NEC Maximum is 175% of NEC FLA, rounded up to nearest manufacturer's fuse size.\nDurr standard is 150% of NEC FLA of motor, rounded up to nearest manufacturer's fuse size.",null,null,null,null,null,null,null,null,250,275,null,null,null,null,null,null,null,null,null,null,null,null,null,null,null,null,272.5,275]
[null,null,null,null,null,null,null,null,null,275,300,null,null,null,null,null,null,null,null,null,null,null,null,null,null,null,null,287.5,300]
["Main Disconnect Fuses (430-62):",null,null,null,null,null,null,null,null,300,325,null,null,null,null,null,null,null,null,null,null,null,null,null,null,null,null,312.5,325]
["The nearest fuse to the Largest motor fuse (175% of NEC FLA) + Sum of NEC FLAs of other loads, but not less then 125% of Largest motor NEC FLA + 125% of Heating load + the Sum of the other NEC FLA. Also not less then 115% of the Sum of all NEC FLA. All fu",null,null,null,null,null,null,null,null,325,350,null,null,null,null,null,null,null,null,null,null,null,null,null,null,null,null,337.5,350]
[null,null,null,null,null,null,null,null,null,350,400,null,null,null,null,null,null,null,null,null,null,null,null,null,null,null,null,372.5,400]
["Main Disconnect (430-110(2)):",null,null,null,null,null,null,null,null,400,450,null,null,null,null,null,null,null,null,null,null,null,null,null,null,null,null,425,450]
["At least 115% of the Sum of FLA of all loads.",null,null,null,null,null,null,null,null,450,500,null,null,null,null,null,null,null,null,null,null,null,null,null,null,null,null,475,500]
[null,null,null,null,null,null,null,null,null,500,600,null,null,null,null,null,null,null,null,null,null,null,null,null,null,null,null,550,600]
["Main Panel Feeds (430-24):",null,null,null,null,null,null,null,null,600,700,null,null,null,null,null,null,null,null,null,null,null,null,null,null,null,null,650,700]
["125% of Main Disconnect Fuse, but not larger than Main Disconnect switch.",null,null,null,null,null,null,null,null,700,800,null,null,null,null,null,null,null,null,null,null,null,null,null,null,null,null,750,800]
["Note:  Client specifications may require sizing the panel feed to the capacity of the bus plug.",null,null,null,null,null,null,null,null,800,1000,null,null,null,null,null,null,null,null,null,null,null,null,null,null,null,null,900,1000]
[null,null,null,null,null,null,null,null,null,1000,1200,null,null,null,null,null,null,null,null,null,null,null,null,null,null,null,null,1100,1200]
[null,null,null,null,null,null,null,null,null,1200,1600,null,null,null,null,null,null,null,null,null,null,null,null,null,null,null,null,1400,1600]
[null,null,null,null,null,null,null,null,null,1600,2000,null,null,null,null,null,null,null,null,null,null,null,null,null,null,null,null,1800,2000]
[null,null,null,null,null,null,null,null,null,2000,2500,null,null,null,null,null,null,null,null,null,null,null,null,null,null,null,null,2250,2500]
[null,null,null,null,null,null,null,null,null,2500,3000,null,null,null,null,null,null,null,null,null,null,null,null,null,null,null,null,2750,3000]
[null,null,null,null,null,null,null,null,null,3000,4000,null,null,null,null,null,null,null,null,null,null,null,null,null,null,null,null,3500,4000]
[null,null,null,null,null,null,null,null,null,4000,5000,null,null,null,null,null,null,null,null,null,null,null,null,null,null,null,null,4500,5000]
[null,null,null,null,null,null,null,null,null,5000]

{"sheet":"SORTED LOADS","index":3,"n_rows":918,"n_cols":32,"rows_kept":918,"cut":false,"hidden":false,"merged":[[914,4,914,5],[915,4,915,5],[917,4,917,5],[0,28,0,31],[909,4,909,5],[910,4,910,5],[911,4,911,5],[912,4,912,5],[913,4,913,5],[0,4,0,7],[0,8,0,11],[0,12,0,15],[0,16,0,19],[0,20,0,23],[0,24,0,27]]}
["#","DESCRIPTION","AMPS",null,"Breaker Number",null,null,null,"Breaker Number",null,null,null,"Breaker Number",null,null,null,"Breaker Number",null,null,null,"Breaker Number",null,null,null,"Breaker Number",null,null,null,"Breaker Number"]
["PANEL","PANEL","DEMAND","BUS #","1A1","1A2","1A3","1A4","1B1","1B2","1B3","1B4","1C1","1C2","1C3","1C4","2A1","2A2","2A3","2A4","2B1","2B2","2B3","2B4","2C1","2C2","2C3","2C4","2D1","2D2","2D3","2D4"]
[{"$f":"LOADS!A3","v":100},{"$f":"LOADS!B3","v":0},{"$f":"LOADS!X3","v":0},{"$f":"LOADS!AH3","v":0},{"$f":"IF(E$2=$D3,$C3,0)","v":0},0,0,0,{"$f":"IF(I$2=$D3,$C3,0)","v":0},0,0,0,0,0,0,0,{"$f":"IF(Q$2=$D3,$C3,0)","v":0},0,0,0,0,0,{"$f":"IF(W$2=$D3,$C3,0)","v":0},0,0,0,{"$f":"IF(AA$2=$D3,$C3,0)","v":0},0,0,0,0,0]
[{"$f":"LOADS!A4","v":101},{"$f":"LOADS!B4","v":"Panel 1000"},{"$f":"LOADS!X4","v":56.160000000000004},{"$f":"LOADS!AH4","v":0},0,0,0,0,0,0,0,0,0,0,0,0,0,0,0,0,0,0,0,0,0,0,0,0,0,0,0,0]
[{"$f":"LOADS!#REF!","v":{"$error":"#REF!"}},{"$f":"LOADS!#REF!","v":{"$error":"#REF!"}},{"$f":"LOADS!#REF!","v":{"$error":"#REF!"}},{"$f":"LOADS!#REF!","v":{"$error":"#REF!"}},{"$error":"#REF!"},{"$error":"#REF!"},{"$error":"#REF!"},{"$error":"#REF!"},{"$error":"#REF!"},{"$error":"#REF!"},{"$error":"#REF!"},{"$error":"#REF!"},{"$error":"#REF!"},{"$error":"#REF!"},{"$error":"#REF!"},{"$error":"#REF!"},{"$error":"#REF!"},{"$error":"#REF!"},{"$error":"#REF!"},{"$error":"#REF!"},{"$error":"#REF!"},{"$error":"#REF!"},{"$error":"#REF!"},{"$error":"#REF!"},{"$error":"#REF!"},{"$error":"#REF!"},{"$error":"#REF!"},{"$error":"#REF!"},{"$error":"#REF!"},{"$error":"#REF!"},{"$error":"#REF!"},{"$error":"#REF!"}]
[{"$f":"LOADS!A5","v":102},{"$f":"LOADS!B5","v":"Panel 2000"},{"$f":"LOADS!X5","v":244.32},{"$f":"LOADS!AH5","v":0},0,0,0,0,0,0,0,0,0,0,0,0,0,0,0,0,0,0,0,0,0,0,0,0,0,0,0,0]
[{"$f":"LOADS!A6","v":103},{"$f":"LOADS!B6","v":"Air Supply #1 VFD"},{"$f":"LOADS!X6","v":41.6},{"$f":"LOADS!AH6","v":0},0,0,0,0,0,0,0,0,0,0,0,0,0,0,0,0,0,0,0,0,0,0,0,0,0,0,0,0]
[{"$f":"LOADS!A7","v":104},{"$f":"LOADS!B7","v":"Air Supply #1 VFD"},{"$f":"LOADS!X7","v":41.6},{"$f":"LOADS!AH7","v":0},0,0,0,0,0,0,0,0,0,0,0,0,0,0,0,0,0,0,0,0,0,0,0,0,0,0,0,0]
[{"$f":"LOADS!A8","v":105},{"$f":"LOADS!B8","v":"Tack-off exhaust VFD"},{"$f":"LOADS!X8","v":16.8},{"$f":"LOADS!AH8","v":0},0,0,0,0,0,0,0,0,0,0,0,0,0,0,0,0,0,0,0,0,0,0,0,0,0,0,0,0]
[{"$f":"LOADS!A9","v":106},{"$f":"LOADS!B9","v":"Tack-off exhaust VFD"},{"$f":"LOADS!X9","v":16.8},{"$f":"LOADS!AH9","v":0},0,0,0,0,0,0,0,0,0,0,0,0,0,0,0,0,0,0,0,0,0,0,0,0,0,0,0,0]
[{"$f":"LOADS!A10","v":107},{"$f":"LOADS!B11","v":"B.C. Spray booth exhaust VFD"},{"$f":"LOADS!X10","v":32},{"$f":"LOADS!AH10","v":0},0,0,0,0,0,0,0,0,0,0,0,0,0,0,0,0,0,0,0,0,0,0,0,0,0,0,0,0]
[{"$f":"LOADS!A11","v":108},{"$f":"LOADS!#REF!","v":{"$error":"#REF!"}},{"$f":"LOADS!X11","v":32},{"$f":"LOADS!AH11","v":0},0,0,0,0,0,0,0,0,0,0,0,0,0,0,0,0,0,0,{"$f":"IF(W$2=$D12,$C12,0)","v":0},0,0,0,0,0,0,0,0,0]
[{"$f":"LOADS!A12","v":109},{"$f":"LOADS!B12","v":"B.C. Spray booth exhaust VFD"},{"$f":"LOADS!X12","v":41.6},{"$f":"LOADS!AH12","v":0},0,0,0,0,0,0,0,0,0,0,0,0,0,0,0,0,0,0,0,0,0,0,0,0,0,0,0,0]
[{"$f":"LOADS!A13","v":110},{"$f":"LOADS!B13","v":"B.C. Spray booth exhaust VFD"},{"$f":"LOADS!X13","v":41.6},{"$f":"LOADS!AH13","v":0},0,0,0,0,0,0,0,0,0,0,0,0,0,0,0,0,0,0,0,0,0,0,0,0,0,0,0,0]
[{"$f":"LOADS!A14","v":111},{"$f":"LOADS!B14","v":"C.C. Spray booth exhaust VFD"},{"$f":"LOADS!X14","v":32},{"$f":"LOADS!AH14","v":0},0,0,0,0,0,0,0,0,0,0,0,0,0,0,0,0,0,0,0,0,0,0,0,0,0,0,0,0]
[{"$f":"LOADS!A15","v":112},{"$f":"LOADS!B15","v":"C,C. Spray Booth exhaust VFD"},{"$f":"LOADS!X15","v":32},{"$f":"LOADS!AH15","v":0},0,0,0,0,0,0,0,0,0,0,0,0,0,0,0,0,0,0,0,0,0,0,0,0,0,0,0,0]
[{"$f":"LOADS!A16","v":113},{"$f":"LOADS!B16","v":"C.C. Spray booth exhaust VFD"},{"$f":"LOADS!X16","v":41.6},{"$f":"LOADS!AH16","v":0},0,0,0,0,0,0,0,0,{"$f":"IF(M$2=$D17,$C17,0)","v":0},0,0,0,0,0,0,{"$f":"IF(T$2=$D17,$C17,0)","v":0},0,0,0,0,0,0,{"$f":"IF(AA$2=$D17,$C17,0)","v":0},0,0,0,0,0]
[{"$f":"LOADS!A17","v":114},{"$f":"LOADS!B17","v":"C.C. Spray booth exhaust VFD"},{"$f":"LOADS!X17","v":41.6},{"$f":"LOADS!AH17","v":0},{"$f":"IF(E$2=$D18,$C18,0)","v":0},0,0,0,{"$f":"IF(I$2=$D18,$C18,0)","v":0},0,0,0,0,0,0,0,{"$f":"IF(Q$2=$D18,$C18,0)","v":0},0,0,0,0,0,0,0,0,0,0,0,0,0,0,0]
[{"$f":"LOADS!A18","v":115},{"$f":"LOADS!B18","v":"Air Supply #2 VFD"},{"$f":"LOADS!X18","v":52},{"$f":"LOADS!AH18","v":0},0,0,0,0,0,0,0,0,0,0,0,0,0,0,0,0,0,0,0,0,0,0,0,0,0,0,0,0]
[{"$f":"LOADS!A19","v":116},{"$f":"LOADS!B19","v":"Air Supply #2 VFD"},{"$f":"LOADS!X19","v":52},{"$f":"LOADS!AH19","v":0},0,0,0,0,0,0,0,0,0,0,0,0,0,0,0,0,0,0,0,0,0,0,0,0,0,0,0,0]
[{"$f":"LOADS!#REF!","v":{"$error":"#REF!"}},{"$f":"LOADS!#REF!","v":{"$error":"#REF!"}},{"$f":"LOADS!#REF!","v":{"$error":"#REF!"}},{"$f":"LOADS!#REF!","v":{"$error":"#REF!"}},{"$error":"#REF!"},{"$error":"#REF!"},{"$error":"#REF!"},{"$error":"#REF!"},{"$error":"#REF!"},{"$error":"#REF!"},{"$error":"#REF!"},{"$error":"#REF!"},{"$error":"#REF!"},{"$error":"#REF!"},{"$error":"#REF!"},{"$error":"#REF!"},{"$error":"#REF!"},{"$error":"#REF!"},{"$error":"#REF!"},{"$error":"#REF!"},{"$error":"#REF!"},{"$error":"#REF!"},{"$error":"#REF!"},{"$error":"#REF!"},{"$error":"#REF!"},{"$error":"#REF!"},{"$error":"#REF!"},{"$error":"#REF!"},{"$error":"#REF!"},{"$error":"#REF!"},{"$error":"#REF!"},{"$error":"#REF!"}]
[{"$f":"LOADS!#REF!","v":{"$error":"#REF!"}},{"$f":"LOADS!#REF!","v":{"$error":"#REF!"}},{"$f":"LOADS!#REF!","v":{"$error":"#REF!"}},{"$f":"LOADS!#REF!","v":{"$error":"#REF!"}},{"$error":"#REF!"},{"$error":"#REF!"},{"$error":"#REF!"},{"$error":"#REF!"},{"$error":"#REF!"},{"$error":"#REF!"},{"$error":"#REF!"},{"$error":"#REF!"},{"$error":"#REF!"},{"$error":"#REF!"},{"$error":"#REF!"},{"$error":"#REF!"},{"$error":"#REF!"},{"$error":"#REF!"},{"$error":"#REF!"},{"$error":"#REF!"},{"$error":"#REF!"},{"$error":"#REF!"},{"$f":"IF(W$2=$D22,$C22,0)","v":{"$error":"#REF!"}},{"$error":"#REF!"},{"$error":"#REF!"},{"$error":"#REF!"},{"$error":"#REF!"},{"$error":"#REF!"},{"$error":"#REF!"},{"$error":"#REF!"},{"$error":"#REF!"},{"$error":"#REF!"}]
[{"$f":"LOADS!A20","v":{"$error":"#REF!"}},{"$f":"LOADS!B20","v":0},{"$f":"LOADS!X20","v":""},{"$f":"LOADS!AH20","v":0},0,0,0,0,0,0,0,0,0,0,0,0,0,0,0,0,0,0,0,0,0,0,0,0,0,0,0,0]
[{"$f":"LOADS!A21","v":{"$error":"#REF!"}},{"$f":"LOADS!B21","v":0},{"$f":"LOADS!X21","v":""},{"$f":"LOADS!AH21","v":0},0,0,0,0,0,0,0,0,0,0,0,0,0,0,0,0,0,0,0,0,0,0,0,0,0,0,0,0]
[{"$f":"LOADS!A22","v":{"$error":"#REF!"}},{"$f":"LOADS!B22","v":0},{"$f":"LOADS!X22","v":""},{"$f":"LOADS!AH22","v":0},0,0,0,0,0,0,0,0,0,0,0,0,0,0,0,0,0,0,0,0,0,0,0,0,0,0,0,0]
[{"$f":"LOADS!A23","v":{"$error":"#REF!"}},{"$f":"LOADS!B23","v":0},{"$f":"LOADS!X23","v":""},{"$f":"LOADS!AH23","v":0},0,0,0,0,0,0,0,0,0,0,0,0,0,0,0,0,0,0,0,0,0,0,0,0,0,0,0,0]
[{"$f":"LOADS!A24","v":{"$error":"#REF!"}},{"$f":"LOADS!B24","v":0},{"$f":"LOADS!X24","v":""},{"$f":"LOADS!AH24","v":0},0,0,0,0,0,0,0,0,{"$f":"IF(M$2=$D27,$C27,0)","v":0},0,0,0,0,0,0,{"$f":"IF(T$2=$D27,$C27,0)","v":0},0,0,0,0,0,0,{"$f":"IF(AA$2=$D27,$C27,0)","v":0},0,0,0,0,0]
[{"$f":"LOADS!A25","v":{"$error":"#REF!"}},{"$f":"LOADS!B25","v":0},{"$f":"LOADS!X25","v":""},{"$f":"LOADS!AH25","v":0},0,0,0,0,{"$f":"IF(I$2=$D28,$C28,0)","v":0},0,0,0,0,0,0,0,{"$f":"IF(Q$2=$D28,$C28,0)","v":0},0,0,0,0,0,0,0,0,0,0,0,0,0,0,0]
[{"$f":"LOADS!A26","v":{"$error":"#REF!"}},{"$f":"LOADS!B26","v":0},{"$f":"LOADS!X26","v":""},{"$f":"LOADS!AH26","v":0},0,0,0,0,0,0,0,0,0,0,0,0,0,0,0,0,0,0,0,0,0,0,0,0,0,0,0,0]
[{"$f":"LOADS!A27","v":{"$error":"#REF!"}},{"$f":"LOADS!B27","v":0},{"$f":"LOADS!X27","v":""},{"$f":"LOADS!AH27","v":0},0,0,0,0,0,0,0,0,0,0,0,0,0,0,0,0,0,0,0,0,0,0,0,0,0,0,0,0]
[{"$f":"LOADS!A28","v":{"$error":"#REF!"}},{"$f":"LOADS!B28","v":0},{"$f":"LOADS!X28","v":""},{"$f":"LOADS!AH28","v":0},0,0,0,0,0,0,0,0,0,0,0,0,0,0,0,0,0,0,0,0,0,0,0,0,0,0,0,0]
[{"$f":"LOADS!A29","v":{"$error":"#REF!"}},{"$f":"LOADS!B29","v":0},{"$f":"LOADS!X29","v":""},{"$f":"LOADS!AH29","v":0},0,0,0,0,0,0,0,0,0,0,0,0,0,0,0,0,0,0,0,0,0,0,0,0,0,0,0,0]
[{"$f":"LOADS!A30","v":{"$error":"#REF!"}},{"$f":"LOADS!B30","v":0},{"$f":"LOADS!X30","v":""},{"$f":"LOADS!AH30","v":0},0,0,0,0,0,0,0,0,0,0,0,0,0,0,0,0,0,0,{"$f":"IF(W$2=$D33,$C33,0)","v":0},0,0,0,0,0,0,0,0,0]
[{"$f":"LOADS!A31","v":{"$error":"#REF!"}},{"$f":"LOADS!B31","v":0},{"$f":"LOADS!X31","v":""},{"$f":"LOADS!AH31","v":0},0,0,0,0,0,0,0,0,0,0,0,0,0,0,0,0,0,0,0,0,0,0,0,0,0,0,0,0]
[{"$f":"LOADS!A32","v":{"$error":"#REF!"}},{"$f":"LOADS!B32","v":0},{"$f":"LOADS!X32","v":""},{"$f":"LOADS!AH32","v":0},0,0,0,0,0,0,0,0,0,0,0,0,0,0,0,0,0,0,0,0,0,0,0,0,0,0,0,0]
[{"$f":"LOADS!A33","v":{"$error":"#REF!"}},{"$f":"LOADS!B33","v":0},{"$f":"LOADS!X33","v":""},{"$f":"LOADS!AH33","v":0},0,0,0,0,0,0,0,0,0,0,0,0,0,0,0,0,0,0,0,0,0,0,0,0,0,0,0,0]
[{"$f":"LOADS!A34","v":{"$error":"#REF!"}},{"$f":"LOADS!B34","v":0},{"$f":"LOADS!X34","v":""},{"$f":"LOADS!AH34","v":0},0,0,0,0,0,0,0,0,{"$f":"IF(M$2=$D37,$C37,0)","v":0},0,0,0,0,0,0,{"$f":"IF(T$2=$D37,$C37,0)","v":0},0,0,0,0,0,0,{"$f":"IF(AA$2=$D37,$C37,0)","v":0},0,0,0,0,0]
[{"$f":"LOADS!A35","v":{"$error":"#REF!"}},{"$f":"LOADS!B35","v":0},{"$f":"LOADS!X35","v":""},{"$f":"LOADS!AH35","v":0},0,0,0,0,{"$f":"IF(I$2=$D38,$C38,0)","v":0},0,0,0,0,0,0,0,{"$f":"IF(Q$2=$D38,$C38,0)","v":0},0,0,0,0,0,0,0,0,0,0,0,0,0,0,0]
[{"$f":"LOADS!A36","v":{"$error":"#REF!"}},{"$f":"LOADS!B36","v":0},{"$f":"LOADS!X36","v":""},{"$f":"LOADS!AH36","v":0},0,0,0,0,0,0,0,0,0,0,0,0,0,0,0,0,0,0,0,0,0,0,0,0,0,0,0,0]
[{"$f":"LOADS!A37","v":{"$error":"#REF!"}},{"$f":"LOADS!B37","v":0},{"$f":"LOADS!X37","v":""},{"$f":"LOADS!AH37","v":0},0,0,0,0,0,0,0,0,0,0,0,0,0,0,0,0,0,0,0,0,0,0,0,0,0,0,0,0]
[{"$f":"LOADS!A38","v":{"$error":"#REF!"}},{"$f":"LOADS!B38","v":0},{"$f":"LOADS!X38","v":""},{"$f":"LOADS!AH38","v":0},0,0,0,0,0,0,0,0,0,0,0,0,0,0,0,0,0,0,0,0,0,0,0,0,0,0,0,0]
[{"$f":"LOADS!A39","v":{"$error":"#REF!"}},{"$f":"LOADS!B39","v":0},{"$f":"LOADS!X39","v":""},{"$f":"LOADS!AH39","v":0},0,0,0,0,0,0,0,0,0,0,0,0,0,0,0,0,0,0,0,0,0,0,0,0,0,0,0,0]
[{"$f":"LOADS!A40","v":{"$error":"#REF!"}},{"$f":"LOADS!B40","v":0},{"$f":"LOADS!X40","v":""},{"$f":"LOADS!AH40","v":0},0,0,0,0,0,0,0,0,0,0,0,0,0,0,0,0,0,0,0,0,0,0,0,0,0,0,0,0]
[{"$f":"LOADS!A41","v":{"$error":"#REF!"}},{"$f":"LOADS!B41","v":0},{"$f":"LOADS!X41","v":""},{"$f":"LOADS!AH41","v":0},0,0,0,0,0,0,0,0,0,0,0,0,0,0,0,0,0,0,0,0,0,0,0,0,0,0,0,0]
[{"$f":"LOADS!A42","v":{"$error":"#REF!"}},{"$f":"LOADS!B42","v":0},{"$f":"LOADS!X42","v":""},{"$f":"LOADS!AH42","v":0},0,0,0,0,0,0,0,0,0,0,0,0,0,0,0,0,0,0,0,0,0,0,0,0,0,0,0,0]
[{"$f":"LOADS!A43","v":{"$error":"#REF!"}},{"$f":"LOADS!B43","v":0},{"$f":"LOADS!X43","v":""},{"$f":"LOADS!AH43","v":0},0,0,0,0,0,0,0,0,0,0,0,0,0,0,0,0,0,0,0,0,0,0,0,0,0,0,0,0]
[{"$f":"LOADS!A44","v":{"$error":"#REF!"}},{"$f":"LOADS!B44","v":0},{"$f":"LOADS!X44","v":""},{"$f":"LOADS!AH44","v":0},0,0,0,0,0,0,0,0,{"$f":"IF(M$2=$D47,$C47,0)","v":0},0,0,0,0,0,0,{"$f":"IF(T$2=$D47,$C47,0)","v":0},0,0,0,0,0,0,{"$f":"IF(AA$2=$D47,$C47,0)","v":0},0,0,0,0,0]
[{"$f":"LOADS!A45","v":{"$error":"#REF!"}},{"$f":"LOADS!B45","v":0},{"$f":"LOADS!X45","v":""},{"$f":"LOADS!AH45","v":0},0,0,0,0,{"$f":"IF(I$2=$D48,$C48,0)","v":0},0,0,0,0,0,0,0,{"$f":"IF(Q$2=$D48,$C48,0)","v":0},0,0,0,0,0,0,0,0,0,0,0,0,0,0,0]
[{"$f":"LOADS!A46","v":{"$error":"#REF!"}},{"$f":"LOADS!B46","v":0},{"$f":"LOADS!X46","v":""},{"$f":"LOADS!AH46","v":0},0,0,0,0,0,0,0,0,0,0,0,0,0,0,0,0,0,0,0,0,0,0,0,0,0,0,0,0]
[{"$f":"LOADS!A47","v":{"$error":"#REF!"}},{"$f":"LOADS!B47","v":0},{"$f":"LOADS!X47","v":""},{"$f":"LOADS!AH47","v":0},0,0,0,0,0,0,0,0,0,0,0,0,0,0,0,0,0,0,0,0,0,0,0,0,0,0,0,0]
[{"$f":"LOADS!A48","v":{"$error":"#REF!"}},{"$f":"LOADS!B48","v":0},{"$f":"LOADS!X48","v":""},{"$f":"LOADS!AH48","v":0},0,0,0,0,0,0,0,0,0,0,0,0,0,0,0,0,0,0,0,0,0,0,0,0,0,0,0,0]
[{"$f":"LOADS!A49","v":{"$error":"#REF!"}},{"$f":"LOADS!B49","v":0},{"$f":"LOADS!X49","v":""},{"$f":"LOADS!AH49","v":0},0,0,0,0,0,0,0,0,0,0,0,0,0,0,0,0,0,0,0,0,0,0,0,0,0,0,0,0]
[{"$f":"LOADS!A50","v":{"$error":"#REF!"}},{"$f":"LOADS!B50","v":0},{"$f":"LOADS!X50","v":""},{"$f":"LOADS!AH50","v":0},0,0,0,0,0,0,0,0,0,0,0,0,0,0,0,0,0,0,{"$f":"IF(W$2=$D53,$C53,0)","v":0},0,0,0,0,0,0,0,0,0]
[{"$f":"LOADS!A51","v":{"$error":"#REF!"}},{"$f":"LOADS!B51","v":0},{"$f":"LOADS!X51","v":""},{"$f":"LOADS!AH51","v":0},0,0,0,0,0,0,0,0,0,0,0,0,0,0,0,0,0,0,0,0,0,0,0,0,0,0,0,0]
[{"$f":"LOADS!A52","v":{"$error":"#REF!"}},{"$f":"LOADS!B52","v":0},{"$f":"LOADS!X52","v":""},{"$f":"LOADS!AH52","v":0},0,0,0,0,0,0,0,0,0,0,0,0,0,0,0,0,0,0,0,0,0,0,0,0,0,0,0,0]
[{"$f":"LOADS!A53","v":{"$error":"#REF!"}},{"$f":"LOADS!B53","v":0},{"$f":"LOADS!X53","v":""},{"$f":"LOADS!AH53","v":0},0,0,0,0,0,0,0,0,0,0,0,0,0,0,0,0,0,0,0,0,0,0,0,0,0,0,0,0]
[{"$f":"LOADS!A54","v":{"$error":"#REF!"}},{"$f":"LOADS!B54","v":0},{"$f":"LOADS!X54","v":""},{"$f":"LOADS!AH54","v":0},0,0,0,0,0,0,0,0,{"$f":"IF(M$2=$D57,$C57,0)","v":0},0,0,0,0,0,0,{"$f":"IF(T$2=$D57,$C57,0)","v":0},0,0,0,0,0,0,{"$f":"IF(AA$2=$D57,$C57,0)","v":0},0,0,0,0,0]
[{"$f":"LOADS!A55","v":{"$error":"#REF!"}},{"$f":"LOADS!B55","v":0},{"$f":"LOADS!X55","v":""},{"$f":"LOADS!AH55","v":0},0,0,0,0,{"$f":"IF(I$2=$D58,$C58,0)","v":0},0,0,0,0,0,0,0,{"$f":"IF(Q$2=$D58,$C58,0)","v":0},0,0,0,0,0,0,0,0,0,0,0,0,0,0,0]
[{"$f":"LOADS!A56","v":{"$error":"#REF!"}},{"$f":"LOADS!B56","v":0},{"$f":"LOADS!X56","v":""},{"$f":"LOADS!AH56","v":0},0,0,0,0,0,0,0,0,0,0,0,0,0,0,0,0,0,0,0,0,0,0,0,0,0,0,0,0]
[{"$f":"LOADS!A57","v":{"$error":"#REF!"}},{"$f":"LOADS!B57","v":0},{"$f":"LOADS!X57","v":""},{"$f":"LOADS!AH57","v":0},0,0,0,0,0,0,0,0,0,0,0,0,0,0,0,0,0,0,0,0,0,0,0,0,0,0,0,0]
[{"$f":"LOADS!A58","v":{"$error":"#REF!"}},{"$f":"LOADS!B58","v":0},{"$f":"LOADS!X58","v":""},{"$f":"LOADS!AH58","v":0},0,0,0,0,0,0,0,0,0,0,0,0,0,0,0,0,0,0,0,0,0,0,0,0,0,0,0,0]
[{"$f":"LOADS!A59","v":{"$error":"#REF!"}},{"$f":"LOADS!B59","v":0},{"$f":"LOADS!X59","v":""},{"$f":"LOADS!AH59","v":0},0,0,0,0,0,0,0,0,0,0,0,0,0,0,0,0,0,0,0,0,0,0,0,0,0,0,0,0]
[{"$f":"LOADS!A60","v":{"$error":"#REF!"}},{"$f":"LOADS!B60","v":0},{"$f":"LOADS!X60","v":""},{"$f":"LOADS!AH60","v":0},0,0,0,0,0,0,0,0,0,0,0,0,0,0,0,0,0,0,0,0,0,0,0,0,0,0,0,0]
[{"$f":"LOADS!A61","v":{"$error":"#REF!"}},{"$f":"LOADS!B61","v":0},{"$f":"LOADS!X61","v":""},{"$f":"LOADS!AH61","v":0},0,0,0,0,0,0,0,0,0,0,0,0,0,0,0,0,0,0,0,0,0,0,0,0,0,0,0,0]
[{"$f":"LOADS!A62","v":{"$error":"#REF!"}},{"$f":"LOADS!B62","v":0},{"$f":"LOADS!X62","v":""},{"$f":"LOADS!AH62","v":0},0,0,0,0,0,0,0,0,0,0,0,0,0,0,0,0,0,0,0,0,0,0,0,0,0,0,0,0]
[{"$f":"LOADS!A63","v":{"$error":"#REF!"}},{"$f":"LOADS!B63","v":0},{"$f":"LOADS!X63","v":""},{"$f":"LOADS!AH63","v":0},0,0,0,0,0,0,0,0,0,0,0,0,0,0,0,0,0,0,0,0,0,0,0,0,0,0,0,0]
[{"$f":"LOADS!A64","v":{"$error":"#REF!"}},{"$f":"LOADS!B64","v":0},{"$f":"LOADS!X64","v":""},{"$f":"LOADS!AH64","v":0},0,0,0,0,0,0,0,0,{"$f":"IF(M$2=$D67,$C67,0)","v":0},0,0,0,0,0,0,{"$f":"IF(T$2=$D67,$C67,0)","v":0},0,0,0,0,0,0,{"$f":"IF(AA$2=$D67,$C67,0)","v":0},0,0,0,0,0]
[{"$f":"LOADS!A65","v":{"$error":"#REF!"}},{"$f":"LOADS!B65","v":0},{"$f":"LOADS!X65","v":""},{"$f":"LOADS!AH65","v":0},0,0,0,0,{"$f":"IF(I$2=$D68,$C68,0)","v":0},0,0,0,0,0,0,0,{"$f":"IF(Q$2=$D68,$C68,0)","v":0},0,0,0,0,0,0,0,0,0,0,0,0,0,0,0]
[{"$f":"LOADS!A66","v":{"$error":"#REF!"}},{"$f":"LOADS!B66","v":0},{"$f":"LOADS!X66","v":""},{"$f":"LOADS!AH66","v":0},{"$f":"IF(E$2=$D69,$C69,0)","v":0},0,0,0,0,0,0,0,0,0,0,0,0,0,0,0,0,0,0,0,0,0,0,0,0,0,0,0]
[{"$f":"LOADS!A67","v":{"$error":"#REF!"}},{"$f":"LOADS!B67","v":0},{"$f":"LOADS!X67","v":""},{"$f":"LOADS!AH67","v":0},0,0,0,0,0,0,0,0,0,0,0,0,0,0,0,0,0,0,0,0,0,0,0,0,0,0,0,0]
[{"$f":"LOADS!A68","v":{"$error":"#REF!"}},{"$f":"LOADS!B68","v":0},{"$f":"LOADS!X68","v":""},{"$f":"LOADS!AH68","v":0},0,0,0,0,0,0,0,0,0,0,0,0,0,0,0,0,0,0,0,0,0,0,0,0,0,0,0,0]
[{"$f":"LOADS!A69","v":{"$error":"#REF!"}},{"$f":"LOADS!B69","v":0},{"$f":"LOADS!X69","v":""},{"$f":"LOADS!AH69","v":0},0,0,0,0,0,0,0,0,0,0,0,0,0,0,0,0,0,0,0,0,0,0,0,0,0,0,0,0]
[{"$f":"LOADS!A70","v":{"$error":"#REF!"}},{"$f":"LOADS!B70","v":0},{"$f":"LOADS!X70","v":""},{"$f":"LOADS!AH70","v":0},0,0,0,0,0,0,0,0,0,0,0,0,0,0,0,0,0,0,{"$f":"IF(W$2=$D73,$C73,0)","v":0},0,0,0,0,0,0,0,0,0]
[{"$f":"LOADS!A71","v":{"$error":"#REF!"}},{"$f":"LOADS!B71","v":0},{"$f":"LOADS!X71","v":""},{"$f":"LOADS!AH71","v":0},0,0,0,0,0,0,0,0,0,0,0,0,0,0,0,0,0,0,0,0,0,0,0,0,0,0,0,0]
[{"$f":"LOADS!A72","v":{"$error":"#REF!"}},{"$f":"LOADS!B72","v":0},{"$f":"LOADS!X72","v":""},{"$f":"LOADS!AH72","v":0},0,0,0,0,0,0,0,0,0,0,0,0,0,0,0,0,0,0,0,0,0,0,0,0,0,0,0,0]
[{"$f":"LOADS!A73","v":{"$error":"#REF!"}},{"$f":"LOADS!B73","v":0},{"$f":"LOADS!X73","v":""},{"$f":"LOADS!AH73","v":0},0,0,0,0,0,0,0,0,0,0,0,0,0,0,0,0,0,0,0,0,0,0,0,0,0,0,0,0]
[{"$f":"LOADS!A74","v":{"$error":"#REF!"}},{"$f":"LOADS!B74","v":0},{"$f":"LOADS!X74","v":""},{"$f":"LOADS!AH74","v":0},0,0,0,0,0,0,0,0,{"$f":"IF(M$2=$D77,$C77,0)","v":0},0,0,0,0,0,0,{"$f":"IF(T$2=$D77,$C77,0)","v":0},0,0,0,0,0,0,{"$f":"IF(AA$2=$D77,$C77,0)","v":0},0,0,0,0,0]
[{"$f":"LOADS!A75","v":{"$error":"#REF!"}},{"$f":"LOADS!B75","v":0},{"$f":"LOADS!X75","v":""},{"$f":"LOADS!AH75","v":0},0,0,0,0,{"$f":"IF(I$2=$D78,$C78,0)","v":0},0,0,0,0,0,0,0,{"$f":"IF(Q$2=$D78,$C78,0)","v":0},0,0,0,0,0,0,0,0,0,0,0,0,0,0,0]
[{"$f":"LOADS!A76","v":{"$error":"#REF!"}},{"$f":"LOADS!B76","v":0},{"$f":"LOADS!X76","v":""},{"$f":"LOADS!AH76","v":0},0,0,0,0,0,0,0,0,0,0,0,0,0,0,0,0,0,0,0,0,0,0,0,0,0,0,0,0]
[{"$f":"LOADS!A77","v":{"$error":"#REF!"}},{"$f":"LOADS!B77","v":0},{"$f":"LOADS!X77","v":""},{"$f":"LOADS!AH77","v":0},0,0,0,0,0,0,0,0,0,0,0,0,0,0,0,0,0,0,0,0,0,0,0,0,0,0,0,0]
[{"$f":"LOADS!A78","v":{"$error":"#REF!"}},{"$f":"LOADS!B78","v":0},{"$f":"LOADS!X78","v":""},{"$f":"LOADS!AH78","v":0},0,0,0,0,0,0,0,0,0,0,0,0,0,0,0,0,0,0,0,0,0,0,0,0,0,0,0,0]
[{"$f":"LOADS!A79","v":{"$error":"#REF!"}},{"$f":"LOADS!B79","v":0},{"$f":"LOADS!X79","v":""},{"$f":"LOADS!AH79","v":0},0,0,0,0,0,0,0,0,0,0,0,0,0,0,0,0,0,0,0,0,0,0,0,0,0,0,0,0]
[{"$f":"LOADS!A80","v":{"$error":"#REF!"}},{"$f":"LOADS!B80","v":0},{"$f":"LOADS!X80","v":""},{"$f":"LOADS!AH80","v":0},0,0,0,0,0,0,0,0,0,0,0,0,0,0,0,0,0,0,0,0,0,0,0,0,0,0,0,0]
[{"$f":"LOADS!A81","v":{"$error":"#REF!"}},{"$f":"LOADS!B81","v":0},{"$f":"LOADS!X81","v":""},{"$f":"LOADS!AH81","v":0},0,0,0,0,0,0,0,0,0,0,0,0,0,0,0,0,0,0,0,0,0,0,0,0,0,0,0,0]
[{"$f":"LOADS!A82","v":{"$error":"#REF!"}},{"$f":"LOADS!B82","v":0},{"$f":"LOADS!X82","v":""},{"$f":"LOADS!AH82","v":0},0,0,0,0,0,0,0,0,0,0,0,0,0,0,0,0,0,0,0,0,0,0,0,0,0,0,0,0]
[{"$f":"LOADS!A83","v":{"$error":"#REF!"}},{"$f":"LOADS!B83","v":0},{"$f":"LOADS!X83","v":""},{"$f":"LOADS!AH83","v":0},0,0,0,0,0,0,0,0,0,0,0,0,0,0,0,0,0,0,0,0,0,0,0,0,0,0,0,0]
[{"$f":"LOADS!A84","v":{"$error":"#REF!"}},{"$f":"LOADS!B84","v":0},{"$f":"LOADS!X84","v":""},{"$f":"LOADS!AH84","v":0},0,0,0,0,0,0,0,0,{"$f":"IF(M$2=$D87,$C87,0)","v":0},0,0,0,0,0,0,{"$f":"IF(T$2=$D87,$C87,0)","v":0},0,0,0,0,0,0,{"$f":"IF(AA$2=$D87,$C87,0)","v":0},0,0,0,0,0]
[{"$f":"LOADS!A85","v":{"$error":"#REF!"}},{"$f":"LOADS!B85","v":0},{"$f":"LOADS!X85","v":""},{"$f":"LOADS!AH85","v":0},0,0,0,0,{"$f":"IF(I$2=$D88,$C88,0)","v":0},0,0,0,0,0,0,0,{"$f":"IF(Q$2=$D88,$C88,0)","v":0},0,0,0,0,0,0,0,0,0,0,0,0,0,0,0]
[{"$f":"LOADS!A86","v":{"$error":"#REF!"}},{"$f":"LOADS!B86","v":0},{"$f":"LOADS!X86","v":""},{"$f":"LOADS!AH86","v":0},0,0,0,0,0,0,0,0,0,0,0,0,0,0,0,0,0,0,0,0,0,0,0,0,0,0,0,0]
[{"$f":"LOADS!A87","v":{"$error":"#REF!"}},{"$f":"LOADS!B87","v":0},{"$f":"LOADS!X87","v":""},{"$f":"LOADS!AH87","v":0},0,0,0,0,0,0,0,0,0,0,0,0,0,0,0,0,0,0,0,0,0,0,0,0,0,0,0,0]
[{"$f":"LOADS!A88","v":{"$error":"#REF!"}},{"$f":"LOADS!B88","v":0},{"$f":"LOADS!X88","v":""},{"$f":"LOADS!AH88","v":0},0,0,0,0,0,0,0,0,0,0,0,0,0,0,0,0,0,0,0,0,0,0,0,0,0,0,0,0]
[{"$f":"LOADS!A89","v":{"$error":"#REF!"}},{"$f":"LOADS!B89","v":0},{"$f":"LOADS!X89","v":""},{"$f":"LOADS!AH89","v":0},0,0,0,0,0,0,0,0,0,0,0,0,0,0,0,0,0,0,0,0,0,0,0,0,0,0,0,0]
[{"$f":"LOADS!A90","v":{"$error":"#REF!"}},{"$f":"LOADS!B90","v":0},{"$f":"LOADS!X90","v":""},{"$f":"LOADS!AH90","v":0},0,0,0,0,0,0,0,0,0,0,0,0,0,0,0,0,0,0,{"$f":"IF(W$2=$D93,$C93,0)","v":0},0,0,0,0,0,0,0,0,0]
[{"$f":"LOADS!A91","v":{"$error":"#REF!"}},{"$f":"LOADS!B91","v":0},{"$f":"LOADS!X91","v":""},{"$f":"LOADS!AH91","v":0},0,0,0,0,0,0,0,0,0,0,0,0,0,0,0,0,0,0,0,0,0,0,0,0,0,0,0,0]
[{"$f":"LOADS!A92","v":{"$error":"#REF!"}},{"$f":"LOADS!B92","v":0},{"$f":"LOADS!X92","v":""},{"$f":"LOADS!AH92","v":0},0,0,0,0,0,0,0,0,0,0,0,0,0,0,0,0,0,0,0,0,0,0,0,0,0,0,0,0]
[{"$f":"LOADS!A93","v":{"$error":"#REF!"}},{"$f":"LOADS!B93","v":0},{"$f":"LOADS!X93","v":""},{"$f":"LOADS!AH93","v":0},0,0,0,0,0,0,0,0,0,0,0,0,0,0,0,0,0,0,0,0,0,0,0,0,0,0,0,0]
[{"$f":"LOADS!A94","v":{"$error":"#REF!"}},{"$f":"LOADS!B94","v":0},{"$f":"LOADS!X94","v":""},{"$f":"LOADS!AH94","v":0},0,0,0,0,0,0,0,0,{"$f":"IF(M$2=$D97,$C97,0)","v":0},0,0,0,0,0,0,{"$f":"IF(T$2=$D97,$C97,0)","v":0},0,0,0,0,0,0,{"$f":"IF(AA$2=$D97,$C97,0)","v":0},0,0,0,0,0]
[{"$f":"LOADS!A95","v":{"$error":"#REF!"}},{"$f":"LOADS!B95","v":0},{"$f":"LOADS!X95","v":""},{"$f":"LOADS!AH95","v":0},0,0,0,0,{"$f":"IF(I$2=$D98,$C98,0)","v":0},0,0,0,0,0,0,0,{"$f":"IF(Q$2=$D98,$C98,0)","v":0},0,0,0,0,0,0,0,0,0,0,0,0,0,0,0]
[{"$f":"LOADS!A96","v":{"$error":"#REF!"}},{"$f":"LOADS!B96","v":0},{"$f":"LOADS!X96","v":""},{"$f":"LOADS!AH96","v":0},0,0,0,0,0,0,0,0,0,0,0,0,0,0,0,0,0,0,0,0,0,0,0,0,0,0,0,0]
[{"$f":"LOADS!A97","v":{"$error":"#REF!"}},{"$f":"LOADS!B97","v":0},{"$f":"LOADS!X97","v":""},{"$f":"LOADS!AH97","v":0},0,0,0,0,0,0,0,0,0,0,0,0,0,0,0,0,0,0,0,0,0,0,0,0,0,0,0,0]
[{"$f":"LOADS!A98","v":{"$error":"#REF!"}},{"$f":"LOADS!B98","v":0},{"$f":"LOADS!X98","v":""},{"$f":"LOADS!AH98","v":0},0,0,0,0,0,0,0,0,0,0,0,0,0,0,0,0,0,0,0,0,0,0,0,0,0,0,0,0]
[{"$f":"LOADS!A99","v":{"$error":"#REF!"}},{"$f":"LOADS!B99","v":0},{"$f":"LOADS!X99","v":""},{"$f":"LOADS!AH99","v":0},0,0,0,0,0,0,0,0,0,0,0,0,0,0,0,0,0,0,0,0,0,0,0,0,0,0,0,0]
[{"$f":"LOADS!A100","v":{"$error":"#REF!"}},{"$f":"LOADS!B100","v":0},{"$f":"LOADS!X100","v":""},{"$f":"LOADS!AH100","v":0},0,0,0,0,0,0,0,0,0,0,0,0,0,0,0,0,0,0,0,0,0,0,0,0,0,0,0,0]
[{"$f":"LOADS!A101","v":{"$error":"#REF!"}},{"$f":"LOADS!B101","v":0},{"$f":"LOADS!X101","v":""},{"$f":"LOADS!AH101","v":0},0,0,0,0,0,0,0,0,0,0,0,0,0,0,0,0,0,0,0,0,0,0,0,0,0,0,0,0]
[{"$f":"LOADS!A102","v":{"$error":"#REF!"}},{"$f":"LOADS!B102","v":0},{"$f":"LOADS!X102","v":""},{"$f":"LOADS!AH102","v":0},0,0,0,0,0,0,0,0,0,0,0,0,0,0,0,0,0,0,0,0,0,0,0,0,0,0,0,0]
[{"$f":"LOADS!A103","v":{"$error":"#REF!"}},{"$f":"LOADS!B103","v":0},{"$f":"LOADS!X103","v":""},{"$f":"LOADS!AH103","v":0},0,0,0,0,0,0,0,0,0,0,0,0,0,0,0,0,0,0,0,0,0,0,0,0,0,0,0,0]
[{"$f":"LOADS!A104","v":{"$error":"#REF!"}},{"$f":"LOADS!B104","v":0},{"$f":"LOADS!X104","v":""},{"$f":"LOADS!AH104","v":0},0,0,0,0,0,0,0,0,{"$f":"IF(M$2=$D107,$C107,0)","v":0},0,0,0,0,0,0,{"$f":"IF(T$2=$D107,$C107,0)","v":0},0,0,0,0,0,0,{"$f":"IF(AA$2=$D107,$C107,0)","v":0},0,0,0,0,0]
[{"$f":"LOADS!A105","v":{"$error":"#REF!"}},{"$f":"LOADS!B105","v":0},{"$f":"LOADS!X105","v":""},{"$f":"LOADS!AH105","v":0},0,0,0,0,{"$f":"IF(I$2=$D108,$C108,0)","v":0},0,0,0,0,0,0,0,{"$f":"IF(Q$2=$D108,$C108,0)","v":0},0,0,0,0,0,0,0,0,0,0,0,0,0,0,0]
[{"$f":"LOADS!A106","v":{"$error":"#REF!"}},{"$f":"LOADS!B106","v":0},{"$f":"LOADS!X106","v":""},{"$f":"LOADS!AH106","v":0},0,0,0,0,0,0,0,0,0,0,0,0,0,0,0,0,0,0,0,0,0,0,0,0,0,0,0,0]
[{"$f":"LOADS!A107","v":{"$error":"#REF!"}},{"$f":"LOADS!B107","v":0},{"$f":"LOADS!X107","v":""},{"$f":"LOADS!AH107","v":0},0,0,0,0,0,0,0,0,0,0,0,0,0,0,0,0,0,0,0,0,0,0,0,0,0,0,0,0]
[{"$f":"LOADS!A108","v":{"$error":"#REF!"}},{"$f":"LOADS!B108","v":0},{"$f":"LOADS!X108","v":""},{"$f":"LOADS!AH108","v":0},0,0,0,0,0,0,0,0,0,0,0,0,0,0,0,0,0,0,0,0,0,0,0,0,0,0,0,0]
[{"$f":"LOADS!A109","v":{"$error":"#REF!"}},{"$f":"LOADS!B109","v":0},{"$f":"LOADS!X109","v":""},{"$f":"LOADS!AH109","v":0},0,0,0,0,0,0,0,0,0,0,0,0,0,0,0,0,0,0,0,0,0,0,0,0,0,0,0,0]
[{"$f":"LOADS!A110","v":{"$error":"#REF!"}},{"$f":"LOADS!B110","v":0},{"$f":"LOADS!X110","v":""},{"$f":"LOADS!AH110","v":0},0,0,0,0,0,0,0,0,0,0,0,0,0,0,0,0,0,0,0,0,0,0,0,0,0,0,0,0]
[{"$f":"LOADS!A111","v":{"$error":"#REF!"}},{"$f":"LOADS!B111","v":0},{"$f":"LOADS!X111","v":""},{"$f":"LOADS!AH111","v":0},0,0,0,0,0,0,0,0,0,0,0,0,0,0,0,0,0,0,0,0,0,0,0,0,0,0,0,0]
[{"$f":"LOADS!A112","v":{"$error":"#REF!"}},{"$f":"LOADS!B112","v":0},{"$f":"LOADS!X112","v":""},{"$f":"LOADS!AH112","v":0},0,0,0,0,0,0,0,0,0,0,0,0,0,0,0,0,0,0,0,0,0,0,0,0,0,0,0,0]
[{"$f":"LOADS!A113","v":{"$error":"#REF!"}},{"$f":"LOADS!B113","v":0},{"$f":"LOADS!X113","v":""},{"$f":"LOADS!AH113","v":0},0,0,0,0,0,0,0,0,0,0,0,0,0,0,0,0,0,0,0,0,0,0,0,0,0,0,0,0]
[{"$f":"LOADS!A114","v":{"$error":"#REF!"}},{"$f":"LOADS!B114","v":0},{"$f":"LOADS!X114","v":""},{"$f":"LOADS!AH114","v":0},0,0,0,0,0,0,0,0,{"$f":"IF(M$2=$D117,$C117,0)","v":0},0,0,0,0,0,0,{"$f":"IF(T$2=$D117,$C117,0)","v":0},0,0,0,0,0,0,{"$f":"IF(AA$2=$D117,$C117,0)","v":0},0,0,0,0,0]
[{"$f":"LOADS!A115","v":{"$error":"#REF!"}},{"$f":"LOADS!B115","v":0},{"$f":"LOADS!X115","v":""},{"$f":"LOADS!AH115","v":0},0,0,0,0,{"$f":"IF(I$2=$D118,$C118,0)","v":0},0,0,0,0,0,0,0,{"$f":"IF(Q$2=$D118,$C118,0)","v":0},0,0,0,0,0,{"$f":"IF(W$2=$D118,$C118,0)","v":0},0,0,0,0,0,0,0,0,0]
[{"$f":"LOADS!A116","v":{"$error":"#REF!"}},{"$f":"LOADS!B116","v":0},{"$f":"LOADS!X116","v":""},{"$f":"LOADS!AH116","v":0},0,0,0,0,0,0,0,0,0,0,0,0,0,0,0,0,0,0,0,0,0,0,0,0,0,0,0,0]
[{"$f":"LOADS!A117","v":{"$error":"#REF!"}},{"$f":"LOADS!B117","v":0},{"$f":"LOADS!X117","v":""},{"$f":"LOADS!AH117","v":0},{"$f":"IF(E$2=$D120,$C120,0)","v":0},0,0,0,0,0,0,0,0,0,0,0,0,0,0,0,0,0,0,0,0,0,0,0,0,0,0,0]
[{"$f":"LOADS!A118","v":{"$error":"#REF!"}},{"$f":"LOADS!B118","v":0},{"$f":"LOADS!X118","v":""},{"$f":"LOADS!AH118","v":0},0,0,0,0,0,0,0,0,0,0,0,0,0,0,0,0,0,0,0,0,0,0,0,0,0,0,0,0]
[{"$f":"LOADS!A119","v":{"$error":"#REF!"}},{"$f":"LOADS!B119","v":0},{"$f":"LOADS!X119","v":""},{"$f":"LOADS!AH119","v":0},0,0,0,0,0,0,0,0,0,0,0,0,0,0,0,0,0,0,0,0,0,0,0,0,0,0,0,0]
[{"$f":"LOADS!A120","v":{"$error":"#REF!"}},{"$f":"LOADS!B120","v":0},{"$f":"LOADS!X120","v":""},{"$f":"LOADS!AH120","v":0},0,0,0,0,0,0,0,0,0,0,0,0,0,0,0,0,0,0,0,0,0,0,0,0,0,0,0,0]
[{"$f":"LOADS!A121","v":{"$error":"#REF!"}},{"$f":"LOADS!B121","v":0},{"$f":"LOADS!X121","v":""},{"$f":"LOADS!AH121","v":0},0,0,0,0,0,0,0,0,0,0,0,0,0,0,0,0,0,0,0,0,0,0,0,0,0,0,0,0]
[{"$f":"LOADS!A122","v":{"$error":"#REF!"}},{"$f":"LOADS!B122","v":0},{"$f":"LOADS!X122","v":""},{"$f":"LOADS!AH122","v":0},0,0,0,0,0,0,0,0,0,0,0,0,0,0,0,0,0,0,0,0,0,0,0,0,0,0,0,0]
[{"$f":"LOADS!A123","v":{"$error":"#REF!"}},{"$f":"LOADS!B123","v":0},{"$f":"LOADS!X123","v":""},{"$f":"LOADS!AH123","v":0},0,0,0,0,0,0,0,0,0,0,0,0,0,0,0,0,0,0,0,0,0,0,0,0,0,0,0,0]
[{"$f":"LOADS!A124","v":{"$error":"#REF!"}},{"$f":"LOADS!B124","v":0},{"$f":"LOADS!X124","v":""},{"$f":"LOADS!AH124","v":0},0,0,0,0,0,0,0,0,{"$f":"IF(M$2=$D127,$C127,0)","v":0},0,0,0,0,0,0,{"$f":"IF(T$2=$D127,$C127,0)","v":0},0,0,0,0,0,0,{"$f":"IF(AA$2=$D127,$C127,0)","v":0},0,0,0,0,0]
[{"$f":"LOADS!A125","v":{"$error":"#REF!"}},{"$f":"LOADS!B125","v":0},{"$f":"LOADS!X125","v":""},{"$f":"LOADS!AH125","v":0},0,0,0,0,{"$f":"IF(I$2=$D128,$C128,0)","v":0},0,0,0,0,0,0,0,{"$f":"IF(Q$2=$D128,$C128,0)","v":0},0,0,0,0,0,0,0,0,0,0,0,0,0,0,0]
[{"$f":"LOADS!A126","v":{"$error":"#REF!"}},{"$f":"LOADS!B126","v":0},{"$f":"LOADS!X126","v":""},{"$f":"LOADS!AH126","v":0},0,0,0,0,0,0,0,0,0,0,0,0,0,0,0,0,0,0,{"$f":"IF(W$2=$D129,$C129,0)","v":0},0,0,0,0,0,0,0,0,0]
[{"$f":"LOADS!A127","v":{"$error":"#REF!"}},{"$f":"LOADS!B127","v":0},{"$f":"LOADS!X127","v":""},{"$f":"LOADS!AH127","v":0},0,0,0,0,0,0,0,0,0,0,0,0,0,0,0,0,0,0,0,0,0,0,0,0,0,0,0,0]
[{"$f":"LOADS!A128","v":{"$error":"#REF!"}},{"$f":"LOADS!B128","v":0},{"$f":"LOADS!X128","v":""},{"$f":"LOADS!AH128","v":0},0,0,0,0,0,0,0,0,0,0,0,0,0,0,0,0,0,0,0,0,0,0,0,0,0,0,0,0]
[{"$f":"LOADS!A129","v":{"$error":"#REF!"}},{"$f":"LOADS!B129","v":0},{"$f":"LOADS!X129","v":""},{"$f":"LOADS!AH129","v":0},0,0,0,0,0,0,0,0,0,0,0,0,0,0,0,0,0,0,0,0,0,0,0,0,0,0,0,0]
[{"$f":"LOADS!A130","v":{"$error":"#REF!"}},{"$f":"LOADS!B130","v":0},{"$f":"LOADS!X130","v":""},{"$f":"LOADS!AH130","v":0},0,0,0,0,0,0,0,0,0,0,0,0,0,0,0,0,0,0,0,0,0,0,0,0,0,0,0,0]
[{"$f":"LOADS!A131","v":{"$error":"#REF!"}},{"$f":"LOADS!B131","v":0},{"$f":"LOADS!X131","v":""},{"$f":"LOADS!AH131","v":0},0,0,0,0,0,0,0,0,0,0,0,0,0,0,0,0,0,0,0,0,0,0,0,0,0,0,0,0]
[{"$f":"LOADS!A132","v":{"$error":"#REF!"}},{"$f":"LOADS!B132","v":0},{"$f":"LOADS!X132","v":""},{"$f":"LOADS!AH132","v":0},0,0,0,0,0,0,0,0,0,0,0,0,0,0,0,0,0,0,0,0,0,0,0,0,0,0,0,0]
[{"$f":"LOADS!A133","v":{"$error":"#REF!"}},{"$f":"LOADS!B133","v":0},{"$f":"LOADS!X133","v":""},{"$f":"LOADS!AH133","v":0},0,0,0,0,0,0,0,0,0,0,0,0,0,0,0,0,0,0,0,0,0,0,0,0,0,0,0,0]
[{"$f":"LOADS!A134","v":{"$error":"#REF!"}},{"$f":"LOADS!B134","v":0},{"$f":"LOADS!X134","v":""},{"$f":"LOADS!AH134","v":0},{"$f":"IF(E$2=$D137,$C137,0)","v":0},0,0,0,0,0,0,0,0,0,0,0,0,0,0,0,0,0,0,0,0,0,0,0,0,0,0,0]
[{"$f":"LOADS!A135","v":{"$error":"#REF!"}},{"$f":"LOADS!B135","v":0},{"$f":"LOADS!X135","v":""},{"$f":"LOADS!AH135","v":0},0,0,0,0,0,0,0,0,0,0,0,0,{"$f":"IF(Q$2=$D138,$C138,0)","v":0},0,0,0,0,0,0,0,0,0,0,0,0,0,0,0]
[{"$f":"LOADS!A136","v":{"$error":"#REF!"}},{"$f":"LOADS!B136","v":0},{"$f":"LOADS!X136","v":""},{"$f":"LOADS!AH136","v":0},0,0,0,0,0,0,0,0,0,0,0,0,0,0,0,0,0,0,0,0,0,0,0,0,0,0,0,0]
[{"$f":"LOADS!A137","v":{"$error":"#REF!"}},{"$f":"LOADS!B137","v":0},{"$f":"LOADS!X137","v":""},{"$f":"LOADS!AH137","v":0},0,0,0,0,0,0,0,0,0,0,0,0,0,0,0,0,0,0,0,0,0,0,0,0,0,0,0,0]
[{"$f":"LOADS!A138","v":{"$error":"#REF!"}},{"$f":"LOADS!B138","v":0},{"$f":"LOADS!X138","v":""},{"$f":"LOADS!AH138","v":0},0,0,0,0,0,0,0,0,0,0,0,0,0,0,0,0,0,0,0,0,0,0,0,0,0,0,0,0]
[{"$f":"LOADS!A139","v":{"$error":"#REF!"}},{"$f":"LOADS!B139","v":0},{"$f":"LOADS!X139","v":""},{"$f":"LOADS!AH139","v":0},0,0,0,0,0,0,0,0,0,0,0,0,0,0,0,0,0,0,0,0,0,0,0,0,0,0,0,0]
[{"$f":"LOADS!A140","v":{"$error":"#REF!"}},{"$f":"LOADS!B140","v":0},{"$f":"LOADS!X140","v":""},{"$f":"LOADS!AH140","v":0},0,0,0,0,0,0,0,0,0,0,0,0,0,0,0,{"$f":"IF(T$2=$D143,$C143,0)","v":0},0,0,0,0,0,0,{"$f":"IF(AA$2=$D143,$C143,0)","v":0},0,0,0,0,0]
[{"$f":"LOADS!A141","v":{"$error":"#REF!"}},{"$f":"LOADS!B141","v":0},{"$f":"LOADS!X141","v":""},{"$f":"LOADS!AH141","v":0},0,0,0,0,{"$f":"IF(I$2=$D144,$C144,0)","v":0},0,0,0,0,0,0,0,0,0,{"$f":"IF(S$2=$D144,$C144,0)","v":0},0,0,0,0,0,0,0,0,0,0,0,0,0]
[{"$f":"LOADS!A142","v":{"$error":"#REF!"}},{"$f":"LOADS!B142","v":0},{"$f":"LOADS!X142","v":""},{"$f":"LOADS!AH142","v":0},0,0,0,0,0,0,0,0,0,0,0,0,0,0,0,0,0,0,0,0,0,0,0,0,0,0,0,0]
[{"$f":"LOADS!A143","v":{"$error":"#REF!"}},{"$f":"LOADS!B143","v":0},{"$f":"LOADS!X143","v":""},{"$f":"LOADS!AH143","v":0},0,0,0,0,0,0,0,0,0,0,0,0,0,0,0,0,0,0,0,0,0,0,0,0,0,0,0,0]
[{"$f":"LOADS!A144","v":{"$error":"#REF!"}},{"$f":"LOADS!B144","v":0},{"$f":"LOADS!X144","v":""},{"$f":"LOADS!AH144","v":0},0,0,0,0,0,0,0,0,0,0,0,0,0,0,0,0,0,0,0,0,0,0,0,0,0,0,0,0]
[{"$f":"LOADS!A145","v":{"$error":"#REF!"}},{"$f":"LOADS!B145","v":0},{"$f":"LOADS!X145","v":""},{"$f":"LOADS!AH145","v":0},0,0,0,0,0,0,0,0,0,0,0,0,0,0,0,0,0,0,0,0,0,0,0,0,0,0,0,0]
[{"$f":"LOADS!A146","v":{"$error":"#REF!"}},{"$f":"LOADS!B146","v":0},{"$f":"LOADS!X146","v":""},{"$f":"LOADS!AH146","v":0},0,0,0,0,0,0,0,0,0,0,0,0,0,0,0,0,0,0,0,0,0,0,0,0,0,0,0,0]
[{"$f":"LOADS!A147","v":{"$error":"#REF!"}},{"$f":"LOADS!B147","v":0},{"$f":"LOADS!X147","v":""},{"$f":"LOADS!AH147","v":0},0,0,0,0,0,0,0,0,0,0,0,0,0,0,0,0,0,0,0,0,0,0,0,0,0,0,0,0]
[{"$f":"LOADS!A148","v":{"$error":"#REF!"}},{"$f":"LOADS!B148","v":0},{"$f":"LOADS!X148","v":""},{"$f":"LOADS!AH148","v":0},0,0,0,0,0,0,0,0,0,0,0,0,0,0,0,0,0,0,0,0,0,0,0,0,0,0,0,0]
[{"$f":"LOADS!A149","v":{"$error":"#REF!"}},{"$f":"LOADS!B149","v":0},{"$f":"LOADS!X149","v":""},{"$f":"LOADS!AH149","v":0},0,0,0,0,0,0,0,0,0,0,0,0,0,0,0,0,0,0,0,0,0,0,0,0,0,0,0,0]
[{"$f":"LOADS!A150","v":{"$error":"#REF!"}},{"$f":"LOADS!B150","v":0},{"$f":"LOADS!X150","v":""},{"$f":"LOADS!AH150","v":0},0,0,0,0,0,0,0,0,0,0,0,0,0,0,0,0,0,0,0,0,0,0,0,0,0,0,0,0]
[{"$f":"LOADS!A151","v":{"$error":"#REF!"}},{"$f":"LOADS!B151","v":0},{"$f":"LOADS!X151","v":""},{"$f":"LOADS!AH151","v":0},0,0,0,0,{"$f":"IF(I$2=$D154,$C154,0)","v":0},0,0,0,0,0,0,0,0,0,{"$f":"IF(S$2=$D154,$C154,0)","v":0},0,0,0,0,0,0,0,0,0,0,0,0,0]
[{"$f":"LOADS!A152","v":{"$error":"#REF!"}},{"$f":"LOADS!B152","v":0},{"$f":"LOADS!X152","v":""},{"$f":"LOADS!AH152","v":0},0,0,0,0,0,0,0,0,0,0,0,0,0,0,0,0,0,0,0,0,0,0,0,0,0,0,0,0]
[{"$f":"LOADS!A153","v":{"$error":"#REF!"}},{"$f":"LOADS!B153","v":0},{"$f":"LOADS!X153","v":""},{"$f":"LOADS!AH153","v":0},0,0,0,0,0,0,0,0,0,0,0,0,0,0,0,0,0,0,0,0,0,0,0,0,0,0,0,0]
[{"$f":"LOADS!A154","v":{"$error":"#REF!"}},{"$f":"LOADS!B154","v":0},{"$f":"LOADS!X154","v":""},{"$f":"LOADS!AH154","v":0},0,0,0,0,0,0,0,0,0,0,0,0,0,0,0,0,0,0,0,0,0,0,0,0,0,0,0,0]
[{"$f":"LOADS!A155","v":{"$error":"#REF!"}},{"$f":"LOADS!B155","v":0},{"$f":"LOADS!X155","v":""},{"$f":"LOADS!AH155","v":0},0,0,0,0,0,0,0,0,0,0,0,0,0,0,0,0,0,0,0,0,0,0,0,0,0,0,0,0]
[{"$f":"LOADS!A156","v":{"$error":"#REF!"}},{"$f":"LOADS!B156","v":0},{"$f":"LOADS!X156","v":""},{"$f":"LOADS!AH156","v":0},0,0,0,0,0,0,0,0,0,0,0,0,0,0,0,0,0,0,0,0,0,0,{"$f":"IF(AA$2=$D159,$C159,0)","v":0},0,0,0,0,0]
[{"$f":"LOADS!A157","v":{"$error":"#REF!"}},{"$f":"LOADS!B157","v":0},{"$f":"LOADS!X157","v":""},{"$f":"LOADS!AH157","v":0},0,0,0,0,0,0,0,0,0,0,0,0,0,0,0,0,0,0,0,0,0,0,0,0,0,0,0,0]
[{"$f":"LOADS!A158","v":{"$error":"#REF!"}},{"$f":"LOADS!B158","v":0},{"$f":"LOADS!X158","v":""},{"$f":"LOADS!AH158","v":0},0,0,0,0,{"$f":"IF(I$2=$D161,$C161,0)","v":0},0,0,0,0,0,0,0,{"$f":"IF(Q$2=$D161,$C161,0)","v":0},0,0,0,0,0,0,0,0,0,0,0,0,0,0,0]
[{"$f":"LOADS!A159","v":{"$error":"#REF!"}},{"$f":"LOADS!B159","v":0},{"$f":"LOADS!X159","v":""},{"$f":"LOADS!AH159","v":0},0,0,0,0,0,0,0,0,0,0,0,0,0,0,0,0,0,0,0,0,0,0,0,0,0,0,0,0]
[{"$f":"LOADS!A160","v":{"$error":"#REF!"}},{"$f":"LOADS!B160","v":0},{"$f":"LOADS!X160","v":""},{"$f":"LOADS!AH160","v":0},0,0,0,0,0,0,0,0,0,0,0,0,0,0,0,0,0,0,0,0,0,0,0,0,0,0,0,0]
[{"$f":"LOADS!A161","v":{"$error":"#REF!"}},{"$f":"LOADS!B161","v":0},{"$f":"LOADS!X161","v":""},{"$f":"LOADS!AH161","v":0},0,0,0,0,0,0,0,0,0,0,0,0,0,0,0,0,0,0,0,0,0,0,0,0,0,0,0,0]
[{"$f":"LOADS!A162","v":{"$error":"#REF!"}},{"$f":"LOADS!B162","v":0},{"$f":"LOADS!X162","v":""},{"$f":"LOADS!AH162","v":0},0,0,0,0,0,0,0,0,0,0,0,0,0,0,0,0,0,0,0,0,0,0,0,0,0,0,0,0]
[{"$f":"LOADS!A163","v":{"$error":"#REF!"}},{"$f":"LOADS!B163","v":0},{"$f":"LOADS!X163","v":""},{"$f":"LOADS!AH163","v":0},0,0,0,0,0,0,0,0,0,0,0,0,0,0,0,0,0,0,0,0,0,0,0,0,0,0,0,0]
[{"$f":"LOADS!A164","v":{"$error":"#REF!"}},{"$f":"LOADS!B164","v":0},{"$f":"LOADS!X164","v":""},{"$f":"LOADS!AH164","v":0},0,0,0,0,0,0,0,0,0,0,0,0,0,0,0,0,0,0,0,0,0,0,0,0,0,0,0,0]
[{"$f":"LOADS!A165","v":{"$error":"#REF!"}},{"$f":"LOADS!B165","v":0},{"$f":"LOADS!X165","v":""},{"$f":"LOADS!AH165","v":0},0,0,0,0,0,0,0,0,0,0,0,0,0,0,0,0,0,0,0,0,0,0,0,0,0,0,0,0]
[{"$f":"LOADS!A166","v":{"$error":"#REF!"}},{"$f":"LOADS!B166","v":0},{"$f":"LOADS!X166","v":""},{"$f":"LOADS!AH166","v":0},0,0,0,0,0,0,0,0,0,0,0,0,0,0,0,0,0,0,0,0,0,0,0,0,0,0,0,0]
[{"$f":"LOADS!A167","v":{"$error":"#REF!"}},{"$f":"LOADS!B167","v":0},{"$f":"LOADS!X167","v":""},{"$f":"LOADS!AH167","v":0},0,0,0,0,0,0,0,0,0,0,0,0,0,0,0,0,0,0,0,0,0,0,0,0,0,0,0,0]
[{"$f":"LOADS!A168","v":{"$error":"#REF!"}},{"$f":"LOADS!B168","v":0},{"$f":"LOADS!X168","v":""},{"$f":"LOADS!AH168","v":0},0,0,0,0,0,0,0,0,0,0,0,0,{"$f":"IF(Q$2=$D171,$C171,0)","v":0},0,0,0,0,0,0,0,0,0,0,0,0,0,0,0]
[{"$f":"LOADS!A169","v":{"$error":"#REF!"}},{"$f":"LOADS!B169","v":0},{"$f":"LOADS!X169","v":""},{"$f":"LOADS!AH169","v":0},0,0,0,0,0,0,0,0,0,0,0,0,0,0,0,0,0,0,0,0,0,0,0,0,0,0,0,0]
[{"$f":"LOADS!A170","v":{"$error":"#REF!"}},{"$f":"LOADS!B170","v":0},{"$f":"LOADS!X170","v":""},{"$f":"LOADS!AH170","v":0},0,0,0,0,0,0,0,0,0,0,0,0,0,0,0,0,0,0,0,0,0,0,0,0,0,0,0,0]
[{"$f":"LOADS!A171","v":{"$error":"#REF!"}},{"$f":"LOADS!B171","v":0},{"$f":"LOADS!X171","v":""},{"$f":"LOADS!AH171","v":0},0,0,0,0,0,0,0,0,0,0,0,0,0,0,0,0,0,0,0,0,0,0,0,0,0,0,0,0]
[{"$f":"LOADS!A172","v":{"$error":"#REF!"}},{"$f":"LOADS!B172","v":0},{"$f":"LOADS!X172","v":""},{"$f":"LOADS!AH172","v":0},0,0,0,0,0,0,0,0,0,0,0,0,0,0,0,0,0,0,0,0,0,0,{"$f":"IF(AA$2=$D175,$C175,0)","v":0},0,0,0,0,0]
[{"$f":"LOADS!A173","v":{"$error":"#REF!"}},{"$f":"LOADS!B173","v":0},{"$f":"LOADS!X173","v":""},{"$f":"LOADS!AH173","v":0},0,0,0,0,0,0,0,0,0,0,0,0,0,0,0,0,0,0,0,0,0,0,0,0,0,0,0,0]
[{"$f":"LOADS!A174","v":{"$error":"#REF!"}},{"$f":"LOADS!B174","v":0},{"$f":"LOADS!X174","v":""},{"$f":"LOADS!AH174","v":0},0,0,0,0,0,0,0,0,0,0,0,0,0,0,0,0,0,0,0,0,0,0,0,0,0,0,0,0]
[{"$f":"LOADS!A175","v":{"$error":"#REF!"}},{"$f":"LOADS!B175","v":0},{"$f":"LOADS!X175","v":""},{"$f":"LOADS!AH175","v":0},0,0,0,0,0,0,0,0,0,0,0,0,0,0,0,0,0,0,0,0,0,0,0,0,0,0,0,0]
[{"$f":"LOADS!A176","v":{"$error":"#REF!"}},{"$f":"LOADS!B176","v":0},{"$f":"LOADS!X176","v":""},{"$f":"LOADS!AH176","v":0},0,0,0,0,0,0,0,0,0,0,0,0,0,0,0,0,0,0,0,0,0,0,0,0,0,0,0,0]
[{"$f":"LOADS!A177","v":{"$error":"#REF!"}},{"$f":"LOADS!B177","v":0},{"$f":"LOADS!X177","v":""},{"$f":"LOADS!AH177","v":0},0,0,0,0,0,0,0,0,0,0,0,0,0,0,0,0,0,0,0,0,0,0,0,0,0,0,0,0]
[{"$f":"LOADS!A178","v":{"$error":"#REF!"}},{"$f":"LOADS!B178","v":0},{"$f":"LOADS!X178","v":""},{"$f":"LOADS!AH178","v":0},0,0,0,0,0,0,0,0,0,0,0,0,{"$f":"IF(Q$2=$D181,$C181,0)","v":0},0,0,0,0,0,0,0,0,0,0,0,0,0,0,0]
[{"$f":"LOADS!A179","v":{"$error":"#REF!"}},{"$f":"LOADS!B179","v":0},{"$f":"LOADS!X179","v":""},{"$f":"LOADS!AH179","v":0},0,0,0,0,0,0,0,0,0,0,0,0,0,0,0,0,0,0,0,0,0,0,0,0,0,0,0,0]
[{"$f":"LOADS!A180","v":{"$error":"#REF!"}},{"$f":"LOADS!B180","v":0},{"$f":"LOADS!X180","v":""},{"$f":"LOADS!AH180","v":0},0,0,0,0,0,0,0,0,0,0,0,0,0,0,0,0,0,0,0,0,0,0,0,0,0,0,0,0]
[{"$f":"LOADS!A181","v":{"$error":"#REF!"}},{"$f":"LOADS!B181","v":0},{"$f":"LOADS!X181","v":""},{"$f":"LOADS!AH181","v":0},0,0,0,0,0,0,0,0,0,0,0,0,0,0,0,0,0,0,0,0,0,0,0,0,0,0,0,0]
[{"$f":"LOADS!A182","v":{"$error":"#REF!"}},{"$f":"LOADS!B182","v":0},{"$f":"LOADS!X182","v":""},{"$f":"LOADS!AH182","v":0},0,0,0,0,0,0,0,0,0,0,0,0,0,0,0,0,0,0,0,0,0,0,0,0,0,0,0,0]
[{"$f":"LOADS!A183","v":{"$error":"#REF!"}},{"$f":"LOADS!B183","v":0},{"$f":"LOADS!X183","v":""},{"$f":"LOADS!AH183","v":0},0,0,0,0,0,0,0,0,{"$f":"IF(M$2=$D186,$C186,0)","v":0},0,0,0,0,0,0,0,0,0,0,0,0,0,0,0,0,0,0,0]
[{"$f":"LOADS!A184","v":{"$error":"#REF!"}},{"$f":"LOADS!B184","v":0},{"$f":"LOADS!X184","v":""},{"$f":"LOADS!AH184","v":0},0,0,0,0,{"$f":"IF(I$2=$D187,$C187,0)","v":0},0,0,0,0,0,0,0,0,0,0,0,0,0,0,0,0,0,0,0,0,0,0,0]
[{"$f":"LOADS!A185","v":{"$error":"#REF!"}},{"$f":"LOADS!B185","v":0},{"$f":"LOADS!X185","v":""},{"$f":"LOADS!AH185","v":0},{"$f":"IF(E$2=$D188,$C188,0)","v":0},0,0,0,0,0,0,0,0,0,0,0,0,0,0,0,0,0,0,0,0,0,0,0,0,0,0,0]
[{"$f":"LOADS!A186","v":{"$error":"#REF!"}},{"$f":"LOADS!B186","v":0},{"$f":"LOADS!X186","v":""},{"$f":"LOADS!AH186","v":0},0,0,0,0,0,0,0,0,0,0,0,0,0,0,0,0,0,0,0,0,0,0,0,0,0,0,0,0]
[{"$f":"LOADS!A187","v":{"$error":"#REF!"}},{"$f":"LOADS!B187","v":0},{"$f":"LOADS!X187","v":""},{"$f":"LOADS!AH187","v":0},0,0,0,0,0,0,0,0,0,0,0,0,0,0,0,0,0,0,0,0,0,0,0,0,0,0,0,0]
[{"$f":"LOADS!A188","v":{"$error":"#REF!"}},{"$f":"LOADS!B188","v":0},{"$f":"LOADS!X188","v":""},{"$f":"LOADS!AH188","v":0},0,0,0,0,0,0,0,0,0,0,0,0,0,0,0,{"$f":"IF(T$2=$D191,$C191,0)","v":0},0,0,0,0,0,0,{"$f":"IF(AA$2=$D191,$C191,0)","v":0},0,0,0,0,0]
[{"$f":"LOADS!A189","v":{"$error":"#REF!"}},{"$f":"LOADS!B189","v":0},{"$f":"LOADS!X189","v":""},{"$f":"LOADS!AH189","v":0},0,0,0,0,0,0,0,0,0,0,0,0,0,0,0,0,0,0,0,0,0,0,0,0,0,0,0,0]
[{"$f":"LOADS!A190","v":{"$error":"#REF!"}},{"$f":"LOADS!B190","v":0},{"$f":"LOADS!X190","v":""},{"$f":"LOADS!AH190","v":0},0,0,0,0,0,0,0,0,0,0,0,0,0,0,0,0,0,0,0,0,0,0,0,0,0,0,0,0]
[{"$f":"LOADS!A191","v":{"$error":"#REF!"}},{"$f":"LOADS!B191","v":0},{"$f":"LOADS!X191","v":""},{"$f":"LOADS!AH191","v":0},0,0,0,0,0,0,0,0,0,0,0,0,0,0,0,0,0,0,0,0,0,0,0,0,0,0,0,0]
[{"$f":"LOADS!A192","v":{"$error":"#REF!"}},{"$f":"LOADS!B192","v":0},{"$f":"LOADS!X192","v":""},{"$f":"LOADS!AH192","v":0},0,0,0,0,0,0,0,0,0,0,0,0,0,0,0,0,0,0,0,0,0,0,0,0,0,0,0,0]
[{"$f":"LOADS!A193","v":{"$error":"#REF!"}},{"$f":"LOADS!B193","v":0},{"$f":"LOADS!X193","v":""},{"$f":"LOADS!AH193","v":0},0,0,0,0,0,0,0,0,0,0,0,0,0,0,0,0,0,0,0,0,0,0,0,0,0,0,0,0]
[{"$f":"LOADS!A194","v":{"$error":"#REF!"}},{"$f":"LOADS!B194","v":0},{"$f":"LOADS!X194","v":""},{"$f":"LOADS!AH194","v":0},0,0,0,0,{"$f":"IF(I$2=$D197,$C197,0)","v":0},0,0,0,0,0,0,0,0,0,0,0,0,0,0,0,0,0,0,0,0,0,0,0]
[{"$f":"LOADS!A195","v":{"$error":"#REF!"}},{"$f":"LOADS!B195","v":0},{"$f":"LOADS!X195","v":""},{"$f":"LOADS!AH195","v":0},0,0,0,0,0,0,0,0,0,0,0,0,0,0,0,0,0,0,0,0,0,0,0,0,0,0,0,0]
[{"$f":"LOADS!A196","v":{"$error":"#REF!"}},{"$f":"LOADS!B196","v":0},{"$f":"LOADS!X196","v":""},{"$f":"LOADS!AH196","v":0},0,0,0,0,0,0,0,0,0,0,0,0,0,0,0,0,0,0,0,0,0,0,0,0,0,0,0,0]
[{"$f":"LOADS!A197","v":{"$error":"#REF!"}},{"$f":"LOADS!B197","v":0},{"$f":"LOADS!X197","v":""},{"$f":"LOADS!AH197","v":0},0,0,0,0,0,0,0,0,0,0,0,0,0,0,0,0,0,0,0,0,0,0,0,0,0,0,0,0]
[{"$f":"LOADS!A198","v":{"$error":"#REF!"}},{"$f":"LOADS!B198","v":0},{"$f":"LOADS!X198","v":""},{"$f":"LOADS!AH198","v":0},0,0,0,0,0,0,0,0,0,0,0,0,{"$f":"IF(Q$2=$D201,$C201,0)","v":0},{"$f":"IF(R$2=$D201,$C201,0)","v":0},{"$f":"IF(S$2=$D201,$C201,0)","v":0},0,0,0,{"$f":"IF(W$2=$D201,$C201,0)","v":0},0,0,0,0,0,0,0,0,0]
[{"$f":"LOADS!A199","v":{"$error":"#REF!"}},{"$f":"LOADS!B199","v":0},{"$f":"LOADS!X199","v":""},{"$f":"LOADS!AH199","v":0},0,0,0,0,0,0,0,0,0,0,0,0,0,0,0,0,0,0,0,0,0,0,0,0,0,0,0,0]
[{"$f":"LOADS!A200","v":{"$error":"#REF!"}},{"$f":"LOADS!B200","v":0},{"$f":"LOADS!X200","v":""},{"$f":"LOADS!AH200","v":0},0,0,0,0,0,0,0,0,0,0,0,0,0,0,0,0,0,0,0,0,0,0,0,0,0,0,0,0]
[{"$f":"LOADS!A201","v":{"$error":"#REF!"}},{"$f":"LOADS!B201","v":0},{"$f":"LOADS!X201","v":""},{"$f":"LOADS!AH201","v":0},0,0,0,0,0,0,0,0,0,0,0,0,0,0,0,0,0,0,0,0,0,0,0,0,0,0,0,0]
[{"$f":"LOADS!A202","v":{"$error":"#REF!"}},{"$f":"LOADS!B202","v":0},{"$f":"LOADS!X202","v":""},{"$f":"LOADS!AH202","v":0},0,0,0,0,0,0,0,0,0,0,0,0,0,0,0,0,0,0,0,0,0,0,0,0,0,0,0,0]
[{"$f":"LOADS!A203","v":{"$error":"#REF!"}},{"$f":"LOADS!B203","v":0},{"$f":"LOADS!X203","v":""},{"$f":"LOADS!AH203","v":0},0,0,0,0,0,0,0,0,0,0,0,0,0,0,0,0,0,0,0,0,0,0,0,0,0,0,0,0]
[{"$f":"LOADS!A204","v":{"$error":"#REF!"}},{"$f":"LOADS!B204","v":0},{"$f":"LOADS!X204","v":""},{"$f":"LOADS!AH204","v":0},0,0,0,0,{"$f":"IF(I$2=$D207,$C207,0)","v":0},0,0,0,0,0,0,0,0,0,0,0,0,0,0,0,0,0,{"$f":"IF(AA$2=$D207,$C207,0)","v":0},0,0,0,0,0]
[{"$f":"LOADS!A205","v":{"$error":"#REF!"}},{"$f":"LOADS!B205","v":0},{"$f":"LOADS!X205","v":""},{"$f":"LOADS!AH205","v":0},0,0,0,0,0,0,0,0,0,0,0,0,0,0,0,0,0,0,0,0,0,0,0,0,0,0,0,0]
[{"$f":"LOADS!A206","v":{"$error":"#REF!"}},{"$f":"LOADS!B206","v":0},{"$f":"LOADS!X206","v":""},{"$f":"LOADS!AH206","v":0},0,0,0,0,0,0,0,0,0,0,0,0,0,0,0,0,0,0,0,0,0,0,0,0,0,0,0,0]
[{"$f":"LOADS!A207","v":{"$error":"#REF!"}},{"$f":"LOADS!B207","v":0},{"$f":"LOADS!X207","v":""},{"$f":"LOADS!AH207","v":0},0,0,0,0,0,0,0,0,0,0,0,0,0,0,0,0,0,0,0,0,0,0,0,0,0,0,0,0]
[{"$f":"LOADS!A208","v":{"$error":"#REF!"}},{"$f":"LOADS!B208","v":0},{"$f":"LOADS!X208","v":""},{"$f":"LOADS!AH208","v":0},0,0,0,0,0,0,0,0,0,0,0,0,0,0,0,0,0,0,0,0,0,0,0,0,0,0,0,0]
[{"$f":"LOADS!A209","v":{"$error":"#REF!"}},{"$f":"LOADS!B209","v":0},{"$f":"LOADS!X209","v":""},{"$f":"LOADS!AH209","v":0},0,0,0,0,0,0,0,0,0,0,0,0,0,0,0,0,0,0,0,0,0,0,0,0,0,0,0,0]
[{"$f":"LOADS!A210","v":{"$error":"#REF!"}},{"$f":"LOADS!B210","v":0},{"$f":"LOADS!X210","v":""},{"$f":"LOADS!AH210","v":0},0,0,0,0,0,0,0,0,0,0,0,0,0,0,0,0,0,0,0,0,0,0,0,0,0,0,0,0]
[{"$f":"LOADS!A211","v":{"$error":"#REF!"}},{"$f":"LOADS!B211","v":0},{"$f":"LOADS!X211","v":""},{"$f":"LOADS!AH211","v":0},0,0,0,0,0,0,0,0,0,0,0,0,0,0,0,0,0,0,0,0,0,0,0,0,0,0,0,0]
[{"$f":"LOADS!A212","v":{"$error":"#REF!"}},{"$f":"LOADS!B212","v":0},{"$f":"LOADS!X212","v":""},{"$f":"LOADS!AH212","v":0},0,0,0,0,0,0,0,0,0,0,0,0,0,0,0,0,0,0,0,0,0,0,0,0,0,0,0,0]
[{"$f":"LOADS!A213","v":{"$error":"#REF!"}},{"$f":"LOADS!B213","v":0},{"$f":"LOADS!X213","v":""},{"$f":"LOADS!AH213","v":0},0,0,0,0,0,0,0,0,0,0,0,0,0,0,0,0,0,0,0,0,0,0,0,0,0,0,0,0]
[{"$f":"LOADS!A214","v":{"$error":"#REF!"}},{"$f":"LOADS!B214","v":0},{"$f":"LOADS!X214","v":""},{"$f":"LOADS!AH214","v":0},0,0,0,0,{"$f":"IF(I$2=$D217,$C217,0)","v":0},0,0,0,0,0,0,0,0,0,0,0,0,0,0,0,0,0,0,0,0,0,0,0]
[{"$f":"LOADS!A215","v":{"$error":"#REF!"}},{"$f":"LOADS!B215","v":0},{"$f":"LOADS!X215","v":""},{"$f":"LOADS!AH215","v":0},0,0,0,0,0,0,0,0,0,0,0,0,0,0,0,0,0,0,0,0,0,0,0,0,0,0,0,0]
[{"$f":"LOADS!A216","v":{"$error":"#REF!"}},{"$f":"LOADS!B216","v":0},{"$f":"LOADS!X216","v":""},{"$f":"LOADS!AH216","v":0},0,0,0,0,0,0,0,0,0,0,0,0,0,0,0,0,0,0,0,0,0,0,0,0,0,0,0,0]
[{"$f":"LOADS!A217","v":{"$error":"#REF!"}},{"$f":"LOADS!B217","v":0},{"$f":"LOADS!X217","v":""},{"$f":"LOADS!AH217","v":0},0,0,0,0,0,0,0,0,0,0,0,0,0,0,0,0,0,0,0,0,0,0,0,0,0,0,0,0]
[{"$f":"LOADS!A218","v":{"$error":"#REF!"}},{"$f":"LOADS!B218","v":0},{"$f":"LOADS!X218","v":""},{"$f":"LOADS!AH218","v":0},0,0,0,0,0,0,0,0,0,0,0,0,0,0,0,0,0,0,{"$f":"IF(W$2=$D221,$C221,0)","v":0},0,0,0,0,0,0,0,0,0]
[{"$f":"LOADS!A219","v":{"$error":"#REF!"}},{"$f":"LOADS!B219","v":0},{"$f":"LOADS!X219","v":""},{"$f":"LOADS!AH219","v":0},0,0,0,0,0,0,0,0,0,0,0,0,0,0,0,0,0,0,0,0,0,0,0,0,0,0,0,0]
[{"$f":"LOADS!A220","v":{"$error":"#REF!"}},{"$f":"LOADS!B220","v":0},{"$f":"LOADS!X220","v":""},{"$f":"LOADS!AH220","v":0},0,0,0,0,0,0,0,0,0,0,0,0,0,0,0,0,0,0,0,0,0,0,{"$f":"IF(AA$2=$D223,$C223,0)","v":0},0,0,0,0,0]
[{"$f":"LOADS!A221","v":{"$error":"#REF!"}},{"$f":"LOADS!B221","v":0},{"$f":"LOADS!X221","v":""},{"$f":"LOADS!AH221","v":0},0,0,0,0,0,0,0,0,0,0,0,0,0,0,0,0,0,0,0,0,0,0,0,0,0,0,0,0]
[{"$f":"LOADS!A222","v":{"$error":"#REF!"}},{"$f":"LOADS!B222","v":0},{"$f":"LOADS!X222","v":""},{"$f":"LOADS!AH222","v":0},0,0,0,0,0,0,0,0,0,0,0,0,0,0,0,0,0,0,0,0,0,0,0,0,0,0,0,0]
[{"$f":"LOADS!A223","v":{"$error":"#REF!"}},{"$f":"LOADS!B223","v":0},{"$f":"LOADS!X223","v":""},{"$f":"LOADS!AH223","v":0},0,0,0,0,0,0,0,0,0,0,0,0,0,0,0,0,0,{"$f":"IF(V$2=$D226,$C226,0)","v":0},0,0,0,0,0,0,0,0,0,0]
[{"$f":"LOADS!A224","v":{"$error":"#REF!"}},{"$f":"LOADS!B224","v":0},{"$f":"LOADS!X224","v":""},{"$f":"LOADS!AH224","v":0},0,0,0,0,{"$f":"IF(I$2=$D227,$C227,0)","v":0},0,0,0,0,0,0,0,0,0,0,{"$f":"IF(T$2=$D227,$C227,0)","v":0},0,0,0,0,0,0,0,0,0,0,0,0]
[{"$f":"LOADS!A225","v":{"$error":"#REF!"}},{"$f":"LOADS!B225","v":0},{"$f":"LOADS!X225","v":""},{"$f":"LOADS!AH225","v":0},0,0,0,0,0,0,0,0,0,0,0,0,0,0,0,0,0,0,0,0,0,0,0,0,0,0,0,0]
[{"$f":"LOADS!A226","v":{"$error":"#REF!"}},{"$f":"LOADS!B226","v":0},{"$f":"LOADS!X226","v":""},{"$f":"LOADS!AH226","v":0},0,0,0,0,0,0,0,0,0,0,0,0,0,0,0,0,0,0,0,0,0,0,0,0,0,0,0,0]
[{"$f":"LOADS!A227","v":{"$error":"#REF!"}},{"$f":"LOADS!B227","v":0},{"$f":"LOADS!X227","v":""},{"$f":"LOADS!AH227","v":0},0,0,0,0,0,0,0,0,0,0,0,0,0,0,0,0,0,0,0,0,0,0,0,0,0,0,0,0]
[{"$f":"LOADS!A228","v":{"$error":"#REF!"}},{"$f":"LOADS!B228","v":0},{"$f":"LOADS!X228","v":""},{"$f":"LOADS!AH228","v":0},0,0,0,0,0,0,0,0,0,0,0,0,0,0,0,0,0,0,0,0,0,0,0,0,0,0,0,0]
[{"$f":"LOADS!A229","v":{"$error":"#REF!"}},{"$f":"LOADS!B229","v":0},{"$f":"LOADS!X229","v":""},{"$f":"LOADS!AH229","v":0},0,0,0,0,0,0,0,0,{"$f":"IF(M$2=$D232,$C232,0)","v":0},0,0,0,0,0,0,0,0,0,0,0,0,0,0,0,0,0,0,0]
[{"$f":"LOADS!A230","v":{"$error":"#REF!"}},{"$f":"LOADS!B230","v":0},{"$f":"LOADS!X230","v":""},{"$f":"LOADS!AH230","v":0},0,0,0,0,0,0,0,0,0,0,0,0,0,0,0,0,0,0,0,0,0,0,0,0,0,0,0,0]
[{"$f":"LOADS!A231","v":{"$error":"#REF!"}},{"$f":"LOADS!B231","v":0},{"$f":"LOADS!X231","v":""},{"$f":"LOADS!AH231","v":0},0,0,0,0,{"$f":"IF(I$2=$D234,$C234,0)","v":0},0,0,0,0,0,0,0,0,0,0,0,0,0,0,0,0,0,0,0,0,0,0,0]
[{"$f":"LOADS!A232","v":{"$error":"#REF!"}},{"$f":"LOADS!B232","v":0},{"$f":"LOADS!X232","v":""},{"$f":"LOADS!AH232","v":0},0,0,0,0,0,0,0,0,0,0,0,0,0,0,0,0,0,0,0,0,0,0,0,0,0,0,0,0]
[{"$f":"LOADS!A233","v":{"$error":"#REF!"}},{"$f":"LOADS!B233","v":0},{"$f":"LOADS!X233","v":""},{"$f":"LOADS!AH233","v":0},0,0,0,0,0,0,0,0,0,0,0,0,0,0,0,0,0,0,0,0,0,0,0,0,0,0,0,0]
[{"$f":"LOADS!A234","v":{"$error":"#REF!"}},{"$f":"LOADS!B234","v":0},{"$f":"LOADS!X234","v":""},{"$f":"LOADS!AH234","v":0},0,0,0,0,0,0,0,0,0,0,0,0,0,0,0,0,0,0,0,0,0,0,0,0,0,0,0,0]
[{"$f":"LOADS!A235","v":{"$error":"#REF!"}},{"$f":"LOADS!B235","v":0},{"$f":"LOADS!X235","v":""},{"$f":"LOADS!AH235","v":0},0,0,0,0,0,0,0,0,0,0,0,0,0,0,0,0,0,0,0,0,0,0,0,0,0,0,0,0]
[{"$f":"LOADS!A236","v":{"$error":"#REF!"}},{"$f":"LOADS!B236","v":0},{"$f":"LOADS!X236","v":""},{"$f":"LOADS!AH236","v":0},{"$f":"IF(E$2=$D239,$C239,0)","v":0},0,0,0,0,0,0,0,0,0,0,0,0,0,0,0,0,0,0,0,0,0,{"$f":"IF(AA$2=$D239,$C239,0)","v":0},0,0,0,0,0]
[{"$f":"LOADS!A237","v":{"$error":"#REF!"}},{"$f":"LOADS!B237","v":0},{"$f":"LOADS!X237","v":""},{"$f":"LOADS!AH237","v":0},0,0,0,0,0,0,0,0,0,0,0,0,0,0,0,0,0,0,0,0,0,0,0,0,0,0,0,0]
[{"$f":"LOADS!A238","v":{"$error":"#REF!"}},{"$f":"LOADS!B238","v":0},{"$f":"LOADS!X238","v":""},{"$f":"LOADS!AH238","v":0},0,0,0,0,0,0,0,0,0,0,0,0,0,0,0,0,0,0,{"$f":"IF(W$2=$D241,$C241,0)","v":0},0,0,0,0,0,0,0,0,0]
[{"$f":"LOADS!A239","v":{"$error":"#REF!"}},{"$f":"LOADS!B239","v":0},{"$f":"LOADS!X239","v":""},{"$f":"LOADS!AH239","v":0},0,0,0,0,0,0,0,0,0,0,0,0,0,0,0,0,0,0,0,0,0,0,0,0,0,0,0,0]
[{"$f":"LOADS!A240","v":{"$error":"#REF!"}},{"$f":"LOADS!B240","v":0},{"$f":"LOADS!X240","v":""},{"$f":"LOADS!AH240","v":0},0,0,0,0,0,0,0,0,0,0,0,0,0,0,0,0,0,0,0,0,0,0,0,0,0,0,0,0]
[{"$f":"LOADS!A241","v":{"$error":"#REF!"}},{"$f":"LOADS!B241","v":0},{"$f":"LOADS!X241","v":""},{"$f":"LOADS!AH241","v":0},0,0,0,0,0,0,0,0,0,0,0,0,0,0,0,0,0,0,0,0,0,0,0,0,0,0,0,0]
[{"$f":"LOADS!A242","v":{"$error":"#REF!"}},{"$f":"LOADS!B242","v":0},{"$f":"LOADS!X242","v":""},{"$f":"LOADS!AH242","v":0},0,0,0,0,0,0,0,0,0,0,0,0,0,0,0,0,0,0,0,0,0,0,0,0,0,0,0,0]
[{"$f":"LOADS!A243","v":{"$error":"#REF!"}},{"$f":"LOADS!B243","v":0},{"$f":"LOADS!X243","v":""},{"$f":"LOADS!AH243","v":0},0,0,0,0,0,0,0,0,0,0,0,0,0,0,0,0,0,0,0,0,0,0,0,0,0,0,0,0]
[{"$f":"LOADS!A244","v":{"$error":"#REF!"}},{"$f":"LOADS!B244","v":0},{"$f":"LOADS!X244","v":""},{"$f":"LOADS!AH244","v":0},0,0,0,0,0,0,0,0,0,0,0,0,0,0,0,{"$f":"IF(T$2=$D247,$C247,0)","v":0},0,0,0,0,0,0,0,0,0,0,0,0]
[{"$f":"LOADS!A245","v":{"$error":"#REF!"}},{"$f":"LOADS!B245","v":0},{"$f":"LOADS!X245","v":""},{"$f":"LOADS!AH245","v":0},0,0,0,0,0,0,0,0,0,0,0,0,0,0,0,0,0,0,0,0,0,0,0,0,0,0,0,0]
[{"$f":"LOADS!A246","v":{"$error":"#REF!"}},{"$f":"LOADS!B246","v":0},{"$f":"LOADS!X246","v":""},{"$f":"LOADS!AH246","v":0},0,0,0,0,0,0,0,0,0,0,0,0,0,0,0,0,0,0,0,0,0,0,0,0,0,0,0,0]
[{"$f":"LOADS!A247","v":{"$error":"#REF!"}},{"$f":"LOADS!B247","v":0},{"$f":"LOADS!X247","v":""},{"$f":"LOADS!AH247","v":0},0,0,0,0,0,0,0,0,0,0,0,0,0,0,0,0,0,0,0,0,0,0,0,0,0,0,0,0]
[{"$f":"LOADS!A248","v":{"$error":"#REF!"}},{"$f":"LOADS!B248","v":0},{"$f":"LOADS!X248","v":""},{"$f":"LOADS!AH248","v":0},0,0,0,0,{"$f":"IF(I$2=$D251,$C251,0)","v":0},0,0,0,0,0,0,0,0,0,0,0,0,0,0,0,0,0,0,0,0,0,0,0]
[{"$f":"LOADS!A249","v":{"$error":"#REF!"}},{"$f":"LOADS!B249","v":0},{"$f":"LOADS!X249","v":""},{"$f":"LOADS!AH249","v":0},0,0,0,0,0,0,0,0,0,0,0,0,0,0,0,0,0,0,0,0,0,0,0,0,0,0,0,0]
[{"$f":"LOADS!A250","v":{"$error":"#REF!"}},{"$f":"LOADS!B250","v":0},{"$f":"LOADS!X250","v":""},{"$f":"LOADS!AH250","v":0},0,0,0,0,0,0,0,0,0,0,0,0,0,0,0,0,0,0,0,0,0,0,0,0,0,0,0,0]
[{"$f":"LOADS!A251","v":{"$error":"#REF!"}},{"$f":"LOADS!B251","v":0},{"$f":"LOADS!X251","v":""},{"$f":"LOADS!AH251","v":0},0,0,0,0,0,0,0,0,0,0,0,0,0,0,0,0,0,0,0,0,0,0,0,0,0,0,0,0]
[{"$f":"LOADS!A252","v":{"$error":"#REF!"}},{"$f":"LOADS!B252","v":0},{"$f":"LOADS!X252","v":""},{"$f":"LOADS!AH252","v":0},0,0,0,0,0,0,0,0,0,0,0,0,0,0,0,0,0,0,0,0,0,0,{"$f":"IF(AA$2=$D255,$C255,0)","v":0},0,0,0,0,0]
[{"$f":"LOADS!A253","v":{"$error":"#REF!"}},{"$f":"LOADS!B253","v":0},{"$f":"LOADS!X253","v":""},{"$f":"LOADS!AH253","v":0},0,0,0,0,0,0,0,0,0,0,0,0,0,0,0,0,0,0,0,0,0,0,0,0,0,0,0,0]
[{"$f":"LOADS!A254","v":{"$error":"#REF!"}},{"$f":"LOADS!B254","v":0},{"$f":"LOADS!X254","v":""},{"$f":"LOADS!AH254","v":0},0,0,0,0,0,0,0,0,0,0,0,0,0,0,0,0,0,0,0,0,0,0,0,0,0,0,0,0]
[{"$f":"LOADS!A255","v":{"$error":"#REF!"}},{"$f":"LOADS!B255","v":0},{"$f":"LOADS!X255","v":""},{"$f":"LOADS!AH255","v":0},0,0,0,0,0,0,0,0,0,0,0,0,0,0,0,0,0,{"$f":"IF(V$2=$D258,$C258,0)","v":0},0,0,0,0,0,0,0,0,0,0]
[{"$f":"LOADS!A256","v":{"$error":"#REF!"}},{"$f":"LOADS!B256","v":0},{"$f":"LOADS!X256","v":""},{"$f":"LOADS!AH256","v":0},0,0,0,0,0,0,0,0,0,0,0,0,0,0,0,0,0,0,0,0,0,0,0,0,0,0,0,0]
[{"$f":"LOADS!A257","v":{"$error":"#REF!"}},{"$f":"LOADS!B257","v":0},{"$f":"LOADS!X257","v":""},{"$f":"LOADS!AH257","v":0},0,0,0,0,0,0,0,0,0,0,0,0,0,0,0,0,0,0,0,0,0,0,0,0,0,0,0,0]
[{"$f":"LOADS!A258","v":{"$error":"#REF!"}},{"$f":"LOADS!B258","v":0},{"$f":"LOADS!X258","v":""},{"$f":"LOADS!AH258","v":0},0,0,0,0,0,0,0,0,0,0,0,0,0,0,0,0,0,0,{"$f":"IF(W$2=$D261,$C261,0)","v":0},0,0,0,0,0,0,0,0,0]
[{"$f":"LOADS!A259","v":{"$error":"#REF!"}},{"$f":"LOADS!B259","v":0},{"$f":"LOADS!X259","v":""},{"$f":"LOADS!AH259","v":0},0,0,0,0,0,0,0,0,0,0,0,0,0,0,0,0,0,0,0,0,0,0,0,0,0,0,0,0]
[{"$f":"LOADS!A260","v":{"$error":"#REF!"}},{"$f":"LOADS!B260","v":0},{"$f":"LOADS!X260","v":""},{"$f":"LOADS!AH260","v":0},0,0,0,0,0,0,0,0,0,0,0,0,0,0,0,0,0,0,0,0,0,0,0,0,0,0,0,0]
[{"$f":"LOADS!A261","v":{"$error":"#REF!"}},{"$f":"LOADS!B261","v":0},{"$f":"LOADS!X261","v":""},{"$f":"LOADS!AH261","v":0},0,0,0,0,0,0,0,0,0,0,0,0,0,0,0,0,0,0,0,0,0,0,0,0,0,0,0,0]
[{"$f":"LOADS!A262","v":{"$error":"#REF!"}},{"$f":"LOADS!B262","v":0},{"$f":"LOADS!X262","v":""},{"$f":"LOADS!AH262","v":0},0,0,0,0,0,0,0,0,0,0,0,0,0,0,0,0,0,0,0,0,0,0,0,0,0,0,0,0]
[{"$f":"LOADS!A263","v":{"$error":"#REF!"}},{"$f":"LOADS!B263","v":0},{"$f":"LOADS!X263","v":""},{"$f":"LOADS!AH263","v":0},0,0,0,0,0,0,0,0,0,0,0,0,0,0,0,0,0,0,0,0,0,0,0,0,0,0,0,0]
[{"$f":"LOADS!A264","v":{"$error":"#REF!"}},{"$f":"LOADS!B264","v":0},{"$f":"LOADS!X264","v":""},{"$f":"LOADS!AH264","v":0},0,0,0,0,0,0,0,0,0,0,0,0,0,0,0,{"$f":"IF(T$2=$D267,$C267,0)","v":0},0,0,0,0,0,0,0,0,0,0,0,0]
[{"$f":"LOADS!A265","v":{"$error":"#REF!"}},{"$f":"LOADS!B265","v":0},{"$f":"LOADS!X265","v":""},{"$f":"LOADS!AH265","v":0},0,0,0,0,{"$f":"IF(I$2=$D268,$C268,0)","v":0},0,0,0,0,0,0,0,0,0,0,0,0,0,0,0,0,0,0,0,0,0,0,0]
[{"$f":"LOADS!A266","v":{"$error":"#REF!"}},{"$f":"LOADS!B266","v":0},{"$f":"LOADS!X266","v":""},{"$f":"LOADS!AH266","v":0},0,0,0,0,0,0,0,0,0,0,0,0,0,0,0,0,0,0,0,0,0,0,0,0,0,0,0,0]
[{"$f":"LOADS!A267","v":{"$error":"#REF!"}},{"$f":"LOADS!B267","v":0},{"$f":"LOADS!X267","v":""},{"$f":"LOADS!AH267","v":0},0,0,0,0,0,0,0,0,0,0,0,0,0,0,0,0,0,0,0,0,0,0,0,0,0,0,0,0]
[{"$f":"LOADS!A268","v":{"$error":"#REF!"}},{"$f":"LOADS!B268","v":0},{"$f":"LOADS!X268","v":""},{"$f":"LOADS!AH268","v":0},0,0,0,0,0,0,0,0,0,0,0,0,0,0,0,0,0,0,0,0,0,0,0,0,0,0,0,0]
[{"$f":"LOADS!A269","v":{"$error":"#REF!"}},{"$f":"LOADS!B269","v":0},{"$f":"LOADS!X269","v":""},{"$f":"LOADS!AH269","v":0},0,0,0,0,0,0,0,0,0,0,0,0,0,0,0,0,0,0,0,0,0,0,0,0,0,0,0,0]
[{"$f":"LOADS!A270","v":{"$error":"#REF!"}},{"$f":"LOADS!B270","v":0},{"$f":"LOADS!X270","v":""},{"$f":"LOADS!AH270","v":0},0,0,0,0,0,0,0,0,0,0,0,0,0,0,0,0,0,0,0,0,0,0,0,0,0,0,0,0]
[{"$f":"LOADS!A271","v":{"$error":"#REF!"}},{"$f":"LOADS!B271","v":0},{"$f":"LOADS!X271","v":""},{"$f":"LOADS!AH271","v":0},0,0,0,0,0,0,0,0,0,0,0,0,0,0,0,0,0,0,0,0,0,0,0,0,0,0,0,0]
[{"$f":"LOADS!A272","v":{"$error":"#REF!"}},{"$f":"LOADS!B272","v":0},{"$f":"LOADS!X272","v":""},{"$f":"LOADS!AH272","v":0},0,0,0,0,0,0,0,0,0,0,0,0,0,0,0,0,0,0,0,0,0,0,0,0,0,0,0,0]
[{"$f":"LOADS!A273","v":{"$error":"#REF!"}},{"$f":"LOADS!B273","v":0},{"$f":"LOADS!X273","v":""},{"$f":"LOADS!AH273","v":0},0,0,0,0,0,0,0,0,0,0,0,0,0,0,0,{"$f":"IF(T$2=$D276,$C276,0)","v":0},{"$f":"IF(U$2=$D276,$C276,0)","v":0},0,0,0,0,0,0,0,0,0,0,0]
[{"$f":"LOADS!A274","v":{"$error":"#REF!"}},{"$f":"LOADS!B274","v":0},{"$f":"LOADS!X274","v":""},{"$f":"LOADS!AH274","v":0},0,0,0,0,0,0,0,0,0,0,0,0,0,0,0,0,0,0,0,0,0,0,0,0,0,0,0,0]
[{"$f":"LOADS!A275","v":{"$error":"#REF!"}},{"$f":"LOADS!B275","v":0},{"$f":"LOADS!X275","v":""},{"$f":"LOADS!AH275","v":0},0,0,0,0,0,0,0,0,0,0,0,0,0,0,0,0,0,0,0,0,0,0,0,0,0,0,0,0]
[{"$f":"LOADS!A276","v":{"$error":"#REF!"}},{"$f":"LOADS!B276","v":0},{"$f":"LOADS!X276","v":""},{"$f":"LOADS!AH276","v":0},0,0,0,0,0,0,0,0,0,0,0,0,0,0,0,0,0,0,0,0,0,0,0,0,0,0,0,0]
[{"$f":"LOADS!A277","v":{"$error":"#REF!"}},{"$f":"LOADS!B277","v":0},{"$f":"LOADS!X277","v":""},{"$f":"LOADS!AH277","v":0},0,0,0,0,0,0,0,0,0,0,0,0,0,0,0,0,0,0,0,0,0,0,0,0,0,0,0,0]
[{"$f":"LOADS!A278","v":{"$error":"#REF!"}},{"$f":"LOADS!B278","v":0},{"$f":"LOADS!X278","v":""},{"$f":"LOADS!AH278","v":0},0,0,0,0,0,0,0,0,0,0,0,0,0,0,0,0,0,0,0,0,0,0,0,0,0,0,0,0]
[{"$f":"LOADS!A279","v":{"$error":"#REF!"}},{"$f":"LOADS!B279","v":0},{"$f":"LOADS!X279","v":""},{"$f":"LOADS!AH279","v":0},0,0,0,0,0,0,0,0,0,0,0,0,0,0,0,0,0,0,0,0,0,0,0,0,0,0,0,0]
[{"$f":"LOADS!A280","v":{"$error":"#REF!"}},{"$f":"LOADS!B280","v":0},{"$f":"LOADS!X280","v":""},{"$f":"LOADS!AH280","v":0},0,0,0,0,0,0,0,0,0,0,0,0,0,0,0,0,0,0,0,0,0,0,0,0,0,0,0,0]
[{"$f":"LOADS!A281","v":{"$error":"#REF!"}},{"$f":"LOADS!B281","v":0},{"$f":"LOADS!X281","v":""},{"$f":"LOADS!AH281","v":0},0,0,0,0,0,0,0,0,0,0,0,0,0,0,0,0,0,0,0,0,0,0,0,0,0,0,0,0]
[{"$f":"LOADS!A282","v":{"$error":"#REF!"}},{"$f":"LOADS!B282","v":0},{"$f":"LOADS!X282","v":""},{"$f":"LOADS!AH282","v":0},0,0,0,0,{"$f":"IF(I$2=$D285,$C285,0)","v":0},0,0,0,0,0,0,0,0,0,0,0,0,0,0,0,0,0,0,0,0,0,0,0]
[{"$f":"LOADS!A283","v":{"$error":"#REF!"}},{"$f":"LOADS!B283","v":0},{"$f":"LOADS!X283","v":""},{"$f":"LOADS!AH283","v":0},0,0,0,0,0,0,0,0,0,0,0,0,0,0,0,0,0,0,0,0,0,0,0,0,0,0,{"$f":"IF(AE$2=$D286,$C286,0)","v":0},0]
[{"$f":"LOADS!A284","v":{"$error":"#REF!"}},{"$f":"LOADS!B284","v":0},{"$f":"LOADS!X284","v":""},{"$f":"LOADS!AH284","v":0},0,0,0,0,0,0,0,0,0,0,0,0,0,0,0,0,0,0,0,0,0,0,0,0,0,0,0,0]
[{"$f":"LOADS!A285","v":{"$error":"#REF!"}},{"$f":"LOADS!B285","v":0},{"$f":"LOADS!X285","v":""},{"$f":"LOADS!AH285","v":0},0,0,0,0,0,0,0,0,0,0,0,0,0,0,0,0,0,0,0,0,0,0,0,0,0,0,0,0]
[{"$f":"LOADS!A286","v":{"$error":"#REF!"}},{"$f":"LOADS!B286","v":0},{"$f":"LOADS!X286","v":""},{"$f":"LOADS!AH286","v":0},0,0,0,0,0,0,0,0,0,0,0,0,0,0,0,0,0,0,0,0,0,0,0,0,0,0,0,0]
[{"$f":"LOADS!A287","v":{"$error":"#REF!"}},{"$f":"LOADS!B287","v":0},{"$f":"LOADS!X287","v":""},{"$f":"LOADS!AH287","v":0},{"$f":"IF(E$2=$D290,$C290,0)","v":0},0,0,0,0,0,0,0,0,0,0,0,0,0,0,0,0,0,0,0,0,0,0,0,0,0,0,0]
[{"$f":"LOADS!A288","v":{"$error":"#REF!"}},{"$f":"LOADS!B288","v":0},{"$f":"LOADS!X288","v":""},{"$f":"LOADS!AH288","v":0},0,0,0,0,0,0,0,0,0,0,0,0,0,0,0,0,0,0,0,0,0,0,0,0,0,0,0,0]
[{"$f":"LOADS!A289","v":{"$error":"#REF!"}},{"$f":"LOADS!B289","v":0},{"$f":"LOADS!X289","v":""},{"$f":"LOADS!AH289","v":0},0,0,0,0,0,0,0,0,0,0,0,0,0,0,0,0,0,0,0,0,0,0,0,0,0,0,0,0]
[{"$f":"LOADS!A290","v":{"$error":"#REF!"}},{"$f":"LOADS!B290","v":0},{"$f":"LOADS!X290","v":""},{"$f":"LOADS!AH290","v":0},0,0,0,0,0,0,0,0,0,0,0,0,0,0,0,0,0,0,0,0,0,0,0,0,0,0,0,0]
[{"$f":"LOADS!A291","v":{"$error":"#REF!"}},{"$f":"LOADS!B291","v":0},{"$f":"LOADS!X291","v":""},{"$f":"LOADS!AH291","v":0},0,0,0,0,0,0,0,0,0,0,0,0,0,0,0,0,0,0,0,0,0,0,0,0,0,0,0,0]
[{"$f":"LOADS!A292","v":{"$error":"#REF!"}},{"$f":"LOADS!B292","v":0},{"$f":"LOADS!X292","v":""},{"$f":"LOADS!AH292","v":0},0,0,0,0,{"$f":"IF(I$2=$D295,$C295,0)","v":0},0,0,0,0,0,0,0,0,0,0,0,0,0,0,0,0,0,0,0,0,0,0,0]
[{"$f":"LOADS!A293","v":{"$error":"#REF!"}},{"$f":"LOADS!B293","v":0},{"$f":"LOADS!X293","v":""},{"$f":"LOADS!AH293","v":0},0,0,0,0,0,0,0,0,0,0,0,0,0,0,0,0,0,0,0,0,0,0,0,0,0,0,0,0]
[{"$f":"LOADS!A294","v":{"$error":"#REF!"}},{"$f":"LOADS!B294","v":0},{"$f":"LOADS!X294","v":""},{"$f":"LOADS!AH294","v":0},0,0,0,0,0,0,0,0,0,0,0,0,0,0,0,0,0,0,0,0,0,0,0,0,0,0,0,0]
[{"$f":"LOADS!A295","v":{"$error":"#REF!"}},{"$f":"LOADS!B295","v":0},{"$f":"LOADS!X295","v":""},{"$f":"LOADS!AH295","v":0},0,0,0,0,0,0,0,0,0,0,0,0,0,0,0,0,0,0,0,0,0,0,0,0,0,0,0,0]
[{"$f":"LOADS!A296","v":{"$error":"#REF!"}},{"$f":"LOADS!B296","v":0},{"$f":"LOADS!X296","v":""},{"$f":"LOADS!AH296","v":0},0,0,0,0,0,0,0,0,0,0,0,0,0,0,0,0,0,0,{"$f":"IF(W$2=$D299,$C299,0)","v":0},0,0,0,0,0,0,0,0,0]
[{"$f":"LOADS!A297","v":{"$error":"#REF!"}},{"$f":"LOADS!B297","v":0},{"$f":"LOADS!X297","v":""},{"$f":"LOADS!AH297","v":0},0,0,0,0,0,0,0,0,0,0,0,0,0,0,0,{"$f":"IF(T$2=$D300,$C300,0)","v":0},0,0,0,0,0,0,0,0,0,0,0,0]
[{"$f":"LOADS!A298","v":{"$error":"#REF!"}},{"$f":"LOADS!B298","v":0},{"$f":"LOADS!X298","v":""},{"$f":"LOADS!AH298","v":0},0,0,0,0,0,0,0,0,0,0,0,0,0,0,0,0,0,0,0,0,0,0,0,0,0,0,0,0]
[{"$f":"LOADS!A299","v":{"$error":"#REF!"}},{"$f":"LOADS!B299","v":0},{"$f":"LOADS!X299","v":""},{"$f":"LOADS!AH299","v":0},0,0,0,0,{"$f":"IF(I$2=$D302,$C302,0)","v":0},0,0,0,0,0,0,0,{"$f":"IF(Q$2=$D302,$C302,0)","v":0},0,0,0,0,0,0,0,0,0,0,0,0,{"$f":"IF(AD$2=$D302,$C302,0)","v":0},0,0]
[{"$f":"LOADS!A300","v":{"$error":"#REF!"}},{"$f":"LOADS!B300","v":0},{"$f":"LOADS!X300","v":""},{"$f":"LOADS!AH300","v":0},0,0,0,0,0,0,0,0,0,0,0,0,0,0,0,0,0,0,0,0,0,0,0,0,0,0,0,0]
[{"$f":"LOADS!A301","v":{"$error":"#REF!"}},{"$f":"LOADS!B301","v":0},{"$f":"LOADS!X301","v":""},{"$f":"LOADS!AH301","v":0},0,0,0,0,0,0,0,0,0,0,0,0,0,0,0,0,0,0,0,0,0,0,0,0,0,0,0,0]
[{"$f":"LOADS!A302","v":{"$error":"#REF!"}},{"$f":"LOADS!B302","v":0},{"$f":"LOADS!X302","v":""},{"$f":"LOADS!AH302","v":0},0,0,0,0,0,0,0,0,0,0,0,0,0,0,0,0,0,0,0,0,0,0,0,0,0,0,0,0]
[{"$f":"LOADS!A303","v":{"$error":"#REF!"}},{"$f":"LOADS!B303","v":0},{"$f":"LOADS!X303","v":""},{"$f":"LOADS!AH303","v":0},0,0,0,0,0,0,0,0,0,0,0,0,0,0,0,0,0,0,0,0,0,0,0,0,0,0,0,0]
[{"$f":"LOADS!A304","v":{"$error":"#REF!"}},{"$f":"LOADS!B304","v":0},{"$f":"LOADS!X304","v":""},{"$f":"LOADS!AH304","v":0},0,0,0,0,0,0,0,0,0,0,0,0,0,0,0,0,0,0,0,0,0,0,0,0,0,0,0,0]
[{"$f":"LOADS!A305","v":{"$error":"#REF!"}},{"$f":"LOADS!B305","v":0},{"$f":"LOADS!X305","v":""},{"$f":"LOADS!AH305","v":0},0,0,0,0,0,0,0,0,0,0,0,0,0,0,0,0,0,0,0,0,0,0,0,0,0,0,0,0]
[{"$f":"LOADS!A306","v":{"$error":"#REF!"}},{"$f":"LOADS!B306","v":0},{"$f":"LOADS!X306","v":""},{"$f":"LOADS!AH306","v":0},0,0,0,0,0,0,0,0,0,0,0,0,0,0,0,0,0,0,0,0,0,0,0,0,0,0,0,0]
[{"$f":"LOADS!A307","v":{"$error":"#REF!"}},{"$f":"LOADS!B307","v":0},{"$f":"LOADS!X307","v":""},{"$f":"LOADS!AH307","v":0},0,0,0,0,0,0,0,0,0,0,0,0,0,0,0,0,0,0,0,0,0,0,0,0,0,0,0,0]
[{"$f":"LOADS!A308","v":{"$error":"#REF!"}},{"$f":"LOADS!B308","v":0},{"$f":"LOADS!X308","v":""},{"$f":"LOADS!AH308","v":0},0,0,0,0,0,0,0,0,0,0,0,0,0,0,0,0,0,0,0,0,0,0,0,0,0,0,0,0]
[{"$f":"LOADS!A309","v":{"$error":"#REF!"}},{"$f":"LOADS!B309","v":0},{"$f":"LOADS!X309","v":""},{"$f":"LOADS!AH309","v":0},0,0,0,0,0,0,0,0,0,0,0,0,0,0,0,0,0,0,0,0,0,0,0,0,0,0,0,0]
[{"$f":"LOADS!A310","v":{"$error":"#REF!"}},{"$f":"LOADS!B310","v":0},{"$f":"LOADS!X310","v":""},{"$f":"LOADS!AH310","v":0},0,0,0,0,0,0,0,0,0,0,0,0,0,0,0,0,0,0,0,0,0,0,0,0,0,0,0,0]
[{"$f":"LOADS!A311","v":{"$error":"#REF!"}},{"$f":"LOADS!B311","v":0},{"$f":"LOADS!X311","v":""},{"$f":"LOADS!AH311","v":0},0,0,0,0,0,0,0,0,0,0,0,0,0,0,0,0,0,0,0,0,0,0,0,0,0,0,0,0]
[{"$f":"LOADS!A312","v":{"$error":"#REF!"}},{"$f":"LOADS!B312","v":0},{"$f":"LOADS!X312","v":""},{"$f":"LOADS!AH312","v":0},0,0,0,0,0,0,0,0,0,0,0,0,0,0,0,0,0,0,0,0,0,0,0,0,0,0,0,0]
[{"$f":"LOADS!A313","v":{"$error":"#REF!"}},{"$f":"LOADS!B313","v":0},{"$f":"LOADS!X313","v":""},{"$f":"LOADS!AH313","v":0},0,0,0,0,0,0,0,0,0,0,0,0,0,0,0,0,0,0,0,0,0,0,0,0,0,0,0,0]
[{"$f":"LOADS!A314","v":{"$error":"#REF!"}},{"$f":"LOADS!B314","v":0},{"$f":"LOADS!X314","v":""},{"$f":"LOADS!AH314","v":0},0,0,0,0,0,0,0,0,0,0,0,0,0,0,0,0,0,0,0,0,0,0,0,0,0,0,0,0]
[{"$f":"LOADS!A315","v":{"$error":"#REF!"}},{"$f":"LOADS!B315","v":0},{"$f":"LOADS!X315","v":""},{"$f":"LOADS!AH315","v":0},0,0,0,0,0,0,0,0,0,0,0,0,0,0,0,0,0,0,0,0,0,0,0,0,{"$f":"IF(AC$2=$D318,$C318,0)","v":0},0,0,0]
[{"$f":"LOADS!A316","v":{"$error":"#REF!"}},{"$f":"LOADS!B316","v":0},{"$f":"LOADS!X316","v":""},{"$f":"LOADS!AH316","v":0},0,0,0,0,0,0,0,0,0,0,0,0,0,0,0,0,0,0,{"$f":"IF(W$2=$D319,$C319,0)","v":0},0,0,0,0,0,0,0,0,0]
[{"$f":"LOADS!A317","v":{"$error":"#REF!"}},{"$f":"LOADS!B317","v":0},{"$f":"LOADS!X317","v":""},{"$f":"LOADS!AH317","v":0},0,0,0,0,0,0,0,0,0,0,0,0,0,0,0,{"$f":"IF(T$2=$D320,$C320,0)","v":0},0,0,0,0,0,0,0,0,0,0,0,0]
[{"$f":"LOADS!A318","v":{"$error":"#REF!"}},{"$f":"LOADS!B318","v":0},{"$f":"LOADS!X318","v":""},{"$f":"LOADS!AH318","v":0},0,0,0,0,0,0,0,0,0,0,0,0,0,0,0,0,0,0,0,0,0,0,0,0,0,0,0,0]
[{"$f":"LOADS!A319","v":{"$error":"#REF!"}},{"$f":"LOADS!B319","v":0},{"$f":"LOADS!X319","v":""},{"$f":"LOADS!AH319","v":0},0,0,0,0,0,0,0,0,0,0,0,0,{"$f":"IF(Q$2=$D322,$C322,0)","v":0},0,0,0,0,0,0,0,0,0,0,0,0,0,0,0]
[{"$f":"LOADS!A320","v":{"$error":"#REF!"}},{"$f":"LOADS!B320","v":0},{"$f":"LOADS!X320","v":""},{"$f":"LOADS!AH320","v":0},0,0,0,0,0,0,0,0,0,0,0,0,0,0,0,0,0,0,0,0,0,0,0,0,0,0,0,0]
[{"$f":"LOADS!A321","v":{"$error":"#REF!"}},{"$f":"LOADS!B321","v":0},{"$f":"LOADS!X321","v":""},{"$f":"LOADS!AH321","v":0},0,0,0,0,0,0,0,0,0,0,0,0,0,0,0,0,0,0,0,0,0,0,0,0,0,0,0,0]
[{"$f":"LOADS!A322","v":{"$error":"#REF!"}},{"$f":"LOADS!B322","v":0},{"$f":"LOADS!X322","v":""},{"$f":"LOADS!AH322","v":0},0,0,0,0,0,0,0,0,0,0,0,0,0,0,0,0,0,0,0,0,0,0,0,0,0,0,0,0]
[{"$f":"LOADS!A323","v":{"$error":"#REF!"}},{"$f":"LOADS!B323","v":0},{"$f":"LOADS!X323","v":""},{"$f":"LOADS!AH323","v":0},0,0,0,0,0,0,0,0,0,0,0,0,0,0,0,0,0,0,0,0,0,0,0,0,0,0,0,0]
[{"$f":"LOADS!A324","v":{"$error":"#REF!"}},{"$f":"LOADS!B324","v":0},{"$f":"LOADS!X324","v":""},{"$f":"LOADS!AH324","v":0},0,0,0,0,0,0,0,0,{"$f":"IF(M$2=$D327,$C327,0)","v":0},0,0,0,0,0,0,0,0,0,0,0,0,0,0,0,0,0,0,0]
[{"$f":"LOADS!A325","v":{"$error":"#REF!"}},{"$f":"LOADS!B325","v":0},{"$f":"LOADS!X325","v":""},{"$f":"LOADS!AH325","v":0},0,0,0,0,{"$f":"IF(I$2=$D328,$C328,0)","v":0},0,0,0,0,0,0,0,0,0,0,0,0,0,0,0,0,0,0,0,0,0,0,0]
[{"$f":"LOADS!A326","v":{"$error":"#REF!"}},{"$f":"LOADS!B326","v":0},{"$f":"LOADS!X326","v":""},{"$f":"LOADS!AH326","v":0},0,0,0,0,0,0,0,0,0,0,0,0,0,0,0,0,0,0,0,0,0,0,0,0,0,0,0,0]
[{"$f":"LOADS!A327","v":{"$error":"#REF!"}},{"$f":"LOADS!B327","v":0},{"$f":"LOADS!X327","v":""},{"$f":"LOADS!AH327","v":0},0,0,0,0,0,0,0,0,0,0,0,0,0,0,0,0,0,0,0,0,0,0,0,0,0,0,0,0]
[{"$f":"LOADS!A328","v":{"$error":"#REF!"}},{"$f":"LOADS!B328","v":0},{"$f":"LOADS!X328","v":""},{"$f":"LOADS!AH328","v":0},0,0,0,0,0,0,0,0,0,0,0,0,0,0,0,0,0,0,0,0,0,0,0,0,0,0,0,0]
[{"$f":"LOADS!A329","v":{"$error":"#REF!"}},{"$f":"LOADS!B329","v":0},{"$f":"LOADS!X329","v":""},{"$f":"LOADS!AH329","v":0},0,0,0,0,0,0,0,0,0,0,0,0,0,0,0,0,0,0,0,0,0,0,0,0,0,0,0,0]
[{"$f":"LOADS!A330","v":{"$error":"#REF!"}},{"$f":"LOADS!B330","v":0},{"$f":"LOADS!X330","v":""},{"$f":"LOADS!AH330","v":0},0,0,0,0,0,0,0,0,0,0,0,0,0,0,0,0,0,0,0,0,0,0,0,0,0,0,0,0]
[{"$f":"LOADS!A331","v":{"$error":"#REF!"}},{"$f":"LOADS!B331","v":0},{"$f":"LOADS!X331","v":""},{"$f":"LOADS!AH331","v":0},0,0,0,0,0,0,0,0,0,0,0,0,0,0,0,0,0,0,0,0,0,0,0,0,{"$f":"IF(AC$2=$D334,$C334,0)","v":0},0,0,0]
[{"$f":"LOADS!A332","v":{"$error":"#REF!"}},{"$f":"LOADS!B332","v":0},{"$f":"LOADS!X332","v":""},{"$f":"LOADS!AH332","v":0},0,0,0,0,0,0,0,0,0,0,0,0,0,0,0,0,0,0,0,0,0,0,0,0,0,0,0,0]
[{"$f":"LOADS!A333","v":{"$error":"#REF!"}},{"$f":"LOADS!B333","v":0},{"$f":"LOADS!X333","v":""},{"$f":"LOADS!AH333","v":0},0,0,0,0,0,0,0,0,0,0,0,0,0,0,0,0,0,0,0,0,0,0,0,0,0,0,0,0]
[{"$f":"LOADS!A334","v":{"$error":"#REF!"}},{"$f":"LOADS!B334","v":0},{"$f":"LOADS!X334","v":""},{"$f":"LOADS!AH334","v":0},0,0,0,0,0,0,0,0,0,0,0,0,0,0,0,0,0,0,0,0,0,0,0,0,0,0,0,0]
[{"$f":"LOADS!A335","v":{"$error":"#REF!"}},{"$f":"LOADS!B335","v":0},{"$f":"LOADS!X335","v":""},{"$f":"LOADS!AH335","v":0},0,0,0,0,0,0,0,0,0,0,0,0,0,0,0,0,0,0,0,0,0,0,0,0,0,0,0,0]
[{"$f":"LOADS!A336","v":{"$error":"#REF!"}},{"$f":"LOADS!B336","v":0},{"$f":"LOADS!X336","v":""},{"$f":"LOADS!AH336","v":0},0,0,0,0,0,0,0,0,0,0,0,0,0,0,0,0,0,0,{"$f":"IF(W$2=$D339,$C339,0)","v":0},0,0,0,0,0,0,0,0,0]
[{"$f":"LOADS!A337","v":{"$error":"#REF!"}},{"$f":"LOADS!B337","v":0},{"$f":"LOADS!X337","v":""},{"$f":"LOADS!AH337","v":0},0,0,0,0,0,0,0,0,0,0,0,0,0,0,0,{"$f":"IF(T$2=$D340,$C340,0)","v":0},0,0,0,0,0,0,0,0,0,0,0,0]
[{"$f":"LOADS!A338","v":{"$error":"#REF!"}},{"$f":"LOADS!B338","v":0},{"$f":"LOADS!X338","v":""},{"$f":"LOADS!AH338","v":0},{"$f":"IF(E$2=$D341,$C341,0)","v":0},0,0,0,0,0,0,0,0,0,0,0,0,0,0,0,0,0,0,0,0,0,0,0,0,0,0,0]
[{"$f":"LOADS!A339","v":{"$error":"#REF!"}},{"$f":"LOADS!B339","v":0},{"$f":"LOADS!X339","v":""},{"$f":"LOADS!AH339","v":0},0,0,0,0,0,0,0,0,0,0,0,0,{"$f":"IF(Q$2=$D342,$C342,0)","v":0},0,0,0,0,0,0,0,0,0,0,0,0,0,0,0]
[{"$f":"LOADS!A340","v":{"$error":"#REF!"}},{"$f":"LOADS!B340","v":0},{"$f":"LOADS!X340","v":""},{"$f":"LOADS!AH340","v":0},0,0,0,0,0,0,0,0,0,0,0,0,0,0,0,0,0,0,0,0,0,0,0,0,0,0,0,0]
[{"$f":"LOADS!A341","v":{"$error":"#REF!"}},{"$f":"LOADS!B341","v":0},{"$f":"LOADS!X341","v":""},{"$f":"LOADS!AH341","v":0},0,0,0,0,0,0,0,0,0,0,0,0,0,0,0,0,0,0,0,0,0,0,0,0,0,0,0,0]
[{"$f":"LOADS!A342","v":{"$error":"#REF!"}},{"$f":"LOADS!B342","v":0},{"$f":"LOADS!X342","v":""},{"$f":"LOADS!AH342","v":0},0,0,0,0,0,0,0,0,0,0,0,0,0,0,0,0,0,0,0,0,0,0,0,0,0,0,0,0]
[{"$f":"LOADS!A343","v":{"$error":"#REF!"}},{"$f":"LOADS!B343","v":0},{"$f":"LOADS!X343","v":""},{"$f":"LOADS!AH343","v":0},0,0,0,0,0,0,0,0,0,0,0,0,0,0,0,0,0,0,0,0,0,0,0,0,0,0,0,0]
[{"$f":"LOADS!A344","v":{"$error":"#REF!"}},{"$f":"LOADS!B344","v":0},{"$f":"LOADS!X344","v":""},{"$f":"LOADS!AH344","v":0},0,0,0,0,0,0,0,0,0,0,0,0,0,0,0,0,0,0,0,0,0,0,0,0,0,0,0,0]
[{"$f":"LOADS!A345","v":{"$error":"#REF!"}},{"$f":"LOADS!B345","v":0},{"$f":"LOADS!X345","v":""},{"$f":"LOADS!AH345","v":0},0,0,0,0,0,0,0,0,0,0,0,0,0,0,0,0,0,0,0,0,0,0,0,0,0,0,0,0]
[{"$f":"LOADS!A346","v":{"$error":"#REF!"}},{"$f":"LOADS!B346","v":0},{"$f":"LOADS!X346","v":""},{"$f":"LOADS!AH346","v":0},0,0,0,0,0,0,0,0,0,0,0,0,0,0,0,0,0,0,0,0,0,0,0,0,0,0,0,0]
[{"$f":"LOADS!A347","v":{"$error":"#REF!"}},{"$f":"LOADS!B347","v":0},{"$f":"LOADS!X347","v":""},{"$f":"LOADS!AH347","v":0},0,0,0,0,0,0,0,0,0,0,0,0,0,0,0,0,0,0,0,0,0,0,0,0,{"$f":"IF(AC$2=$D350,$C350,0)","v":0},0,0,0]
[{"$f":"LOADS!A348","v":{"$error":"#REF!"}},{"$f":"LOADS!B348","v":0},{"$f":"LOADS!X348","v":""},{"$f":"LOADS!AH348","v":0},0,0,0,0,0,0,0,0,0,0,0,0,0,0,0,0,0,0,0,0,0,0,{"$f":"IF(AA$2=$D351,$C351,0)","v":0},0,0,0,0,0]
[{"$f":"LOADS!A349","v":{"$error":"#REF!"}},{"$f":"LOADS!B349","v":0},{"$f":"LOADS!X349","v":""},{"$f":"LOADS!AH349","v":0},0,0,0,0,0,0,0,0,0,0,0,0,{"$f":"IF(Q$2=$D352,$C352,0)","v":0},{"$f":"IF(R$2=$D352,$C352,0)","v":0},{"$f":"IF(S$2=$D352,$C352,0)","v":0},0,0,0,0,0,0,0,0,0,0,0,0,0]
[{"$f":"LOADS!A350","v":{"$error":"#REF!"}},{"$f":"LOADS!B350","v":0},{"$f":"LOADS!X350","v":""},{"$f":"LOADS!AH350","v":0},0,0,0,0,0,0,0,0,0,0,0,0,0,0,0,0,0,0,0,0,0,0,0,0,0,0,0,0]
[{"$f":"LOADS!A351","v":{"$error":"#REF!"}},{"$f":"LOADS!B351","v":0},{"$f":"LOADS!X351","v":""},{"$f":"LOADS!AH351","v":0},0,0,0,0,0,0,0,0,0,0,0,0,0,0,0,0,0,0,0,0,0,0,0,0,0,0,0,0]
[{"$f":"LOADS!A352","v":{"$error":"#REF!"}},{"$f":"LOADS!B352","v":0},{"$f":"LOADS!X352","v":""},{"$f":"LOADS!AH352","v":0},0,0,0,0,0,0,0,0,0,0,0,0,0,0,0,0,0,0,0,0,0,0,0,0,0,0,0,0]
[{"$f":"LOADS!A353","v":{"$error":"#REF!"}},{"$f":"LOADS!B353","v":0},{"$f":"LOADS!X353","v":""},{"$f":"LOADS!AH353","v":0},0,0,0,0,0,0,0,0,0,0,0,0,0,0,0,0,0,0,0,0,0,0,0,0,0,0,0,0]
[{"$f":"LOADS!A354","v":{"$error":"#REF!"}},{"$f":"LOADS!B354","v":0},{"$f":"LOADS!X354","v":""},{"$f":"LOADS!AH354","v":0},0,0,0,0,0,0,0,0,0,0,0,0,0,0,0,0,0,0,0,0,0,0,0,0,0,0,0,0]
[{"$f":"LOADS!A355","v":{"$error":"#REF!"}},{"$f":"LOADS!B355","v":0},{"$f":"LOADS!X355","v":""},{"$f":"LOADS!AH355","v":0},0,0,0,0,0,0,0,0,0,0,0,0,0,0,0,0,0,0,0,0,0,0,0,0,0,0,0,0]
[{"$f":"LOADS!A356","v":{"$error":"#REF!"}},{"$f":"LOADS!B356","v":0},{"$f":"LOADS!X356","v":""},{"$f":"LOADS!AH356","v":0},0,0,0,0,0,0,0,0,0,0,0,0,0,0,0,0,0,0,{"$f":"IF(W$2=$D359,$C359,0)","v":0},0,0,0,0,0,0,0,0,0]
[{"$f":"LOADS!A357","v":{"$error":"#REF!"}},{"$f":"LOADS!B357","v":0},{"$f":"LOADS!X357","v":""},{"$f":"LOADS!AH357","v":0},0,0,0,0,0,0,0,0,0,0,0,0,0,0,0,{"$f":"IF(T$2=$D360,$C360,0)","v":0},0,0,0,0,0,0,0,0,0,0,0,0]
[{"$f":"LOADS!A358","v":{"$error":"#REF!"}},{"$f":"LOADS!B358","v":0},{"$f":"LOADS!X358","v":""},{"$f":"LOADS!AH358","v":0},0,0,0,0,0,0,0,0,0,0,0,0,0,0,0,0,0,0,0,0,0,0,0,0,0,0,0,0]
[{"$f":"LOADS!A359","v":{"$error":"#REF!"}},{"$f":"LOADS!B359","v":0},{"$f":"LOADS!X359","v":""},{"$f":"LOADS!AH359","v":0},0,0,0,0,0,0,0,0,0,0,0,0,0,0,0,0,0,0,0,0,0,0,0,0,0,0,0,0]
[{"$f":"LOADS!A360","v":{"$error":"#REF!"}},{"$f":"LOADS!B360","v":0},{"$f":"LOADS!X360","v":""},{"$f":"LOADS!AH360","v":0},0,0,0,0,0,0,0,0,0,0,0,0,0,0,0,0,0,0,0,0,0,0,{"$f":"IF(AA$2=$D363,$C363,0)","v":0},0,0,0,0,0]
[{"$f":"LOADS!A361","v":{"$error":"#REF!"}},{"$f":"LOADS!B361","v":0},{"$f":"LOADS!X361","v":""},{"$f":"LOADS!AH361","v":0},0,0,0,0,0,0,0,0,0,0,0,0,0,0,0,0,0,0,0,0,0,0,0,0,0,0,0,0]
[{"$f":"LOADS!A362","v":{"$error":"#REF!"}},{"$f":"LOADS!B362","v":0},{"$f":"LOADS!X362","v":""},{"$f":"LOADS!AH362","v":0},0,0,0,0,0,0,0,0,0,0,0,0,0,0,0,0,0,0,0,0,0,0,0,0,0,0,0,0]
[{"$f":"LOADS!A363","v":{"$error":"#REF!"}},{"$f":"LOADS!B363","v":0},{"$f":"LOADS!X363","v":""},{"$f":"LOADS!AH363","v":0},0,0,0,0,0,0,0,0,0,0,0,0,0,0,0,0,0,0,0,0,0,0,0,0,0,0,0,0]
[{"$f":"LOADS!A364","v":{"$error":"#REF!"}},{"$f":"LOADS!B364","v":0},{"$f":"LOADS!X364","v":""},{"$f":"LOADS!AH364","v":0},0,0,0,0,0,0,0,0,0,0,0,0,0,0,0,0,0,0,0,0,0,0,0,0,0,0,0,0]
[{"$f":"LOADS!A365","v":{"$error":"#REF!"}},{"$f":"LOADS!B365","v":0},{"$f":"LOADS!X365","v":""},{"$f":"LOADS!AH365","v":0},0,0,0,0,0,0,0,0,0,0,0,0,0,0,0,0,0,0,0,0,0,0,0,0,0,0,0,0]
[{"$f":"LOADS!A366","v":{"$error":"#REF!"}},{"$f":"LOADS!B366","v":0},{"$f":"LOADS!X366","v":""},{"$f":"LOADS!AH366","v":0},0,0,0,0,0,0,0,0,0,0,0,0,0,0,0,0,0,0,0,0,0,0,0,0,0,0,0,0]
[{"$f":"LOADS!A367","v":{"$error":"#REF!"}},{"$f":"LOADS!B367","v":0},{"$f":"LOADS!X367","v":""},{"$f":"LOADS!AH367","v":0},0,0,0,0,0,0,0,0,0,0,0,0,0,0,0,0,0,0,0,0,0,0,0,0,0,0,0,0]
[{"$f":"LOADS!A368","v":{"$error":"#REF!"}},{"$f":"LOADS!B368","v":0},{"$f":"LOADS!X368","v":""},{"$f":"LOADS!AH368","v":0},0,0,0,0,0,0,0,0,0,0,0,0,0,0,0,0,0,0,0,0,0,0,0,0,0,0,0,0]
[{"$f":"LOADS!A369","v":{"$error":"#REF!"}},{"$f":"LOADS!B369","v":0},{"$f":"LOADS!X369","v":""},{"$f":"LOADS!AH369","v":0},0,0,0,0,0,0,0,0,0,0,0,0,0,0,0,0,0,0,0,0,0,0,0,0,0,0,0,0]
[{"$f":"LOADS!A370","v":{"$error":"#REF!"}},{"$f":"LOADS!B370","v":0},{"$f":"LOADS!X370","v":""},{"$f":"LOADS!AH370","v":0},0,0,0,0,0,0,0,0,0,0,0,0,0,0,0,0,0,0,0,0,0,0,0,0,0,0,0,0]
[{"$f":"LOADS!A371","v":{"$error":"#REF!"}},{"$f":"LOADS!B371","v":0},{"$f":"LOADS!X371","v":""},{"$f":"LOADS!AH371","v":0},0,0,0,0,0,0,0,0,0,0,0,0,0,0,0,0,0,0,0,0,0,0,0,0,0,0,0,0]
[{"$f":"LOADS!A372","v":{"$error":"#REF!"}},{"$f":"LOADS!B372","v":0},{"$f":"LOADS!X372","v":""},{"$f":"LOADS!AH372","v":0},0,0,0,0,0,0,0,0,0,0,0,0,0,0,0,0,0,0,0,0,0,0,0,0,0,0,0,0]
[{"$f":"LOADS!A373","v":{"$error":"#REF!"}},{"$f":"LOADS!B373","v":0},{"$f":"LOADS!X373","v":""},{"$f":"LOADS!AH373","v":0},0,0,0,0,0,0,0,0,0,0,0,0,0,0,0,0,0,0,0,0,0,0,0,0,0,0,0,0]
[{"$f":"LOADS!A374","v":{"$error":"#REF!"}},{"$f":"LOADS!B374","v":0},{"$f":"LOADS!X374","v":""},{"$f":"LOADS!AH374","v":0},0,0,0,0,0,0,0,0,0,0,0,0,0,0,0,0,0,0,0,0,0,0,0,0,0,0,0,0]
[{"$f":"LOADS!A375","v":{"$error":"#REF!"}},{"$f":"LOADS!B375","v":0},{"$f":"LOADS!X375","v":""},{"$f":"LOADS!AH375","v":0},0,0,0,0,0,0,0,0,{"$f":"IF(M$2=$D378,$C378,0)","v":0},0,0,0,0,0,0,0,0,0,0,0,0,0,0,0,0,0,0,0]
[{"$f":"LOADS!A376","v":{"$error":"#REF!"}},{"$f":"LOADS!B376","v":0},{"$f":"LOADS!X376","v":""},{"$f":"LOADS!AH376","v":0},0,0,0,0,{"$f":"IF(I$2=$D379,$C379,0)","v":0},0,0,0,0,0,0,0,0,0,0,0,0,0,0,0,0,0,{"$f":"IF(AA$2=$D379,$C379,0)","v":0},0,0,0,0,0]
[{"$f":"LOADS!A377","v":{"$error":"#REF!"}},{"$f":"LOADS!B377","v":0},{"$f":"LOADS!X377","v":""},{"$f":"LOADS!AH377","v":0},0,0,0,0,0,0,0,0,0,0,0,0,0,0,0,0,0,0,0,0,0,0,0,0,0,0,0,0]
[{"$f":"LOADS!A378","v":{"$error":"#REF!"}},{"$f":"LOADS!B378","v":0},{"$f":"LOADS!X378","v":""},{"$f":"LOADS!AH378","v":0},0,0,0,0,0,0,0,0,0,0,0,0,0,0,0,{"$f":"IF(T$2=$D381,$C381,0)","v":0},{"$f":"IF(U$2=$D381,$C381,0)","v":0},{"$f":"IF(V$2=$D381,$C381,0)","v":0},0,0,0,0,0,0,0,0,0,0]
[{"$f":"LOADS!A379","v":{"$error":"#REF!"}},{"$f":"LOADS!B379","v":0},{"$f":"LOADS!X379","v":""},{"$f":"LOADS!AH379","v":0},0,0,0,0,0,0,0,0,0,0,0,0,0,0,0,0,0,0,0,0,0,0,0,0,0,0,0,0]
[{"$f":"LOADS!A380","v":{"$error":"#REF!"}},{"$f":"LOADS!B380","v":0},{"$f":"LOADS!X380","v":""},{"$f":"LOADS!AH380","v":0},0,0,0,0,0,0,0,0,0,0,0,0,0,0,0,0,0,0,0,0,0,0,0,0,0,0,0,0]
[{"$f":"LOADS!A381","v":{"$error":"#REF!"}},{"$f":"LOADS!B381","v":0},{"$f":"LOADS!X381","v":""},{"$f":"LOADS!AH381","v":0},0,0,0,0,0,0,0,0,0,0,0,0,0,0,0,0,0,0,0,0,0,0,0,0,0,0,0,0]
[{"$f":"LOADS!A382","v":{"$error":"#REF!"}},{"$f":"LOADS!B382","v":0},{"$f":"LOADS!X382","v":""},{"$f":"LOADS!AH382","v":0},0,0,0,0,0,0,0,0,0,0,0,0,0,0,0,0,0,0,0,0,0,0,0,0,0,0,0,0]
[{"$f":"LOADS!A383","v":{"$error":"#REF!"}},{"$f":"LOADS!B383","v":0},{"$f":"LOADS!X383","v":""},{"$f":"LOADS!AH383","v":0},0,0,0,0,0,0,0,0,0,0,0,0,0,0,0,0,0,0,0,0,0,0,0,0,0,0,0,0]
[{"$f":"LOADS!A384","v":{"$error":"#REF!"}},{"$f":"LOADS!B384","v":0},{"$f":"LOADS!X384","v":""},{"$f":"LOADS!AH384","v":0},0,0,0,0,0,0,0,0,0,0,0,0,0,0,0,0,0,0,0,0,0,0,0,0,0,0,0,0]
[{"$f":"LOADS!A385","v":{"$error":"#REF!"}},{"$f":"LOADS!B385","v":0},{"$f":"LOADS!X385","v":""},{"$f":"LOADS!AH385","v":0},0,0,0,0,0,0,0,0,0,0,0,0,0,0,0,0,0,0,0,0,0,0,0,0,0,0,0,0]
[{"$f":"LOADS!A386","v":{"$error":"#REF!"}},{"$f":"LOADS!B386","v":0},{"$f":"LOADS!X386","v":""},{"$f":"LOADS!AH386","v":0},0,0,0,0,0,0,0,0,0,0,0,0,0,0,0,0,0,0,0,0,0,0,0,0,0,0,0,0]
[{"$f":"LOADS!A387","v":{"$error":"#REF!"}},{"$f":"LOADS!B387","v":0},{"$f":"LOADS!X387","v":""},{"$f":"LOADS!AH387","v":0},0,0,0,0,0,0,0,0,0,0,0,0,0,0,0,0,0,0,0,0,0,0,0,0,0,0,0,0]
[{"$f":"LOADS!A388","v":{"$error":"#REF!"}},{"$f":"LOADS!B388","v":0},{"$f":"LOADS!X388","v":""},{"$f":"LOADS!AH388","v":0},0,0,0,0,0,0,0,0,0,0,0,0,0,0,0,0,0,0,0,0,0,0,0,0,0,0,0,0]
[{"$f":"LOADS!A389","v":{"$error":"#REF!"}},{"$f":"LOADS!B389","v":0},{"$f":"LOADS!X389","v":""},{"$f":"LOADS!AH389","v":0},{"$f":"IF(E$2=$D392,$C392,0)","v":0},0,0,0,0,0,0,0,0,0,0,0,0,0,0,0,0,0,0,0,0,0,0,0,0,0,0,0]
[{"$f":"LOADS!A390","v":{"$error":"#REF!"}},{"$f":"LOADS!B390","v":0},{"$f":"LOADS!X390","v":""},{"$f":"LOADS!AH390","v":0},0,0,0,0,0,0,0,0,0,0,0,0,0,0,0,0,0,0,0,0,0,0,0,0,0,0,0,0]
[{"$f":"LOADS!A391","v":{"$error":"#REF!"}},{"$f":"LOADS!B391","v":0},{"$f":"LOADS!X391","v":""},{"$f":"LOADS!AH391","v":0},0,0,0,0,0,0,0,0,0,0,0,0,0,0,0,0,0,0,0,0,0,0,0,0,0,0,0,0]
[{"$f":"LOADS!A392","v":{"$error":"#REF!"}},{"$f":"LOADS!B392","v":0},{"$f":"LOADS!X392","v":""},{"$f":"LOADS!AH392","v":0},0,0,0,0,0,0,0,0,0,0,0,0,0,0,0,0,0,0,0,0,0,0,{"$f":"IF(AA$2=$D395,$C395,0)","v":0},0,0,0,0,0]
[{"$f":"LOADS!A393","v":{"$error":"#REF!"}},{"$f":"LOADS!B393","v":0},{"$f":"LOADS!X393","v":""},{"$f":"LOADS!AH393","v":0},0,0,0,0,0,0,0,0,0,0,0,0,0,0,0,0,0,0,0,0,0,0,0,0,0,0,0,0]
[{"$f":"LOADS!A394","v":{"$error":"#REF!"}},{"$f":"LOADS!B394","v":0},{"$f":"LOADS!X394","v":""},{"$f":"LOADS!AH394","v":0},0,0,0,0,0,0,0,0,0,0,0,0,0,0,0,0,0,0,0,0,0,0,0,0,0,0,0,0]
[{"$f":"LOADS!A395","v":{"$error":"#REF!"}},{"$f":"LOADS!B395","v":0},{"$f":"LOADS!X395","v":""},{"$f":"LOADS!AH395","v":0},0,0,0,0,0,0,0,0,0,0,0,0,0,0,0,0,0,0,0,0,0,0,0,0,0,0,0,0]
[{"$f":"LOADS!A396","v":{"$error":"#REF!"}},{"$f":"LOADS!B396","v":0},{"$f":"LOADS!X396","v":""},{"$f":"LOADS!AH396","v":0},0,0,0,0,0,0,0,0,0,0,0,0,0,0,0,0,0,0,0,0,0,0,0,0,0,0,0,0]
[{"$f":"LOADS!A397","v":{"$error":"#REF!"}},{"$f":"LOADS!B397","v":0},{"$f":"LOADS!X397","v":""},{"$f":"LOADS!AH397","v":0},0,0,0,0,0,0,0,0,0,0,0,0,0,0,0,0,0,0,0,0,0,0,0,0,0,0,0,0]
[{"$f":"LOADS!A398","v":{"$error":"#REF!"}},{"$f":"LOADS!B398","v":0},{"$f":"LOADS!X398","v":""},{"$f":"LOADS!AH398","v":0},0,0,0,0,0,0,0,0,0,0,0,0,0,0,0,0,0,0,0,0,0,0,0,0,0,0,0,0]
[{"$f":"LOADS!A399","v":{"$error":"#REF!"}},{"$f":"LOADS!B399","v":0},{"$f":"LOADS!X399","v":""},{"$f":"LOADS!AH399","v":0},0,0,0,0,0,0,0,0,0,0,0,0,0,0,0,0,0,0,0,0,0,0,0,0,0,0,0,0]
[{"$f":"LOADS!A400","v":{"$error":"#REF!"}},{"$f":"LOADS!B400","v":0},{"$f":"LOADS!X400","v":""},{"$f":"LOADS!AH400","v":0},0,0,0,0,0,0,0,0,0,0,0,0,0,0,{"$f":"IF(S$2=$D403,$C403,0)","v":0},0,0,0,0,0,0,0,0,0,0,0,0,0]
[{"$f":"LOADS!A401","v":{"$error":"#REF!"}},{"$f":"LOADS!B401","v":0},{"$f":"LOADS!X401","v":""},{"$f":"LOADS!AH401","v":0},0,0,0,0,0,0,0,0,0,0,0,0,0,0,0,0,0,0,0,{"$f":"IF(X$2=$D404,$C404,0)","v":0},0,0,0,0,0,0,0,0]
[{"$f":"LOADS!A402","v":{"$error":"#REF!"}},{"$f":"LOADS!B402","v":0},{"$f":"LOADS!X402","v":""},{"$f":"LOADS!AH402","v":0},0,0,0,0,0,0,0,0,0,0,0,0,0,0,0,0,0,0,0,0,0,0,0,0,0,0,0,0]
[{"$f":"LOADS!A403","v":{"$error":"#REF!"}},{"$f":"LOADS!B403","v":0},{"$f":"LOADS!X403","v":""},{"$f":"LOADS!AH403","v":0},0,0,0,0,0,0,0,0,0,0,0,0,0,0,0,0,0,0,0,0,0,0,0,0,0,0,0,0]
[{"$f":"LOADS!A404","v":{"$error":"#REF!"}},{"$f":"LOADS!B404","v":0},{"$f":"LOADS!X404","v":""},{"$f":"LOADS!AH404","v":0},0,0,0,0,0,0,0,0,0,0,0,0,0,0,0,0,0,0,0,0,0,0,0,0,0,0,0,0]
[{"$f":"LOADS!A405","v":{"$error":"#REF!"}},{"$f":"LOADS!B405","v":0},{"$f":"LOADS!X405","v":""},{"$f":"LOADS!AH405","v":0},0,0,0,0,0,0,0,0,0,0,0,0,0,0,0,0,0,0,0,0,0,0,0,0,0,0,0,0]
[{"$f":"LOADS!A406","v":{"$error":"#REF!"}},{"$f":"LOADS!B406","v":0},{"$f":"LOADS!X406","v":""},{"$f":"LOADS!AH406","v":0},0,0,0,0,0,0,0,0,0,0,0,0,0,0,0,0,0,0,0,0,0,0,0,0,0,0,0,0]
[{"$f":"LOADS!A407","v":{"$error":"#REF!"}},{"$f":"LOADS!B407","v":0},{"$f":"LOADS!X407","v":""},{"$f":"LOADS!AH407","v":0},0,0,0,0,0,0,0,0,0,0,0,0,0,0,0,0,0,0,0,0,0,0,0,0,0,0,0,0]
[{"$f":"LOADS!A408","v":{"$error":"#REF!"}},{"$f":"LOADS!B408","v":0},{"$f":"LOADS!X408","v":""},{"$f":"LOADS!AH408","v":0},0,0,0,0,0,0,0,0,0,0,0,0,0,0,0,0,0,0,0,0,0,0,{"$f":"IF(AA$2=$D411,$C411,0)","v":0},0,0,0,0,0]
[{"$f":"LOADS!A409","v":{"$error":"#REF!"}},{"$f":"LOADS!B409","v":0},{"$f":"LOADS!X409","v":""},{"$f":"LOADS!AH409","v":0},0,0,0,0,0,0,0,0,0,0,0,0,0,0,0,0,0,0,0,0,0,0,0,0,0,0,0,0]
[{"$f":"LOADS!A410","v":{"$error":"#REF!"}},{"$f":"LOADS!B410","v":0},{"$f":"LOADS!X410","v":""},{"$f":"LOADS!AH410","v":0},0,0,0,0,0,0,0,0,0,0,0,0,0,0,0,0,0,0,0,0,0,0,0,0,0,0,0,0]
[{"$f":"LOADS!A411","v":{"$error":"#REF!"}},{"$f":"LOADS!B411","v":0},{"$f":"LOADS!X411","v":""},{"$f":"LOADS!AH411","v":0},0,0,0,0,0,0,0,0,0,0,0,0,0,0,0,0,0,0,0,0,0,0,0,0,0,0,0,0]
[{"$f":"LOADS!A412","v":{"$error":"#REF!"}},{"$f":"LOADS!B412","v":0},{"$f":"LOADS!X412","v":""},{"$f":"LOADS!AH412","v":0},0,0,0,0,0,0,0,0,0,0,0,0,0,0,0,0,0,0,0,0,0,0,0,0,0,0,0,0]
[{"$f":"LOADS!A413","v":{"$error":"#REF!"}},{"$f":"LOADS!B413","v":0},{"$f":"LOADS!X413","v":""},{"$f":"LOADS!AH413","v":0},0,0,0,0,0,0,0,0,0,0,0,0,0,0,0,0,0,0,0,0,0,0,0,0,0,0,0,0]
[{"$f":"LOADS!A414","v":{"$error":"#REF!"}},{"$f":"LOADS!B414","v":0},{"$f":"LOADS!X414","v":""},{"$f":"LOADS!AH414","v":0},0,0,0,0,0,0,0,0,0,0,0,0,0,0,0,0,0,0,0,0,0,0,0,0,0,0,0,0]
[{"$f":"LOADS!A415","v":{"$error":"#REF!"}},{"$f":"LOADS!B415","v":0},{"$f":"LOADS!X415","v":""},{"$f":"LOADS!AH415","v":0},0,0,0,0,0,0,0,0,0,0,0,0,0,0,0,0,0,0,0,0,0,0,0,0,0,0,0,0]
[{"$f":"LOADS!A416","v":{"$error":"#REF!"}},{"$f":"LOADS!B416","v":0},{"$f":"LOADS!X416","v":""},{"$f":"LOADS!AH416","v":0},0,0,0,0,0,0,0,0,0,0,0,0,0,0,0,0,0,0,0,0,0,0,0,0,0,0,0,0]
[{"$f":"LOADS!A417","v":{"$error":"#REF!"}},{"$f":"LOADS!B417","v":0},{"$f":"LOADS!X417","v":""},{"$f":"LOADS!AH417","v":0},0,0,0,0,0,0,0,0,0,0,0,0,0,0,0,0,0,0,0,0,0,0,0,0,0,0,0,0]
[{"$f":"LOADS!A418","v":{"$error":"#REF!"}},{"$f":"LOADS!B418","v":0},{"$f":"LOADS!X418","v":""},{"$f":"LOADS!AH418","v":0},0,0,0,0,0,0,0,0,0,0,0,0,0,0,0,0,0,0,0,0,0,0,0,0,0,0,0,0]
[{"$f":"LOADS!A419","v":{"$error":"#REF!"}},{"$f":"LOADS!B419","v":0},{"$f":"LOADS!X419","v":""},{"$f":"LOADS!AH419","v":0},0,0,0,0,0,0,0,0,0,0,0,0,0,0,0,0,0,0,0,0,0,0,0,0,0,0,0,0]
[{"$f":"LOADS!A420","v":{"$error":"#REF!"}},{"$f":"LOADS!B420","v":0},{"$f":"LOADS!X420","v":""},{"$f":"LOADS!AH420","v":0},0,0,0,0,0,0,0,0,0,0,0,0,0,0,0,0,0,0,0,0,0,0,0,0,0,0,0,0]
[{"$f":"LOADS!A421","v":{"$error":"#REF!"}},{"$f":"LOADS!B421","v":0},{"$f":"LOADS!X421","v":""},{"$f":"LOADS!AH421","v":0},0,0,0,0,0,0,0,0,0,0,0,0,0,0,0,0,0,0,0,0,0,0,0,0,0,0,0,0]
[{"$f":"LOADS!A422","v":{"$error":"#REF!"}},{"$f":"LOADS!B422","v":0},{"$f":"LOADS!X422","v":""},{"$f":"LOADS!AH422","v":0},0,0,0,0,0,0,0,0,0,0,0,0,0,0,0,0,0,0,0,0,0,0,0,0,0,0,0,0]
[{"$f":"LOADS!A423","v":{"$error":"#REF!"}},{"$f":"LOADS!B423","v":0},{"$f":"LOADS!X423","v":""},{"$f":"LOADS!AH423","v":0},0,0,0,0,0,0,0,0,0,0,0,0,0,0,0,0,0,0,0,0,0,0,0,0,0,0,0,0]
[{"$f":"LOADS!A424","v":{"$error":"#REF!"}},{"$f":"LOADS!B424","v":0},{"$f":"LOADS!X424","v":""},{"$f":"LOADS!AH424","v":0},0,0,0,0,0,0,0,0,0,0,0,0,0,0,0,0,0,0,0,0,0,0,{"$f":"IF(AA$2=$D427,$C427,0)","v":0},0,0,0,0,0]
[{"$f":"LOADS!A425","v":{"$error":"#REF!"}},{"$f":"LOADS!B425","v":0},{"$f":"LOADS!X425","v":""},{"$f":"LOADS!AH425","v":0},0,0,0,0,0,0,0,0,0,0,0,0,0,0,0,0,0,0,0,0,0,0,0,0,0,0,0,0]
[{"$f":"LOADS!A426","v":{"$error":"#REF!"}},{"$f":"LOADS!B426","v":0},{"$f":"LOADS!X426","v":""},{"$f":"LOADS!AH426","v":0},0,0,0,0,0,0,0,0,{"$f":"IF(M$2=$D429,$C429,0)","v":0},0,0,0,0,0,0,0,0,{"$f":"IF(V$2=$D429,$C429,0)","v":0},0,0,0,0,0,0,0,0,0,0]
[{"$f":"LOADS!A427","v":{"$error":"#REF!"}},{"$f":"LOADS!B427","v":0},{"$f":"LOADS!X427","v":""},{"$f":"LOADS!AH427","v":0},0,0,0,0,{"$f":"IF(I$2=$D430,$C430,0)","v":0},0,0,0,0,0,0,0,0,0,0,0,0,0,0,0,0,0,0,0,0,0,0,0]
[{"$f":"LOADS!A428","v":{"$error":"#REF!"}},{"$f":"LOADS!B428","v":0},{"$f":"LOADS!X428","v":""},{"$f":"LOADS!AH428","v":0},0,0,0,0,0,0,0,0,0,0,0,0,0,0,0,0,0,0,0,0,0,0,0,0,0,0,0,0]
[{"$f":"LOADS!A429","v":{"$error":"#REF!"}},{"$f":"LOADS!B429","v":0},{"$f":"LOADS!X429","v":""},{"$f":"LOADS!AH429","v":0},0,0,0,0,0,0,0,0,0,0,0,0,0,0,0,0,0,0,0,0,0,0,0,0,0,0,0,0]
[{"$f":"LOADS!A430","v":{"$error":"#REF!"}},{"$f":"LOADS!B430","v":0},{"$f":"LOADS!X430","v":""},{"$f":"LOADS!AH430","v":0},0,0,0,0,0,0,0,0,0,0,0,0,0,0,0,0,0,0,0,0,0,0,0,0,0,0,0,0]
[{"$f":"LOADS!A431","v":{"$error":"#REF!"}},{"$f":"LOADS!B431","v":0},{"$f":"LOADS!X431","v":""},{"$f":"LOADS!AH431","v":0},0,0,0,0,0,0,0,0,0,0,0,0,0,0,0,0,0,0,0,0,0,0,0,0,0,0,0,0]
[{"$f":"LOADS!A432","v":{"$error":"#REF!"}},{"$f":"LOADS!B432","v":0},{"$f":"LOADS!X432","v":""},{"$f":"LOADS!AH432","v":0},0,0,0,0,0,0,0,0,0,0,0,0,0,0,0,0,0,0,0,0,0,0,0,0,0,0,0,0]
[{"$f":"LOADS!A433","v":{"$error":"#REF!"}},{"$f":"LOADS!B433","v":0},{"$f":"LOADS!X433","v":""},{"$f":"LOADS!AH433","v":0},0,0,0,0,0,0,0,0,0,0,0,0,0,0,0,0,0,0,0,0,0,0,0,0,0,0,0,0]
[{"$f":"LOADS!A434","v":{"$error":"#REF!"}},{"$f":"LOADS!B434","v":0},{"$f":"LOADS!X434","v":""},{"$f":"LOADS!AH434","v":0},0,0,0,0,0,0,0,0,0,0,0,0,0,0,0,0,0,0,0,0,0,0,0,0,0,0,0,0]
[{"$f":"LOADS!A435","v":{"$error":"#REF!"}},{"$f":"LOADS!B435","v":0},{"$f":"LOADS!X435","v":""},{"$f":"LOADS!AH435","v":0},0,0,0,0,0,0,0,0,0,0,0,0,0,0,0,0,0,0,0,0,0,0,0,0,0,0,0,0]
[{"$f":"LOADS!A436","v":{"$error":"#REF!"}},{"$f":"LOADS!B436","v":0},{"$f":"LOADS!X436","v":""},{"$f":"LOADS!AH436","v":0},0,0,0,0,0,0,0,0,0,0,0,0,0,0,0,0,0,0,0,0,0,0,0,0,0,0,0,0]
[{"$f":"LOADS!A437","v":{"$error":"#REF!"}},{"$f":"LOADS!B437","v":0},{"$f":"LOADS!X437","v":""},{"$f":"LOADS!AH437","v":0},0,0,0,0,0,0,0,0,0,0,0,0,0,0,0,0,0,0,0,0,0,0,0,0,0,0,0,0]
[{"$f":"LOADS!A438","v":{"$error":"#REF!"}},{"$f":"LOADS!B438","v":0},{"$f":"LOADS!X438","v":""},{"$f":"LOADS!AH438","v":0},0,0,0,0,0,0,0,0,0,0,0,0,0,0,0,0,0,0,0,0,0,0,0,0,0,0,0,0]
[{"$f":"LOADS!A439","v":{"$error":"#REF!"}},{"$f":"LOADS!B439","v":0},{"$f":"LOADS!X439","v":""},{"$f":"LOADS!AH439","v":0},0,0,0,0,0,0,0,0,0,0,0,0,0,0,0,0,0,0,0,0,0,0,0,0,0,0,0,0]
[{"$f":"LOADS!A440","v":{"$error":"#REF!"}},{"$f":"LOADS!B440","v":0},{"$f":"LOADS!X440","v":""},{"$f":"LOADS!AH440","v":0},{"$f":"IF(E$2=$D443,$C443,0)","v":0},0,0,0,0,0,0,0,0,0,0,0,0,0,0,0,0,0,0,0,0,0,{"$f":"IF(AA$2=$D443,$C443,0)","v":0},0,0,0,0,0]
[{"$f":"LOADS!A441","v":{"$error":"#REF!"}},{"$f":"LOADS!B441","v":0},{"$f":"LOADS!X441","v":""},{"$f":"LOADS!AH441","v":0},0,0,0,0,0,0,0,0,0,0,0,0,0,0,0,0,0,0,0,0,0,0,0,0,0,0,0,0]
[{"$f":"LOADS!A442","v":{"$error":"#REF!"}},{"$f":"LOADS!B442","v":0},{"$f":"LOADS!X442","v":""},{"$f":"LOADS!AH442","v":0},0,0,0,0,0,0,0,0,0,0,0,0,0,0,0,0,0,0,0,0,0,0,0,0,0,0,0,0]
[{"$f":"LOADS!A443","v":{"$error":"#REF!"}},{"$f":"LOADS!B443","v":0},{"$f":"LOADS!X443","v":""},{"$f":"LOADS!AH443","v":0},0,0,0,0,0,0,0,0,0,0,0,0,0,0,0,0,0,0,0,0,{"$f":"IF(Y$2=$D446,$C446,0)","v":0},0,0,0,0,0,0,0]
[{"$f":"LOADS!A444","v":{"$error":"#REF!"}},{"$f":"LOADS!B444","v":0},{"$f":"LOADS!X444","v":""},{"$f":"LOADS!AH444","v":0},0,0,0,0,0,0,0,0,0,0,0,0,0,0,0,0,0,0,0,0,0,0,0,0,0,0,0,0]
[{"$f":"LOADS!A445","v":{"$error":"#REF!"}},{"$f":"LOADS!B445","v":0},{"$f":"LOADS!X445","v":""},{"$f":"LOADS!AH445","v":0},0,0,0,0,0,0,0,0,0,0,0,0,0,0,0,0,0,0,0,0,0,0,0,0,0,0,0,0]
[{"$f":"LOADS!A446","v":{"$error":"#REF!"}},{"$f":"LOADS!B446","v":0},{"$f":"LOADS!X446","v":""},{"$f":"LOADS!AH446","v":0},0,0,0,0,0,0,0,0,0,0,0,0,0,0,0,0,0,0,0,0,0,0,0,0,0,0,0,0]
[{"$f":"LOADS!A447","v":{"$error":"#REF!"}},{"$f":"LOADS!B447","v":0},{"$f":"LOADS!X447","v":""},{"$f":"LOADS!AH447","v":0},0,0,0,0,0,0,0,0,0,0,0,0,0,0,0,0,0,0,0,0,0,0,0,0,0,0,0,0]
[{"$f":"LOADS!A448","v":{"$error":"#REF!"}},{"$f":"LOADS!B448","v":0},{"$f":"LOADS!X448","v":""},{"$f":"LOADS!AH448","v":0},0,0,0,0,0,0,0,0,0,0,0,0,0,0,0,0,0,0,0,0,0,0,0,0,0,0,0,0]
[{"$f":"LOADS!A449","v":{"$error":"#REF!"}},{"$f":"LOADS!B449","v":0},{"$f":"LOADS!X449","v":""},{"$f":"LOADS!AH449","v":0},0,0,0,0,0,0,0,0,0,0,0,0,0,0,0,0,0,0,0,0,0,0,0,0,0,0,0,0]
[{"$f":"LOADS!A450","v":{"$error":"#REF!"}},{"$f":"LOADS!B450","v":0},{"$f":"LOADS!X450","v":""},{"$f":"LOADS!AH450","v":0},0,0,0,0,0,0,0,0,0,0,0,0,0,0,0,0,0,0,0,0,0,0,0,0,0,0,0,0]
[{"$f":"LOADS!A451","v":{"$error":"#REF!"}},{"$f":"LOADS!B451","v":0},{"$f":"LOADS!X451","v":""},{"$f":"LOADS!AH451","v":0},0,0,0,0,0,0,0,0,0,0,0,0,0,0,0,0,0,0,0,0,0,0,0,0,0,0,0,0]
[{"$f":"LOADS!A452","v":{"$error":"#REF!"}},{"$f":"LOADS!B452","v":0},{"$f":"LOADS!X452","v":""},{"$f":"LOADS!AH452","v":0},0,0,0,0,0,0,0,0,0,0,0,0,0,0,0,0,0,0,0,0,0,0,0,0,0,0,0,0]
[{"$f":"LOADS!A453","v":{"$error":"#REF!"}},{"$f":"LOADS!B453","v":0},{"$f":"LOADS!X453","v":""},{"$f":"LOADS!AH453","v":0},0,0,0,0,0,0,0,0,0,0,0,0,0,0,0,0,0,0,0,0,0,0,0,0,0,0,0,0]
[{"$f":"LOADS!A454","v":{"$error":"#REF!"}},{"$f":"LOADS!B454","v":0},{"$f":"LOADS!X454","v":""},{"$f":"LOADS!AH454","v":0},0,0,0,0,0,0,0,0,0,0,0,0,0,0,0,0,0,0,0,0,0,0,0,0,0,0,0,0]
[{"$f":"LOADS!A455","v":{"$error":"#REF!"}},{"$f":"LOADS!B455","v":0},{"$f":"LOADS!X455","v":""},{"$f":"LOADS!AH455","v":0},0,0,0,0,0,0,0,0,0,0,0,0,0,0,0,0,0,0,0,0,0,0,0,0,0,0,0,0]
[{"$f":"LOADS!A456","v":{"$error":"#REF!"}},{"$f":"LOADS!B456","v":0},{"$f":"LOADS!X456","v":""},{"$f":"LOADS!AH456","v":0},0,0,0,0,0,0,0,0,0,0,0,0,0,0,0,0,0,0,0,0,0,0,{"$f":"IF(AA$2=$D459,$C459,0)","v":0},0,0,0,0,0]
[{"$f":"LOADS!A457","v":{"$error":"#REF!"}},{"$f":"LOADS!B457","v":0},{"$f":"LOADS!X457","v":""},{"$f":"LOADS!AH457","v":0},0,0,0,0,0,0,0,0,0,0,0,0,0,0,0,0,0,0,0,0,0,0,0,0,0,0,0,0]
[{"$f":"LOADS!A458","v":{"$error":"#REF!"}},{"$f":"LOADS!B458","v":0},{"$f":"LOADS!X458","v":""},{"$f":"LOADS!AH458","v":0},0,0,0,0,0,0,0,0,0,0,0,0,0,0,0,0,0,0,0,0,0,0,0,0,0,0,0,0]
[{"$f":"LOADS!A459","v":{"$error":"#REF!"}},{"$f":"LOADS!B459","v":0},{"$f":"LOADS!X459","v":""},{"$f":"LOADS!AH459","v":0},0,0,0,0,0,0,0,0,0,0,0,0,0,0,0,0,0,0,0,0,0,0,0,0,0,0,0,0]
[{"$f":"LOADS!A460","v":{"$error":"#REF!"}},{"$f":"LOADS!B460","v":0},{"$f":"LOADS!X460","v":""},{"$f":"LOADS!AH460","v":0},0,0,0,0,0,0,0,0,0,0,0,0,{"$f":"IF(Q$2=$D463,$C463,0)","v":0},0,0,0,0,0,0,0,0,0,0,0,0,0,0,0]
[{"$f":"LOADS!A461","v":{"$error":"#REF!"}},{"$f":"LOADS!B461","v":0},{"$f":"LOADS!X461","v":""},{"$f":"LOADS!AH461","v":0},0,0,0,0,{"$f":"IF(I$2=$D464,$C464,0)","v":0},0,0,0,0,0,0,0,0,0,0,0,0,0,0,0,0,0,0,0,0,0,0,0]
[{"$f":"LOADS!A462","v":{"$error":"#REF!"}},{"$f":"LOADS!B462","v":0},{"$f":"LOADS!X462","v":""},{"$f":"LOADS!AH462","v":0},0,0,0,0,0,0,0,0,0,0,0,0,0,0,0,0,0,0,0,0,0,0,0,0,0,0,0,0]
[{"$f":"LOADS!A463","v":{"$error":"#REF!"}},{"$f":"LOADS!B463","v":0},{"$f":"LOADS!X463","v":""},{"$f":"LOADS!AH463","v":0},0,0,0,0,0,0,0,0,0,0,0,0,0,0,0,0,0,0,0,0,0,0,0,0,0,0,0,0]
[{"$f":"LOADS!A464","v":{"$error":"#REF!"}},{"$f":"LOADS!B464","v":0},{"$f":"LOADS!X464","v":""},{"$f":"LOADS!AH464","v":0},0,0,0,0,0,0,0,0,0,0,0,0,0,0,0,0,0,0,0,0,0,0,0,0,0,0,0,0]
[{"$f":"LOADS!A465","v":{"$error":"#REF!"}},{"$f":"LOADS!B465","v":0},{"$f":"LOADS!X465","v":""},{"$f":"LOADS!AH465","v":0},0,0,0,0,0,0,0,0,0,0,0,0,0,0,0,0,0,0,0,0,0,0,0,0,0,0,0,0]
[{"$f":"LOADS!A466","v":{"$error":"#REF!"}},{"$f":"LOADS!B466","v":0},{"$f":"LOADS!X466","v":""},{"$f":"LOADS!AH466","v":0},0,0,0,0,0,0,0,0,0,0,0,0,0,0,0,0,0,0,0,0,0,0,0,0,0,0,0,0]
[{"$f":"LOADS!A467","v":{"$error":"#REF!"}},{"$f":"LOADS!B467","v":0},{"$f":"LOADS!X467","v":""},{"$f":"LOADS!AH467","v":0},0,0,0,0,0,0,0,0,0,0,0,0,0,0,0,0,0,0,0,0,0,0,0,0,0,0,0,0]
[{"$f":"LOADS!A468","v":{"$error":"#REF!"}},{"$f":"LOADS!B468","v":0},{"$f":"LOADS!X468","v":""},{"$f":"LOADS!AH468","v":0},0,0,0,0,0,0,0,0,0,0,0,0,0,0,0,0,0,0,0,0,0,0,0,0,0,0,0,0]
[{"$f":"LOADS!A469","v":{"$error":"#REF!"}},{"$f":"LOADS!B469","v":0},{"$f":"LOADS!X469","v":""},{"$f":"LOADS!AH469","v":0},0,0,0,0,0,0,0,0,0,0,0,0,0,0,0,0,0,0,0,0,0,0,0,0,0,0,0,0]
[{"$f":"LOADS!A470","v":{"$error":"#REF!"}},{"$f":"LOADS!B470","v":0},{"$f":"LOADS!X470","v":""},{"$f":"LOADS!AH470","v":0},0,0,0,0,0,0,0,0,0,0,0,0,0,0,0,0,0,0,0,0,0,0,0,0,0,0,0,0]
[{"$f":"LOADS!A471","v":{"$error":"#REF!"}},{"$f":"LOADS!B471","v":0},{"$f":"LOADS!X471","v":""},{"$f":"LOADS!AH471","v":0},0,0,0,0,0,0,0,0,0,0,0,0,0,0,0,0,0,0,0,0,0,0,0,0,0,0,0,0]
[{"$f":"LOADS!A472","v":{"$error":"#REF!"}},{"$f":"LOADS!B472","v":0},{"$f":"LOADS!X472","v":""},{"$f":"LOADS!AH472","v":0},0,0,0,0,0,0,0,0,0,0,0,0,0,0,0,0,0,0,0,0,0,0,{"$f":"IF(AA$2=$D475,$C475,0)","v":0},0,0,0,0,0]
[{"$f":"LOADS!A473","v":{"$error":"#REF!"}},{"$f":"LOADS!B473","v":0},{"$f":"LOADS!X473","v":""},{"$f":"LOADS!AH473","v":0},0,0,0,0,0,0,0,0,0,0,0,0,0,0,0,0,0,0,0,0,0,0,0,0,0,0,0,0]
[{"$f":"LOADS!A474","v":{"$error":"#REF!"}},{"$f":"LOADS!B474","v":0},{"$f":"LOADS!X474","v":""},{"$f":"LOADS!AH474","v":0},0,0,0,0,0,0,0,0,0,0,0,0,0,0,0,0,0,0,0,0,0,0,0,0,0,0,0,0]
[{"$f":"LOADS!A475","v":{"$error":"#REF!"}},{"$f":"LOADS!B475","v":0},{"$f":"LOADS!X475","v":""},{"$f":"LOADS!AH475","v":0},0,0,0,0,0,0,0,0,0,0,0,0,0,0,0,0,0,0,0,0,0,0,0,0,0,0,0,0]
[{"$f":"LOADS!A476","v":{"$error":"#REF!"}},{"$f":"LOADS!B476","v":0},{"$f":"LOADS!X476","v":""},{"$f":"LOADS!AH476","v":0},0,0,0,0,0,0,0,0,0,0,0,0,0,0,0,0,0,0,0,0,0,0,0,0,0,0,0,0]
[{"$f":"LOADS!A477","v":{"$error":"#REF!"}},{"$f":"LOADS!B477","v":0},{"$f":"LOADS!X477","v":""},{"$f":"LOADS!AH477","v":0},0,0,0,0,0,0,0,0,0,0,0,0,0,0,0,0,0,{"$f":"IF(V$2=$D480,$C480,0)","v":0},0,0,0,0,0,0,0,0,0,0]
[{"$f":"LOADS!A478","v":{"$error":"#REF!"}},{"$f":"LOADS!B478","v":0},{"$f":"LOADS!X478","v":""},{"$f":"LOADS!AH478","v":0},0,0,0,0,0,0,0,0,0,0,0,0,0,0,0,0,0,0,0,0,0,0,0,0,0,0,0,0]
[{"$f":"LOADS!A479","v":{"$error":"#REF!"}},{"$f":"LOADS!B479","v":0},{"$f":"LOADS!X479","v":""},{"$f":"LOADS!AH479","v":0},0,0,0,0,0,0,0,0,0,0,0,0,0,0,0,0,0,0,0,0,0,0,0,0,0,0,0,0]
[{"$f":"LOADS!A480","v":{"$error":"#REF!"}},{"$f":"LOADS!B480","v":0},{"$f":"LOADS!X480","v":""},{"$f":"LOADS!AH480","v":0},0,0,0,0,0,0,0,0,0,0,0,0,0,0,0,0,0,0,0,0,0,0,0,0,0,0,0,0]
[{"$f":"LOADS!A481","v":{"$error":"#REF!"}},{"$f":"LOADS!B481","v":0},{"$f":"LOADS!X481","v":""},{"$f":"LOADS!AH481","v":0},0,0,0,0,0,0,0,0,0,0,0,0,0,0,0,0,0,0,0,0,0,0,0,0,0,0,0,0]
[{"$f":"LOADS!A482","v":{"$error":"#REF!"}},{"$f":"LOADS!B482","v":0},{"$f":"LOADS!X482","v":""},{"$f":"LOADS!AH482","v":0},0,0,0,0,0,0,0,0,0,0,0,0,0,0,0,0,0,0,0,0,0,0,0,0,0,0,0,0]
[{"$f":"LOADS!A483","v":{"$error":"#REF!"}},{"$f":"LOADS!B483","v":0},{"$f":"LOADS!X483","v":""},{"$f":"LOADS!AH483","v":0},0,0,0,0,0,0,0,0,0,0,0,0,0,0,0,0,0,0,0,0,0,0,0,0,0,0,0,0]
[{"$f":"LOADS!A484","v":{"$error":"#REF!"}},{"$f":"LOADS!B484","v":0},{"$f":"LOADS!X484","v":""},{"$f":"LOADS!AH484","v":0},0,0,0,0,0,0,0,0,0,0,0,0,0,0,0,0,0,0,0,0,0,0,0,0,0,0,0,0]
[{"$f":"LOADS!A485","v":{"$error":"#REF!"}},{"$f":"LOADS!B485","v":0},{"$f":"LOADS!X485","v":""},{"$f":"LOADS!AH485","v":0},0,0,0,0,0,0,0,0,0,0,0,0,0,0,0,0,0,0,0,0,0,0,0,0,0,0,0,0]
[{"$f":"LOADS!A486","v":{"$error":"#REF!"}},{"$f":"LOADS!B486","v":0},{"$f":"LOADS!X486","v":""},{"$f":"LOADS!AH486","v":0},0,0,0,0,0,0,0,0,{"$f":"IF(M$2=$D489,$C489,0)","v":0},0,0,0,0,0,0,0,0,0,0,{"$f":"IF(X$2=$D489,$C489,0)","v":0},0,0,0,0,0,0,0,0]
[{"$f":"LOADS!A487","v":{"$error":"#REF!"}},{"$f":"LOADS!B487","v":0},{"$f":"LOADS!X487","v":""},{"$f":"LOADS!AH487","v":0},0,0,0,0,{"$f":"IF(I$2=$D490,$C490,0)","v":0},0,0,0,0,0,0,0,0,0,0,0,0,0,0,0,0,0,0,0,0,0,0,0]
[{"$f":"LOADS!A488","v":{"$error":"#REF!"}},{"$f":"LOADS!B488","v":0},{"$f":"LOADS!X488","v":""},{"$f":"LOADS!AH488","v":0},0,0,0,0,0,0,0,0,0,0,0,0,0,0,0,0,0,0,0,0,0,0,{"$f":"IF(AA$2=$D491,$C491,0)","v":0},0,0,0,0,0]
[{"$f":"LOADS!A489","v":{"$error":"#REF!"}},{"$f":"LOADS!B489","v":0},{"$f":"LOADS!X489","v":""},{"$f":"LOADS!AH489","v":0},0,0,0,0,0,0,0,0,0,0,0,0,0,0,0,0,0,0,0,0,0,0,0,0,0,0,0,0]
[{"$f":"LOADS!A490","v":{"$error":"#REF!"}},{"$f":"LOADS!B490","v":0},{"$f":"LOADS!X490","v":""},{"$f":"LOADS!AH490","v":0},0,0,0,0,0,0,0,0,0,0,0,0,0,0,0,0,0,0,0,0,0,0,0,0,0,0,0,0]
[{"$f":"LOADS!A491","v":{"$error":"#REF!"}},{"$f":"LOADS!B491","v":0},{"$f":"LOADS!X491","v":""},{"$f":"LOADS!AH491","v":0},{"$f":"IF(E$2=$D494,$C494,0)","v":0},0,0,0,0,0,0,0,0,0,0,0,0,0,0,0,0,0,0,0,0,0,0,0,0,0,0,0]
[{"$f":"LOADS!A492","v":{"$error":"#REF!"}},{"$f":"LOADS!B492","v":0},{"$f":"LOADS!X492","v":""},{"$f":"LOADS!AH492","v":0},0,0,0,0,0,0,0,0,0,0,0,0,0,0,0,0,0,0,0,0,0,0,0,0,0,0,0,0]
[{"$f":"LOADS!A493","v":{"$error":"#REF!"}},{"$f":"LOADS!B493","v":0},{"$f":"LOADS!X493","v":""},{"$f":"LOADS!AH493","v":0},0,0,0,0,0,0,0,0,0,0,0,0,0,0,0,0,0,0,0,0,0,0,0,0,0,0,0,0]
[{"$f":"LOADS!A494","v":{"$error":"#REF!"}},{"$f":"LOADS!B494","v":0},{"$f":"LOADS!X494","v":""},{"$f":"LOADS!AH494","v":0},0,0,0,0,0,0,0,0,0,0,0,0,0,0,0,0,0,0,0,0,0,0,0,0,0,0,0,0]
[{"$f":"LOADS!A495","v":{"$error":"#REF!"}},{"$f":"LOADS!B495","v":0},{"$f":"LOADS!X495","v":""},{"$f":"LOADS!AH495","v":0},0,0,0,0,0,0,0,0,0,0,0,0,0,0,0,0,0,0,0,0,0,0,0,0,0,0,0,0]
[{"$f":"LOADS!A496","v":{"$error":"#REF!"}},{"$f":"LOADS!B496","v":0},{"$f":"LOADS!X496","v":""},{"$f":"LOADS!AH496","v":0},0,0,0,0,0,0,0,0,0,0,0,0,0,0,0,0,0,0,0,0,0,0,0,0,0,0,0,0]
[{"$f":"LOADS!A497","v":{"$error":"#REF!"}},{"$f":"LOADS!B497","v":0},{"$f":"LOADS!X497","v":""},{"$f":"LOADS!AH497","v":0},0,0,0,0,{"$f":"IF(I$2=$D500,$C500,0)","v":0},0,0,0,0,0,0,0,0,0,0,0,0,0,0,0,0,0,0,0,0,0,0,0]
[{"$f":"LOADS!A498","v":{"$error":"#REF!"}},{"$f":"LOADS!B498","v":0},{"$f":"LOADS!X498","v":""},{"$f":"LOADS!AH498","v":0},0,0,0,0,0,0,0,0,0,0,0,0,0,0,0,0,0,0,0,0,0,0,0,0,0,0,0,0]
[{"$f":"LOADS!A499","v":{"$error":"#REF!"}},{"$f":"LOADS!B499","v":0},{"$f":"LOADS!X499","v":""},{"$f":"LOADS!AH499","v":0},0,0,0,0,0,0,0,0,0,0,0,0,0,0,0,0,0,0,0,0,0,0,0,0,0,0,0,0]
[{"$f":"LOADS!A500","v":{"$error":"#REF!"}},{"$f":"LOADS!B500","v":0},{"$f":"LOADS!X500","v":""},{"$f":"LOADS!AH500","v":0},0,0,0,0,0,0,0,0,0,0,0,0,0,0,0,0,0,0,0,0,0,0,0,0,0,0,0,0]
[{"$f":"LOADS!A501","v":{"$error":"#REF!"}},{"$f":"LOADS!B501","v":0},{"$f":"LOADS!X501","v":""},{"$f":"LOADS!AH501","v":0},0,0,0,0,0,0,0,0,0,0,0,0,0,0,0,0,0,0,0,0,0,0,0,0,0,0,0,0]
[{"$f":"LOADS!A502","v":{"$error":"#REF!"}},{"$f":"LOADS!B502","v":0},{"$f":"LOADS!X502","v":""},{"$f":"LOADS!AH502","v":0},0,0,0,0,0,0,0,0,0,0,0,0,0,0,0,0,0,0,0,0,0,0,0,0,0,0,0,0]
[{"$f":"LOADS!A503","v":{"$error":"#REF!"}},{"$f":"LOADS!B503","v":0},{"$f":"LOADS!X503","v":""},{"$f":"LOADS!AH503","v":0},0,0,0,0,0,0,0,0,0,0,0,0,0,0,0,0,0,0,0,0,0,0,0,0,0,0,0,0]
[{"$f":"LOADS!A504","v":{"$error":"#REF!"}},{"$f":"LOADS!B504","v":0},{"$f":"LOADS!X504","v":""},{"$f":"LOADS!AH504","v":0},0,0,0,0,0,0,0,0,0,0,0,0,0,0,0,0,0,0,0,0,0,0,0,0,0,0,0,0]
[{"$f":"LOADS!A505","v":{"$error":"#REF!"}},{"$f":"LOADS!B505","v":0},{"$f":"LOADS!X505","v":""},{"$f":"LOADS!AH505","v":0},0,0,0,0,0,0,0,0,0,0,0,0,0,0,0,0,0,0,0,0,0,0,0,0,0,0,0,0]
[{"$f":"LOADS!A506","v":{"$error":"#REF!"}},{"$f":"LOADS!B506","v":0},{"$f":"LOADS!X506","v":""},{"$f":"LOADS!AH506","v":0},0,0,0,0,0,0,0,0,0,0,0,0,0,0,0,0,0,0,0,0,0,0,0,0,0,0,0,0]
[{"$f":"LOADS!A507","v":{"$error":"#REF!"}},{"$f":"LOADS!B507","v":0},{"$f":"LOADS!X507","v":""},{"$f":"LOADS!AH507","v":0},0,0,0,0,{"$f":"IF(I$2=$D510,$C510,0)","v":0},0,0,0,0,0,0,0,0,0,0,0,0,0,0,0,0,0,0,0,0,0,0,0]
[{"$f":"LOADS!A508","v":{"$error":"#REF!"}},{"$f":"LOADS!B508","v":0},{"$f":"LOADS!X508","v":""},{"$f":"LOADS!AH508","v":0},0,0,0,0,0,0,0,0,0,0,0,0,0,0,0,0,0,0,0,0,0,0,0,0,0,0,0,0]
[{"$f":"LOADS!A509","v":{"$error":"#REF!"}},{"$f":"LOADS!B509","v":0},{"$f":"LOADS!X509","v":""},{"$f":"LOADS!AH509","v":0},0,0,0,0,0,0,0,0,0,0,0,0,0,0,0,0,0,0,0,0,0,0,0,0,0,0,0,0]
[{"$f":"LOADS!A510","v":{"$error":"#REF!"}},{"$f":"LOADS!B510","v":0},{"$f":"LOADS!X510","v":""},{"$f":"LOADS!AH510","v":0},0,0,0,0,0,0,0,0,0,0,0,0,0,0,0,0,0,0,0,0,0,0,0,0,0,0,0,0]
[{"$f":"LOADS!A511","v":{"$error":"#REF!"}},{"$f":"LOADS!B511","v":0},{"$f":"LOADS!X511","v":""},{"$f":"LOADS!AH511","v":0},0,0,0,0,0,0,0,0,0,0,0,0,0,0,0,0,0,0,0,0,0,0,0,0,0,0,0,0]
[{"$f":"LOADS!A512","v":{"$error":"#REF!"}},{"$f":"LOADS!B512","v":0},{"$f":"LOADS!X512","v":""},{"$f":"LOADS!AH512","v":0},0,0,0,0,0,0,0,0,0,0,0,0,0,0,0,0,0,0,0,0,0,0,0,0,0,0,0,0]
[{"$f":"LOADS!A513","v":{"$error":"#REF!"}},{"$f":"LOADS!B513","v":0},{"$f":"LOADS!X513","v":""},{"$f":"LOADS!AH513","v":0},0,0,0,0,0,0,0,0,0,0,0,0,0,0,0,0,0,0,0,0,0,0,0,0,0,0,0,0]
[{"$f":"LOADS!A514","v":{"$error":"#REF!"}},{"$f":"LOADS!B514","v":0},{"$f":"LOADS!X514","v":""},{"$f":"LOADS!AH514","v":0},0,0,0,0,0,0,0,0,0,0,0,0,0,0,0,0,0,0,0,0,0,0,0,0,0,0,0,0]
[{"$f":"LOADS!A515","v":{"$error":"#REF!"}},{"$f":"LOADS!B515","v":0},{"$f":"LOADS!X515","v":""},{"$f":"LOADS!AH515","v":0},0,0,0,0,0,0,0,0,0,0,0,0,0,0,0,0,0,0,0,0,0,0,0,0,0,0,0,0]
[{"$f":"LOADS!A516","v":{"$error":"#REF!"}},{"$f":"LOADS!B516","v":0},{"$f":"LOADS!X516","v":""},{"$f":"LOADS!AH516","v":0},0,0,0,0,0,0,0,0,0,0,0,0,0,0,0,0,0,0,0,0,0,0,0,0,0,0,0,0]
[{"$f":"LOADS!A517","v":{"$error":"#REF!"}},{"$f":"LOADS!B517","v":0},{"$f":"LOADS!X517","v":""},{"$f":"LOADS!AH517","v":0},0,0,0,0,{"$f":"IF(I$2=$D520,$C520,0)","v":0},0,0,0,0,0,0,0,0,0,0,0,0,0,0,0,0,0,0,0,0,0,0,0]
[{"$f":"LOADS!A518","v":{"$error":"#REF!"}},{"$f":"LOADS!B518","v":0},{"$f":"LOADS!X518","v":""},{"$f":"LOADS!AH518","v":0},0,0,0,0,0,0,0,0,0,0,0,0,0,0,0,0,0,0,0,0,0,0,0,0,0,0,0,0]
[{"$f":"LOADS!A519","v":{"$error":"#REF!"}},{"$f":"LOADS!B519","v":0},{"$f":"LOADS!X519","v":""},{"$f":"LOADS!AH519","v":0},0,0,0,0,0,0,0,0,0,0,0,0,0,0,0,0,0,0,0,0,0,0,0,0,0,0,{"$f":"IF(AE$2=$D522,$C522,0)","v":0},0]
[{"$f":"LOADS!A520","v":{"$error":"#REF!"}},{"$f":"LOADS!B520","v":0},{"$f":"LOADS!X520","v":""},{"$f":"LOADS!AH520","v":0},0,0,0,0,0,0,0,0,0,0,0,0,0,0,0,0,0,0,0,0,0,0,0,0,0,0,0,0]
[{"$f":"LOADS!A521","v":{"$error":"#REF!"}},{"$f":"LOADS!B521","v":0},{"$f":"LOADS!X521","v":""},{"$f":"LOADS!AH521","v":0},0,0,0,0,0,0,0,0,0,0,0,0,0,0,0,0,0,0,0,0,0,0,0,0,0,0,0,0]
[{"$f":"LOADS!A522","v":{"$error":"#REF!"}},{"$f":"LOADS!B522","v":0},{"$f":"LOADS!X522","v":""},{"$f":"LOADS!AH522","v":0},0,0,0,0,0,0,0,0,0,0,0,0,0,0,0,0,0,0,0,0,0,0,0,0,0,0,0,0]
[{"$f":"LOADS!A523","v":{"$error":"#REF!"}},{"$f":"LOADS!B523","v":0},{"$f":"LOADS!X523","v":""},{"$f":"LOADS!AH523","v":0},0,0,0,0,0,0,0,0,0,0,0,0,0,0,0,0,0,0,0,0,0,0,0,0,0,0,0,0]
[{"$f":"LOADS!A524","v":{"$error":"#REF!"}},{"$f":"LOADS!B524","v":0},{"$f":"LOADS!X524","v":""},{"$f":"LOADS!AH524","v":0},0,0,0,0,0,0,0,0,{"$f":"IF(M$2=$D527,$C527,0)","v":0},0,0,0,0,0,0,0,0,0,0,0,0,0,0,0,0,0,0,0]
[{"$f":"LOADS!A525","v":{"$error":"#REF!"}},{"$f":"LOADS!B525","v":0},{"$f":"LOADS!X525","v":""},{"$f":"LOADS!AH525","v":0},0,0,0,0,0,0,0,0,0,0,0,0,0,0,0,0,0,0,0,0,0,0,0,0,0,0,0,0]
[{"$f":"LOADS!A526","v":{"$error":"#REF!"}},{"$f":"LOADS!B526","v":0},{"$f":"LOADS!X526","v":""},{"$f":"LOADS!AH526","v":0},0,0,0,0,0,0,0,0,0,0,0,0,0,0,0,0,0,0,0,0,0,0,0,0,0,0,0,0]
[{"$f":"LOADS!A527","v":{"$error":"#REF!"}},{"$f":"LOADS!B527","v":0},{"$f":"LOADS!X527","v":""},{"$f":"LOADS!AH527","v":0},0,0,0,0,0,0,0,0,0,0,0,0,0,0,0,0,0,0,0,0,0,0,0,0,0,0,0,0]
[{"$f":"LOADS!A528","v":{"$error":"#REF!"}},{"$f":"LOADS!B528","v":0},{"$f":"LOADS!X528","v":""},{"$f":"LOADS!AH528","v":0},0,0,0,0,0,0,0,0,{"$f":"IF(M$2=$D531,$C531,0)","v":0},{"$f":"IF(N$2=$D531,$C531,0)","v":0},{"$f":"IF(O$2=$D531,$C531,0)","v":0},{"$f":"IF(P$2=$D531,$C531,0)","v":0},{"$f":"IF(Q$2=$D531,$C531,0)","v":0},0,0,0,0,{"$f":"IF(V$2=$D531,$C531,0)","v":0},0,0,{"$f":"IF(Y$2=$D531,$C531,0)","v":0},0,0,0,0,0,0,0]
[{"$f":"LOADS!A529","v":{"$error":"#REF!"}},{"$f":"LOADS!B529","v":0},{"$f":"LOADS!X529","v":""},{"$f":"LOADS!AH529","v":0},0,0,0,0,{"$f":"IF(I$2=$D532,$C532,0)","v":0},0,0,0,0,0,0,0,0,0,0,0,0,0,0,0,0,0,0,0,0,0,0,0]
[{"$f":"LOADS!A530","v":{"$error":"#REF!"}},{"$f":"LOADS!B530","v":0},{"$f":"LOADS!X530","v":""},{"$f":"LOADS!AH530","v":0},0,0,0,0,0,0,0,0,0,0,0,0,0,0,0,0,0,0,0,0,0,0,0,0,0,0,0,0]
[{"$f":"LOADS!A531","v":{"$error":"#REF!"}},{"$f":"LOADS!B531","v":0},{"$f":"LOADS!X531","v":""},{"$f":"LOADS!AH531","v":0},0,0,0,0,0,0,0,0,0,0,0,0,0,0,0,0,0,0,0,0,0,0,0,0,0,0,0,0]
[{"$f":"LOADS!A532","v":{"$error":"#REF!"}},{"$f":"LOADS!B532","v":0},{"$f":"LOADS!X532","v":""},{"$f":"LOADS!AH532","v":0},0,0,0,0,0,0,0,0,0,0,0,0,0,0,0,0,0,0,0,0,0,0,0,0,0,0,0,0]
[{"$f":"LOADS!A533","v":{"$error":"#REF!"}},{"$f":"LOADS!B533","v":0},{"$f":"LOADS!X533","v":""},{"$f":"LOADS!AH533","v":0},0,0,0,0,0,0,0,0,0,0,0,0,0,0,0,0,0,0,0,0,0,0,0,0,0,0,0,0]
[{"$f":"LOADS!A534","v":{"$error":"#REF!"}},{"$f":"LOADS!B534","v":0},{"$f":"LOADS!X534","v":""},{"$f":"LOADS!AH534","v":0},0,0,0,0,0,0,0,0,0,0,0,0,0,0,0,0,0,0,0,0,0,0,0,0,0,0,0,0]
[{"$f":"LOADS!A535","v":{"$error":"#REF!"}},{"$f":"LOADS!B535","v":0},{"$f":"LOADS!X535","v":""},{"$f":"LOADS!AH535","v":0},0,0,0,0,0,0,0,0,0,0,0,0,0,0,0,0,0,0,0,0,0,0,0,0,0,{"$f":"IF(AD$2=$D538,$C538,0)","v":0},0,0]
[{"$f":"LOADS!A536","v":{"$error":"#REF!"}},{"$f":"LOADS!B536","v":0},{"$f":"LOADS!X536","v":""},{"$f":"LOADS!AH536","v":0},0,0,0,0,0,0,0,0,0,0,0,0,0,0,0,0,0,0,0,0,0,0,0,0,0,0,0,0]
[{"$f":"LOADS!A537","v":{"$error":"#REF!"}},{"$f":"LOADS!B537","v":0},{"$f":"LOADS!X537","v":""},{"$f":"LOADS!AH537","v":0},0,0,0,0,0,0,0,0,0,0,0,0,0,0,0,0,0,0,0,0,0,0,0,0,0,0,0,0]
[{"$f":"LOADS!A538","v":{"$error":"#REF!"}},{"$f":"LOADS!B538","v":0},{"$f":"LOADS!X538","v":""},{"$f":"LOADS!AH538","v":0},0,0,0,0,0,0,0,0,0,0,0,0,0,0,0,0,0,0,0,0,0,0,0,0,0,0,0,0]
[{"$f":"LOADS!A539","v":{"$error":"#REF!"}},{"$f":"LOADS!B539","v":0},{"$f":"LOADS!X539","v":""},{"$f":"LOADS!AH539","v":0},0,0,0,0,0,0,0,0,0,0,0,0,0,0,0,0,0,0,0,0,0,0,0,0,0,0,0,0]
[{"$f":"LOADS!A540","v":{"$error":"#REF!"}},{"$f":"LOADS!B540","v":0},{"$f":"LOADS!X540","v":""},{"$f":"LOADS!AH540","v":0},0,0,0,0,0,0,0,0,0,0,0,0,0,0,0,0,0,0,0,0,0,0,0,0,0,0,0,0]
[{"$f":"LOADS!A541","v":{"$error":"#REF!"}},{"$f":"LOADS!B541","v":0},{"$f":"LOADS!X541","v":""},{"$f":"LOADS!AH541","v":0},0,0,0,0,0,0,0,0,0,0,0,0,0,0,0,0,0,0,0,0,0,0,0,0,0,0,0,0]
[{"$f":"LOADS!A542","v":{"$error":"#REF!"}},{"$f":"LOADS!B542","v":0},{"$f":"LOADS!X542","v":""},{"$f":"LOADS!AH542","v":0},{"$f":"IF(E$2=$D545,$C545,0)","v":0},0,0,0,0,0,0,0,0,0,0,0,0,0,0,0,0,0,0,0,0,0,0,0,0,0,0,0]
[{"$f":"LOADS!A543","v":{"$error":"#REF!"}},{"$f":"LOADS!B543","v":0},{"$f":"LOADS!X543","v":""},{"$f":"LOADS!AH543","v":0},0,0,0,0,0,0,0,0,0,0,0,0,0,0,0,0,0,0,0,0,0,0,0,0,0,0,0,0]
[{"$f":"LOADS!A544","v":{"$error":"#REF!"}},{"$f":"LOADS!B544","v":0},{"$f":"LOADS!X544","v":""},{"$f":"LOADS!AH544","v":0},0,0,0,0,0,0,0,0,0,0,0,0,0,0,0,0,0,0,0,0,0,0,0,0,0,0,0,0]
[{"$f":"LOADS!A545","v":{"$error":"#REF!"}},{"$f":"LOADS!B545","v":0},{"$f":"LOADS!X545","v":""},{"$f":"LOADS!AH545","v":0},0,0,0,0,0,0,0,0,0,0,0,0,0,0,0,0,0,0,0,0,0,0,0,0,0,0,0,0]
[{"$f":"LOADS!A546","v":{"$error":"#REF!"}},{"$f":"LOADS!B546","v":0},{"$f":"LOADS!X546","v":""},{"$f":"LOADS!AH546","v":0},0,0,0,0,0,0,0,0,0,0,0,0,0,0,0,0,0,0,0,0,0,0,0,0,0,0,0,0]
[{"$f":"LOADS!A547","v":{"$error":"#REF!"}},{"$f":"LOADS!B547","v":0},{"$f":"LOADS!X547","v":""},{"$f":"LOADS!AH547","v":0},0,0,0,0,0,0,0,0,0,0,0,0,0,0,0,0,0,0,0,0,0,0,0,0,0,0,0,0]
[{"$f":"LOADS!A548","v":{"$error":"#REF!"}},{"$f":"LOADS!B548","v":0},{"$f":"LOADS!X548","v":""},{"$f":"LOADS!AH548","v":0},0,0,0,0,0,0,0,0,0,0,0,0,0,0,0,0,0,0,0,0,0,0,0,0,0,0,0,0]
[{"$f":"LOADS!A549","v":{"$error":"#REF!"}},{"$f":"LOADS!B549","v":0},{"$f":"LOADS!X549","v":""},{"$f":"LOADS!AH549","v":0},0,0,0,0,0,0,0,0,0,0,0,0,0,0,0,0,0,0,0,0,0,0,0,0,0,0,0,0]
[{"$f":"LOADS!A550","v":{"$error":"#REF!"}},{"$f":"LOADS!B550","v":0},{"$f":"LOADS!X550","v":""},{"$f":"LOADS!AH550","v":0},0,0,0,0,0,0,0,0,0,0,0,0,0,0,0,0,0,0,0,0,0,0,0,0,0,0,0,0]
[{"$f":"LOADS!A551","v":{"$error":"#REF!"}},{"$f":"LOADS!B551","v":0},{"$f":"LOADS!X551","v":""},{"$f":"LOADS!AH551","v":0},0,0,0,0,0,0,0,0,0,0,0,0,0,0,0,0,0,0,0,0,0,0,0,0,{"$f":"IF(AC$2=$D554,$C554,0)","v":0},0,0,0]
[{"$f":"LOADS!A552","v":{"$error":"#REF!"}},{"$f":"LOADS!B552","v":0},{"$f":"LOADS!X552","v":""},{"$f":"LOADS!AH552","v":0},0,0,0,0,0,0,0,0,0,0,0,0,0,0,0,0,0,0,0,0,0,0,0,0,0,0,0,0]
[{"$f":"LOADS!A553","v":{"$error":"#REF!"}},{"$f":"LOADS!B553","v":0},{"$f":"LOADS!X553","v":""},{"$f":"LOADS!AH553","v":0},0,0,0,0,0,0,0,0,0,0,0,0,0,0,0,0,0,0,0,0,0,0,0,0,0,0,0,0]
[{"$f":"LOADS!A554","v":{"$error":"#REF!"}},{"$f":"LOADS!B554","v":0},{"$f":"LOADS!X554","v":""},{"$f":"LOADS!AH554","v":0},0,0,0,0,0,0,0,0,{"$f":"IF(M$2=$D557,$C557,0)","v":0},0,0,0,0,0,0,0,0,0,0,0,0,0,0,0,0,0,0,0]
[{"$f":"LOADS!A555","v":{"$error":"#REF!"}},{"$f":"LOADS!B555","v":0},{"$f":"LOADS!X555","v":""},{"$f":"LOADS!AH555","v":0},0,0,0,0,{"$f":"IF(I$2=$D558,$C558,0)","v":0},0,0,0,0,0,0,0,0,0,0,0,0,0,0,0,0,0,0,0,0,0,0,0]
[{"$f":"LOADS!A556","v":{"$error":"#REF!"}},{"$f":"LOADS!B556","v":0},{"$f":"LOADS!X556","v":""},{"$f":"LOADS!AH556","v":0},0,0,0,0,0,0,0,0,0,0,0,0,0,0,0,0,0,0,0,0,0,0,0,0,0,0,0,0]
[{"$f":"LOADS!A557","v":{"$error":"#REF!"}},{"$f":"LOADS!B557","v":0},{"$f":"LOADS!X557","v":""},{"$f":"LOADS!AH557","v":0},0,0,0,0,0,0,0,0,0,0,0,0,0,0,0,0,0,0,0,0,0,0,0,0,0,0,0,0]
[{"$f":"LOADS!A558","v":{"$error":"#REF!"}},{"$f":"LOADS!B558","v":0},{"$f":"LOADS!X558","v":""},{"$f":"LOADS!AH558","v":0},0,0,0,0,0,0,0,0,0,0,0,0,0,0,0,0,0,0,0,0,0,0,0,0,0,0,0,0]
[{"$f":"LOADS!A559","v":{"$error":"#REF!"}},{"$f":"LOADS!B559","v":0},{"$f":"LOADS!X559","v":""},{"$f":"LOADS!AH559","v":0},0,0,0,0,0,0,0,0,0,0,0,0,0,0,0,0,0,0,0,0,0,0,0,0,0,0,0,0]
[{"$f":"LOADS!A560","v":{"$error":"#REF!"}},{"$f":"LOADS!B560","v":0},{"$f":"LOADS!X560","v":""},{"$f":"LOADS!AH560","v":0},0,0,0,0,0,0,0,0,0,0,0,0,0,0,0,0,0,0,0,0,0,0,0,0,0,0,0,0]
[{"$f":"LOADS!A561","v":{"$error":"#REF!"}},{"$f":"LOADS!B561","v":0},{"$f":"LOADS!X561","v":""},{"$f":"LOADS!AH561","v":0},0,0,0,0,0,0,0,0,0,0,0,0,0,0,0,0,0,0,0,0,0,0,0,0,0,0,0,0]
[{"$f":"LOADS!A562","v":{"$error":"#REF!"}},{"$f":"LOADS!B562","v":0},{"$f":"LOADS!X562","v":""},{"$f":"LOADS!AH562","v":0},0,0,0,0,0,0,0,0,0,0,0,0,0,0,0,0,0,0,0,0,0,0,0,0,0,0,0,0]
[{"$f":"LOADS!A563","v":{"$error":"#REF!"}},{"$f":"LOADS!B563","v":0},{"$f":"LOADS!X563","v":""},{"$f":"LOADS!AH563","v":0},0,0,0,0,0,0,0,0,0,0,0,0,0,0,0,0,0,0,0,0,0,0,0,0,0,0,0,0]
[{"$f":"LOADS!A564","v":{"$error":"#REF!"}},{"$f":"LOADS!B564","v":0},{"$f":"LOADS!X564","v":""},{"$f":"LOADS!AH564","v":0},0,0,0,0,0,0,0,0,0,0,0,0,0,0,0,0,0,0,0,0,0,0,0,0,0,0,0,0]
[{"$f":"LOADS!A565","v":{"$error":"#REF!"}},{"$f":"LOADS!B565","v":0},{"$f":"LOADS!X565","v":""},{"$f":"LOADS!AH565","v":0},0,0,0,0,{"$f":"IF(I$2=$D568,$C568,0)","v":0},0,0,0,0,0,0,0,0,0,0,0,0,0,0,0,0,0,0,0,0,0,0,0]
[{"$f":"LOADS!A566","v":{"$error":"#REF!"}},{"$f":"LOADS!B566","v":0},{"$f":"LOADS!X566","v":""},{"$f":"LOADS!AH566","v":0},0,0,0,0,0,0,0,0,0,0,0,0,0,0,0,0,0,0,0,0,0,0,0,0,0,0,0,0]
[{"$f":"LOADS!A567","v":{"$error":"#REF!"}},{"$f":"LOADS!B567","v":0},{"$f":"LOADS!X567","v":""},{"$f":"LOADS!AH567","v":0},0,0,0,0,0,0,0,0,0,0,0,0,0,0,0,0,0,0,0,0,0,0,0,0,{"$f":"IF(AC$2=$D570,$C570,0)","v":0},0,0,0]
[{"$f":"LOADS!A568","v":{"$error":"#REF!"}},{"$f":"LOADS!B568","v":0},{"$f":"LOADS!X568","v":""},{"$f":"LOADS!AH568","v":0},0,0,0,0,0,0,0,0,0,0,0,0,0,0,0,0,0,0,0,0,0,0,0,0,0,0,0,0]
[{"$f":"LOADS!A569","v":{"$error":"#REF!"}},{"$f":"LOADS!B569","v":0},{"$f":"LOADS!X569","v":""},{"$f":"LOADS!AH569","v":0},0,0,0,0,0,0,0,0,0,0,0,0,0,0,0,0,0,0,0,0,0,0,0,0,0,0,0,0]
[{"$f":"LOADS!A570","v":{"$error":"#REF!"}},{"$f":"LOADS!B570","v":0},{"$f":"LOADS!X570","v":""},{"$f":"LOADS!AH570","v":0},0,0,0,0,0,0,0,0,0,0,0,0,0,0,0,0,0,0,0,0,0,0,0,0,0,0,0,0]
[{"$f":"LOADS!A571","v":{"$error":"#REF!"}},{"$f":"LOADS!B571","v":0},{"$f":"LOADS!X571","v":""},{"$f":"LOADS!AH571","v":0},0,0,0,0,0,0,0,0,0,0,0,0,0,0,0,0,0,0,0,{"$f":"IF(X$2=$D574,$C574,0)","v":0},0,0,0,0,0,0,0,0]
[{"$f":"LOADS!A572","v":{"$error":"#REF!"}},{"$f":"LOADS!B572","v":0},{"$f":"LOADS!X572","v":""},{"$f":"LOADS!AH572","v":0},0,0,0,0,0,0,0,0,0,0,0,0,0,0,0,0,0,0,0,0,0,0,0,0,0,0,0,0]
[{"$f":"LOADS!A573","v":{"$error":"#REF!"}},{"$f":"LOADS!B573","v":0},{"$f":"LOADS!X573","v":""},{"$f":"LOADS!AH573","v":0},0,0,0,0,0,0,0,0,0,0,0,0,0,0,0,0,0,0,0,0,0,0,0,0,0,0,0,0]
[{"$f":"LOADS!A574","v":{"$error":"#REF!"}},{"$f":"LOADS!B574","v":0},{"$f":"LOADS!X574","v":""},{"$f":"LOADS!AH574","v":0},0,0,0,0,0,0,0,0,0,0,0,0,0,0,0,0,0,0,0,0,0,0,0,0,0,0,0,0]
[{"$f":"LOADS!A575","v":{"$error":"#REF!"}},{"$f":"LOADS!B575","v":0},{"$f":"LOADS!X575","v":""},{"$f":"LOADS!AH575","v":0},0,0,0,0,{"$f":"IF(I$2=$D578,$C578,0)","v":0},0,0,0,0,0,0,0,0,0,0,0,0,0,0,0,0,0,0,0,0,0,0,0]
[{"$f":"LOADS!A576","v":{"$error":"#REF!"}},{"$f":"LOADS!B576","v":0},{"$f":"LOADS!X576","v":""},{"$f":"LOADS!AH576","v":0},0,0,0,0,0,0,0,0,0,0,0,0,0,0,0,0,0,0,0,0,0,0,0,0,0,0,0,0]
[{"$f":"LOADS!A577","v":{"$error":"#REF!"}},{"$f":"LOADS!B577","v":0},{"$f":"LOADS!X577","v":""},{"$f":"LOADS!AH577","v":0},0,0,0,0,0,0,0,0,0,0,0,0,0,0,0,0,0,0,0,0,0,0,0,0,0,0,0,0]
[{"$f":"LOADS!A578","v":{"$error":"#REF!"}},{"$f":"LOADS!B578","v":0},{"$f":"LOADS!X578","v":""},{"$f":"LOADS!AH578","v":0},0,0,0,0,0,0,0,0,0,0,0,0,0,0,0,0,0,0,0,0,0,0,0,0,0,0,0,0]
[{"$f":"LOADS!A579","v":{"$error":"#REF!"}},{"$f":"LOADS!B579","v":0},{"$f":"LOADS!X579","v":""},{"$f":"LOADS!AH579","v":0},0,0,0,0,0,0,0,0,0,0,0,0,0,0,0,0,0,{"$f":"IF(V$2=$D582,$C582,0)","v":0},0,0,0,0,0,0,0,0,0,0]
[{"$f":"LOADS!A580","v":{"$error":"#REF!"}},{"$f":"LOADS!B580","v":0},{"$f":"LOADS!X580","v":""},{"$f":"LOADS!AH580","v":0},0,0,0,0,0,0,0,0,0,0,0,0,0,0,0,0,0,0,0,0,0,0,0,0,0,0,0,0]
[{"$f":"LOADS!A581","v":{"$error":"#REF!"}},{"$f":"LOADS!B581","v":0},{"$f":"LOADS!X581","v":""},{"$f":"LOADS!AH581","v":0},0,0,0,0,0,0,0,0,0,0,0,0,0,0,0,0,0,0,0,0,0,0,0,0,0,0,0,0]
[{"$f":"LOADS!A582","v":{"$error":"#REF!"}},{"$f":"LOADS!B582","v":0},{"$f":"LOADS!X582","v":""},{"$f":"LOADS!AH582","v":0},0,0,0,0,0,0,0,0,0,0,0,0,0,0,0,0,0,0,0,0,0,0,0,0,0,0,0,0]
[{"$f":"LOADS!A583","v":{"$error":"#REF!"}},{"$f":"LOADS!B583","v":0},{"$f":"LOADS!X583","v":""},{"$f":"LOADS!AH583","v":0},0,0,0,0,0,0,0,0,0,0,0,0,0,0,0,0,0,0,0,0,0,0,0,0,{"$f":"IF(AC$2=$D586,$C586,0)","v":0},0,0,0]
[{"$f":"LOADS!A584","v":{"$error":"#REF!"}},{"$f":"LOADS!B584","v":0},{"$f":"LOADS!X584","v":""},{"$f":"LOADS!AH584","v":0},0,0,0,0,0,0,0,0,0,0,0,0,0,0,0,0,0,0,0,0,0,0,0,0,0,0,0,0]
[{"$f":"LOADS!A585","v":{"$error":"#REF!"}},{"$f":"LOADS!B585","v":0},{"$f":"LOADS!X585","v":""},{"$f":"LOADS!AH585","v":0},0,0,0,0,{"$f":"IF(I$2=$D588,$C588,0)","v":0},0,0,0,0,0,0,0,0,0,0,0,0,0,0,0,0,0,0,0,0,0,0,0]
[{"$f":"LOADS!A586","v":{"$error":"#REF!"}},{"$f":"LOADS!B586","v":0},{"$f":"LOADS!X586","v":""},{"$f":"LOADS!AH586","v":0},0,0,0,0,0,0,0,0,0,0,0,0,0,0,0,0,0,0,0,0,0,0,0,0,0,0,0,0]
[{"$f":"LOADS!A587","v":{"$error":"#REF!"}},{"$f":"LOADS!B587","v":0},{"$f":"LOADS!X587","v":""},{"$f":"LOADS!AH587","v":0},0,0,0,0,0,0,0,0,0,0,0,0,0,0,0,0,0,0,0,0,0,0,0,0,0,0,0,0]
[{"$f":"LOADS!A588","v":{"$error":"#REF!"}},{"$f":"LOADS!B588","v":0},{"$f":"LOADS!X588","v":""},{"$f":"LOADS!AH588","v":0},0,0,0,0,0,0,0,0,0,0,0,0,0,0,0,0,0,0,0,0,0,0,0,0,0,0,0,0]
[{"$f":"LOADS!A589","v":{"$error":"#REF!"}},{"$f":"LOADS!B589","v":0},{"$f":"LOADS!X589","v":""},{"$f":"LOADS!AH589","v":0},0,0,0,0,0,0,0,0,0,0,0,0,0,0,0,0,0,0,0,0,0,0,0,0,0,0,0,0]
[{"$f":"LOADS!A590","v":{"$error":"#REF!"}},{"$f":"LOADS!B590","v":0},{"$f":"LOADS!X590","v":""},{"$f":"LOADS!AH590","v":0},0,0,0,0,0,0,0,0,0,0,0,0,0,0,0,0,0,0,0,0,0,0,0,0,0,0,0,0]
[{"$f":"LOADS!A591","v":{"$error":"#REF!"}},{"$f":"LOADS!B591","v":0},{"$f":"LOADS!X591","v":""},{"$f":"LOADS!AH591","v":0},0,0,0,0,0,0,0,0,0,0,0,0,0,0,0,0,0,0,0,0,0,0,0,0,0,0,0,0]
[{"$f":"LOADS!A592","v":{"$error":"#REF!"}},{"$f":"LOADS!B592","v":0},{"$f":"LOADS!X592","v":""},{"$f":"LOADS!AH592","v":0},0,0,0,0,0,0,0,0,{"$f":"IF(M$2=$D595,$C595,0)","v":0},0,0,0,0,0,0,0,0,0,0,0,0,0,0,0,0,0,0,0]
[{"$f":"LOADS!A593","v":{"$error":"#REF!"}},{"$f":"LOADS!B593","v":0},{"$f":"LOADS!X593","v":""},{"$f":"LOADS!AH593","v":0},{"$f":"IF(E$2=$D596,$C596,0)","v":0},0,0,0,0,0,0,0,0,0,0,0,0,0,0,0,0,0,0,0,0,0,0,0,0,0,0,0]
[{"$f":"LOADS!A594","v":{"$error":"#REF!"}},{"$f":"LOADS!B594","v":0},{"$f":"LOADS!X594","v":""},{"$f":"LOADS!AH594","v":0},0,0,0,0,0,0,0,0,0,0,0,0,0,0,0,0,0,0,0,0,0,0,0,0,0,0,0,0]
[{"$f":"LOADS!A595","v":{"$error":"#REF!"}},{"$f":"LOADS!B595","v":0},{"$f":"LOADS!X595","v":""},{"$f":"LOADS!AH595","v":0},0,0,0,0,0,0,0,0,0,0,0,0,0,0,0,0,0,0,0,0,0,0,0,0,0,0,0,0]
[{"$f":"LOADS!A596","v":{"$error":"#REF!"}},{"$f":"LOADS!B596","v":0},{"$f":"LOADS!X596","v":""},{"$f":"LOADS!AH596","v":0},0,0,0,0,0,0,0,0,{"$f":"IF(M$2=$D599,$C599,0)","v":0},{"$f":"IF(N$2=$D599,$C599,0)","v":0},{"$f":"IF(O$2=$D599,$C599,0)","v":0},{"$f":"IF(P$2=$D599,$C599,0)","v":0},{"$f":"IF(Q$2=$D599,$C599,0)","v":0},0,0,0,0,0,0,0,0,0,0,0,0,0,0,0]
[{"$f":"LOADS!A597","v":{"$error":"#REF!"}},{"$f":"LOADS!B597","v":0},{"$f":"LOADS!X597","v":""},{"$f":"LOADS!AH597","v":0},0,0,0,0,{"$f":"IF(I$2=$D600,$C600,0)","v":0},0,0,0,0,0,0,0,0,0,0,0,0,0,0,0,0,0,0,0,0,0,0,0]
[{"$f":"LOADS!A598","v":{"$error":"#REF!"}},{"$f":"LOADS!B598","v":0},{"$f":"LOADS!X598","v":""},{"$f":"LOADS!AH598","v":0},0,0,0,0,0,0,0,0,0,0,0,0,0,0,0,0,0,0,0,0,0,0,0,0,0,0,0,0]
[{"$f":"LOADS!A599","v":{"$error":"#REF!"}},{"$f":"LOADS!B599","v":0},{"$f":"LOADS!X599","v":""},{"$f":"LOADS!AH599","v":0},0,0,0,0,0,0,0,0,0,0,0,0,0,0,0,0,0,0,0,0,0,0,0,{"$f":"IF(AB$2=$D602,$C602,0)","v":0},0,0,0,0]
[{"$f":"LOADS!A600","v":{"$error":"#REF!"}},{"$f":"LOADS!B600","v":0},{"$f":"LOADS!X600","v":""},{"$f":"LOADS!AH600","v":0},0,0,0,0,0,0,0,0,0,0,0,0,0,0,0,0,0,0,0,0,0,0,0,0,0,0,0,0]
[{"$f":"LOADS!A601","v":{"$error":"#REF!"}},{"$f":"LOADS!B601","v":0},{"$f":"LOADS!X601","v":""},{"$f":"LOADS!AH601","v":0},0,0,0,0,0,0,0,0,0,0,0,0,0,0,0,0,0,0,0,0,0,0,0,0,0,0,0,0]
[{"$f":"LOADS!A602","v":{"$error":"#REF!"}},{"$f":"LOADS!B602","v":0},{"$f":"LOADS!X602","v":""},{"$f":"LOADS!AH602","v":0},0,0,0,0,0,0,0,0,0,0,0,0,0,0,0,0,0,0,0,0,0,0,0,0,0,0,0,0]
[{"$f":"LOADS!A603","v":{"$error":"#REF!"}},{"$f":"LOADS!B603","v":0},{"$f":"LOADS!X603","v":""},{"$f":"LOADS!AH603","v":0},0,0,0,0,0,0,0,0,0,0,0,0,0,0,0,0,0,0,0,0,0,0,0,0,0,0,0,0]
[{"$f":"LOADS!A604","v":{"$error":"#REF!"}},{"$f":"LOADS!B604","v":0},{"$f":"LOADS!X604","v":""},{"$f":"LOADS!AH604","v":0},0,0,0,0,0,0,0,0,0,0,0,0,0,0,0,0,0,0,0,0,0,0,0,0,0,0,0,0]
[{"$f":"LOADS!A605","v":{"$error":"#REF!"}},{"$f":"LOADS!B605","v":0},{"$f":"LOADS!X605","v":""},{"$f":"LOADS!AH605","v":0},0,0,0,0,0,0,0,0,0,0,0,0,0,0,0,0,0,0,0,0,0,0,0,0,0,0,0,0]
[{"$f":"LOADS!A606","v":{"$error":"#REF!"}},{"$f":"LOADS!B606","v":0},{"$f":"LOADS!X606","v":""},{"$f":"LOADS!AH606","v":0},0,0,0,0,0,0,0,0,0,0,0,0,0,0,0,0,0,0,0,0,0,0,0,0,0,0,0,0]
[{"$f":"LOADS!A607","v":{"$error":"#REF!"}},{"$f":"LOADS!B607","v":0},{"$f":"LOADS!X607","v":""},{"$f":"LOADS!AH607","v":0},0,0,0,0,0,0,0,0,0,0,0,0,0,0,0,0,0,0,0,0,0,0,0,0,0,0,0,0]
[{"$f":"LOADS!A608","v":{"$error":"#REF!"}},{"$f":"LOADS!B608","v":0},{"$f":"LOADS!X608","v":""},{"$f":"LOADS!AH608","v":0},0,0,0,0,0,0,0,0,0,0,0,0,0,0,0,0,0,0,0,0,0,0,0,0,0,0,0,0]
[{"$f":"LOADS!A609","v":{"$error":"#REF!"}},{"$f":"LOADS!B609","v":0},{"$f":"LOADS!X609","v":""},{"$f":"LOADS!AH609","v":0},0,0,0,0,0,0,0,0,0,0,0,0,0,0,0,0,0,0,0,0,0,0,0,0,0,0,0,0]
[{"$f":"LOADS!A610","v":{"$error":"#REF!"}},{"$f":"LOADS!B610","v":0},{"$f":"LOADS!X610","v":""},{"$f":"LOADS!AH610","v":0},0,0,0,0,0,0,0,0,0,0,0,0,0,0,0,0,0,0,0,0,0,0,0,0,0,0,0,0]
[{"$f":"LOADS!A611","v":{"$error":"#REF!"}},{"$f":"LOADS!B611","v":0},{"$f":"LOADS!X611","v":""},{"$f":"LOADS!AH611","v":0},0,0,0,0,0,0,0,0,0,0,0,0,0,0,0,0,0,0,0,0,0,0,0,0,0,0,0,0]
[{"$f":"LOADS!A612","v":{"$error":"#REF!"}},{"$f":"LOADS!B612","v":0},{"$f":"LOADS!X612","v":""},{"$f":"LOADS!AH612","v":0},0,0,0,0,0,0,0,0,0,0,0,0,0,0,0,0,0,0,0,0,0,0,0,0,0,0,0,0]
[{"$f":"LOADS!A613","v":{"$error":"#REF!"}},{"$f":"LOADS!B613","v":0},{"$f":"LOADS!X613","v":""},{"$f":"LOADS!AH613","v":0},0,0,0,0,0,0,0,0,0,0,0,0,0,0,0,0,0,0,0,0,{"$f":"IF(Y$2=$D616,$C616,0)","v":0},0,0,0,0,0,0,0]
[{"$f":"LOADS!A614","v":{"$error":"#REF!"}},{"$f":"LOADS!B614","v":0},{"$f":"LOADS!X614","v":""},{"$f":"LOADS!AH614","v":0},0,0,0,0,0,0,0,0,0,0,0,0,0,0,0,0,0,0,{"$f":"IF(W$2=$D617,$C617,0)","v":0},0,0,0,0,0,0,0,0,0]
[{"$f":"LOADS!A615","v":{"$error":"#REF!"}},{"$f":"LOADS!B615","v":0},{"$f":"LOADS!X615","v":""},{"$f":"LOADS!AH615","v":0},0,0,0,0,0,0,0,0,0,0,0,0,0,0,0,0,0,0,0,0,0,0,{"$f":"IF(AA$2=$D618,$C618,0)","v":0},0,0,0,0,0]
[{"$f":"LOADS!A616","v":{"$error":"#REF!"}},{"$f":"LOADS!B616","v":0},{"$f":"LOADS!X616","v":""},{"$f":"LOADS!AH616","v":0},0,0,0,0,0,0,0,0,0,0,0,0,0,0,0,0,0,0,0,0,0,0,{"$f":"IF(AA$2=$D619,$C619,0)","v":0},0,0,0,0,0]
[{"$f":"LOADS!A617","v":{"$error":"#REF!"}},{"$f":"LOADS!B617","v":0},{"$f":"LOADS!X617","v":""},{"$f":"LOADS!AH617","v":0},0,0,0,0,0,0,0,0,0,0,0,0,0,0,0,0,0,0,0,0,0,0,0,0,0,0,0,0]
[{"$f":"LOADS!A618","v":{"$error":"#REF!"}},{"$f":"LOADS!B618","v":0},{"$f":"LOADS!X618","v":""},{"$f":"LOADS!AH618","v":0},0,0,0,0,0,0,0,0,0,0,0,0,0,0,0,0,0,0,0,0,0,0,0,0,0,0,0,0]
[{"$f":"LOADS!A619","v":{"$error":"#REF!"}},{"$f":"LOADS!B619","v":0},{"$f":"LOADS!X619","v":""},{"$f":"LOADS!AH619","v":0},0,0,0,0,0,0,0,0,0,0,0,0,0,0,0,0,0,0,0,0,0,0,0,0,0,0,0,0]
[{"$f":"LOADS!A620","v":{"$error":"#REF!"}},{"$f":"LOADS!B620","v":0},{"$f":"LOADS!X620","v":""},{"$f":"LOADS!AH620","v":0},0,0,0,0,0,0,0,0,0,0,0,0,0,0,0,0,0,0,0,0,0,0,0,0,0,0,0,0]
[{"$f":"LOADS!A621","v":{"$error":"#REF!"}},{"$f":"LOADS!B621","v":0},{"$f":"LOADS!X621","v":""},{"$f":"LOADS!AH621","v":0},0,0,0,0,0,0,0,0,0,0,0,0,0,0,0,0,0,0,0,0,0,0,0,0,0,0,0,0]
[{"$f":"LOADS!A622","v":{"$error":"#REF!"}},{"$f":"LOADS!B622","v":0},{"$f":"LOADS!X622","v":""},{"$f":"LOADS!AH622","v":0},0,0,0,0,0,0,0,0,{"$f":"IF(M$2=$D625,$C625,0)","v":0},0,0,0,0,0,0,0,0,0,0,0,0,0,0,0,0,0,0,0]
[{"$f":"LOADS!A623","v":{"$error":"#REF!"}},{"$f":"LOADS!B623","v":0},{"$f":"LOADS!X623","v":""},{"$f":"LOADS!AH623","v":0},0,0,0,0,{"$f":"IF(I$2=$D626,$C626,0)","v":0},0,0,0,0,0,0,0,0,0,0,0,0,0,0,0,0,0,0,0,0,0,0,0]
[{"$f":"LOADS!A624","v":{"$error":"#REF!"}},{"$f":"LOADS!B624","v":0},{"$f":"LOADS!X624","v":""},{"$f":"LOADS!AH624","v":0},0,0,0,0,0,0,0,0,0,0,0,0,0,0,0,0,0,0,0,0,0,0,0,0,0,0,0,0]
[{"$f":"LOADS!A625","v":{"$error":"#REF!"}},{"$f":"LOADS!B625","v":0},{"$f":"LOADS!X625","v":""},{"$f":"LOADS!AH625","v":0},0,0,0,0,0,0,0,0,0,0,0,0,0,0,0,0,0,0,0,0,0,0,0,0,0,0,0,0]
[{"$f":"LOADS!A626","v":{"$error":"#REF!"}},{"$f":"LOADS!B626","v":0},{"$f":"LOADS!X626","v":""},{"$f":"LOADS!AH626","v":0},0,0,0,0,0,0,0,0,0,0,0,0,0,0,0,0,0,0,0,0,0,0,0,0,0,0,0,0]
[{"$f":"LOADS!A627","v":{"$error":"#REF!"}},{"$f":"LOADS!B627","v":0},{"$f":"LOADS!X627","v":""},{"$f":"LOADS!AH627","v":0},0,0,0,0,0,0,0,0,0,0,0,0,0,0,0,0,0,0,0,0,0,0,0,0,0,0,0,0]
[{"$f":"LOADS!A628","v":{"$error":"#REF!"}},{"$f":"LOADS!B628","v":0},{"$f":"LOADS!X628","v":""},{"$f":"LOADS!AH628","v":0},0,0,0,0,0,0,0,0,0,0,0,0,0,0,0,0,0,0,0,0,0,0,0,0,0,0,0,0]
[{"$f":"LOADS!A629","v":{"$error":"#REF!"}},{"$f":"LOADS!B629","v":0},{"$f":"LOADS!X629","v":""},{"$f":"LOADS!AH629","v":0},0,0,0,0,0,0,0,0,0,0,0,0,0,0,0,0,0,0,0,0,0,0,0,0,0,0,0,0]
[{"$f":"LOADS!A630","v":{"$error":"#REF!"}},{"$f":"LOADS!B630","v":0},{"$f":"LOADS!X630","v":""},{"$f":"LOADS!AH630","v":0},0,0,0,0,0,0,0,0,0,0,0,0,0,0,0,0,0,{"$f":"IF(V$2=$D633,$C633,0)","v":0},0,0,0,0,0,0,0,0,0,0]
[{"$f":"LOADS!A631","v":{"$error":"#REF!"}},{"$f":"LOADS!B631","v":0},{"$f":"LOADS!X631","v":""},{"$f":"LOADS!AH631","v":0},0,0,0,0,0,0,0,0,0,0,0,0,0,0,0,0,0,0,0,0,0,0,0,0,0,0,0,0]
[{"$f":"LOADS!A632","v":{"$error":"#REF!"}},{"$f":"LOADS!B632","v":0},{"$f":"LOADS!X632","v":""},{"$f":"LOADS!AH632","v":0},0,0,0,0,0,0,0,0,0,0,0,0,0,0,0,0,0,0,0,0,0,0,{"$f":"IF(AA$2=$D635,$C635,0)","v":0},0,0,0,0,0]
[{"$f":"LOADS!A633","v":{"$error":"#REF!"}},{"$f":"LOADS!B633","v":0},{"$f":"LOADS!X633","v":""},{"$f":"LOADS!AH633","v":0},0,0,0,0,{"$f":"IF(I$2=$D636,$C636,0)","v":0},0,0,0,0,0,0,0,0,0,0,0,0,0,0,0,{"$f":"IF(Y$2=$D636,$C636,0)","v":0},0,0,0,0,0,0,0]
[{"$f":"LOADS!A634","v":{"$error":"#REF!"}},{"$f":"LOADS!B634","v":0},{"$f":"LOADS!X634","v":""},{"$f":"LOADS!AH634","v":0},0,0,0,0,0,0,0,0,0,0,0,0,0,0,0,0,0,0,{"$f":"IF(W$2=$D637,$C637,0)","v":0},0,0,0,0,0,0,0,0,0]
[{"$f":"LOADS!A635","v":{"$error":"#REF!"}},{"$f":"LOADS!B635","v":0},{"$f":"LOADS!X635","v":""},{"$f":"LOADS!AH635","v":0},0,0,0,0,0,0,0,0,0,0,0,0,0,0,0,0,0,0,0,0,0,0,0,0,0,0,0,0]
[{"$f":"LOADS!A636","v":{"$error":"#REF!"}},{"$f":"LOADS!B636","v":0},{"$f":"LOADS!X636","v":""},{"$f":"LOADS!AH636","v":0},0,0,0,0,0,0,0,0,0,0,0,0,0,0,0,0,0,0,0,0,0,0,0,0,0,0,0,0]
[{"$f":"LOADS!A637","v":{"$error":"#REF!"}},{"$f":"LOADS!B637","v":0},{"$f":"LOADS!X637","v":""},{"$f":"LOADS!AH637","v":0},0,0,0,0,0,0,0,0,0,0,0,0,0,0,0,0,0,0,0,0,0,0,0,0,0,0,0,0]
[{"$f":"LOADS!A638","v":{"$error":"#REF!"}},{"$f":"LOADS!B638","v":0},{"$f":"LOADS!X638","v":""},{"$f":"LOADS!AH638","v":0},0,0,0,0,0,0,0,0,0,0,0,0,0,0,0,0,0,0,0,0,0,0,0,0,0,0,0,0]
[{"$f":"LOADS!A639","v":{"$error":"#REF!"}},{"$f":"LOADS!B639","v":0},{"$f":"LOADS!X639","v":""},{"$f":"LOADS!AH639","v":0},0,0,0,0,0,0,0,0,0,0,0,0,0,0,0,0,0,0,0,0,0,0,0,0,0,0,0,0]
[{"$f":"LOADS!A640","v":{"$error":"#REF!"}},{"$f":"LOADS!B640","v":0},{"$f":"LOADS!X640","v":""},{"$f":"LOADS!AH640","v":0},0,0,0,0,0,0,0,0,0,0,0,0,0,0,0,0,0,0,0,0,0,0,0,0,0,0,0,0]
[{"$f":"LOADS!A641","v":{"$error":"#REF!"}},{"$f":"LOADS!B641","v":0},{"$f":"LOADS!X641","v":""},{"$f":"LOADS!AH641","v":0},0,0,0,0,0,0,0,0,0,0,0,0,0,0,0,0,0,0,0,0,0,0,0,0,0,0,0,0]
[{"$f":"LOADS!A642","v":{"$error":"#REF!"}},{"$f":"LOADS!B642","v":0},{"$f":"LOADS!X642","v":""},{"$f":"LOADS!AH642","v":0},0,0,0,0,0,0,0,0,0,0,0,0,0,0,0,0,0,0,0,0,0,0,0,0,0,0,0,0]
[{"$f":"LOADS!A643","v":{"$error":"#REF!"}},{"$f":"LOADS!B643","v":0},{"$f":"LOADS!X643","v":""},{"$f":"LOADS!AH643","v":0},0,0,0,0,{"$f":"IF(I$2=$D646,$C646,0)","v":0},0,0,0,0,0,0,0,0,0,0,0,0,0,0,0,0,0,0,0,0,0,0,0]
[{"$f":"LOADS!A644","v":{"$error":"#REF!"}},{"$f":"LOADS!B644","v":0},{"$f":"LOADS!X644","v":""},{"$f":"LOADS!AH644","v":0},{"$f":"IF(E$2=$D647,$C647,0)","v":0},0,0,0,0,0,0,0,0,0,0,0,0,0,0,0,0,0,0,0,0,0,0,0,0,0,0,0]
[{"$f":"LOADS!A645","v":{"$error":"#REF!"}},{"$f":"LOADS!B645","v":0},{"$f":"LOADS!X645","v":""},{"$f":"LOADS!AH645","v":0},0,0,0,0,0,0,0,0,0,0,0,0,0,0,0,0,0,0,0,0,0,0,0,0,0,0,0,0]
[{"$f":"LOADS!A646","v":{"$error":"#REF!"}},{"$f":"LOADS!B646","v":0},{"$f":"LOADS!X646","v":""},{"$f":"LOADS!AH646","v":0},0,0,0,0,0,0,0,0,0,0,0,0,0,0,0,0,0,0,0,0,0,0,0,0,0,0,0,0]
[{"$f":"LOADS!A647","v":{"$error":"#REF!"}},{"$f":"LOADS!B647","v":0},{"$f":"LOADS!X647","v":""},{"$f":"LOADS!AH647","v":0},0,0,0,0,0,0,0,0,0,0,0,0,0,0,0,0,0,0,0,0,0,0,0,0,0,0,0,0]
[{"$f":"LOADS!A648","v":{"$error":"#REF!"}},{"$f":"LOADS!B648","v":0},{"$f":"LOADS!X648","v":""},{"$f":"LOADS!AH648","v":0},0,0,0,0,0,0,0,0,0,0,0,0,0,0,0,0,0,0,0,0,0,0,{"$f":"IF(AA$2=$D651,$C651,0)","v":0},0,0,0,0,0]
[{"$f":"LOADS!A649","v":{"$error":"#REF!"}},{"$f":"LOADS!B649","v":0},{"$f":"LOADS!X649","v":""},{"$f":"LOADS!AH649","v":0},0,0,0,0,0,0,0,0,0,0,0,0,0,0,0,0,0,0,0,0,0,0,0,0,0,0,0,0]
[{"$f":"LOADS!A650","v":{"$error":"#REF!"}},{"$f":"LOADS!B650","v":0},{"$f":"LOADS!X650","v":""},{"$f":"LOADS!AH650","v":0},0,0,0,0,0,0,0,0,0,0,0,0,0,0,0,0,0,0,0,0,0,0,0,0,0,0,0,0]
[{"$f":"LOADS!A651","v":{"$error":"#REF!"}},{"$f":"LOADS!B651","v":0},{"$f":"LOADS!X651","v":""},{"$f":"LOADS!AH651","v":0},0,0,0,0,0,0,0,0,0,0,0,0,0,0,0,0,0,0,0,0,0,0,0,0,0,0,0,0]
[{"$f":"LOADS!A652","v":{"$error":"#REF!"}},{"$f":"LOADS!B652","v":0},{"$f":"LOADS!X652","v":""},{"$f":"LOADS!AH652","v":0},0,0,0,0,0,0,0,0,0,0,0,0,0,0,0,0,0,0,0,0,0,0,0,0,0,0,0,0]
[{"$f":"LOADS!A653","v":{"$error":"#REF!"}},{"$f":"LOADS!B653","v":0},{"$f":"LOADS!X653","v":""},{"$f":"LOADS!AH653","v":0},0,0,0,0,{"$f":"IF(I$2=$D656,$C656,0)","v":0},0,0,0,0,0,0,0,0,0,0,0,0,0,0,0,0,0,0,0,0,0,0,0]
[{"$f":"LOADS!A654","v":{"$error":"#REF!"}},{"$f":"LOADS!B654","v":0},{"$f":"LOADS!X654","v":""},{"$f":"LOADS!AH654","v":0},0,0,0,0,0,0,0,0,0,0,0,0,0,0,0,0,0,0,{"$f":"IF(W$2=$D657,$C657,0)","v":0},{"$f":"IF(X$2=$D657,$C657,0)","v":0},{"$f":"IF(Y$2=$D657,$C657,0)","v":0},0,0,0,0,0,0,0]
[{"$f":"LOADS!A655","v":{"$error":"#REF!"}},{"$f":"LOADS!B655","v":0},{"$f":"LOADS!X655","v":""},{"$f":"LOADS!AH655","v":0},0,0,0,0,0,0,0,0,0,0,0,0,0,0,0,0,0,0,0,0,0,0,0,0,0,0,0,0]
[{"$f":"LOADS!A656","v":{"$error":"#REF!"}},{"$f":"LOADS!B656","v":0},{"$f":"LOADS!X656","v":""},{"$f":"LOADS!AH656","v":0},0,0,0,0,0,0,0,0,0,0,0,0,0,0,0,0,0,0,0,0,0,0,0,0,0,0,0,0]
[{"$f":"LOADS!A657","v":{"$error":"#REF!"}},{"$f":"LOADS!B657","v":0},{"$f":"LOADS!X657","v":""},{"$f":"LOADS!AH657","v":0},0,0,0,0,0,0,0,0,0,0,0,0,0,0,0,0,0,0,0,0,0,0,0,0,0,0,0,0]
[{"$f":"LOADS!A658","v":{"$error":"#REF!"}},{"$f":"LOADS!B658","v":0},{"$f":"LOADS!X658","v":""},{"$f":"LOADS!AH658","v":0},0,0,0,0,0,0,0,0,0,0,0,0,0,0,0,0,0,0,0,0,0,0,0,0,0,0,0,0]
[{"$f":"LOADS!A659","v":{"$error":"#REF!"}},{"$f":"LOADS!B659","v":0},{"$f":"LOADS!X659","v":""},{"$f":"LOADS!AH659","v":0},0,0,0,0,0,0,0,0,0,0,0,0,0,0,0,0,0,0,0,0,0,0,0,0,0,0,0,0]
[{"$f":"LOADS!A660","v":{"$error":"#REF!"}},{"$f":"LOADS!B660","v":0},{"$f":"LOADS!X660","v":""},{"$f":"LOADS!AH660","v":0},0,0,0,0,0,0,0,0,{"$f":"IF(M$2=$D663,$C663,0)","v":0},0,0,0,0,0,0,0,0,0,0,0,0,0,0,0,0,0,0,0]
[{"$f":"LOADS!A661","v":{"$error":"#REF!"}},{"$f":"LOADS!B661","v":0},{"$f":"LOADS!X661","v":""},{"$f":"LOADS!AH661","v":0},0,0,0,0,0,0,0,0,0,0,0,0,0,0,0,0,0,0,0,0,0,0,0,0,0,0,0,0]
[{"$f":"LOADS!A662","v":{"$error":"#REF!"}},{"$f":"LOADS!B662","v":0},{"$f":"LOADS!X662","v":""},{"$f":"LOADS!AH662","v":0},0,0,0,0,0,0,0,0,0,0,0,0,0,0,0,0,0,0,0,0,0,0,0,0,0,0,0,0]
[{"$f":"LOADS!A663","v":{"$error":"#REF!"}},{"$f":"LOADS!B663","v":0},{"$f":"LOADS!X663","v":""},{"$f":"LOADS!AH663","v":0},0,0,0,0,0,0,0,0,0,0,0,0,0,0,0,0,0,0,0,0,0,0,0,0,0,0,0,0]
[{"$f":"LOADS!A664","v":{"$error":"#REF!"}},{"$f":"LOADS!B664","v":0},{"$f":"LOADS!X664","v":""},{"$f":"LOADS!AH664","v":0},0,0,0,0,0,0,0,0,{"$f":"IF(M$2=$D667,$C667,0)","v":0},{"$f":"IF(N$2=$D667,$C667,0)","v":0},{"$f":"IF(O$2=$D667,$C667,0)","v":0},{"$f":"IF(P$2=$D667,$C667,0)","v":0},{"$f":"IF(Q$2=$D667,$C667,0)","v":0},0,0,0,0,0,0,0,0,0,0,0,0,0,0,0]
[{"$f":"LOADS!A665","v":{"$error":"#REF!"}},{"$f":"LOADS!B665","v":0},{"$f":"LOADS!X665","v":""},{"$f":"LOADS!AH665","v":0},0,0,0,0,{"$f":"IF(I$2=$D668,$C668,0)","v":0},0,0,0,0,0,0,0,0,0,0,0,0,0,0,0,0,0,0,0,0,0,0,0]
[{"$f":"LOADS!A666","v":{"$error":"#REF!"}},{"$f":"LOADS!B666","v":0},{"$f":"LOADS!X666","v":""},{"$f":"LOADS!AH666","v":0},0,0,0,0,0,0,0,0,0,0,0,0,0,0,0,0,0,0,0,0,0,0,0,0,0,0,0,0]
[{"$f":"LOADS!A667","v":{"$error":"#REF!"}},{"$f":"LOADS!B667","v":0},{"$f":"LOADS!X667","v":""},{"$f":"LOADS!AH667","v":0},0,0,0,0,0,0,0,0,0,0,0,0,0,0,0,0,0,0,0,0,0,0,0,0,0,0,0,0]
[{"$f":"LOADS!A668","v":{"$error":"#REF!"}},{"$f":"LOADS!B668","v":0},{"$f":"LOADS!X668","v":""},{"$f":"LOADS!AH668","v":0},0,0,0,0,0,0,0,0,0,0,0,0,0,0,0,0,0,0,0,0,0,0,0,0,0,0,0,0]
[{"$f":"LOADS!A669","v":{"$error":"#REF!"}},{"$f":"LOADS!B669","v":0},{"$f":"LOADS!X669","v":""},{"$f":"LOADS!AH669","v":0},0,0,0,0,0,0,0,0,0,0,0,0,0,0,0,0,0,0,0,0,0,0,0,0,0,0,0,0]
[{"$f":"LOADS!A670","v":{"$error":"#REF!"}},{"$f":"LOADS!B670","v":0},{"$f":"LOADS!X670","v":""},{"$f":"LOADS!AH670","v":0},0,0,0,0,0,0,0,0,0,0,0,0,0,0,0,0,0,0,0,0,0,0,0,0,0,0,0,0]
[{"$f":"LOADS!A671","v":{"$error":"#REF!"}},{"$f":"LOADS!B671","v":0},{"$f":"LOADS!X671","v":""},{"$f":"LOADS!AH671","v":0},0,0,0,0,0,0,0,0,0,0,0,0,0,0,0,0,0,0,0,0,0,0,0,0,0,0,0,0]
[{"$f":"LOADS!A672","v":{"$error":"#REF!"}},{"$f":"LOADS!B672","v":0},{"$f":"LOADS!X672","v":""},{"$f":"LOADS!AH672","v":0},0,0,0,0,0,0,0,0,0,0,0,0,0,0,0,0,0,0,0,0,0,0,0,0,0,0,0,0]
[{"$f":"LOADS!A673","v":{"$error":"#REF!"}},{"$f":"LOADS!B673","v":0},{"$f":"LOADS!X673","v":""},{"$f":"LOADS!AH673","v":0},0,0,0,0,0,0,0,0,0,0,0,0,0,0,0,0,0,0,0,0,0,0,0,0,0,0,0,0]
[{"$f":"LOADS!A674","v":{"$error":"#REF!"}},{"$f":"LOADS!B674","v":0},{"$f":"LOADS!X674","v":""},{"$f":"LOADS!AH674","v":0},0,0,0,0,0,0,0,0,0,0,0,0,0,0,0,0,0,0,0,0,0,0,0,0,0,0,0,0]
[{"$f":"LOADS!A675","v":{"$error":"#REF!"}},{"$f":"LOADS!B675","v":0},{"$f":"LOADS!X675","v":""},{"$f":"LOADS!AH675","v":0},0,0,0,0,0,0,0,0,0,0,0,0,0,0,0,0,0,0,0,0,0,0,0,0,0,0,0,0]
[{"$f":"LOADS!A676","v":{"$error":"#REF!"}},{"$f":"LOADS!B676","v":0},{"$f":"LOADS!X676","v":""},{"$f":"LOADS!AH676","v":0},0,0,0,0,0,0,0,0,0,0,0,0,0,0,0,0,0,0,0,0,0,0,0,0,0,0,0,0]
[{"$f":"LOADS!A677","v":{"$error":"#REF!"}},{"$f":"LOADS!B677","v":0},{"$f":"LOADS!X677","v":""},{"$f":"LOADS!AH677","v":0},0,0,0,0,0,0,0,0,0,0,0,0,0,0,0,0,0,0,0,0,0,0,0,0,0,0,0,0]
[{"$f":"LOADS!A678","v":{"$error":"#REF!"}},{"$f":"LOADS!B678","v":0},{"$f":"LOADS!X678","v":""},{"$f":"LOADS!AH678","v":0},0,0,0,0,0,0,0,0,0,0,0,0,0,0,0,0,0,0,0,0,0,0,0,0,0,0,0,0]
[{"$f":"LOADS!A679","v":{"$error":"#REF!"}},{"$f":"LOADS!B679","v":0},{"$f":"LOADS!X679","v":""},{"$f":"LOADS!AH679","v":0},0,0,0,0,0,0,0,0,0,0,0,0,0,0,0,0,0,0,0,0,0,0,0,0,0,0,{"$f":"IF(AE$2=$D682,$C682,0)","v":0},0]
[{"$f":"LOADS!A680","v":{"$error":"#REF!"}},{"$f":"LOADS!B680","v":0},{"$f":"LOADS!X680","v":""},{"$f":"LOADS!AH680","v":0},0,0,0,0,0,0,0,0,0,0,0,0,0,0,0,0,0,0,0,0,0,0,0,0,0,0,0,0]
[{"$f":"LOADS!A681","v":{"$error":"#REF!"}},{"$f":"LOADS!B681","v":0},{"$f":"LOADS!X681","v":""},{"$f":"LOADS!AH681","v":0},0,0,0,0,0,0,0,0,0,0,0,0,0,0,0,0,0,{"$f":"IF(V$2=$D684,$C684,0)","v":0},0,0,0,0,0,0,0,0,0,0]
[{"$f":"LOADS!A682","v":{"$error":"#REF!"}},{"$f":"LOADS!B682","v":0},{"$f":"LOADS!X682","v":""},{"$f":"LOADS!AH682","v":0},0,0,0,0,0,0,0,0,0,0,0,0,0,0,0,0,0,0,0,0,0,0,0,0,0,0,0,0]
[{"$f":"LOADS!A683","v":{"$error":"#REF!"}},{"$f":"LOADS!B683","v":0},{"$f":"LOADS!X683","v":""},{"$f":"LOADS!AH683","v":0},0,0,0,0,0,0,0,0,0,0,0,0,0,0,0,0,0,0,0,0,0,0,0,0,0,0,0,0]
[{"$f":"LOADS!A684","v":{"$error":"#REF!"}},{"$f":"LOADS!B684","v":0},{"$f":"LOADS!X684","v":""},{"$f":"LOADS!AH684","v":0},0,0,0,0,0,0,0,0,0,0,0,0,0,0,0,0,0,0,0,0,0,0,0,0,0,0,0,0]
[{"$f":"LOADS!A685","v":{"$error":"#REF!"}},{"$f":"LOADS!B685","v":0},{"$f":"LOADS!X685","v":""},{"$f":"LOADS!AH685","v":0},0,0,0,0,0,0,0,0,0,0,0,0,0,0,0,0,0,0,0,0,0,0,0,0,0,0,0,0]
[{"$f":"LOADS!A686","v":{"$error":"#REF!"}},{"$f":"LOADS!B686","v":0},{"$f":"LOADS!X686","v":""},{"$f":"LOADS!AH686","v":0},0,0,0,0,0,0,0,0,0,0,0,0,0,0,0,0,0,0,0,0,0,0,0,0,0,0,0,0]
[{"$f":"LOADS!A687","v":{"$error":"#REF!"}},{"$f":"LOADS!B687","v":0},{"$f":"LOADS!X687","v":""},{"$f":"LOADS!AH687","v":0},0,0,0,0,0,0,0,0,0,0,0,0,0,0,0,0,0,0,0,0,0,0,0,0,0,0,0,0]
[{"$f":"LOADS!A688","v":{"$error":"#REF!"}},{"$f":"LOADS!B688","v":0},{"$f":"LOADS!X688","v":""},{"$f":"LOADS!AH688","v":0},0,0,0,0,0,0,0,0,0,0,0,0,0,0,0,0,0,0,0,0,0,0,0,0,0,0,0,0]
[{"$f":"LOADS!A689","v":{"$error":"#REF!"}},{"$f":"LOADS!B689","v":0},{"$f":"LOADS!X689","v":""},{"$f":"LOADS!AH689","v":0},0,0,0,0,0,0,0,0,0,0,0,0,0,0,0,0,0,0,0,0,0,0,0,0,0,0,0,0]
[{"$f":"LOADS!A690","v":{"$error":"#REF!"}},{"$f":"LOADS!B690","v":0},{"$f":"LOADS!X690","v":""},{"$f":"LOADS!AH690","v":0},0,0,0,0,0,0,0,0,{"$f":"IF(M$2=$D693,$C693,0)","v":0},0,0,0,0,0,0,0,0,0,0,0,0,0,0,0,0,0,0,0]
[{"$f":"LOADS!A691","v":{"$error":"#REF!"}},{"$f":"LOADS!B691","v":0},{"$f":"LOADS!X691","v":""},{"$f":"LOADS!AH691","v":0},0,0,0,0,{"$f":"IF(I$2=$D694,$C694,0)","v":0},0,0,0,0,0,0,0,0,0,0,0,0,0,0,0,0,0,0,0,0,0,0,0]
[{"$f":"LOADS!A692","v":{"$error":"#REF!"}},{"$f":"LOADS!B692","v":0},{"$f":"LOADS!X692","v":""},{"$f":"LOADS!AH692","v":0},0,0,0,0,0,0,0,0,0,0,0,0,0,0,0,0,0,0,0,0,0,0,0,0,0,0,0,0]
[{"$f":"LOADS!A693","v":{"$error":"#REF!"}},{"$f":"LOADS!B693","v":0},{"$f":"LOADS!X693","v":""},{"$f":"LOADS!AH693","v":0},0,0,0,0,0,0,0,0,0,0,0,0,0,0,0,0,0,0,0,0,0,0,0,0,0,0,0,0]
[{"$f":"LOADS!A694","v":{"$error":"#REF!"}},{"$f":"LOADS!B694","v":0},{"$f":"LOADS!X694","v":""},{"$f":"LOADS!AH694","v":0},0,0,0,0,0,0,0,0,0,0,0,0,0,0,0,0,0,0,0,0,0,0,0,0,0,0,0,0]
[{"$f":"LOADS!A695","v":{"$error":"#REF!"}},{"$f":"LOADS!B695","v":0},{"$f":"LOADS!X695","v":""},{"$f":"LOADS!AH695","v":0},{"$f":"IF(E$2=$D698,$C698,0)","v":0},0,0,0,0,0,0,0,0,0,0,0,0,0,0,0,0,0,0,0,0,0,0,0,0,{"$f":"IF(AD$2=$D698,$C698,0)","v":0},0,0]
[{"$f":"LOADS!A696","v":{"$error":"#REF!"}},{"$f":"LOADS!B696","v":0},{"$f":"LOADS!X696","v":""},{"$f":"LOADS!AH696","v":0},0,0,0,0,0,0,0,0,0,0,0,0,0,0,0,0,0,0,0,0,0,0,0,0,0,0,0,0]
[{"$f":"LOADS!A697","v":{"$error":"#REF!"}},{"$f":"LOADS!B697","v":0},{"$f":"LOADS!X697","v":""},{"$f":"LOADS!AH697","v":0},0,0,0,0,0,0,0,0,0,0,0,0,0,0,0,0,0,0,0,0,0,0,0,0,0,0,0,0]
[{"$f":"LOADS!A698","v":{"$error":"#REF!"}},{"$f":"LOADS!B698","v":0},{"$f":"LOADS!X698","v":""},{"$f":"LOADS!AH698","v":0},0,0,0,0,0,0,0,0,0,0,0,0,0,0,0,0,0,0,0,0,0,0,0,0,0,0,0,0]
[{"$f":"LOADS!A699","v":{"$error":"#REF!"}},{"$f":"LOADS!B699","v":0},{"$f":"LOADS!X699","v":""},{"$f":"LOADS!AH699","v":0},0,0,0,0,0,0,0,0,0,0,0,0,0,0,0,0,0,0,0,0,0,0,0,0,0,0,0,0]
[{"$f":"LOADS!A700","v":{"$error":"#REF!"}},{"$f":"LOADS!B700","v":0},{"$f":"LOADS!X700","v":""},{"$f":"LOADS!AH700","v":0},0,0,0,0,0,0,0,0,0,0,0,0,0,0,0,0,0,0,0,0,0,0,0,0,0,0,0,0]
[{"$f":"LOADS!A701","v":{"$error":"#REF!"}},{"$f":"LOADS!B701","v":0},{"$f":"LOADS!X701","v":""},{"$f":"LOADS!AH701","v":0},0,0,0,0,{"$f":"IF(I$2=$D704,$C704,0)","v":0},0,0,0,0,0,0,0,0,0,0,0,0,0,0,0,0,0,0,0,0,0,0,0]
[{"$f":"LOADS!A702","v":{"$error":"#REF!"}},{"$f":"LOADS!B702","v":0},{"$f":"LOADS!X702","v":""},{"$f":"LOADS!AH702","v":0},0,0,0,0,0,0,0,0,0,0,0,0,0,0,0,0,0,0,0,0,0,0,0,0,0,0,0,0]
[{"$f":"LOADS!A703","v":{"$error":"#REF!"}},{"$f":"LOADS!B703","v":0},{"$f":"LOADS!X703","v":""},{"$f":"LOADS!AH703","v":0},0,0,0,0,0,0,0,0,0,0,0,0,0,0,0,0,0,0,0,0,0,0,0,0,0,0,0,0]
[{"$f":"LOADS!A704","v":{"$error":"#REF!"}},{"$f":"LOADS!B704","v":0},{"$f":"LOADS!X704","v":""},{"$f":"LOADS!AH704","v":0},0,0,0,0,0,0,0,0,0,0,0,0,0,0,0,0,0,0,0,0,0,0,0,0,0,0,0,0]
[{"$f":"LOADS!A705","v":{"$error":"#REF!"}},{"$f":"LOADS!B705","v":0},{"$f":"LOADS!X705","v":""},{"$f":"LOADS!AH705","v":0},0,0,0,0,0,0,0,0,0,0,0,0,0,0,0,0,0,0,0,0,0,0,0,0,0,0,0,0]
[{"$f":"LOADS!A706","v":{"$error":"#REF!"}},{"$f":"LOADS!B706","v":0},{"$f":"LOADS!X706","v":""},{"$f":"LOADS!AH706","v":0},0,0,0,0,0,0,0,0,0,0,0,0,0,0,0,0,0,0,0,0,0,0,0,0,0,0,0,0]
[{"$f":"LOADS!A707","v":{"$error":"#REF!"}},{"$f":"LOADS!B707","v":0},{"$f":"LOADS!X707","v":""},{"$f":"LOADS!AH707","v":0},0,0,0,0,0,0,0,0,0,0,0,0,0,0,0,0,0,0,0,0,0,0,0,0,0,0,0,0]
[{"$f":"LOADS!A708","v":{"$error":"#REF!"}},{"$f":"LOADS!B708","v":0},{"$f":"LOADS!X708","v":""},{"$f":"LOADS!AH708","v":0},0,0,0,0,0,0,0,0,0,0,0,0,0,0,0,0,0,0,0,0,0,0,0,0,0,0,0,0]
[{"$f":"LOADS!A709","v":{"$error":"#REF!"}},{"$f":"LOADS!B709","v":0},{"$f":"LOADS!X709","v":""},{"$f":"LOADS!AH709","v":0},0,0,0,0,0,0,0,0,0,0,0,0,0,0,0,0,0,0,0,0,0,0,0,0,0,0,0,0]
[{"$f":"LOADS!A710","v":{"$error":"#REF!"}},{"$f":"LOADS!B710","v":0},{"$f":"LOADS!X710","v":""},{"$f":"LOADS!AH710","v":0},0,0,0,0,0,0,0,0,0,0,0,0,0,0,0,0,0,0,0,0,0,0,0,0,0,0,0,0]
[{"$f":"LOADS!A711","v":{"$error":"#REF!"}},{"$f":"LOADS!B711","v":0},{"$f":"LOADS!X711","v":""},{"$f":"LOADS!AH711","v":0},0,0,0,0,{"$f":"IF(I$2=$D714,$C714,0)","v":0},0,0,0,0,0,0,0,0,0,0,0,0,0,0,0,0,0,0,0,{"$f":"IF(AC$2=$D714,$C714,0)","v":0},0,0,0]
[{"$f":"LOADS!A712","v":{"$error":"#REF!"}},{"$f":"LOADS!B712","v":0},{"$f":"LOADS!X712","v":""},{"$f":"LOADS!AH712","v":0},0,0,0,0,0,0,0,0,0,0,0,0,0,0,0,0,0,0,0,0,0,0,0,0,0,0,0,0]
[{"$f":"LOADS!A713","v":{"$error":"#REF!"}},{"$f":"LOADS!B713","v":0},{"$f":"LOADS!X713","v":""},{"$f":"LOADS!AH713","v":0},0,0,0,0,0,0,0,0,0,0,0,0,0,0,0,0,{"$f":"IF(U$2=$D716,$C716,0)","v":0},0,0,0,0,0,0,0,0,0,0,0]
[{"$f":"LOADS!A714","v":{"$error":"#REF!"}},{"$f":"LOADS!B714","v":0},{"$f":"LOADS!X714","v":""},{"$f":"LOADS!AH714","v":0},0,0,0,0,0,0,0,0,0,0,0,0,0,0,0,0,0,0,0,0,0,0,0,0,0,0,0,0]
[{"$f":"LOADS!A715","v":{"$error":"#REF!"}},{"$f":"LOADS!B715","v":0},{"$f":"LOADS!X715","v":""},{"$f":"LOADS!AH715","v":0},0,0,0,0,0,0,0,0,0,0,0,0,0,0,0,0,0,0,0,0,0,0,0,0,0,0,0,0]
[{"$f":"LOADS!A716","v":{"$error":"#REF!"}},{"$f":"LOADS!B716","v":0},{"$f":"LOADS!X716","v":""},{"$f":"LOADS!AH716","v":0},0,0,0,0,0,0,0,0,0,0,0,0,0,0,0,0,0,0,0,0,0,0,0,0,0,0,0,0]
[{"$f":"LOADS!A717","v":{"$error":"#REF!"}},{"$f":"LOADS!B717","v":0},{"$f":"LOADS!X717","v":""},{"$f":"LOADS!AH717","v":0},0,0,0,0,0,0,0,0,0,0,0,0,0,0,0,0,0,0,0,0,0,0,0,0,0,0,0,0]
[{"$f":"LOADS!A718","v":{"$error":"#REF!"}},{"$f":"LOADS!B718","v":0},{"$f":"LOADS!X718","v":""},{"$f":"LOADS!AH718","v":0},0,0,0,0,0,0,0,0,0,0,0,0,0,0,0,0,0,0,0,0,0,0,0,0,0,0,0,0]
[{"$f":"LOADS!A719","v":{"$error":"#REF!"}},{"$f":"LOADS!B719","v":0},{"$f":"LOADS!X719","v":""},{"$f":"LOADS!AH719","v":0},0,0,0,0,0,0,0,0,0,0,0,0,0,0,0,0,0,0,0,0,0,0,0,0,0,0,0,0]
[{"$f":"LOADS!A720","v":{"$error":"#REF!"}},{"$f":"LOADS!B720","v":0},{"$f":"LOADS!X720","v":""},{"$f":"LOADS!AH720","v":0},0,0,0,0,0,0,0,0,0,0,0,0,0,0,0,0,0,0,0,0,0,0,0,0,0,0,0,0]
[{"$f":"LOADS!A721","v":{"$error":"#REF!"}},{"$f":"LOADS!B721","v":0},{"$f":"LOADS!X721","v":""},{"$f":"LOADS!AH721","v":0},0,0,0,0,{"$f":"IF(I$2=$D724,$C724,0)","v":0},0,0,0,0,0,0,0,0,0,0,0,0,0,0,0,0,0,0,0,0,0,0,0]
[{"$f":"LOADS!A722","v":{"$error":"#REF!"}},{"$f":"LOADS!B722","v":0},{"$f":"LOADS!X722","v":""},{"$f":"LOADS!AH722","v":0},0,0,0,0,0,0,0,0,0,0,0,0,0,0,0,0,0,0,0,0,0,0,0,0,0,0,0,0]
[{"$f":"LOADS!A723","v":{"$error":"#REF!"}},{"$f":"LOADS!B723","v":0},{"$f":"LOADS!X723","v":""},{"$f":"LOADS!AH723","v":0},0,0,0,0,0,0,0,0,0,0,0,0,0,0,0,0,0,0,0,0,0,0,0,0,0,0,0,0]
[{"$f":"LOADS!A724","v":{"$error":"#REF!"}},{"$f":"LOADS!B724","v":0},{"$f":"LOADS!X724","v":""},{"$f":"LOADS!AH724","v":0},0,0,0,0,0,0,0,0,0,0,0,0,0,0,0,0,0,0,0,0,0,0,0,0,0,0,0,0]
[{"$f":"LOADS!A725","v":{"$error":"#REF!"}},{"$f":"LOADS!B725","v":0},{"$f":"LOADS!X725","v":""},{"$f":"LOADS!AH725","v":0},0,0,0,0,0,0,0,0,0,0,0,0,0,0,0,0,0,0,0,0,0,0,0,0,0,0,0,0]
[{"$f":"LOADS!A726","v":{"$error":"#REF!"}},{"$f":"LOADS!B726","v":0},{"$f":"LOADS!X726","v":""},{"$f":"LOADS!AH726","v":0},0,0,0,0,0,0,0,0,0,0,0,0,0,0,0,0,0,0,0,0,0,0,0,0,0,0,0,0]
[{"$f":"LOADS!A727","v":{"$error":"#REF!"}},{"$f":"LOADS!B727","v":0},{"$f":"LOADS!X727","v":""},{"$f":"LOADS!AH727","v":0},0,0,0,0,0,0,0,0,0,0,0,0,0,0,0,0,0,0,0,0,0,0,0,0,{"$f":"IF(AC$2=$D730,$C730,0)","v":0},0,0,0]
[{"$f":"LOADS!A728","v":{"$error":"#REF!"}},{"$f":"LOADS!B728","v":0},{"$f":"LOADS!X728","v":""},{"$f":"LOADS!AH728","v":0},0,0,0,0,0,0,0,0,{"$f":"IF(M$2=$D731,$C731,0)","v":0},0,0,0,0,0,0,0,0,0,0,0,0,0,0,0,0,0,0,0]
[{"$f":"LOADS!A729","v":{"$error":"#REF!"}},{"$f":"LOADS!B729","v":0},{"$f":"LOADS!X729","v":""},{"$f":"LOADS!AH729","v":0},0,0,0,0,0,0,0,0,0,0,0,0,0,0,0,0,0,0,0,0,0,0,0,0,0,0,0,0]
[{"$f":"LOADS!A730","v":{"$error":"#REF!"}},{"$f":"LOADS!B730","v":0},{"$f":"LOADS!X730","v":""},{"$f":"LOADS!AH730","v":0},0,0,0,0,0,0,0,0,0,0,0,0,0,0,0,0,0,0,0,0,0,0,0,0,0,0,0,0]
[{"$f":"LOADS!A731","v":{"$error":"#REF!"}},{"$f":"LOADS!B731","v":0},{"$f":"LOADS!X731","v":""},{"$f":"LOADS!AH731","v":0},0,0,0,0,0,0,0,0,0,0,0,0,0,0,0,0,0,0,0,0,0,0,0,0,0,0,0,0]
[{"$f":"LOADS!A732","v":{"$error":"#REF!"}},{"$f":"LOADS!B732","v":0},{"$f":"LOADS!X732","v":""},{"$f":"LOADS!AH732","v":0},0,0,0,0,0,0,0,0,{"$f":"IF(M$2=$D735,$C735,0)","v":0},{"$f":"IF(N$2=$D735,$C735,0)","v":0},{"$f":"IF(O$2=$D735,$C735,0)","v":0},{"$f":"IF(P$2=$D735,$C735,0)","v":0},{"$f":"IF(Q$2=$D735,$C735,0)","v":0},0,0,0,0,0,0,0,0,0,0,0,0,0,0,0]
[{"$f":"LOADS!A733","v":{"$error":"#REF!"}},{"$f":"LOADS!B733","v":0},{"$f":"LOADS!X733","v":""},{"$f":"LOADS!AH733","v":0},0,0,0,0,{"$f":"IF(I$2=$D736,$C736,0)","v":0},0,0,0,0,0,0,0,0,0,0,0,0,0,0,0,0,0,0,0,0,0,0,0]
[{"$f":"LOADS!A734","v":{"$error":"#REF!"}},{"$f":"LOADS!B734","v":0},{"$f":"LOADS!X734","v":""},{"$f":"LOADS!AH734","v":0},0,0,0,0,0,0,0,0,0,0,0,0,0,0,0,0,0,0,0,0,0,0,0,0,0,0,0,0]
[{"$f":"LOADS!A735","v":{"$error":"#REF!"}},{"$f":"LOADS!B735","v":0},{"$f":"LOADS!X735","v":""},{"$f":"LOADS!AH735","v":0},0,0,0,0,0,0,0,0,0,0,0,0,0,0,0,0,0,0,0,0,0,0,0,0,0,0,0,0]
[{"$f":"LOADS!A736","v":{"$error":"#REF!"}},{"$f":"LOADS!B736","v":0},{"$f":"LOADS!X736","v":""},{"$f":"LOADS!AH736","v":0},0,0,0,0,0,0,0,0,0,0,0,0,0,0,0,0,0,0,{"$f":"IF(W$2=$D739,$C739,0)","v":0},0,0,0,0,0,0,0,0,0]
[{"$f":"LOADS!A737","v":{"$error":"#REF!"}},{"$f":"LOADS!B737","v":0},{"$f":"LOADS!X737","v":""},{"$f":"LOADS!AH737","v":0},0,0,0,0,0,0,0,0,0,0,0,0,0,0,0,0,0,0,0,0,0,0,0,0,0,0,0,0]
[{"$f":"LOADS!A738","v":{"$error":"#REF!"}},{"$f":"LOADS!B738","v":0},{"$f":"LOADS!X738","v":""},{"$f":"LOADS!AH738","v":0},0,0,0,0,0,0,0,0,0,0,0,0,0,0,0,0,0,0,0,0,0,0,0,0,0,0,0,0]
[{"$f":"LOADS!A739","v":{"$error":"#REF!"}},{"$f":"LOADS!B739","v":0},{"$f":"LOADS!X739","v":""},{"$f":"LOADS!AH739","v":0},0,0,0,0,0,0,0,0,0,0,0,0,0,0,0,0,0,0,0,0,0,0,0,0,0,0,0,0]
[{"$f":"LOADS!A740","v":{"$error":"#REF!"}},{"$f":"LOADS!B740","v":0},{"$f":"LOADS!X740","v":""},{"$f":"LOADS!AH740","v":0},0,0,0,0,0,0,0,0,0,0,0,0,0,0,0,0,0,0,0,0,0,0,0,0,0,0,0,0]
[{"$f":"LOADS!A741","v":{"$error":"#REF!"}},{"$f":"LOADS!B741","v":0},{"$f":"LOADS!X741","v":""},{"$f":"LOADS!AH741","v":0},0,0,0,0,0,0,0,0,0,0,0,0,0,0,0,0,0,0,0,0,0,0,0,0,0,0,0,0]
[{"$f":"LOADS!A742","v":{"$error":"#REF!"}},{"$f":"LOADS!B742","v":0},{"$f":"LOADS!X742","v":""},{"$f":"LOADS!AH742","v":0},0,0,0,0,0,0,0,0,0,0,0,0,0,0,0,0,0,0,0,0,0,0,0,0,0,0,0,0]
[{"$f":"LOADS!A743","v":{"$error":"#REF!"}},{"$f":"LOADS!B743","v":0},{"$f":"LOADS!X743","v":""},{"$f":"LOADS!AH743","v":0},0,0,0,0,0,0,0,0,0,0,0,0,0,0,0,0,0,0,0,0,0,0,0,0,{"$f":"IF(AC$2=$D746,$C746,0)","v":0},0,0,0]
[{"$f":"LOADS!A744","v":{"$error":"#REF!"}},{"$f":"LOADS!B744","v":0},{"$f":"LOADS!X744","v":""},{"$f":"LOADS!AH744","v":0},0,0,0,0,0,0,0,0,0,0,0,0,0,0,0,0,0,0,0,0,0,0,0,0,0,0,0,0]
[{"$f":"LOADS!A745","v":{"$error":"#REF!"}},{"$f":"LOADS!B745","v":0},{"$f":"LOADS!X745","v":""},{"$f":"LOADS!AH745","v":0},0,0,0,0,0,0,0,0,0,0,0,0,0,0,0,0,0,0,0,0,0,0,0,0,0,0,0,0]
[{"$f":"LOADS!A746","v":{"$error":"#REF!"}},{"$f":"LOADS!B746","v":0},{"$f":"LOADS!X746","v":""},{"$f":"LOADS!AH746","v":0},{"$f":"IF(E$2=$D749,$C749,0)","v":0},0,0,0,0,0,0,0,0,0,0,0,0,0,0,0,0,0,{"$f":"IF(W$2=$D749,$C749,0)","v":0},0,0,0,0,0,0,0,0,0]
[{"$f":"LOADS!A747","v":{"$error":"#REF!"}},{"$f":"LOADS!B747","v":0},{"$f":"LOADS!X747","v":""},{"$f":"LOADS!AH747","v":0},0,0,0,0,0,0,0,0,0,0,0,0,0,0,0,0,0,0,0,0,0,0,0,0,0,0,0,0]
[{"$f":"LOADS!A748","v":{"$error":"#REF!"}},{"$f":"LOADS!B748","v":0},{"$f":"LOADS!X748","v":""},{"$f":"LOADS!AH748","v":0},0,0,0,0,0,0,0,0,0,0,0,0,0,0,0,0,0,0,0,0,0,0,0,0,0,0,0,0]
[{"$f":"LOADS!A749","v":{"$error":"#REF!"}},{"$f":"LOADS!B749","v":0},{"$f":"LOADS!X749","v":""},{"$f":"LOADS!AH749","v":0},0,0,0,0,0,0,0,0,0,0,0,0,0,0,0,0,0,0,0,0,0,0,0,0,0,0,0,0]
[{"$f":"LOADS!A750","v":{"$error":"#REF!"}},{"$f":"LOADS!B750","v":0},{"$f":"LOADS!X750","v":""},{"$f":"LOADS!AH750","v":0},0,0,0,0,0,0,0,0,0,0,0,0,0,0,0,0,0,0,0,0,0,0,0,0,0,0,0,0]
[{"$f":"LOADS!A751","v":{"$error":"#REF!"}},{"$f":"LOADS!B751","v":0},{"$f":"LOADS!X751","v":""},{"$f":"LOADS!AH751","v":0},0,0,0,0,0,0,0,0,0,0,0,0,0,0,0,0,0,0,0,0,0,0,0,0,0,0,0,0]
[{"$f":"LOADS!A752","v":{"$error":"#REF!"}},{"$f":"LOADS!B752","v":0},{"$f":"LOADS!X752","v":""},{"$f":"LOADS!AH752","v":0},0,0,0,0,0,0,0,0,0,0,0,0,0,0,0,0,0,0,0,0,0,0,0,0,0,0,0,0]
[{"$f":"LOADS!A753","v":{"$error":"#REF!"}},{"$f":"LOADS!B753","v":0},{"$f":"LOADS!X753","v":""},{"$f":"LOADS!AH753","v":0},0,0,0,0,0,0,0,0,0,0,0,0,0,0,0,0,0,0,0,0,0,0,0,0,0,0,0,0]
[{"$f":"LOADS!A754","v":{"$error":"#REF!"}},{"$f":"LOADS!B754","v":0},{"$f":"LOADS!X754","v":""},{"$f":"LOADS!AH754","v":0},0,0,0,0,0,0,0,0,0,0,0,0,0,0,0,0,0,0,0,0,0,0,0,0,0,0,0,0]
[{"$f":"LOADS!A755","v":{"$error":"#REF!"}},{"$f":"LOADS!B755","v":0},{"$f":"LOADS!X755","v":""},{"$f":"LOADS!AH755","v":0},0,0,0,0,0,0,0,0,0,0,0,0,0,0,0,0,0,0,0,0,0,0,0,0,0,0,0,0]
[{"$f":"LOADS!A756","v":{"$error":"#REF!"}},{"$f":"LOADS!B756","v":0},{"$f":"LOADS!X756","v":""},{"$f":"LOADS!AH756","v":0},0,0,0,0,0,0,0,0,0,0,0,0,0,0,0,0,0,0,{"$f":"IF(W$2=$D759,$C759,0)","v":0},0,0,0,0,0,0,0,0,0]
[{"$f":"LOADS!A757","v":{"$error":"#REF!"}},{"$f":"LOADS!B757","v":0},{"$f":"LOADS!X757","v":""},{"$f":"LOADS!AH757","v":0},0,0,0,0,0,0,0,0,0,0,0,0,0,0,0,0,0,0,0,0,0,0,0,0,0,0,0,0]
[{"$f":"LOADS!A758","v":{"$error":"#REF!"}},{"$f":"LOADS!B758","v":0},{"$f":"LOADS!X758","v":""},{"$f":"LOADS!AH758","v":0},0,0,0,0,0,0,0,0,{"$f":"IF(M$2=$D761,$C761,0)","v":0},0,0,0,0,0,0,0,0,0,0,0,0,0,0,0,0,0,0,0]
[{"$f":"LOADS!A759","v":{"$error":"#REF!"}},{"$f":"LOADS!B759","v":0},{"$f":"LOADS!X759","v":""},{"$f":"LOADS!AH759","v":0},0,0,0,0,{"$f":"IF(I$2=$D762,$C762,0)","v":0},0,0,0,0,0,0,0,0,0,0,0,0,0,0,0,0,0,0,{"$f":"IF(AB$2=$D762,$C762,0)","v":0},0,0,0,0]
[{"$f":"LOADS!A760","v":{"$error":"#REF!"}},{"$f":"LOADS!B760","v":0},{"$f":"LOADS!X760","v":""},{"$f":"LOADS!AH760","v":0},0,0,0,0,0,0,0,0,0,0,0,0,0,0,0,0,0,0,0,0,0,0,0,0,0,0,0,0]
[{"$f":"LOADS!A761","v":{"$error":"#REF!"}},{"$f":"LOADS!B761","v":0},{"$f":"LOADS!X761","v":""},{"$f":"LOADS!AH761","v":0},0,0,0,0,0,0,0,0,0,0,0,0,0,0,0,0,0,0,0,0,0,0,0,0,0,0,0,0]
[{"$f":"LOADS!A762","v":{"$error":"#REF!"}},{"$f":"LOADS!B762","v":0},{"$f":"LOADS!X762","v":""},{"$f":"LOADS!AH762","v":0},0,0,0,0,0,0,0,0,0,0,0,0,0,0,0,0,0,0,0,0,0,0,0,0,0,0,0,0]
[{"$f":"LOADS!A763","v":{"$error":"#REF!"}},{"$f":"LOADS!B763","v":0},{"$f":"LOADS!X763","v":""},{"$f":"LOADS!AH763","v":0},0,0,0,0,0,0,0,0,0,0,0,0,0,0,0,0,0,0,0,0,0,0,0,0,0,0,0,0]
[{"$f":"LOADS!A764","v":{"$error":"#REF!"}},{"$f":"LOADS!B764","v":0},{"$f":"LOADS!X764","v":""},{"$f":"LOADS!AH764","v":0},0,0,0,0,0,0,0,0,0,0,0,0,0,0,0,0,0,0,0,0,0,0,0,0,0,0,0,0]
[{"$f":"LOADS!A765","v":{"$error":"#REF!"}},{"$f":"LOADS!B765","v":0},{"$f":"LOADS!X765","v":""},{"$f":"LOADS!AH765","v":0},0,0,0,0,0,0,0,0,0,0,0,0,0,0,0,0,0,0,0,0,0,0,0,0,0,0,0,0]
[{"$f":"LOADS!A766","v":{"$error":"#REF!"}},{"$f":"LOADS!B766","v":0},{"$f":"LOADS!X766","v":""},{"$f":"LOADS!AH766","v":0},0,0,0,0,0,0,0,0,0,0,0,0,0,0,0,0,0,0,{"$f":"IF(W$2=$D769,$C769,0)","v":0},0,0,0,0,0,0,0,0,0]
[{"$f":"LOADS!A767","v":{"$error":"#REF!"}},{"$f":"LOADS!B767","v":0},{"$f":"LOADS!X767","v":""},{"$f":"LOADS!AH767","v":0},0,0,0,0,0,0,0,0,0,0,0,0,0,0,0,0,0,0,0,0,0,0,0,0,0,0,0,0]
[{"$f":"LOADS!A768","v":{"$error":"#REF!"}},{"$f":"LOADS!B768","v":0},{"$f":"LOADS!X768","v":""},{"$f":"LOADS!AH768","v":0},0,0,0,0,0,0,0,0,0,0,0,0,0,0,0,0,0,0,0,0,0,0,0,0,0,0,0,0]
[{"$f":"LOADS!A769","v":{"$error":"#REF!"}},{"$f":"LOADS!B769","v":0},{"$f":"LOADS!X769","v":""},{"$f":"LOADS!AH769","v":0},0,0,0,0,0,0,0,0,0,0,0,0,0,0,0,0,0,0,0,0,0,0,0,0,0,0,0,0]
[{"$f":"LOADS!A770","v":{"$error":"#REF!"}},{"$f":"LOADS!B770","v":0},{"$f":"LOADS!X770","v":""},{"$f":"LOADS!AH770","v":0},0,0,0,0,0,0,0,0,0,0,0,0,0,0,0,0,0,0,0,0,0,0,0,0,0,0,0,0]
[{"$f":"LOADS!A771","v":{"$error":"#REF!"}},{"$f":"LOADS!B771","v":0},{"$f":"LOADS!X771","v":""},{"$f":"LOADS!AH771","v":0},0,0,0,0,0,0,0,0,0,0,0,0,0,0,0,0,0,0,0,0,0,0,0,0,0,0,0,0]
[{"$f":"LOADS!A772","v":{"$error":"#REF!"}},{"$f":"LOADS!B772","v":0},{"$f":"LOADS!X772","v":""},{"$f":"LOADS!AH772","v":0},0,0,0,0,0,0,0,0,0,0,0,0,0,0,0,0,0,0,0,0,0,0,0,0,0,0,0,0]
[{"$f":"LOADS!A773","v":{"$error":"#REF!"}},{"$f":"LOADS!B773","v":0},{"$f":"LOADS!X773","v":""},{"$f":"LOADS!AH773","v":0},0,0,0,0,0,0,0,0,0,0,0,0,0,0,0,0,0,0,0,0,0,0,0,0,0,0,0,0]
[{"$f":"LOADS!A774","v":{"$error":"#REF!"}},{"$f":"LOADS!B774","v":0},{"$f":"LOADS!X774","v":""},{"$f":"LOADS!AH774","v":0},0,0,0,0,0,0,0,0,0,0,0,0,0,0,0,0,0,0,0,0,0,0,0,0,0,0,0,0]
[{"$f":"LOADS!A775","v":{"$error":"#REF!"}},{"$f":"LOADS!B775","v":0},{"$f":"LOADS!X775","v":""},{"$f":"LOADS!AH775","v":0},0,0,0,0,0,0,0,0,0,0,0,0,0,0,0,0,0,0,0,0,0,0,{"$f":"IF(AA$2=$D778,$C778,0)","v":0},0,0,0,0,0]
[{"$f":"LOADS!A776","v":{"$error":"#REF!"}},{"$f":"LOADS!B776","v":0},{"$f":"LOADS!X776","v":""},{"$f":"LOADS!AH776","v":0},0,0,0,0,0,0,0,0,0,0,0,0,{"$f":"IF(Q$2=$D779,$C779,0)","v":0},0,0,0,0,0,{"$f":"IF(W$2=$D779,$C779,0)","v":0},0,0,0,{"$f":"IF(AA$2=$D779,$C779,0)","v":0},0,0,0,0,0]
[{"$f":"LOADS!A777","v":{"$error":"#REF!"}},{"$f":"LOADS!B777","v":0},{"$f":"LOADS!X777","v":""},{"$f":"LOADS!AH777","v":0},0,0,0,0,0,0,0,0,0,0,0,0,0,0,0,0,0,0,0,0,0,0,0,0,0,0,0,0]
[{"$f":"LOADS!A778","v":{"$error":"#REF!"}},{"$f":"LOADS!B778","v":0},{"$f":"LOADS!X778","v":""},{"$f":"LOADS!AH778","v":0},0,0,0,0,0,0,0,0,0,0,0,0,0,0,0,0,0,0,0,0,0,0,0,0,0,0,0,0]
[{"$f":"LOADS!A779","v":{"$error":"#REF!"}},{"$f":"LOADS!B779","v":0},{"$f":"LOADS!X779","v":""},{"$f":"LOADS!AH779","v":0},0,0,0,0,0,0,0,0,0,0,0,0,0,0,0,0,0,0,0,0,0,0,0,0,0,0,0,0]
[{"$f":"LOADS!A780","v":{"$error":"#REF!"}},{"$f":"LOADS!B780","v":0},{"$f":"LOADS!X780","v":""},{"$f":"LOADS!AH780","v":0},0,0,0,0,0,0,0,0,0,0,0,0,0,0,0,0,0,0,0,0,0,0,0,0,0,0,0,0]
[{"$f":"LOADS!A781","v":{"$error":"#REF!"}},{"$f":"LOADS!B781","v":0},{"$f":"LOADS!X781","v":""},{"$f":"LOADS!AH781","v":0},0,0,0,0,0,0,0,0,0,0,0,0,0,0,0,0,0,0,0,0,0,0,0,0,0,0,0,0]
[{"$f":"LOADS!A782","v":{"$error":"#REF!"}},{"$f":"LOADS!B782","v":0},{"$f":"LOADS!X782","v":""},{"$f":"LOADS!AH782","v":0},0,0,0,0,0,0,0,0,0,0,0,0,0,0,0,0,0,0,0,0,0,0,0,0,0,0,0,0]
[{"$f":"LOADS!A783","v":{"$error":"#REF!"}},{"$f":"LOADS!B783","v":0},{"$f":"LOADS!X783","v":""},{"$f":"LOADS!AH783","v":0},0,0,0,0,0,0,0,0,0,0,0,0,0,0,0,0,0,0,0,0,0,0,0,0,0,0,0,0]
[{"$f":"LOADS!A784","v":{"$error":"#REF!"}},{"$f":"LOADS!B784","v":0},{"$f":"LOADS!X784","v":""},{"$f":"LOADS!AH784","v":0},0,0,0,0,0,0,0,0,0,0,0,0,0,0,0,0,0,0,0,0,0,0,0,0,0,0,0,0]
[{"$f":"LOADS!A785","v":{"$error":"#REF!"}},{"$f":"LOADS!B785","v":0},{"$f":"LOADS!X785","v":""},{"$f":"LOADS!AH785","v":0},0,0,0,0,0,0,0,0,0,0,0,0,0,0,0,0,0,0,0,0,0,0,0,0,0,0,0,0]
[{"$f":"LOADS!A786","v":{"$error":"#REF!"}},{"$f":"LOADS!B786","v":0},{"$f":"LOADS!X786","v":""},{"$f":"LOADS!AH786","v":0},0,0,0,0,0,0,0,0,0,0,0,0,0,0,0,0,0,0,0,0,0,0,0,0,0,0,0,0]
[{"$f":"LOADS!A787","v":{"$error":"#REF!"}},{"$f":"LOADS!B787","v":0},{"$f":"LOADS!X787","v":""},{"$f":"LOADS!AH787","v":0},0,0,0,0,0,0,0,0,0,0,0,0,0,0,0,0,0,0,0,0,0,0,0,0,0,0,0,0]
[{"$f":"LOADS!A788","v":{"$error":"#REF!"}},{"$f":"LOADS!B788","v":0},{"$f":"LOADS!X788","v":""},{"$f":"LOADS!AH788","v":0},0,0,0,0,0,0,0,0,0,0,0,0,0,0,0,0,0,0,0,0,0,0,0,0,0,0,0,0]
[{"$f":"LOADS!A789","v":{"$error":"#REF!"}},{"$f":"LOADS!B789","v":0},{"$f":"LOADS!X789","v":""},{"$f":"LOADS!AH789","v":0},0,0,0,0,0,0,0,0,0,0,0,0,0,0,0,0,0,0,0,0,0,0,0,0,0,0,0,0]
[{"$f":"LOADS!A790","v":{"$error":"#REF!"}},{"$f":"LOADS!B790","v":0},{"$f":"LOADS!X790","v":""},{"$f":"LOADS!AH790","v":0},0,0,0,0,0,0,0,0,0,0,0,0,0,0,0,0,0,0,0,0,0,0,0,0,0,0,0,0]
[{"$f":"LOADS!A791","v":{"$error":"#REF!"}},{"$f":"LOADS!B791","v":0},{"$f":"LOADS!X791","v":""},{"$f":"LOADS!AH791","v":0},0,0,0,0,0,0,0,0,0,0,0,0,0,0,0,0,0,0,0,0,0,0,0,0,0,0,0,0]
[{"$f":"LOADS!A792","v":{"$error":"#REF!"}},{"$f":"LOADS!B792","v":0},{"$f":"LOADS!X792","v":""},{"$f":"LOADS!AH792","v":0},0,0,0,0,0,0,0,0,0,0,0,0,0,0,0,0,0,0,0,0,0,0,{"$f":"IF(AA$2=$D795,$C795,0)","v":0},0,0,0,0,0]
[{"$f":"LOADS!A793","v":{"$error":"#REF!"}},{"$f":"LOADS!B793","v":0},{"$f":"LOADS!X793","v":""},{"$f":"LOADS!AH793","v":0},0,0,0,0,0,0,0,0,{"$f":"IF(M$2=$D796,$C796,0)","v":0},0,0,0,0,0,0,0,0,0,0,0,0,0,0,0,0,0,0,0]
[{"$f":"LOADS!A794","v":{"$error":"#REF!"}},{"$f":"LOADS!B794","v":0},{"$f":"LOADS!X794","v":""},{"$f":"LOADS!AH794","v":0},0,0,0,0,{"$f":"IF(I$2=$D797,$C797,0)","v":0},0,0,0,0,0,0,0,0,0,0,0,0,0,0,0,0,0,0,0,0,0,0,0]
[{"$f":"LOADS!A795","v":{"$error":"#REF!"}},{"$f":"LOADS!B795","v":0},{"$f":"LOADS!X795","v":""},{"$f":"LOADS!AH795","v":0},0,0,0,0,0,0,0,0,0,0,0,0,0,0,0,0,0,0,0,0,0,0,0,0,0,0,0,0]
[{"$f":"LOADS!A796","v":{"$error":"#REF!"}},{"$f":"LOADS!B796","v":0},{"$f":"LOADS!X796","v":""},{"$f":"LOADS!AH796","v":0},0,0,0,0,0,0,0,0,0,0,0,0,0,0,0,0,0,0,{"$f":"IF(W$2=$D799,$C799,0)","v":0},0,0,0,0,0,0,0,0,0]
[{"$f":"LOADS!A797","v":{"$error":"#REF!"}},{"$f":"LOADS!B797","v":0},{"$f":"LOADS!X797","v":""},{"$f":"LOADS!AH797","v":0},{"$f":"IF(E$2=$D800,$C800,0)","v":0},0,0,0,0,0,0,0,0,0,0,0,0,0,0,0,0,0,0,0,0,0,0,0,0,0,0,0]
[{"$f":"LOADS!A798","v":{"$error":"#REF!"}},{"$f":"LOADS!B798","v":0},{"$f":"LOADS!X798","v":""},{"$f":"LOADS!AH798","v":0},0,0,0,0,0,0,0,0,0,0,0,0,0,0,0,0,0,0,0,0,0,0,0,0,0,0,0,0]
[{"$f":"LOADS!A799","v":{"$error":"#REF!"}},{"$f":"LOADS!B799","v":0},{"$f":"LOADS!X799","v":""},{"$f":"LOADS!AH799","v":0},0,0,0,0,0,0,0,0,0,0,0,0,0,0,0,0,0,0,0,0,0,0,0,0,0,0,0,0]
[{"$f":"LOADS!A800","v":{"$error":"#REF!"}},{"$f":"LOADS!B800","v":0},{"$f":"LOADS!X800","v":""},{"$f":"LOADS!AH800","v":0},0,0,0,0,0,0,0,0,0,0,0,0,0,0,0,0,0,0,0,0,0,0,0,0,0,0,0,0]
[{"$f":"LOADS!A801","v":{"$error":"#REF!"}},{"$f":"LOADS!B801","v":0},{"$f":"LOADS!X801","v":""},{"$f":"LOADS!AH801","v":0},0,0,0,0,0,0,0,0,0,0,0,0,0,0,0,{"$f":"IF(T$2=$D804,$C804,0)","v":0},0,0,0,0,0,0,0,0,0,0,0,0]
[{"$f":"LOADS!A802","v":{"$error":"#REF!"}},{"$f":"LOADS!B802","v":0},{"$f":"LOADS!X802","v":""},{"$f":"LOADS!AH802","v":0},0,0,0,0,0,0,0,0,0,0,0,0,0,0,0,0,0,0,0,0,0,0,0,0,0,0,0,0]
[{"$f":"LOADS!A803","v":{"$error":"#REF!"}},{"$f":"LOADS!B803","v":0},{"$f":"LOADS!X803","v":""},{"$f":"LOADS!AH803","v":0},0,0,0,0,0,0,0,0,0,0,0,0,0,0,0,0,0,0,0,0,0,0,0,0,0,0,0,0]
[{"$f":"LOADS!A804","v":{"$error":"#REF!"}},{"$f":"LOADS!B804","v":0},{"$f":"LOADS!X804","v":""},{"$f":"LOADS!AH804","v":0},0,0,0,0,{"$f":"IF(I$2=$D807,$C807,0)","v":0},0,0,0,0,0,0,0,0,0,0,0,0,0,0,0,0,0,0,0,0,0,0,0]
[{"$f":"LOADS!A805","v":{"$error":"#REF!"}},{"$f":"LOADS!B805","v":0},{"$f":"LOADS!X805","v":""},{"$f":"LOADS!AH805","v":0},0,0,0,0,0,0,0,0,0,0,0,0,0,0,0,0,0,0,0,0,0,0,0,0,0,0,0,0]
[{"$f":"LOADS!A806","v":{"$error":"#REF!"}},{"$f":"LOADS!B806","v":0},{"$f":"LOADS!X806","v":""},{"$f":"LOADS!AH806","v":0},0,0,0,0,0,0,0,0,0,0,0,0,0,0,0,0,0,0,0,0,0,0,0,0,0,0,0,0]
[{"$f":"LOADS!A807","v":{"$error":"#REF!"}},{"$f":"LOADS!B807","v":0},{"$f":"LOADS!X807","v":""},{"$f":"LOADS!AH807","v":0},0,0,0,0,0,0,0,0,0,0,0,0,0,0,0,0,0,0,0,0,0,0,0,0,0,0,0,0]
[{"$f":"LOADS!A808","v":{"$error":"#REF!"}},{"$f":"LOADS!B808","v":0},{"$f":"LOADS!X808","v":""},{"$f":"LOADS!AH808","v":0},0,0,0,0,0,0,0,0,0,0,0,0,0,0,0,0,0,0,0,0,0,0,{"$f":"IF(AA$2=$D811,$C811,0)","v":0},0,0,0,0,0]
[{"$f":"LOADS!A809","v":{"$error":"#REF!"}},{"$f":"LOADS!B809","v":0},{"$f":"LOADS!X809","v":""},{"$f":"LOADS!AH809","v":0},0,0,0,0,0,0,0,0,0,0,0,0,0,0,0,0,0,0,0,0,0,0,0,0,0,0,0,0]
[{"$f":"LOADS!A810","v":{"$error":"#REF!"}},{"$f":"LOADS!B810","v":0},{"$f":"LOADS!X810","v":""},{"$f":"LOADS!AH810","v":0},0,0,0,0,0,0,0,0,0,0,0,0,0,0,0,0,0,0,0,0,0,0,0,0,0,0,0,0]
[{"$f":"LOADS!A811","v":{"$error":"#REF!"}},{"$f":"LOADS!B811","v":0},{"$f":"LOADS!X811","v":""},{"$f":"LOADS!AH811","v":0},0,0,0,0,0,0,0,0,0,0,0,0,0,0,0,0,0,0,0,0,0,0,0,0,0,0,0,0]
[{"$f":"LOADS!A812","v":{"$error":"#REF!"}},{"$f":"LOADS!B812","v":0},{"$f":"LOADS!X812","v":""},{"$f":"LOADS!AH812","v":0},0,0,0,0,0,0,0,0,0,0,0,0,0,0,0,0,0,0,0,0,0,0,0,0,0,0,0,0]
[{"$f":"LOADS!A813","v":{"$error":"#REF!"}},{"$f":"LOADS!B813","v":0},{"$f":"LOADS!X813","v":""},{"$f":"LOADS!AH813","v":0},0,0,0,0,0,0,0,0,0,0,0,0,0,0,0,0,0,0,0,0,0,0,0,0,0,0,0,0]
[{"$f":"LOADS!A814","v":{"$error":"#REF!"}},{"$f":"LOADS!B814","v":0},{"$f":"LOADS!X814","v":""},{"$f":"LOADS!AH814","v":0},0,0,0,0,{"$f":"IF(I$2=$D817,$C817,0)","v":0},0,0,0,0,0,0,0,0,0,0,0,0,0,0,0,0,0,0,0,0,0,0,0]
[{"$f":"LOADS!A815","v":{"$error":"#REF!"}},{"$f":"LOADS!B815","v":0},{"$f":"LOADS!X815","v":""},{"$f":"LOADS!AH815","v":0},0,0,0,0,0,0,0,0,0,0,0,0,0,0,0,0,0,0,0,0,0,0,0,0,0,0,0,0]
[{"$f":"LOADS!A816","v":{"$error":"#REF!"}},{"$f":"LOADS!B816","v":0},{"$f":"LOADS!X816","v":""},{"$f":"LOADS!AH816","v":0},0,0,0,0,0,0,0,0,0,0,0,0,0,0,0,0,0,0,{"$f":"IF(W$2=$D819,$C819,0)","v":0},0,0,0,0,0,0,0,0,0]
[{"$f":"LOADS!A817","v":{"$error":"#REF!"}},{"$f":"LOADS!B817","v":0},{"$f":"LOADS!X817","v":""},{"$f":"LOADS!AH817","v":0},0,0,0,0,0,0,0,0,0,0,0,0,0,0,0,0,0,0,0,0,0,0,0,0,0,0,0,0]
[{"$f":"LOADS!A818","v":{"$error":"#REF!"}},{"$f":"LOADS!B818","v":0},{"$f":"LOADS!X818","v":""},{"$f":"LOADS!AH818","v":0},0,0,0,0,0,0,0,0,0,0,0,0,0,0,0,0,0,0,0,0,0,0,0,0,0,0,0,0]
[{"$f":"LOADS!A819","v":{"$error":"#REF!"}},{"$f":"LOADS!B819","v":0},{"$f":"LOADS!X819","v":""},{"$f":"LOADS!AH819","v":0},0,0,0,0,0,0,0,0,0,0,0,0,0,0,0,0,0,0,0,0,0,0,0,0,0,0,0,0]
[{"$f":"LOADS!A820","v":{"$error":"#REF!"}},{"$f":"LOADS!B820","v":0},{"$f":"LOADS!X820","v":""},{"$f":"LOADS!AH820","v":0},0,0,0,0,0,0,0,0,0,0,0,0,0,0,0,0,0,0,0,0,0,0,0,0,0,0,0,0]
[{"$f":"LOADS!A821","v":{"$error":"#REF!"}},{"$f":"LOADS!B821","v":0},{"$f":"LOADS!X821","v":""},{"$f":"LOADS!AH821","v":0},0,0,0,0,0,0,0,0,0,0,0,0,0,0,0,0,0,0,0,0,0,0,0,0,0,0,0,0]
[{"$f":"LOADS!A822","v":{"$error":"#REF!"}},{"$f":"LOADS!B822","v":0},{"$f":"LOADS!X822","v":""},{"$f":"LOADS!AH822","v":0},0,0,0,0,0,0,0,0,0,0,0,0,0,0,0,0,0,0,0,0,0,0,0,0,0,0,0,0]
[{"$f":"LOADS!A823","v":{"$error":"#REF!"}},{"$f":"LOADS!B823","v":0},{"$f":"LOADS!X823","v":""},{"$f":"LOADS!AH823","v":0},0,0,0,0,0,0,0,0,{"$f":"IF(M$2=$D826,$C826,0)","v":0},0,0,0,0,0,0,0,0,0,0,0,0,0,0,0,0,0,0,0]
[{"$f":"LOADS!A824","v":{"$error":"#REF!"}},{"$f":"LOADS!B824","v":0},{"$f":"LOADS!X824","v":""},{"$f":"LOADS!AH824","v":0},0,0,0,0,{"$f":"IF(I$2=$D827,$C827,0)","v":0},0,0,0,0,0,0,0,0,0,0,0,0,0,0,0,0,0,0,0,0,0,0,0]
[{"$f":"LOADS!A825","v":{"$error":"#REF!"}},{"$f":"LOADS!B825","v":0},{"$f":"LOADS!X825","v":""},{"$f":"LOADS!AH825","v":0},0,0,0,0,0,0,0,0,0,0,0,0,0,0,0,0,0,0,0,0,0,0,0,0,0,0,0,0]
[{"$f":"LOADS!A826","v":{"$error":"#REF!"}},{"$f":"LOADS!B826","v":0},{"$f":"LOADS!X826","v":""},{"$f":"LOADS!AH826","v":0},0,0,0,0,0,0,0,0,0,0,0,0,0,0,0,0,0,0,0,0,0,0,0,0,0,0,0,0]
[{"$f":"LOADS!A827","v":{"$error":"#REF!"}},{"$f":"LOADS!B827","v":0},{"$f":"LOADS!X827","v":""},{"$f":"LOADS!AH827","v":0},0,0,0,0,0,0,0,0,0,0,0,0,0,0,0,0,0,0,0,0,0,0,0,0,0,0,0,0]
[{"$f":"LOADS!A828","v":{"$error":"#REF!"}},{"$f":"LOADS!B828","v":0},{"$f":"LOADS!X828","v":""},{"$f":"LOADS!AH828","v":0},0,0,0,0,0,0,0,0,0,0,0,0,0,0,0,0,0,0,0,0,0,0,0,0,0,0,0,0]
[{"$f":"LOADS!A829","v":{"$error":"#REF!"}},{"$f":"LOADS!B829","v":0},{"$f":"LOADS!X829","v":""},{"$f":"LOADS!AH829","v":0},0,0,0,0,0,0,0,0,0,0,0,0,0,0,0,0,0,0,0,0,0,0,0,0,0,0,0,0]
[{"$f":"LOADS!A830","v":{"$error":"#REF!"}},{"$f":"LOADS!B830","v":0},{"$f":"LOADS!X830","v":""},{"$f":"LOADS!AH830","v":0},0,0,0,0,0,0,0,0,{"$f":"IF(M$2=$D833,$C833,0)","v":0},0,0,0,0,0,0,0,0,0,0,0,0,0,0,0,0,0,0,0]
[{"$f":"LOADS!A831","v":{"$error":"#REF!"}},{"$f":"LOADS!B831","v":0},{"$f":"LOADS!X831","v":""},{"$f":"LOADS!AH831","v":0},0,0,0,0,{"$f":"IF(I$2=$D834,$C834,0)","v":0},0,0,0,0,0,0,0,0,0,0,0,0,0,0,0,0,0,0,0,0,0,0,0]
[{"$f":"LOADS!A832","v":{"$error":"#REF!"}},{"$f":"LOADS!B832","v":0},{"$f":"LOADS!X832","v":""},{"$f":"LOADS!AH832","v":0},0,0,0,0,0,0,0,0,0,0,0,0,0,0,0,0,0,0,0,0,0,0,0,0,0,0,0,0]
[{"$f":"LOADS!A833","v":{"$error":"#REF!"}},{"$f":"LOADS!B833","v":0},{"$f":"LOADS!X833","v":""},{"$f":"LOADS!AH833","v":0},0,0,0,0,0,0,0,0,0,0,0,0,0,0,0,0,0,0,0,0,0,0,0,0,0,0,0,0]
[{"$f":"LOADS!A834","v":{"$error":"#REF!"}},{"$f":"LOADS!B834","v":0},{"$f":"LOADS!X834","v":""},{"$f":"LOADS!AH834","v":0},0,0,0,0,0,0,0,0,0,0,0,0,0,0,0,0,0,0,0,0,0,0,0,0,0,0,0,0]
[{"$f":"LOADS!A835","v":{"$error":"#REF!"}},{"$f":"LOADS!B835","v":0},{"$f":"LOADS!X835","v":""},{"$f":"LOADS!AH835","v":0},0,0,0,0,0,0,0,0,0,0,0,0,0,0,0,0,0,0,0,0,0,0,0,0,0,0,0,0]
[{"$f":"LOADS!A836","v":{"$error":"#REF!"}},{"$f":"LOADS!B836","v":0},{"$f":"LOADS!X836","v":""},{"$f":"LOADS!AH836","v":0},0,0,0,0,0,0,0,0,0,0,0,0,0,0,0,0,0,0,{"$f":"IF(W$2=$D839,$C839,0)","v":0},0,0,0,0,0,0,0,0,0]
[{"$f":"LOADS!A837","v":{"$error":"#REF!"}},{"$f":"LOADS!B837","v":0},{"$f":"LOADS!X837","v":""},{"$f":"LOADS!AH837","v":0},0,0,0,0,0,0,0,0,0,0,0,0,0,0,0,0,0,0,0,0,0,0,0,0,0,0,0,0]
[{"$f":"LOADS!A838","v":{"$error":"#REF!"}},{"$f":"LOADS!B838","v":0},{"$f":"LOADS!X838","v":""},{"$f":"LOADS!AH838","v":0},0,0,0,0,0,0,0,0,0,0,0,0,0,0,0,0,0,0,0,0,0,0,0,0,0,0,0,0]
[{"$f":"LOADS!A839","v":{"$error":"#REF!"}},{"$f":"LOADS!B839","v":0},{"$f":"LOADS!X839","v":""},{"$f":"LOADS!AH839","v":0},0,0,0,0,0,0,0,0,0,0,0,0,0,0,0,0,0,0,0,0,0,0,0,0,0,0,{"$f":"IF(AE$2=$D842,$C842,0)","v":0},0]
[{"$f":"LOADS!A840","v":{"$error":"#REF!"}},{"$f":"LOADS!B840","v":0},{"$f":"LOADS!X840","v":""},{"$f":"LOADS!AH840","v":0},0,0,0,0,0,0,0,0,0,0,0,0,0,0,0,0,0,0,0,0,0,0,0,0,0,0,0,0]
[{"$f":"LOADS!A841","v":{"$error":"#REF!"}},{"$f":"LOADS!B841","v":0},{"$f":"LOADS!X841","v":""},{"$f":"LOADS!AH841","v":0},0,0,0,0,0,0,0,0,0,0,0,0,0,0,0,0,0,0,0,0,0,0,0,0,0,0,0,0]
[{"$f":"LOADS!A842","v":{"$error":"#REF!"}},{"$f":"LOADS!B842","v":0},{"$f":"LOADS!X842","v":""},{"$f":"LOADS!AH842","v":0},0,0,0,0,0,0,0,0,0,0,0,0,0,0,0,0,0,0,0,0,0,0,0,0,0,0,0,0]
[{"$f":"LOADS!A843","v":{"$error":"#REF!"}},{"$f":"LOADS!B843","v":0},{"$f":"LOADS!X843","v":""},{"$f":"LOADS!AH843","v":0},0,0,0,0,0,0,0,0,0,0,0,0,0,0,0,0,0,0,0,0,0,0,0,0,0,0,0,0]
[{"$f":"LOADS!A844","v":{"$error":"#REF!"}},{"$f":"LOADS!B844","v":0},{"$f":"LOADS!X844","v":""},{"$f":"LOADS!AH844","v":0},0,0,0,0,0,0,0,0,0,0,0,0,0,0,0,0,0,0,0,0,0,0,0,0,0,0,0,0]
[{"$f":"LOADS!A845","v":{"$error":"#REF!"}},{"$f":"LOADS!B845","v":0},{"$f":"LOADS!X845","v":""},{"$f":"LOADS!AH845","v":0},0,0,0,0,0,0,0,0,0,0,0,0,0,0,0,0,0,0,0,0,0,0,0,0,0,0,0,0]
[{"$f":"LOADS!A846","v":{"$error":"#REF!"}},{"$f":"LOADS!B846","v":0},{"$f":"LOADS!X846","v":""},{"$f":"LOADS!AH846","v":0},0,0,0,0,0,0,0,0,0,0,0,0,0,0,0,0,0,0,0,0,0,0,0,0,0,0,0,0]
[{"$f":"LOADS!A847","v":{"$error":"#REF!"}},{"$f":"LOADS!B847","v":0},{"$f":"LOADS!X847","v":""},{"$f":"LOADS!AH847","v":0},0,0,0,0,0,0,0,0,0,0,0,0,0,0,0,0,0,0,0,0,0,0,0,0,0,0,0,0]
[{"$f":"LOADS!A848","v":{"$error":"#REF!"}},{"$f":"LOADS!B848","v":0},{"$f":"LOADS!X848","v":""},{"$f":"LOADS!AH848","v":0},{"$f":"IF(E$2=$D851,$C851,0)","v":0},0,0,0,0,0,0,0,0,0,0,0,0,0,0,0,0,0,0,0,0,0,0,0,0,0,0,0]
[{"$f":"LOADS!A849","v":{"$error":"#REF!"}},{"$f":"LOADS!B849","v":0},{"$f":"LOADS!X849","v":""},{"$f":"LOADS!AH849","v":0},0,0,0,0,0,0,0,0,0,0,0,0,0,0,0,0,0,0,0,0,0,0,0,0,0,0,0,0]
[{"$f":"LOADS!A850","v":{"$error":"#REF!"}},{"$f":"LOADS!B850","v":0},{"$f":"LOADS!X850","v":""},{"$f":"LOADS!AH850","v":0},0,0,0,0,0,0,0,0,0,0,0,0,0,0,0,0,0,0,0,0,0,0,0,0,0,0,0,0]
[{"$f":"LOADS!A851","v":{"$error":"#REF!"}},{"$f":"LOADS!B851","v":0},{"$f":"LOADS!X851","v":""},{"$f":"LOADS!AH851","v":0},0,0,0,0,0,0,0,0,0,0,0,0,0,0,0,0,0,0,0,0,0,0,0,0,0,0,0,0]
[{"$f":"LOADS!A852","v":{"$error":"#REF!"}},{"$f":"LOADS!B852","v":0},{"$f":"LOADS!X852","v":""},{"$f":"LOADS!AH852","v":0},0,0,0,0,0,0,0,0,0,0,0,0,0,0,0,0,0,0,0,0,0,0,0,0,0,0,0,0]
[{"$f":"LOADS!A853","v":{"$error":"#REF!"}},{"$f":"LOADS!B853","v":0},{"$f":"LOADS!X853","v":""},{"$f":"LOADS!AH853","v":0},0,0,0,0,0,0,0,0,0,0,0,0,0,0,0,0,0,0,0,0,0,0,0,0,0,0,0,0]
[{"$f":"LOADS!A854","v":{"$error":"#REF!"}},{"$f":"LOADS!B854","v":0},{"$f":"LOADS!X854","v":""},{"$f":"LOADS!AH854","v":0},0,0,0,0,0,0,0,0,0,0,0,0,{"$f":"IF(Q$2=$D857,$C857,0)","v":0},0,0,0,0,0,0,0,0,0,0,0,0,0,0,0]
[{"$f":"LOADS!A855","v":{"$error":"#REF!"}},{"$f":"LOADS!B855","v":0},{"$f":"LOADS!X855","v":""},{"$f":"LOADS!AH855","v":0},0,0,0,0,0,0,0,0,0,0,0,0,0,0,0,0,0,0,0,0,0,0,0,0,0,{"$f":"IF(AD$2=$D858,$C858,0)","v":0},0,0]
[{"$f":"LOADS!A856","v":{"$error":"#REF!"}},{"$f":"LOADS!B856","v":0},{"$f":"LOADS!X856","v":""},{"$f":"LOADS!AH856","v":0},0,0,0,0,0,0,0,0,0,0,0,0,0,0,0,0,0,0,0,0,0,0,0,0,0,0,0,0]
[{"$f":"LOADS!A857","v":{"$error":"#REF!"}},{"$f":"LOADS!B857","v":0},{"$f":"LOADS!X857","v":""},{"$f":"LOADS!AH857","v":0},0,0,0,0,0,0,0,0,0,0,0,0,0,0,0,0,0,0,0,0,0,0,0,0,0,0,0,0]
[{"$f":"LOADS!A858","v":{"$error":"#REF!"}},{"$f":"LOADS!B858","v":0},{"$f":"LOADS!X858","v":""},{"$f":"LOADS!AH858","v":0},0,0,0,0,0,0,0,0,0,0,0,0,0,0,0,0,0,0,0,0,0,0,0,0,0,0,0,0]
[{"$f":"LOADS!A859","v":{"$error":"#REF!"}},{"$f":"LOADS!B859","v":0},{"$f":"LOADS!X859","v":""},{"$f":"LOADS!AH859","v":0},0,0,0,0,0,0,0,0,0,0,0,0,0,0,0,0,0,0,0,0,0,0,0,0,0,0,0,0]
[{"$f":"LOADS!A860","v":{"$error":"#REF!"}},{"$f":"LOADS!B860","v":0},{"$f":"LOADS!X860","v":""},{"$f":"LOADS!AH860","v":0},0,0,0,0,0,0,0,0,0,0,0,0,0,0,0,0,0,0,0,0,0,0,0,0,0,0,0,0]
[{"$f":"LOADS!A861","v":{"$error":"#REF!"}},{"$f":"LOADS!B861","v":0},{"$f":"LOADS!X861","v":""},{"$f":"LOADS!AH861","v":0},0,0,0,0,0,0,0,0,0,0,0,0,0,0,0,0,0,0,{"$f":"IF(W$2=$D864,$C864,0)","v":0},{"$f":"IF(X$2=$D864,$C864,0)","v":0},{"$f":"IF(Y$2=$D864,$C864,0)","v":0},{"$f":"IF(Z$2=$D864,$C864,0)","v":0},0,0,0,0,0,0]
[{"$f":"LOADS!A862","v":{"$error":"#REF!"}},{"$f":"LOADS!B862","v":0},{"$f":"LOADS!X862","v":""},{"$f":"LOADS!AH862","v":0},0,0,0,0,0,0,0,0,0,0,0,0,0,0,0,0,0,0,0,0,0,0,0,0,0,0,0,0]
[{"$f":"LOADS!A863","v":{"$error":"#REF!"}},{"$f":"LOADS!B863","v":0},{"$f":"LOADS!X863","v":""},{"$f":"LOADS!AH863","v":0},0,0,0,0,0,0,0,0,0,0,0,0,0,0,0,0,0,0,0,0,0,0,0,0,0,0,0,0]
[{"$f":"LOADS!A864","v":{"$error":"#REF!"}},{"$f":"LOADS!B864","v":0},{"$f":"LOADS!X864","v":""},{"$f":"LOADS!AH864","v":0},0,0,0,0,0,0,0,0,0,0,0,0,0,0,0,0,0,0,0,0,0,0,0,0,0,0,0,0]
[{"$f":"LOADS!A865","v":{"$error":"#REF!"}},{"$f":"LOADS!B865","v":0},{"$f":"LOADS!X865","v":""},{"$f":"LOADS!AH865","v":0},0,0,0,0,0,0,0,0,0,0,0,0,0,0,0,0,0,0,0,0,0,0,0,0,0,0,0,0]
[{"$f":"LOADS!A866","v":{"$error":"#REF!"}},{"$f":"LOADS!B866","v":0},{"$f":"LOADS!X866","v":""},{"$f":"LOADS!AH866","v":0},0,0,0,0,0,0,0,0,0,0,0,0,0,0,0,0,0,0,0,0,0,0,0,0,0,0,0,0]
[{"$f":"LOADS!A867","v":{"$error":"#REF!"}},{"$f":"LOADS!B867","v":0},{"$f":"LOADS!X867","v":""},{"$f":"LOADS!AH867","v":0},0,0,0,0,0,0,0,0,0,0,0,0,0,0,0,0,0,0,0,0,0,0,0,0,0,0,0,0]
[{"$f":"LOADS!A868","v":{"$error":"#REF!"}},{"$f":"LOADS!B868","v":0},{"$f":"LOADS!X868","v":""},{"$f":"LOADS!AH868","v":0},0,0,0,0,0,0,0,0,{"$f":"IF(M$2=$D871,$C871,0)","v":0},0,0,0,0,0,0,0,0,0,0,0,0,0,0,0,0,0,0,0]
[{"$f":"LOADS!A869","v":{"$error":"#REF!"}},{"$f":"LOADS!B869","v":0},{"$f":"LOADS!X869","v":""},{"$f":"LOADS!AH869","v":0},0,0,0,0,{"$f":"IF(I$2=$D872,$C872,0)","v":0},0,0,0,0,0,0,0,0,0,0,0,0,0,0,0,0,0,0,0,0,0,0,0]
[{"$f":"LOADS!A870","v":{"$error":"#REF!"}},{"$f":"LOADS!B870","v":0},{"$f":"LOADS!X870","v":""},{"$f":"LOADS!AH870","v":0},0,0,0,0,0,0,0,0,0,0,0,0,0,0,0,0,0,0,0,0,0,0,0,0,0,0,0,0]
[{"$f":"LOADS!A871","v":{"$error":"#REF!"}},{"$f":"LOADS!B871","v":0},{"$f":"LOADS!X871","v":""},{"$f":"LOADS!AH871","v":0},0,0,0,0,0,0,0,0,0,0,0,0,0,0,0,0,0,0,0,0,0,0,0,0,{"$f":"IF(AC$2=$D874,$C874,0)","v":0},0,0,0]
[{"$f":"LOADS!A872","v":{"$error":"#REF!"}},{"$f":"LOADS!B872","v":0},{"$f":"LOADS!X872","v":""},{"$f":"LOADS!AH872","v":0},0,0,0,0,0,0,0,0,0,0,0,0,0,0,0,0,0,0,0,0,0,0,0,0,0,0,0,0]
[{"$f":"LOADS!A873","v":{"$error":"#REF!"}},{"$f":"LOADS!B873","v":0},{"$f":"LOADS!X873","v":""},{"$f":"LOADS!AH873","v":0},0,0,0,0,0,0,0,0,0,0,0,0,0,0,0,0,0,0,0,0,0,0,0,0,0,0,0,0]
[{"$f":"LOADS!A874","v":{"$error":"#REF!"}},{"$f":"LOADS!B874","v":0},{"$f":"LOADS!X874","v":""},{"$f":"LOADS!AH874","v":0},0,0,0,0,0,0,0,0,0,0,0,0,0,0,0,0,0,0,0,0,0,0,0,0,0,0,0,0]
[{"$f":"LOADS!A875","v":{"$error":"#REF!"}},{"$f":"LOADS!B875","v":0},{"$f":"LOADS!X875","v":""},{"$f":"LOADS!AH875","v":0},0,0,0,0,0,0,0,0,0,0,0,0,0,0,0,0,0,0,0,0,0,0,0,0,0,0,0,0]
[{"$f":"LOADS!A876","v":{"$error":"#REF!"}},{"$f":"LOADS!B876","v":0},{"$f":"LOADS!X876","v":""},{"$f":"LOADS!AH876","v":0},0,0,0,0,0,0,0,0,0,0,0,0,0,0,0,0,0,0,0,0,0,0,0,0,0,0,0,0]
[{"$f":"LOADS!A877","v":{"$error":"#REF!"}},{"$f":"LOADS!B877","v":0},{"$f":"LOADS!X877","v":""},{"$f":"LOADS!AH877","v":0},0,0,0,0,0,0,0,0,0,0,0,0,0,0,0,0,0,0,0,0,0,0,0,0,0,0,0,0]
[{"$f":"LOADS!A878","v":{"$error":"#REF!"}},{"$f":"LOADS!B878","v":0},{"$f":"LOADS!X878","v":""},{"$f":"LOADS!AH878","v":0},0,0,0,0,0,0,0,0,0,0,0,0,0,0,0,0,0,0,0,0,0,0,0,0,0,0,0,0]
[{"$f":"LOADS!A879","v":{"$error":"#REF!"}},{"$f":"LOADS!B879","v":0},{"$f":"LOADS!X879","v":""},{"$f":"LOADS!AH879","v":0},0,0,0,0,0,0,0,0,0,0,0,0,0,0,0,{"$f":"IF(T$2=$D882,$C882,0)","v":0},0,0,0,0,0,0,0,0,0,0,0,0]
[{"$f":"LOADS!A880","v":{"$error":"#REF!"}},{"$f":"LOADS!B880","v":0},{"$f":"LOADS!X880","v":""},{"$f":"LOADS!AH880","v":0},0,0,0,0,0,0,0,0,0,0,0,0,0,0,0,0,0,0,0,0,0,0,0,0,0,0,0,0]
[{"$f":"LOADS!A881","v":{"$error":"#REF!"}},{"$f":"LOADS!B881","v":0},{"$f":"LOADS!X881","v":""},{"$f":"LOADS!AH881","v":0},0,0,0,0,0,0,0,0,0,0,0,0,0,0,0,0,0,0,0,0,0,0,0,0,0,0,0,0]
[{"$f":"LOADS!A882","v":{"$error":"#REF!"}},{"$f":"LOADS!B882","v":0},{"$f":"LOADS!X882","v":""},{"$f":"LOADS!AH882","v":0},0,0,0,0,0,0,0,0,0,0,0,0,0,0,0,0,0,0,0,0,0,0,0,0,0,0,0,0]
[{"$f":"LOADS!A883","v":{"$error":"#REF!"}},{"$f":"LOADS!B883","v":0},{"$f":"LOADS!X883","v":""},{"$f":"LOADS!AH883","v":0},0,0,0,0,0,0,0,0,0,0,0,0,0,0,0,0,0,0,0,0,0,0,0,0,0,0,0,0]
[{"$f":"LOADS!A884","v":{"$error":"#REF!"}},{"$f":"LOADS!B884","v":0},{"$f":"LOADS!X884","v":""},{"$f":"LOADS!AH884","v":0},0,0,0,0,0,0,0,0,0,0,0,0,0,0,0,0,0,0,0,0,0,0,0,0,0,0,0,0]
[{"$f":"LOADS!A885","v":{"$error":"#REF!"}},{"$f":"LOADS!B885","v":0},{"$f":"LOADS!X885","v":""},{"$f":"LOADS!AH885","v":0},0,0,0,0,0,0,0,0,0,0,0,0,0,0,0,0,0,0,0,0,0,0,0,0,0,0,0,0]
[{"$f":"LOADS!A886","v":{"$error":"#REF!"}},{"$f":"LOADS!B886","v":0},{"$f":"LOADS!X886","v":""},{"$f":"LOADS!AH886","v":0},0,0,0,0,0,0,0,0,0,0,0,0,0,0,0,0,0,0,0,0,0,0,0,0,0,0,0,0]
[{"$f":"LOADS!A887","v":{"$error":"#REF!"}},{"$f":"LOADS!B887","v":0},{"$f":"LOADS!X887","v":""},{"$f":"LOADS!AH887","v":0},0,0,0,0,0,0,0,0,0,0,0,0,0,0,0,0,0,0,0,0,0,0,0,0,{"$f":"IF(AC$2=$D890,$C890,0)","v":0},0,0,0]
[{"$f":"LOADS!A888","v":{"$error":"#REF!"}},{"$f":"LOADS!B888","v":0},{"$f":"LOADS!X888","v":""},{"$f":"LOADS!AH888","v":0},0,0,0,0,0,0,0,0,0,0,0,0,0,0,0,0,0,0,0,0,0,0,0,0,0,0,0,0]
[{"$f":"LOADS!A889","v":{"$error":"#REF!"}},{"$f":"LOADS!B889","v":0},{"$f":"LOADS!X889","v":""},{"$f":"LOADS!AH889","v":0},0,0,0,0,0,0,0,0,0,0,0,0,0,0,0,0,0,0,0,0,0,0,0,0,0,0,0,0]
[{"$f":"LOADS!A890","v":{"$error":"#REF!"}},{"$f":"LOADS!B890","v":0},{"$f":"LOADS!X890","v":""},{"$f":"LOADS!AH890","v":0},0,0,0,0,0,0,0,0,0,0,0,0,0,0,0,0,0,0,0,0,0,0,0,0,0,0,0,0]
[{"$f":"LOADS!A891","v":{"$error":"#REF!"}},{"$f":"LOADS!B891","v":0},{"$f":"LOADS!X891","v":""},{"$f":"LOADS!AH891","v":0},0,0,0,0,0,0,0,0,0,0,0,0,0,0,0,0,0,0,0,0,0,0,0,0,0,0,0,0]
[{"$f":"LOADS!A892","v":{"$error":"#REF!"}},{"$f":"LOADS!B892","v":0},{"$f":"LOADS!X892","v":""},{"$f":"LOADS!AH892","v":0},0,0,0,0,0,0,0,0,0,0,0,0,0,0,0,0,0,0,0,0,0,0,0,0,0,0,0,0]
[{"$f":"LOADS!A893","v":{"$error":"#REF!"}},{"$f":"LOADS!B893","v":0},{"$f":"LOADS!X893","v":""},{"$f":"LOADS!AH893","v":0},0,0,0,0,0,0,0,0,0,0,0,0,0,0,0,0,0,0,0,0,0,0,0,0,0,0,0,0]
[{"$f":"LOADS!A894","v":{"$error":"#REF!"}},{"$f":"LOADS!B894","v":0},{"$f":"LOADS!X894","v":""},{"$f":"LOADS!AH894","v":0},0,0,0,0,0,0,0,0,0,0,0,0,0,0,0,0,0,0,0,0,0,0,0,0,0,0,0,0]
[{"$f":"LOADS!A895","v":{"$error":"#REF!"}},{"$f":"LOADS!B895","v":0},{"$f":"LOADS!X895","v":""},{"$f":"LOADS!AH895","v":0},0,0,0,0,0,0,0,0,0,0,0,0,0,0,0,0,0,0,0,0,0,0,0,0,0,0,0,0]
[{"$f":"LOADS!A896","v":{"$error":"#REF!"}},{"$f":"LOADS!B896","v":0},{"$f":"LOADS!X896","v":""},{"$f":"LOADS!AH896","v":0},0,0,0,0,0,0,0,0,0,0,0,0,0,0,0,0,0,0,0,0,0,0,0,0,0,0,0,0]
[{"$f":"LOADS!A897","v":{"$error":"#REF!"}},{"$f":"LOADS!B897","v":0},{"$f":"LOADS!X897","v":""},{"$f":"LOADS!AH897","v":0},0,0,0,0,0,0,0,0,0,0,0,0,0,0,0,0,0,0,0,0,0,0,0,0,0,0,0,0]
[{"$f":"LOADS!A898","v":{"$error":"#REF!"}},{"$f":"LOADS!B898","v":0},{"$f":"LOADS!X898","v":""},{"$f":"LOADS!AH898","v":0},0,0,0,0,0,0,0,0,0,0,0,0,0,0,0,0,0,0,0,0,0,0,0,0,0,0,0,0]
[{"$f":"LOADS!A899","v":{"$error":"#REF!"}},{"$f":"LOADS!B899","v":0},{"$f":"LOADS!X899","v":""},{"$f":"LOADS!AH899","v":0},{"$f":"IF(E$2=$D902,$C902,0)","v":0},0,0,0,0,0,0,0,0,0,0,0,{"$f":"IF(Q$2=$D902,$C902,0)","v":0},0,0,0,0,0,0,0,0,0,0,0,0,0,0,0]
[{"$f":"LOADS!A900","v":{"$error":"#REF!"}},{"$f":"LOADS!B900","v":0},{"$f":"LOADS!X900","v":""},{"$f":"LOADS!AH900","v":0},0,0,0,0,0,0,0,0,0,0,0,0,0,0,0,0,0,0,0,0,0,0,0,0,0,0,0,0]
[]
[null,"TOTAL BREAKER AMPS (Demand)",null,null,{"$f":"SUM(E3:E903)","v":{"$error":"#REF!"}},{"$error":"#REF!"},{"$error":"#REF!"},{"$error":"#REF!"},{"$error":"#REF!"},{"$error":"#REF!"},{"$error":"#REF!"},{"$error":"#REF!"},{"$error":"#REF!"},{"$error":"#REF!"},{"$error":"#REF!"},{"$error":"#REF!"},{"$error":"#REF!"},{"$error":"#REF!"},{"$error":"#REF!"},{"$error":"#REF!"},{"$error":"#REF!"},{"$error":"#REF!"},{"$error":"#REF!"},{"$error":"#REF!"},{"$error":"#REF!"},{"$error":"#REF!"},{"$error":"#REF!"},{"$error":"#REF!"},{"$error":"#REF!"},{"$error":"#REF!"},{"$error":"#REF!"},{"$error":"#REF!"}]
[]
[null,"TOTAL BREAKER KVA",null,null,{"$f":"E905*480*1.732/1000","v":{"$error":"#REF!"}},{"$error":"#REF!"},{"$error":"#REF!"},{"$error":"#REF!"},{"$error":"#REF!"},{"$error":"#REF!"},{"$error":"#REF!"},{"$error":"#REF!"},{"$error":"#REF!"},{"$error":"#REF!"},{"$error":"#REF!"},{"$error":"#REF!"},{"$error":"#REF!"},{"$error":"#REF!"},{"$error":"#REF!"},{"$error":"#REF!"},{"$error":"#REF!"},{"$error":"#REF!"},{"$error":"#REF!"},{"$error":"#REF!"},{"$error":"#REF!"},{"$error":"#REF!"},{"$error":"#REF!"},{"$error":"#REF!"},{"$error":"#REF!"},{"$error":"#REF!"},{"$error":"#REF!"},{"$error":"#REF!"}]
[]
[]
[null,"Sub 1ATotal kVA",null,null,{"$f":"0.9*SUM(E907:H907)","v":{"$error":"#REF!"}},null,"(includes 90% diversity factor)"]
[null,"Sub 1B Total KVA",null,null,{"$f":"0.9*SUM(I907:L907)","v":{"$error":"#REF!"}}]
[null,"Sub 1C Total KVA",null,null,{"$f":"0.9*SUM(M907:P907)","v":{"$error":"#REF!"}}]
[null,"Sub 2A Total KVA",null,null,{"$f":"0.9*SUM(Q907:T907)","v":{"$error":"#REF!"}}]
[null,"Sub 2B Total KVA",null,null,{"$f":"0.9*SUM(U907:X907)","v":{"$error":"#REF!"}}]
[null,"Sub 2C Total KVA",null,null,{"$f":"0.9*SUM(Y907:AB907)","v":{"$error":"#REF!"}}]
[null,"Sub 2D Total KVA ",null,null,{"$f":"0.9*SUM(AC907:AF907)","v":{"$error":"#REF!"}}]
[]
[null,"TOTAL PROJECT KVA",null,null,{"$f":"SUM(E910:E916)","v":{"$error":"#REF!"}}]

{"sheet":"BUSPLUG","index":4,"n_rows":903,"n_cols":11,"rows_kept":903,"cut":false,"hidden":false,"merged":[]}
[{"$f":"IF(ISBLANK(LOADS!A1),\"\",LOADS!A1)","v":"PANEL"},{"$f":"IF(ISBLANK(LOADS!B1),\"\",LOADS!B1)","v":"PANEL"},30,60,100,200,400,600,800,"TOTAL","COMMENT"]
[{"$f":"IF(ISBLANK(LOADS!A2),\"\",LOADS!A2)","v":"#"},{"$f":"IF(ISBLANK(LOADS!B2),\"\",LOADS!B2)","v":"DESCRIPTION"},{"$f":"SUM(C3:C904)","v":{"$error":"#REF!"}},{"$error":"#REF!"},{"$error":"#REF!"},{"$error":"#REF!"},{"$error":"#REF!"},{"$error":"#REF!"},{"$error":"#REF!"},{"$error":"#REF!"}]
[{"$f":"IF(ISBLANK(LOADS!A3),\"\",LOADS!A3)","v":100},{"$f":"IF(ISBLANK(LOADS!B3),\"\",LOADS!B3)","v":""},{"$f":"IF(LOADS!$AC3=\"BUS\",IF(LOADS!$AE3=C$1,1,0),0)","v":0},{"$f":"IF(LOADS!$AC3=\"BUS\",IF(LOADS!$AE3=D$1,1,0),0)","v":0},{"$f":"IF(LOADS!$AC3=\"BUS\",IF(LOADS!$AE3=E$1,1,0),0)","v":0},{"$f":"IF(LOADS!$AC3=\"BUS\",IF(LOADS!$AE3=F$1,1,0),0)","v":0},{"$f":"IF(LOADS!$AC3=\"BUS\",IF(LOADS!$AE3=G$1,1,0),0)","v":0},{"$f":"IF(LOADS!$AC3=\"BUS\",IF(LOADS!$AE3=H$1,1,0),0)","v":0},{"$f":"IF(LOADS!$AC3=\"BUS\",IF(LOADS!$AE3=I$1,1,0),0)","v":0},{"$f":"SUM(C3:I3)","v":0},{"$f":"LOADS!AM3","v":0}]
[{"$f":"IF(ISBLANK(LOADS!A4),\"\",LOADS!A4)","v":101},{"$f":"IF(ISBLANK(LOADS!B4),\"\",LOADS!B4)","v":"Panel 1000"},{"$f":"IF(LOADS!$AC4=\"BUS\",IF(LOADS!$AE4=C$1,1,0),0)","v":0},{"$f":"IF(LOADS!$AC4=\"BUS\",IF(LOADS!$AE4=D$1,1,0),0)","v":0},{"$f":"IF(LOADS!$AC4=\"BUS\",IF(LOADS!$AE4=E$1,1,0),0)","v":1},{"$f":"IF(LOADS!$AC4=\"BUS\",IF(LOADS!$AE4=F$1,1,0),0)","v":0},{"$f":"IF(LOADS!$AC4=\"BUS\",IF(LOADS!$AE4=G$1,1,0),0)","v":0},{"$f":"IF(LOADS!$AC4=\"BUS\",IF(LOADS!$AE4=H$1,1,0),0)","v":0},{"$f":"IF(LOADS!$AC4=\"BUS\",IF(LOADS!$AE4=I$1,1,0),0)","v":0},{"$f":"SUM(C4:I4)","v":1},{"$f":"LOADS!AM4","v":0}]
[{"$f":"IF(ISBLANK(LOADS!#REF!),\"\",LOADS!#REF!)","v":{"$error":"#REF!"}},{"$f":"IF(ISBLANK(LOADS!#REF!),\"\",LOADS!#REF!)","v":{"$error":"#REF!"}},{"$f":"IF(LOADS!#REF!=\"BUS\",IF(LOADS!#REF!=C$1,1,0),0)","v":{"$error":"#REF!"}},{"$f":"IF(LOADS!#REF!=\"BUS\",IF(LOADS!#REF!=D$1,1,0),0)","v":{"$error":"#REF!"}},{"$f":"IF(LOADS!#REF!=\"BUS\",IF(LOADS!#REF!=E$1,1,0),0)","v":{"$error":"#REF!"}},{"$f":"IF(LOADS!#REF!=\"BUS\",IF(LOADS!#REF!=F$1,1,0),0)","v":{"$error":"#REF!"}},{"$f":"IF(LOADS!#REF!=\"BUS\",IF(LOADS!#REF!=G$1,1,0),0)","v":{"$error":"#REF!"}},{"$f":"IF(LOADS!#REF!=\"BUS\",IF(LOADS!#REF!=H$1,1,0),0)","v":{"$error":"#REF!"}},{"$f":"IF(LOADS!#REF!=\"BUS\",IF(LOADS!#REF!=I$1,1,0),0)","v":{"$error":"#REF!"}},{"$f":"SUM(C5:I5)","v":{"$error":"#REF!"}},{"$f":"LOADS!#REF!","v":{"$error":"#REF!"}}]
[{"$f":"IF(ISBLANK(LOADS!A5),\"\",LOADS!A5)","v":102},{"$f":"IF(ISBLANK(LOADS!B5),\"\",LOADS!B5)","v":"Panel 2000"},{"$f":"IF(LOADS!$AC5=\"BUS\",IF(LOADS!$AE5=C$1,1,0),0)","v":0},{"$f":"IF(LOADS!$AC5=\"BUS\",IF(LOADS!$AE5=D$1,1,0),0)","v":0},{"$f":"IF(LOADS!$AC5=\"BUS\",IF(LOADS!$AE5=E$1,1,0),0)","v":0},{"$f":"IF(LOADS!$AC5=\"BUS\",IF(LOADS!$AE5=F$1,1,0),0)","v":0},{"$f":"IF(LOADS!$AC5=\"BUS\",IF(LOADS!$AE5=G$1,1,0),0)","v":0},{"$f":"IF(LOADS!$AC5=\"BUS\",IF(LOADS!$AE5=H$1,1,0),0)","v":0},{"$f":"IF(LOADS!$AC5=\"BUS\",IF(LOADS!$AE5=I$1,1,0),0)","v":0},0,{"$f":"LOADS!AM5","v":0}]
[{"$f":"IF(ISBLANK(LOADS!A6),\"\",LOADS!A6)","v":103},{"$f":"IF(ISBLANK(LOADS!B6),\"\",LOADS!B6)","v":"Air Supply #1 VFD"},{"$f":"IF(LOADS!$AC6=\"BUS\",IF(LOADS!$AE6=C$1,1,0),0)","v":0},{"$f":"IF(LOADS!$AC6=\"BUS\",IF(LOADS!$AE6=D$1,1,0),0)","v":0},{"$f":"IF(LOADS!$AC6=\"BUS\",IF(LOADS!$AE6=E$1,1,0),0)","v":0},{"$f":"IF(LOADS!$AC6=\"BUS\",IF(LOADS!$AE6=F$1,1,0),0)","v":0},{"$f":"IF(LOADS!$AC6=\"BUS\",IF(LOADS!$AE6=G$1,1,0),0)","v":0},{"$f":"IF(LOADS!$AC6=\"BUS\",IF(LOADS!$AE6=H$1,1,0),0)","v":0},{"$f":"IF(LOADS!$AC6=\"BUS\",IF(LOADS!$AE6=I$1,1,0),0)","v":0},0,{"$f":"LOADS!AM6","v":0}]
[{"$f":"IF(ISBLANK(LOADS!A7),\"\",LOADS!A7)","v":104},{"$f":"IF(ISBLANK(LOADS!B7),\"\",LOADS!B7)","v":"Air Supply #1 VFD"},{"$f":"IF(LOADS!$AC7=\"BUS\",IF(LOADS!$AE7=C$1,1,0),0)","v":0},{"$f":"IF(LOADS!$AC7=\"BUS\",IF(LOADS!$AE7=D$1,1,0),0)","v":0},{"$f":"IF(LOADS!$AC7=\"BUS\",IF(LOADS!$AE7=E$1,1,0),0)","v":0},{"$f":"IF(LOADS!$AC7=\"BUS\",IF(LOADS!$AE7=F$1,1,0),0)","v":0},{"$f":"IF(LOADS!$AC7=\"BUS\",IF(LOADS!$AE7=G$1,1,0),0)","v":0},{"$f":"IF(LOADS!$AC7=\"BUS\",IF(LOADS!$AE7=H$1,1,0),0)","v":0},{"$f":"IF(LOADS!$AC7=\"BUS\",IF(LOADS!$AE7=I$1,1,0),0)","v":0},0,{"$f":"LOADS!AM7","v":0}]
[{"$f":"IF(ISBLANK(LOADS!A8),\"\",LOADS!A8)","v":105},{"$f":"IF(ISBLANK(LOADS!B8),\"\",LOADS!B8)","v":"Tack-off exhaust VFD"},{"$f":"IF(LOADS!$AC8=\"BUS\",IF(LOADS!$AE8=C$1,1,0),0)","v":0},{"$f":"IF(LOADS!$AC8=\"BUS\",IF(LOADS!$AE8=D$1,1,0),0)","v":0},{"$f":"IF(LOADS!$AC8=\"BUS\",IF(LOADS!$AE8=E$1,1,0),0)","v":0},{"$f":"IF(LOADS!$AC8=\"BUS\",IF(LOADS!$AE8=F$1,1,0),0)","v":0},{"$f":"IF(LOADS!$AC8=\"BUS\",IF(LOADS!$AE8=G$1,1,0),0)","v":0},{"$f":"IF(LOADS!$AC8=\"BUS\",IF(LOADS!$AE8=H$1,1,0),0)","v":0},{"$f":"IF(LOADS!$AC8=\"BUS\",IF(LOADS!$AE8=I$1,1,0),0)","v":0},0,{"$f":"LOADS!AM8","v":0}]
[{"$f":"IF(ISBLANK(LOADS!A9),\"\",LOADS!A9)","v":106},{"$f":"IF(ISBLANK(LOADS!B9),\"\",LOADS!B9)","v":"Tack-off exhaust VFD"},{"$f":"IF(LOADS!$AC9=\"BUS\",IF(LOADS!$AE9=C$1,1,0),0)","v":0},{"$f":"IF(LOADS!$AC9=\"BUS\",IF(LOADS!$AE9=D$1,1,0),0)","v":0},{"$f":"IF(LOADS!$AC9=\"BUS\",IF(LOADS!$AE9=E$1,1,0),0)","v":0},{"$f":"IF(LOADS!$AC9=\"BUS\",IF(LOADS!$AE9=F$1,1,0),0)","v":0},{"$f":"IF(LOADS!$AC9=\"BUS\",IF(LOADS!$AE9=G$1,1,0),0)","v":0},{"$f":"IF(LOADS!$AC9=\"BUS\",IF(LOADS!$AE9=H$1,1,0),0)","v":0},{"$f":"IF(LOADS!$AC9=\"BUS\",IF(LOADS!$AE9=I$1,1,0),0)","v":0},0,{"$f":"LOADS!AM9","v":0}]
[{"$f":"IF(ISBLANK(LOADS!A10),\"\",LOADS!A10)","v":107},{"$f":"IF(ISBLANK(LOADS!B11),\"\",LOADS!B11)","v":"B.C. Spray booth exhaust VFD"},{"$f":"IF(LOADS!$AC10=\"BUS\",IF(LOADS!$AE10=C$1,1,0),0)","v":0},{"$f":"IF(LOADS!$AC10=\"BUS\",IF(LOADS!$AE10=D$1,1,0),0)","v":0},{"$f":"IF(LOADS!$AC10=\"BUS\",IF(LOADS!$AE10=E$1,1,0),0)","v":0},{"$f":"IF(LOADS!$AC10=\"BUS\",IF(LOADS!$AE10=F$1,1,0),0)","v":0},{"$f":"IF(LOADS!$AC10=\"BUS\",IF(LOADS!$AE10=G$1,1,0),0)","v":0},{"$f":"IF(LOADS!$AC10=\"BUS\",IF(LOADS!$AE10=H$1,1,0),0)","v":0},{"$f":"IF(LOADS!$AC10=\"BUS\",IF(LOADS!$AE10=I$1,1,0),0)","v":0},0,{"$f":"LOADS!AM10","v":0}]
[{"$f":"IF(ISBLANK(LOADS!A11),\"\",LOADS!A11)","v":108},{"$f":"IF(ISBLANK(LOADS!#REF!),\"\",LOADS!#REF!)","v":{"$error":"#REF!"}},{"$f":"IF(LOADS!$AC11=\"BUS\",IF(LOADS!$AE11=C$1,1,0),0)","v":0},{"$f":"IF(LOADS!$AC11=\"BUS\",IF(LOADS!$AE11=D$1,1,0),0)","v":0},{"$f":"IF(LOADS!$AC11=\"BUS\",IF(LOADS!$AE11=E$1,1,0),0)","v":0},{"$f":"IF(LOADS!$AC11=\"BUS\",IF(LOADS!$AE11=F$1,1,0),0)","v":0},{"$f":"IF(LOADS!$AC11=\"BUS\",IF(LOADS!$AE11=G$1,1,0),0)","v":0},{"$f":"IF(LOADS!$AC11=\"BUS\",IF(LOADS!$AE11=H$1,1,0),0)","v":0},{"$f":"IF(LOADS!$AC11=\"BUS\",IF(LOADS!$AE11=I$1,1,0),0)","v":0},0,{"$f":"LOADS!AM11","v":0}]
[{"$f":"IF(ISBLANK(LOADS!A12),\"\",LOADS!A12)","v":109},{"$f":"IF(ISBLANK(LOADS!B12),\"\",LOADS!B12)","v":"B.C. Spray booth exhaust VFD"},{"$f":"IF(LOADS!$AC12=\"BUS\",IF(LOADS!$AE12=C$1,1,0),0)","v":0},{"$f":"IF(LOADS!$AC12=\"BUS\",IF(LOADS!$AE12=D$1,1,0),0)","v":0},{"$f":"IF(LOADS!$AC12=\"BUS\",IF(LOADS!$AE12=E$1,1,0),0)","v":0},{"$f":"IF(LOADS!$AC12=\"BUS\",IF(LOADS!$AE12=F$1,1,0),0)","v":0},{"$f":"IF(LOADS!$AC12=\"BUS\",IF(LOADS!$AE12=G$1,1,0),0)","v":0},{"$f":"IF(LOADS!$AC12=\"BUS\",IF(LOADS!$AE12=H$1,1,0),0)","v":0},{"$f":"IF(LOADS!$AC12=\"BUS\",IF(LOADS!$AE12=I$1,1,0),0)","v":0},0,{"$f":"LOADS!AM12","v":0}]
[{"$f":"IF(ISBLANK(LOADS!A13),\"\",LOADS!A13)","v":110},{"$f":"IF(ISBLANK(LOADS!B13),\"\",LOADS!B13)","v":"B.C. Spray booth exhaust VFD"},{"$f":"IF(LOADS!$AC13=\"BUS\",IF(LOADS!$AE13=C$1,1,0),0)","v":0},{"$f":"IF(LOADS!$AC13=\"BUS\",IF(LOADS!$AE13=D$1,1,0),0)","v":0},{"$f":"IF(LOADS!$AC13=\"BUS\",IF(LOADS!$AE13=E$1,1,0),0)","v":0},{"$f":"IF(LOADS!$AC13=\"BUS\",IF(LOADS!$AE13=F$1,1,0),0)","v":0},{"$f":"IF(LOADS!$AC13=\"BUS\",IF(LOADS!$AE13=G$1,1,0),0)","v":0},{"$f":"IF(LOADS!$AC13=\"BUS\",IF(LOADS!$AE13=H$1,1,0),0)","v":0},{"$f":"IF(LOADS!$AC13=\"BUS\",IF(LOADS!$AE13=I$1,1,0),0)","v":0},0,{"$f":"LOADS!AM13","v":0}]
[{"$f":"IF(ISBLANK(LOADS!A14),\"\",LOADS!A14)","v":111},{"$f":"IF(ISBLANK(LOADS!B14),\"\",LOADS!B14)","v":"C.C. Spray booth exhaust VFD"},{"$f":"IF(LOADS!$AC14=\"BUS\",IF(LOADS!$AE14=C$1,1,0),0)","v":0},{"$f":"IF(LOADS!$AC14=\"BUS\",IF(LOADS!$AE14=D$1,1,0),0)","v":0},{"$f":"IF(LOADS!$AC14=\"BUS\",IF(LOADS!$AE14=E$1,1,0),0)","v":0},{"$f":"IF(LOADS!$AC14=\"BUS\",IF(LOADS!$AE14=F$1,1,0),0)","v":0},{"$f":"IF(LOADS!$AC14=\"BUS\",IF(LOADS!$AE14=G$1,1,0),0)","v":0},{"$f":"IF(LOADS!$AC14=\"BUS\",IF(LOADS!$AE14=H$1,1,0),0)","v":0},{"$f":"IF(LOADS!$AC14=\"BUS\",IF(LOADS!$AE14=I$1,1,0),0)","v":0},0,{"$f":"LOADS!AM14","v":0}]
[{"$f":"IF(ISBLANK(LOADS!A15),\"\",LOADS!A15)","v":112},{"$f":"IF(ISBLANK(LOADS!B15),\"\",LOADS!B15)","v":"C,C. Spray Booth exhaust VFD"},{"$f":"IF(LOADS!$AC15=\"BUS\",IF(LOADS!$AE15=C$1,1,0),0)","v":0},{"$f":"IF(LOADS!$AC15=\"BUS\",IF(LOADS!$AE15=D$1,1,0),0)","v":0},{"$f":"IF(LOADS!$AC15=\"BUS\",IF(LOADS!$AE15=E$1,1,0),0)","v":0},{"$f":"IF(LOADS!$AC15=\"BUS\",IF(LOADS!$AE15=F$1,1,0),0)","v":0},{"$f":"IF(LOADS!$AC15=\"BUS\",IF(LOADS!$AE15=G$1,1,0),0)","v":0},{"$f":"IF(LOADS!$AC15=\"BUS\",IF(LOADS!$AE15=H$1,1,0),0)","v":0},{"$f":"IF(LOADS!$AC15=\"BUS\",IF(LOADS!$AE15=I$1,1,0),0)","v":0},0,{"$f":"LOADS!AM15","v":0}]
[{"$f":"IF(ISBLANK(LOADS!A16),\"\",LOADS!A16)","v":113},{"$f":"IF(ISBLANK(LOADS!B16),\"\",LOADS!B16)","v":"C.C. Spray booth exhaust VFD"},{"$f":"IF(LOADS!$AC16=\"BUS\",IF(LOADS!$AE16=C$1,1,0),0)","v":0},{"$f":"IF(LOADS!$AC16=\"BUS\",IF(LOADS!$AE16=D$1,1,0),0)","v":0},{"$f":"IF(LOADS!$AC16=\"BUS\",IF(LOADS!$AE16=E$1,1,0),0)","v":0},{"$f":"IF(LOADS!$AC16=\"BUS\",IF(LOADS!$AE16=F$1,1,0),0)","v":0},{"$f":"IF(LOADS!$AC16=\"BUS\",IF(LOADS!$AE16=G$1,1,0),0)","v":0},{"$f":"IF(LOADS!$AC16=\"BUS\",IF(LOADS!$AE16=H$1,1,0),0)","v":0},{"$f":"IF(LOADS!$AC16=\"BUS\",IF(LOADS!$AE16=I$1,1,0),0)","v":0},0,{"$f":"LOADS!AM16","v":0}]
[{"$f":"IF(ISBLANK(LOADS!A17),\"\",LOADS!A17)","v":114},{"$f":"IF(ISBLANK(LOADS!B17),\"\",LOADS!B17)","v":"C.C. Spray booth exhaust VFD"},{"$f":"IF(LOADS!$AC17=\"BUS\",IF(LOADS!$AE17=C$1,1,0),0)","v":0},{"$f":"IF(LOADS!$AC17=\"BUS\",IF(LOADS!$AE17=D$1,1,0),0)","v":0},{"$f":"IF(LOADS!$AC17=\"BUS\",IF(LOADS!$AE17=E$1,1,0),0)","v":0},{"$f":"IF(LOADS!$AC17=\"BUS\",IF(LOADS!$AE17=F$1,1,0),0)","v":0},{"$f":"IF(LOADS!$AC17=\"BUS\",IF(LOADS!$AE17=G$1,1,0),0)","v":0},{"$f":"IF(LOADS!$AC17=\"BUS\",IF(LOADS!$AE17=H$1,1,0),0)","v":0},{"$f":"IF(LOADS!$AC17=\"BUS\",IF(LOADS!$AE17=I$1,1,0),0)","v":0},0,{"$f":"LOADS!AM17","v":0}]
[{"$f":"IF(ISBLANK(LOADS!A18),\"\",LOADS!A18)","v":115},{"$f":"IF(ISBLANK(LOADS!B18),\"\",LOADS!B18)","v":"Air Supply #2 VFD"},{"$f":"IF(LOADS!$AC18=\"BUS\",IF(LOADS!$AE18=C$1,1,0),0)","v":0},{"$f":"IF(LOADS!$AC18=\"BUS\",IF(LOADS!$AE18=D$1,1,0),0)","v":0},{"$f":"IF(LOADS!$AC18=\"BUS\",IF(LOADS!$AE18=E$1,1,0),0)","v":0},{"$f":"IF(LOADS!$AC18=\"BUS\",IF(LOADS!$AE18=F$1,1,0),0)","v":0},{"$f":"IF(LOADS!$AC18=\"BUS\",IF(LOADS!$AE18=G$1,1,0),0)","v":0},{"$f":"IF(LOADS!$AC18=\"BUS\",IF(LOADS!$AE18=H$1,1,0),0)","v":0},{"$f":"IF(LOADS!$AC18=\"BUS\",IF(LOADS!$AE18=I$1,1,0),0)","v":0},0,{"$f":"LOADS!AM18","v":0}]
[{"$f":"IF(ISBLANK(LOADS!A19),\"\",LOADS!A19)","v":116},{"$f":"IF(ISBLANK(LOADS!B19),\"\",LOADS!B19)","v":"Air Supply #2 VFD"},{"$f":"IF(LOADS!$AC19=\"BUS\",IF(LOADS!$AE19=C$1,1,0),0)","v":0},{"$f":"IF(LOADS!$AC19=\"BUS\",IF(LOADS!$AE19=D$1,1,0),0)","v":0},{"$f":"IF(LOADS!$AC19=\"BUS\",IF(LOADS!$AE19=E$1,1,0),0)","v":0},{"$f":"IF(LOADS!$AC19=\"BUS\",IF(LOADS!$AE19=F$1,1,0),0)","v":0},{"$f":"IF(LOADS!$AC19=\"BUS\",IF(LOADS!$AE19=G$1,1,0),0)","v":0},{"$f":"IF(LOADS!$AC19=\"BUS\",IF(LOADS!$AE19=H$1,1,0),0)","v":0},{"$f":"IF(LOADS!$AC19=\"BUS\",IF(LOADS!$AE19=I$1,1,0),0)","v":0},0,{"$f":"LOADS!AM19","v":0}]
[{"$f":"IF(ISBLANK(LOADS!#REF!),\"\",LOADS!#REF!)","v":{"$error":"#REF!"}},{"$f":"IF(ISBLANK(LOADS!#REF!),\"\",LOADS!#REF!)","v":{"$error":"#REF!"}},{"$f":"IF(LOADS!#REF!=\"BUS\",IF(LOADS!#REF!=C$1,1,0),0)","v":{"$error":"#REF!"}},{"$f":"IF(LOADS!#REF!=\"BUS\",IF(LOADS!#REF!=D$1,1,0),0)","v":{"$error":"#REF!"}},{"$f":"IF(LOADS!#REF!=\"BUS\",IF(LOADS!#REF!=E$1,1,0),0)","v":{"$error":"#REF!"}},{"$f":"IF(LOADS!#REF!=\"BUS\",IF(LOADS!#REF!=F$1,1,0),0)","v":{"$error":"#REF!"}},{"$f":"IF(LOADS!#REF!=\"BUS\",IF(LOADS!#REF!=G$1,1,0),0)","v":{"$error":"#REF!"}},{"$f":"IF(LOADS!#REF!=\"BUS\",IF(LOADS!#REF!=H$1,1,0),0)","v":{"$error":"#REF!"}},{"$f":"IF(LOADS!#REF!=\"BUS\",IF(LOADS!#REF!=I$1,1,0),0)","v":{"$error":"#REF!"}},{"$error":"#REF!"},{"$f":"LOADS!#REF!","v":{"$error":"#REF!"}}]
[{"$f":"IF(ISBLANK(LOADS!#REF!),\"\",LOADS!#REF!)","v":{"$error":"#REF!"}},{"$f":"IF(ISBLANK(LOADS!#REF!),\"\",LOADS!#REF!)","v":{"$error":"#REF!"}},{"$f":"IF(LOADS!#REF!=\"BUS\",IF(LOADS!#REF!=C$1,1,0),0)","v":{"$error":"#REF!"}},{"$f":"IF(LOADS!#REF!=\"BUS\",IF(LOADS!#REF!=D$1,1,0),0)","v":{"$error":"#REF!"}},{"$f":"IF(LOADS!#REF!=\"BUS\",IF(LOADS!#REF!=E$1,1,0),0)","v":{"$error":"#REF!"}},{"$f":"IF(LOADS!#REF!=\"BUS\",IF(LOADS!#REF!=F$1,1,0),0)","v":{"$error":"#REF!"}},{"$f":"IF(LOADS!#REF!=\"BUS\",IF(LOADS!#REF!=G$1,1,0),0)","v":{"$error":"#REF!"}},{"$f":"IF(LOADS!#REF!=\"BUS\",IF(LOADS!#REF!=H$1,1,0),0)","v":{"$error":"#REF!"}},{"$f":"IF(LOADS!#REF!=\"BUS\",IF(LOADS!#REF!=I$1,1,0),0)","v":{"$error":"#REF!"}},{"$error":"#REF!"},{"$f":"LOADS!#REF!","v":{"$error":"#REF!"}}]
[{"$f":"IF(ISBLANK(LOADS!A20),\"\",LOADS!A20)","v":{"$error":"#REF!"}},{"$f":"IF(ISBLANK(LOADS!B20),\"\",LOADS!B20)","v":""},{"$f":"IF(LOADS!$AC20=\"BUS\",IF(LOADS!$AE20=C$1,1,0),0)","v":0},{"$f":"IF(LOADS!$AC20=\"BUS\",IF(LOADS!$AE20=D$1,1,0),0)","v":0},{"$f":"IF(LOADS!$AC20=\"BUS\",IF(LOADS!$AE20=E$1,1,0),0)","v":0},{"$f":"IF(LOADS!$AC20=\"BUS\",IF(LOADS!$AE20=F$1,1,0),0)","v":0},{"$f":"IF(LOADS!$AC20=\"BUS\",IF(LOADS!$AE20=G$1,1,0),0)","v":0},{"$f":"IF(LOADS!$AC20=\"BUS\",IF(LOADS!$AE20=H$1,1,0),0)","v":0},{"$f":"IF(LOADS!$AC20=\"BUS\",IF(LOADS!$AE20=I$1,1,0),0)","v":0},0,{"$f":"LOADS!AM20","v":0}]
[{"$f":"IF(ISBLANK(LOADS!A21),\"\",LOADS!A21)","v":{"$error":"#REF!"}},{"$f":"IF(ISBLANK(LOADS!B21),\"\",LOADS!B21)","v":""},{"$f":"IF(LOADS!$AC21=\"BUS\",IF(LOADS!$AE21=C$1,1,0),0)","v":0},{"$f":"IF(LOADS!$AC21=\"BUS\",IF(LOADS!$AE21=D$1,1,0),0)","v":0},{"$f":"IF(LOADS!$AC21=\"BUS\",IF(LOADS!$AE21=E$1,1,0),0)","v":0},{"$f":"IF(LOADS!$AC21=\"BUS\",IF(LOADS!$AE21=F$1,1,0),0)","v":0},{"$f":"IF(LOADS!$AC21=\"BUS\",IF(LOADS!$AE21=G$1,1,0),0)","v":0},{"$f":"IF(LOADS!$AC21=\"BUS\",IF(LOADS!$AE21=H$1,1,0),0)","v":0},{"$f":"IF(LOADS!$AC21=\"BUS\",IF(LOADS!$AE21=I$1,1,0),0)","v":0},0,{"$f":"LOADS!AM21","v":0}]
[{"$f":"IF(ISBLANK(LOADS!A22),\"\",LOADS!A22)","v":{"$error":"#REF!"}},{"$f":"IF(ISBLANK(LOADS!B22),\"\",LOADS!B22)","v":""},{"$f":"IF(LOADS!$AC22=\"BUS\",IF(LOADS!$AE22=C$1,1,0),0)","v":0},{"$f":"IF(LOADS!$AC22=\"BUS\",IF(LOADS!$AE22=D$1,1,0),0)","v":0},{"$f":"IF(LOADS!$AC22=\"BUS\",IF(LOADS!$AE22=E$1,1,0),0)","v":0},{"$f":"IF(LOADS!$AC22=\"BUS\",IF(LOADS!$AE22=F$1,1,0),0)","v":0},{"$f":"IF(LOADS!$AC22=\"BUS\",IF(LOADS!$AE22=G$1,1,0),0)","v":0},{"$f":"IF(LOADS!$AC22=\"BUS\",IF(LOADS!$AE22=H$1,1,0),0)","v":0},{"$f":"IF(LOADS!$AC22=\"BUS\",IF(LOADS!$AE22=I$1,1,0),0)","v":0},0,{"$f":"LOADS!AM22","v":0}]
[{"$f":"IF(ISBLANK(LOADS!A23),\"\",LOADS!A23)","v":{"$error":"#REF!"}},{"$f":"IF(ISBLANK(LOADS!B23),\"\",LOADS!B23)","v":""},{"$f":"IF(LOADS!$AC23=\"BUS\",IF(LOADS!$AE23=C$1,1,0),0)","v":0},{"$f":"IF(LOADS!$AC23=\"BUS\",IF(LOADS!$AE23=D$1,1,0),0)","v":0},{"$f":"IF(LOADS!$AC23=\"BUS\",IF(LOADS!$AE23=E$1,1,0),0)","v":0},{"$f":"IF(LOADS!$AC23=\"BUS\",IF(LOADS!$AE23=F$1,1,0),0)","v":0},{"$f":"IF(LOADS!$AC23=\"BUS\",IF(LOADS!$AE23=G$1,1,0),0)","v":0},{"$f":"IF(LOADS!$AC23=\"BUS\",IF(LOADS!$AE23=H$1,1,0),0)","v":0},{"$f":"IF(LOADS!$AC23=\"BUS\",IF(LOADS!$AE23=I$1,1,0),0)","v":0},0,{"$f":"LOADS!AM23","v":0}]
[{"$f":"IF(ISBLANK(LOADS!A24),\"\",LOADS!A24)","v":{"$error":"#REF!"}},{"$f":"IF(ISBLANK(LOADS!B24),\"\",LOADS!B24)","v":""},{"$f":"IF(LOADS!$AC24=\"BUS\",IF(LOADS!$AE24=C$1,1,0),0)","v":0},{"$f":"IF(LOADS!$AC24=\"BUS\",IF(LOADS!$AE24=D$1,1,0),0)","v":0},{"$f":"IF(LOADS!$AC24=\"BUS\",IF(LOADS!$AE24=E$1,1,0),0)","v":0},{"$f":"IF(LOADS!$AC24=\"BUS\",IF(LOADS!$AE24=F$1,1,0),0)","v":0},{"$f":"IF(LOADS!$AC24=\"BUS\",IF(LOADS!$AE24=G$1,1,0),0)","v":0},{"$f":"IF(LOADS!$AC24=\"BUS\",IF(LOADS!$AE24=H$1,1,0),0)","v":0},{"$f":"IF(LOADS!$AC24=\"BUS\",IF(LOADS!$AE24=I$1,1,0),0)","v":0},0,{"$f":"LOADS!AM24","v":0}]
[{"$f":"IF(ISBLANK(LOADS!A25),\"\",LOADS!A25)","v":{"$error":"#REF!"}},{"$f":"IF(ISBLANK(LOADS!B25),\"\",LOADS!B25)","v":""},{"$f":"IF(LOADS!$AC25=\"BUS\",IF(LOADS!$AE25=C$1,1,0),0)","v":0},{"$f":"IF(LOADS!$AC25=\"BUS\",IF(LOADS!$AE25=D$1,1,0),0)","v":0},{"$f":"IF(LOADS!$AC25=\"BUS\",IF(LOADS!$AE25=E$1,1,0),0)","v":0},{"$f":"IF(LOADS!$AC25=\"BUS\",IF(LOADS!$AE25=F$1,1,0),0)","v":0},{"$f":"IF(LOADS!$AC25=\"BUS\",IF(LOADS!$AE25=G$1,1,0),0)","v":0},{"$f":"IF(LOADS!$AC25=\"BUS\",IF(LOADS!$AE25=H$1,1,0),0)","v":0},{"$f":"IF(LOADS!$AC25=\"BUS\",IF(LOADS!$AE25=I$1,1,0),0)","v":0},0,{"$f":"LOADS!AM25","v":0}]
[{"$f":"IF(ISBLANK(LOADS!A26),\"\",LOADS!A26)","v":{"$error":"#REF!"}},{"$f":"IF(ISBLANK(LOADS!B26),\"\",LOADS!B26)","v":""},{"$f":"IF(LOADS!$AC26=\"BUS\",IF(LOADS!$AE26=C$1,1,0),0)","v":0},{"$f":"IF(LOADS!$AC26=\"BUS\",IF(LOADS!$AE26=D$1,1,0),0)","v":0},{"$f":"IF(LOADS!$AC26=\"BUS\",IF(LOADS!$AE26=E$1,1,0),0)","v":0},{"$f":"IF(LOADS!$AC26=\"BUS\",IF(LOADS!$AE26=F$1,1,0),0)","v":0},{"$f":"IF(LOADS!$AC26=\"BUS\",IF(LOADS!$AE26=G$1,1,0),0)","v":0},{"$f":"IF(LOADS!$AC26=\"BUS\",IF(LOADS!$AE26=H$1,1,0),0)","v":0},{"$f":"IF(LOADS!$AC26=\"BUS\",IF(LOADS!$AE26=I$1,1,0),0)","v":0},0,{"$f":"LOADS!AM26","v":0}]
[{"$f":"IF(ISBLANK(LOADS!A27),\"\",LOADS!A27)","v":{"$error":"#REF!"}},{"$f":"IF(ISBLANK(LOADS!B27),\"\",LOADS!B27)","v":""},{"$f":"IF(LOADS!$AC27=\"BUS\",IF(LOADS!$AE27=C$1,1,0),0)","v":0},{"$f":"IF(LOADS!$AC27=\"BUS\",IF(LOADS!$AE27=D$1,1,0),0)","v":0},{"$f":"IF(LOADS!$AC27=\"BUS\",IF(LOADS!$AE27=E$1,1,0),0)","v":0},{"$f":"IF(LOADS!$AC27=\"BUS\",IF(LOADS!$AE27=F$1,1,0),0)","v":0},{"$f":"IF(LOADS!$AC27=\"BUS\",IF(LOADS!$AE27=G$1,1,0),0)","v":0},{"$f":"IF(LOADS!$AC27=\"BUS\",IF(LOADS!$AE27=H$1,1,0),0)","v":0},{"$f":"IF(LOADS!$AC27=\"BUS\",IF(LOADS!$AE27=I$1,1,0),0)","v":0},0,{"$f":"LOADS!AM27","v":0}]
[{"$f":"IF(ISBLANK(LOADS!A28),\"\",LOADS!A28)","v":{"$error":"#REF!"}},{"$f":"IF(ISBLANK(LOADS!B28),\"\",LOADS!B28)","v":""},{"$f":"IF(LOADS!$AC28=\"BUS\",IF(LOADS!$AE28=C$1,1,0),0)","v":0},{"$f":"IF(LOADS!$AC28=\"BUS\",IF(LOADS!$AE28=D$1,1,0),0)","v":0},{"$f":"IF(LOADS!$AC28=\"BUS\",IF(LOADS!$AE28=E$1,1,0),0)","v":0},{"$f":"IF(LOADS!$AC28=\"BUS\",IF(LOADS!$AE28=F$1,1,0),0)","v":0},{"$f":"IF(LOADS!$AC28=\"BUS\",IF(LOADS!$AE28=G$1,1,0),0)","v":0},{"$f":"IF(LOADS!$AC28=\"BUS\",IF(LOADS!$AE28=H$1,1,0),0)","v":0},{"$f":"IF(LOADS!$AC28=\"BUS\",IF(LOADS!$AE28=I$1,1,0),0)","v":0},0,{"$f":"LOADS!AM28","v":0}]
[{"$f":"IF(ISBLANK(LOADS!A29),\"\",LOADS!A29)","v":{"$error":"#REF!"}},{"$f":"IF(ISBLANK(LOADS!B29),\"\",LOADS!B29)","v":""},{"$f":"IF(LOADS!$AC29=\"BUS\",IF(LOADS!$AE29=C$1,1,0),0)","v":0},{"$f":"IF(LOADS!$AC29=\"BUS\",IF(LOADS!$AE29=D$1,1,0),0)","v":0},{"$f":"IF(LOADS!$AC29=\"BUS\",IF(LOADS!$AE29=E$1,1,0),0)","v":0},{"$f":"IF(LOADS!$AC29=\"BUS\",IF(LOADS!$AE29=F$1,1,0),0)","v":0},{"$f":"IF(LOADS!$AC29=\"BUS\",IF(LOADS!$AE29=G$1,1,0),0)","v":0},{"$f":"IF(LOADS!$AC29=\"BUS\",IF(LOADS!$AE29=H$1,1,0),0)","v":0},{"$f":"IF(LOADS!$AC29=\"BUS\",IF(LOADS!$AE29=I$1,1,0),0)","v":0},0,{"$f":"LOADS!AM29","v":0}]
[{"$f":"IF(ISBLANK(LOADS!A30),\"\",LOADS!A30)","v":{"$error":"#REF!"}},{"$f":"IF(ISBLANK(LOADS!B30),\"\",LOADS!B30)","v":""},{"$f":"IF(LOADS!$AC30=\"BUS\",IF(LOADS!$AE30=C$1,1,0),0)","v":0},{"$f":"IF(LOADS!$AC30=\"BUS\",IF(LOADS!$AE30=D$1,1,0),0)","v":0},{"$f":"IF(LOADS!$AC30=\"BUS\",IF(LOADS!$AE30=E$1,1,0),0)","v":0},{"$f":"IF(LOADS!$AC30=\"BUS\",IF(LOADS!$AE30=F$1,1,0),0)","v":0},{"$f":"IF(LOADS!$AC30=\"BUS\",IF(LOADS!$AE30=G$1,1,0),0)","v":0},{"$f":"IF(LOADS!$AC30=\"BUS\",IF(LOADS!$AE30=H$1,1,0),0)","v":0},{"$f":"IF(LOADS!$AC30=\"BUS\",IF(LOADS!$AE30=I$1,1,0),0)","v":0},0,{"$f":"LOADS!AM30","v":0}]
[{"$f":"IF(ISBLANK(LOADS!A31),\"\",LOADS!A31)","v":{"$error":"#REF!"}},{"$f":"IF(ISBLANK(LOADS!B31),\"\",LOADS!B31)","v":""},{"$f":"IF(LOADS!$AC31=\"BUS\",IF(LOADS!$AE31=C$1,1,0),0)","v":0},{"$f":"IF(LOADS!$AC31=\"BUS\",IF(LOADS!$AE31=D$1,1,0),0)","v":0},{"$f":"IF(LOADS!$AC31=\"BUS\",IF(LOADS!$AE31=E$1,1,0),0)","v":0},{"$f":"IF(LOADS!$AC31=\"BUS\",IF(LOADS!$AE31=F$1,1,0),0)","v":0},{"$f":"IF(LOADS!$AC31=\"BUS\",IF(LOADS!$AE31=G$1,1,0),0)","v":0},{"$f":"IF(LOADS!$AC31=\"BUS\",IF(LOADS!$AE31=H$1,1,0),0)","v":0},{"$f":"IF(LOADS!$AC31=\"BUS\",IF(LOADS!$AE31=I$1,1,0),0)","v":0},0,{"$f":"LOADS!AM31","v":0}]
[{"$f":"IF(ISBLANK(LOADS!A32),\"\",LOADS!A32)","v":{"$error":"#REF!"}},{"$f":"IF(ISBLANK(LOADS!B32),\"\",LOADS!B32)","v":""},{"$f":"IF(LOADS!$AC32=\"BUS\",IF(LOADS!$AE32=C$1,1,0),0)","v":0},{"$f":"IF(LOADS!$AC32=\"BUS\",IF(LOADS!$AE32=D$1,1,0),0)","v":0},{"$f":"IF(LOADS!$AC32=\"BUS\",IF(LOADS!$AE32=E$1,1,0),0)","v":0},{"$f":"IF(LOADS!$AC32=\"BUS\",IF(LOADS!$AE32=F$1,1,0),0)","v":0},{"$f":"IF(LOADS!$AC32=\"BUS\",IF(LOADS!$AE32=G$1,1,0),0)","v":0},{"$f":"IF(LOADS!$AC32=\"BUS\",IF(LOADS!$AE32=H$1,1,0),0)","v":0},{"$f":"IF(LOADS!$AC32=\"BUS\",IF(LOADS!$AE32=I$1,1,0),0)","v":0},0,{"$f":"LOADS!AM32","v":0}]
[{"$f":"IF(ISBLANK(LOADS!A33),\"\",LOADS!A33)","v":{"$error":"#REF!"}},{"$f":"IF(ISBLANK(LOADS!B33),\"\",LOADS!B33)","v":""},{"$f":"IF(LOADS!$AC33=\"BUS\",IF(LOADS!$AE33=C$1,1,0),0)","v":0},{"$f":"IF(LOADS!$AC33=\"BUS\",IF(LOADS!$AE33=D$1,1,0),0)","v":0},{"$f":"IF(LOADS!$AC33=\"BUS\",IF(LOADS!$AE33=E$1,1,0),0)","v":0},{"$f":"IF(LOADS!$AC33=\"BUS\",IF(LOADS!$AE33=F$1,1,0),0)","v":0},{"$f":"IF(LOADS!$AC33=\"BUS\",IF(LOADS!$AE33=G$1,1,0),0)","v":0},{"$f":"IF(LOADS!$AC33=\"BUS\",IF(LOADS!$AE33=H$1,1,0),0)","v":0},{"$f":"IF(LOADS!$AC33=\"BUS\",IF(LOADS!$AE33=I$1,1,0),0)","v":0},0,{"$f":"LOADS!AM33","v":0}]
[{"$f":"IF(ISBLANK(LOADS!A34),\"\",LOADS!A34)","v":{"$error":"#REF!"}},{"$f":"IF(ISBLANK(LOADS!B34),\"\",LOADS!B34)","v":""},{"$f":"IF(LOADS!$AC34=\"BUS\",IF(LOADS!$AE34=C$1,1,0),0)","v":0},{"$f":"IF(LOADS!$AC34=\"BUS\",IF(LOADS!$AE34=D$1,1,0),0)","v":0},{"$f":"IF(LOADS!$AC34=\"BUS\",IF(LOADS!$AE34=E$1,1,0),0)","v":0},{"$f":"IF(LOADS!$AC34=\"BUS\",IF(LOADS!$AE34=F$1,1,0),0)","v":0},{"$f":"IF(LOADS!$AC34=\"BUS\",IF(LOADS!$AE34=G$1,1,0),0)","v":0},{"$f":"IF(LOADS!$AC34=\"BUS\",IF(LOADS!$AE34=H$1,1,0),0)","v":0},{"$f":"IF(LOADS!$AC34=\"BUS\",IF(LOADS!$AE34=I$1,1,0),0)","v":0},0,{"$f":"LOADS!AM34","v":0}]
[{"$f":"IF(ISBLANK(LOADS!A35),\"\",LOADS!A35)","v":{"$error":"#REF!"}},{"$f":"IF(ISBLANK(LOADS!B35),\"\",LOADS!B35)","v":""},{"$f":"IF(LOADS!$AC35=\"BUS\",IF(LOADS!$AE35=C$1,1,0),0)","v":0},{"$f":"IF(LOADS!$AC35=\"BUS\",IF(LOADS!$AE35=D$1,1,0),0)","v":0},{"$f":"IF(LOADS!$AC35=\"BUS\",IF(LOADS!$AE35=E$1,1,0),0)","v":0},{"$f":"IF(LOADS!$AC35=\"BUS\",IF(LOADS!$AE35=F$1,1,0),0)","v":0},{"$f":"IF(LOADS!$AC35=\"BUS\",IF(LOADS!$AE35=G$1,1,0),0)","v":0},{"$f":"IF(LOADS!$AC35=\"BUS\",IF(LOADS!$AE35=H$1,1,0),0)","v":0},{"$f":"IF(LOADS!$AC35=\"BUS\",IF(LOADS!$AE35=I$1,1,0),0)","v":0},0,{"$f":"LOADS!AM35","v":0}]
[{"$f":"IF(ISBLANK(LOADS!A36),\"\",LOADS!A36)","v":{"$error":"#REF!"}},{"$f":"IF(ISBLANK(LOADS!B36),\"\",LOADS!B36)","v":""},{"$f":"IF(LOADS!$AC36=\"BUS\",IF(LOADS!$AE36=C$1,1,0),0)","v":0},{"$f":"IF(LOADS!$AC36=\"BUS\",IF(LOADS!$AE36=D$1,1,0),0)","v":0},{"$f":"IF(LOADS!$AC36=\"BUS\",IF(LOADS!$AE36=E$1,1,0),0)","v":0},{"$f":"IF(LOADS!$AC36=\"BUS\",IF(LOADS!$AE36=F$1,1,0),0)","v":0},{"$f":"IF(LOADS!$AC36=\"BUS\",IF(LOADS!$AE36=G$1,1,0),0)","v":0},{"$f":"IF(LOADS!$AC36=\"BUS\",IF(LOADS!$AE36=H$1,1,0),0)","v":0},{"$f":"IF(LOADS!$AC36=\"BUS\",IF(LOADS!$AE36=I$1,1,0),0)","v":0},0,{"$f":"LOADS!AM36","v":0}]
[{"$f":"IF(ISBLANK(LOADS!A37),\"\",LOADS!A37)","v":{"$error":"#REF!"}},{"$f":"IF(ISBLANK(LOADS!B37),\"\",LOADS!B37)","v":""},{"$f":"IF(LOADS!$AC37=\"BUS\",IF(LOADS!$AE37=C$1,1,0),0)","v":0},{"$f":"IF(LOADS!$AC37=\"BUS\",IF(LOADS!$AE37=D$1,1,0),0)","v":0},{"$f":"IF(LOADS!$AC37=\"BUS\",IF(LOADS!$AE37=E$1,1,0),0)","v":0},{"$f":"IF(LOADS!$AC37=\"BUS\",IF(LOADS!$AE37=F$1,1,0),0)","v":0},{"$f":"IF(LOADS!$AC37=\"BUS\",IF(LOADS!$AE37=G$1,1,0),0)","v":0},{"$f":"IF(LOADS!$AC37=\"BUS\",IF(LOADS!$AE37=H$1,1,0),0)","v":0},{"$f":"IF(LOADS!$AC37=\"BUS\",IF(LOADS!$AE37=I$1,1,0),0)","v":0},0,{"$f":"LOADS!AM37","v":0}]
[{"$f":"IF(ISBLANK(LOADS!A38),\"\",LOADS!A38)","v":{"$error":"#REF!"}},{"$f":"IF(ISBLANK(LOADS!B38),\"\",LOADS!B38)","v":""},{"$f":"IF(LOADS!$AC38=\"BUS\",IF(LOADS!$AE38=C$1,1,0),0)","v":0},{"$f":"IF(LOADS!$AC38=\"BUS\",IF(LOADS!$AE38=D$1,1,0),0)","v":0},{"$f":"IF(LOADS!$AC38=\"BUS\",IF(LOADS!$AE38=E$1,1,0),0)","v":0},{"$f":"IF(LOADS!$AC38=\"BUS\",IF(LOADS!$AE38=F$1,1,0),0)","v":0},{"$f":"IF(LOADS!$AC38=\"BUS\",IF(LOADS!$AE38=G$1,1,0),0)","v":0},{"$f":"IF(LOADS!$AC38=\"BUS\",IF(LOADS!$AE38=H$1,1,0),0)","v":0},{"$f":"IF(LOADS!$AC38=\"BUS\",IF(LOADS!$AE38=I$1,1,0),0)","v":0},0,{"$f":"LOADS!AM38","v":0}]
[{"$f":"IF(ISBLANK(LOADS!A39),\"\",LOADS!A39)","v":{"$error":"#REF!"}},{"$f":"IF(ISBLANK(LOADS!B39),\"\",LOADS!B39)","v":""},{"$f":"IF(LOADS!$AC39=\"BUS\",IF(LOADS!$AE39=C$1,1,0),0)","v":0},{"$f":"IF(LOADS!$AC39=\"BUS\",IF(LOADS!$AE39=D$1,1,0),0)","v":0},{"$f":"IF(LOADS!$AC39=\"BUS\",IF(LOADS!$AE39=E$1,1,0),0)","v":0},{"$f":"IF(LOADS!$AC39=\"BUS\",IF(LOADS!$AE39=F$1,1,0),0)","v":0},{"$f":"IF(LOADS!$AC39=\"BUS\",IF(LOADS!$AE39=G$1,1,0),0)","v":0},{"$f":"IF(LOADS!$AC39=\"BUS\",IF(LOADS!$AE39=H$1,1,0),0)","v":0},{"$f":"IF(LOADS!$AC39=\"BUS\",IF(LOADS!$AE39=I$1,1,0),0)","v":0},0,{"$f":"LOADS!AM39","v":0}]
[{"$f":"IF(ISBLANK(LOADS!A40),\"\",LOADS!A40)","v":{"$error":"#REF!"}},{"$f":"IF(ISBLANK(LOADS!B40),\"\",LOADS!B40)","v":""},{"$f":"IF(LOADS!$AC40=\"BUS\",IF(LOADS!$AE40=C$1,1,0),0)","v":0},{"$f":"IF(LOADS!$AC40=\"BUS\",IF(LOADS!$AE40=D$1,1,0),0)","v":0},{"$f":"IF(LOADS!$AC40=\"BUS\",IF(LOADS!$AE40=E$1,1,0),0)","v":0},{"$f":"IF(LOADS!$AC40=\"BUS\",IF(LOADS!$AE40=F$1,1,0),0)","v":0},{"$f":"IF(LOADS!$AC40=\"BUS\",IF(LOADS!$AE40=G$1,1,0),0)","v":0},{"$f":"IF(LOADS!$AC40=\"BUS\",IF(LOADS!$AE40=H$1,1,0),0)","v":0},{"$f":"IF(LOADS!$AC40=\"BUS\",IF(LOADS!$AE40=I$1,1,0),0)","v":0},0,{"$f":"LOADS!AM40","v":0}]
[{"$f":"IF(ISBLANK(LOADS!A41),\"\",LOADS!A41)","v":{"$error":"#REF!"}},{"$f":"IF(ISBLANK(LOADS!B41),\"\",LOADS!B41)","v":""},{"$f":"IF(LOADS!$AC41=\"BUS\",IF(LOADS!$AE41=C$1,1,0),0)","v":0},{"$f":"IF(LOADS!$AC41=\"BUS\",IF(LOADS!$AE41=D$1,1,0),0)","v":0},{"$f":"IF(LOADS!$AC41=\"BUS\",IF(LOADS!$AE41=E$1,1,0),0)","v":0},{"$f":"IF(LOADS!$AC41=\"BUS\",IF(LOADS!$AE41=F$1,1,0),0)","v":0},{"$f":"IF(LOADS!$AC41=\"BUS\",IF(LOADS!$AE41=G$1,1,0),0)","v":0},{"$f":"IF(LOADS!$AC41=\"BUS\",IF(LOADS!$AE41=H$1,1,0),0)","v":0},{"$f":"IF(LOADS!$AC41=\"BUS\",IF(LOADS!$AE41=I$1,1,0),0)","v":0},0,{"$f":"LOADS!AM41","v":0}]
[{"$f":"IF(ISBLANK(LOADS!A42),\"\",LOADS!A42)","v":{"$error":"#REF!"}},{"$f":"IF(ISBLANK(LOADS!B42),\"\",LOADS!B42)","v":""},{"$f":"IF(LOADS!$AC42=\"BUS\",IF(LOADS!$AE42=C$1,1,0),0)","v":0},{"$f":"IF(LOADS!$AC42=\"BUS\",IF(LOADS!$AE42=D$1,1,0),0)","v":0},{"$f":"IF(LOADS!$AC42=\"BUS\",IF(LOADS!$AE42=E$1,1,0),0)","v":0},{"$f":"IF(LOADS!$AC42=\"BUS\",IF(LOADS!$AE42=F$1,1,0),0)","v":0},{"$f":"IF(LOADS!$AC42=\"BUS\",IF(LOADS!$AE42=G$1,1,0),0)","v":0},{"$f":"IF(LOADS!$AC42=\"BUS\",IF(LOADS!$AE42=H$1,1,0),0)","v":0},{"$f":"IF(LOADS!$AC42=\"BUS\",IF(LOADS!$AE42=I$1,1,0),0)","v":0},0,{"$f":"LOADS!AM42","v":0}]
[{"$f":"IF(ISBLANK(LOADS!A43),\"\",LOADS!A43)","v":{"$error":"#REF!"}},{"$f":"IF(ISBLANK(LOADS!B43),\"\",LOADS!B43)","v":""},{"$f":"IF(LOADS!$AC43=\"BUS\",IF(LOADS!$AE43=C$1,1,0),0)","v":0},{"$f":"IF(LOADS!$AC43=\"BUS\",IF(LOADS!$AE43=D$1,1,0),0)","v":0},{"$f":"IF(LOADS!$AC43=\"BUS\",IF(LOADS!$AE43=E$1,1,0),0)","v":0},{"$f":"IF(LOADS!$AC43=\"BUS\",IF(LOADS!$AE43=F$1,1,0),0)","v":0},{"$f":"IF(LOADS!$AC43=\"BUS\",IF(LOADS!$AE43=G$1,1,0),0)","v":0},{"$f":"IF(LOADS!$AC43=\"BUS\",IF(LOADS!$AE43=H$1,1,0),0)","v":0},{"$f":"IF(LOADS!$AC43=\"BUS\",IF(LOADS!$AE43=I$1,1,0),0)","v":0},0,{"$f":"LOADS!AM43","v":0}]
[{"$f":"IF(ISBLANK(LOADS!A44),\"\",LOADS!A44)","v":{"$error":"#REF!"}},{"$f":"IF(ISBLANK(LOADS!B44),\"\",LOADS!B44)","v":""},{"$f":"IF(LOADS!$AC44=\"BUS\",IF(LOADS!$AE44=C$1,1,0),0)","v":0},{"$f":"IF(LOADS!$AC44=\"BUS\",IF(LOADS!$AE44=D$1,1,0),0)","v":0},{"$f":"IF(LOADS!$AC44=\"BUS\",IF(LOADS!$AE44=E$1,1,0),0)","v":0},{"$f":"IF(LOADS!$AC44=\"BUS\",IF(LOADS!$AE44=F$1,1,0),0)","v":0},{"$f":"IF(LOADS!$AC44=\"BUS\",IF(LOADS!$AE44=G$1,1,0),0)","v":0},{"$f":"IF(LOADS!$AC44=\"BUS\",IF(LOADS!$AE44=H$1,1,0),0)","v":0},{"$f":"IF(LOADS!$AC44=\"BUS\",IF(LOADS!$AE44=I$1,1,0),0)","v":0},0,{"$f":"LOADS!AM44","v":0}]
[{"$f":"IF(ISBLANK(LOADS!A45),\"\",LOADS!A45)","v":{"$error":"#REF!"}},{"$f":"IF(ISBLANK(LOADS!B45),\"\",LOADS!B45)","v":""},{"$f":"IF(LOADS!$AC45=\"BUS\",IF(LOADS!$AE45=C$1,1,0),0)","v":0},{"$f":"IF(LOADS!$AC45=\"BUS\",IF(LOADS!$AE45=D$1,1,0),0)","v":0},{"$f":"IF(LOADS!$AC45=\"BUS\",IF(LOADS!$AE45=E$1,1,0),0)","v":0},{"$f":"IF(LOADS!$AC45=\"BUS\",IF(LOADS!$AE45=F$1,1,0),0)","v":0},{"$f":"IF(LOADS!$AC45=\"BUS\",IF(LOADS!$AE45=G$1,1,0),0)","v":0},{"$f":"IF(LOADS!$AC45=\"BUS\",IF(LOADS!$AE45=H$1,1,0),0)","v":0},{"$f":"IF(LOADS!$AC45=\"BUS\",IF(LOADS!$AE45=I$1,1,0),0)","v":0},0,{"$f":"LOADS!AM45","v":0}]
[{"$f":"IF(ISBLANK(LOADS!A46),\"\",LOADS!A46)","v":{"$error":"#REF!"}},{"$f":"IF(ISBLANK(LOADS!B46),\"\",LOADS!B46)","v":""},{"$f":"IF(LOADS!$AC46=\"BUS\",IF(LOADS!$AE46=C$1,1,0),0)","v":0},{"$f":"IF(LOADS!$AC46=\"BUS\",IF(LOADS!$AE46=D$1,1,0),0)","v":0},{"$f":"IF(LOADS!$AC46=\"BUS\",IF(LOADS!$AE46=E$1,1,0),0)","v":0},{"$f":"IF(LOADS!$AC46=\"BUS\",IF(LOADS!$AE46=F$1,1,0),0)","v":0},{"$f":"IF(LOADS!$AC46=\"BUS\",IF(LOADS!$AE46=G$1,1,0),0)","v":0},{"$f":"IF(LOADS!$AC46=\"BUS\",IF(LOADS!$AE46=H$1,1,0),0)","v":0},{"$f":"IF(LOADS!$AC46=\"BUS\",IF(LOADS!$AE46=I$1,1,0),0)","v":0},0,{"$f":"LOADS!AM46","v":0}]
[{"$f":"IF(ISBLANK(LOADS!A47),\"\",LOADS!A47)","v":{"$error":"#REF!"}},{"$f":"IF(ISBLANK(LOADS!B47),\"\",LOADS!B47)","v":""},{"$f":"IF(LOADS!$AC47=\"BUS\",IF(LOADS!$AE47=C$1,1,0),0)","v":0},{"$f":"IF(LOADS!$AC47=\"BUS\",IF(LOADS!$AE47=D$1,1,0),0)","v":0},{"$f":"IF(LOADS!$AC47=\"BUS\",IF(LOADS!$AE47=E$1,1,0),0)","v":0},{"$f":"IF(LOADS!$AC47=\"BUS\",IF(LOADS!$AE47=F$1,1,0),0)","v":0},{"$f":"IF(LOADS!$AC47=\"BUS\",IF(LOADS!$AE47=G$1,1,0),0)","v":0},{"$f":"IF(LOADS!$AC47=\"BUS\",IF(LOADS!$AE47=H$1,1,0),0)","v":0},{"$f":"IF(LOADS!$AC47=\"BUS\",IF(LOADS!$AE47=I$1,1,0),0)","v":0},0,{"$f":"LOADS!AM47","v":0}]
[{"$f":"IF(ISBLANK(LOADS!A48),\"\",LOADS!A48)","v":{"$error":"#REF!"}},{"$f":"IF(ISBLANK(LOADS!B48),\"\",LOADS!B48)","v":""},{"$f":"IF(LOADS!$AC48=\"BUS\",IF(LOADS!$AE48=C$1,1,0),0)","v":0},{"$f":"IF(LOADS!$AC48=\"BUS\",IF(LOADS!$AE48=D$1,1,0),0)","v":0},{"$f":"IF(LOADS!$AC48=\"BUS\",IF(LOADS!$AE48=E$1,1,0),0)","v":0},{"$f":"IF(LOADS!$AC48=\"BUS\",IF(LOADS!$AE48=F$1,1,0),0)","v":0},{"$f":"IF(LOADS!$AC48=\"BUS\",IF(LOADS!$AE48=G$1,1,0),0)","v":0},{"$f":"IF(LOADS!$AC48=\"BUS\",IF(LOADS!$AE48=H$1,1,0),0)","v":0},{"$f":"IF(LOADS!$AC48=\"BUS\",IF(LOADS!$AE48=I$1,1,0),0)","v":0},0,{"$f":"LOADS!AM48","v":0}]
[{"$f":"IF(ISBLANK(LOADS!A49),\"\",LOADS!A49)","v":{"$error":"#REF!"}},{"$f":"IF(ISBLANK(LOADS!B49),\"\",LOADS!B49)","v":""},{"$f":"IF(LOADS!$AC49=\"BUS\",IF(LOADS!$AE49=C$1,1,0),0)","v":0},{"$f":"IF(LOADS!$AC49=\"BUS\",IF(LOADS!$AE49=D$1,1,0),0)","v":0},{"$f":"IF(LOADS!$AC49=\"BUS\",IF(LOADS!$AE49=E$1,1,0),0)","v":0},{"$f":"IF(LOADS!$AC49=\"BUS\",IF(LOADS!$AE49=F$1,1,0),0)","v":0},{"$f":"IF(LOADS!$AC49=\"BUS\",IF(LOADS!$AE49=G$1,1,0),0)","v":0},{"$f":"IF(LOADS!$AC49=\"BUS\",IF(LOADS!$AE49=H$1,1,0),0)","v":0},{"$f":"IF(LOADS!$AC49=\"BUS\",IF(LOADS!$AE49=I$1,1,0),0)","v":0},0,{"$f":"LOADS!AM49","v":0}]
[{"$f":"IF(ISBLANK(LOADS!A50),\"\",LOADS!A50)","v":{"$error":"#REF!"}},{"$f":"IF(ISBLANK(LOADS!B50),\"\",LOADS!B50)","v":""},{"$f":"IF(LOADS!$AC50=\"BUS\",IF(LOADS!$AE50=C$1,1,0),0)","v":0},{"$f":"IF(LOADS!$AC50=\"BUS\",IF(LOADS!$AE50=D$1,1,0),0)","v":0},{"$f":"IF(LOADS!$AC50=\"BUS\",IF(LOADS!$AE50=E$1,1,0),0)","v":0},{"$f":"IF(LOADS!$AC50=\"BUS\",IF(LOADS!$AE50=F$1,1,0),0)","v":0},{"$f":"IF(LOADS!$AC50=\"BUS\",IF(LOADS!$AE50=G$1,1,0),0)","v":0},{"$f":"IF(LOADS!$AC50=\"BUS\",IF(LOADS!$AE50=H$1,1,0),0)","v":0},{"$f":"IF(LOADS!$AC50=\"BUS\",IF(LOADS!$AE50=I$1,1,0),0)","v":0},0,{"$f":"LOADS!AM50","v":0}]
[{"$f":"IF(ISBLANK(LOADS!A51),\"\",LOADS!A51)","v":{"$error":"#REF!"}},{"$f":"IF(ISBLANK(LOADS!B51),\"\",LOADS!B51)","v":""},{"$f":"IF(LOADS!$AC51=\"BUS\",IF(LOADS!$AE51=C$1,1,0),0)","v":0},{"$f":"IF(LOADS!$AC51=\"BUS\",IF(LOADS!$AE51=D$1,1,0),0)","v":0},{"$f":"IF(LOADS!$AC51=\"BUS\",IF(LOADS!$AE51=E$1,1,0),0)","v":0},{"$f":"IF(LOADS!$AC51=\"BUS\",IF(LOADS!$AE51=F$1,1,0),0)","v":0},{"$f":"IF(LOADS!$AC51=\"BUS\",IF(LOADS!$AE51=G$1,1,0),0)","v":0},{"$f":"IF(LOADS!$AC51=\"BUS\",IF(LOADS!$AE51=H$1,1,0),0)","v":0},{"$f":"IF(LOADS!$AC51=\"BUS\",IF(LOADS!$AE51=I$1,1,0),0)","v":0},0,{"$f":"LOADS!AM51","v":0}]
[{"$f":"IF(ISBLANK(LOADS!A52),\"\",LOADS!A52)","v":{"$error":"#REF!"}},{"$f":"IF(ISBLANK(LOADS!B52),\"\",LOADS!B52)","v":""},{"$f":"IF(LOADS!$AC52=\"BUS\",IF(LOADS!$AE52=C$1,1,0),0)","v":0},{"$f":"IF(LOADS!$AC52=\"BUS\",IF(LOADS!$AE52=D$1,1,0),0)","v":0},{"$f":"IF(LOADS!$AC52=\"BUS\",IF(LOADS!$AE52=E$1,1,0),0)","v":0},{"$f":"IF(LOADS!$AC52=\"BUS\",IF(LOADS!$AE52=F$1,1,0),0)","v":0},{"$f":"IF(LOADS!$AC52=\"BUS\",IF(LOADS!$AE52=G$1,1,0),0)","v":0},{"$f":"IF(LOADS!$AC52=\"BUS\",IF(LOADS!$AE52=H$1,1,0),0)","v":0},{"$f":"IF(LOADS!$AC52=\"BUS\",IF(LOADS!$AE52=I$1,1,0),0)","v":0},0,{"$f":"LOADS!AM52","v":0}]
[{"$f":"IF(ISBLANK(LOADS!A53),\"\",LOADS!A53)","v":{"$error":"#REF!"}},{"$f":"IF(ISBLANK(LOADS!B53),\"\",LOADS!B53)","v":""},{"$f":"IF(LOADS!$AC53=\"BUS\",IF(LOADS!$AE53=C$1,1,0),0)","v":0},{"$f":"IF(LOADS!$AC53=\"BUS\",IF(LOADS!$AE53=D$1,1,0),0)","v":0},{"$f":"IF(LOADS!$AC53=\"BUS\",IF(LOADS!$AE53=E$1,1,0),0)","v":0},{"$f":"IF(LOADS!$AC53=\"BUS\",IF(LOADS!$AE53=F$1,1,0),0)","v":0},{"$f":"IF(LOADS!$AC53=\"BUS\",IF(LOADS!$AE53=G$1,1,0),0)","v":0},{"$f":"IF(LOADS!$AC53=\"BUS\",IF(LOADS!$AE53=H$1,1,0),0)","v":0},{"$f":"IF(LOADS!$AC53=\"BUS\",IF(LOADS!$AE53=I$1,1,0),0)","v":0},0,{"$f":"LOADS!AM53","v":0}]
[{"$f":"IF(ISBLANK(LOADS!A54),\"\",LOADS!A54)","v":{"$error":"#REF!"}},{"$f":"IF(ISBLANK(LOADS!B54),\"\",LOADS!B54)","v":""},{"$f":"IF(LOADS!$AC54=\"BUS\",IF(LOADS!$AE54=C$1,1,0),0)","v":0},{"$f":"IF(LOADS!$AC54=\"BUS\",IF(LOADS!$AE54=D$1,1,0),0)","v":0},{"$f":"IF(LOADS!$AC54=\"BUS\",IF(LOADS!$AE54=E$1,1,0),0)","v":0},{"$f":"IF(LOADS!$AC54=\"BUS\",IF(LOADS!$AE54=F$1,1,0),0)","v":0},{"$f":"IF(LOADS!$AC54=\"BUS\",IF(LOADS!$AE54=G$1,1,0),0)","v":0},{"$f":"IF(LOADS!$AC54=\"BUS\",IF(LOADS!$AE54=H$1,1,0),0)","v":0},{"$f":"IF(LOADS!$AC54=\"BUS\",IF(LOADS!$AE54=I$1,1,0),0)","v":0},0,{"$f":"LOADS!AM54","v":0}]
[{"$f":"IF(ISBLANK(LOADS!A55),\"\",LOADS!A55)","v":{"$error":"#REF!"}},{"$f":"IF(ISBLANK(LOADS!B55),\"\",LOADS!B55)","v":""},{"$f":"IF(LOADS!$AC55=\"BUS\",IF(LOADS!$AE55=C$1,1,0),0)","v":0},{"$f":"IF(LOADS!$AC55=\"BUS\",IF(LOADS!$AE55=D$1,1,0),0)","v":0},{"$f":"IF(LOADS!$AC55=\"BUS\",IF(LOADS!$AE55=E$1,1,0),0)","v":0},{"$f":"IF(LOADS!$AC55=\"BUS\",IF(LOADS!$AE55=F$1,1,0),0)","v":0},{"$f":"IF(LOADS!$AC55=\"BUS\",IF(LOADS!$AE55=G$1,1,0),0)","v":0},{"$f":"IF(LOADS!$AC55=\"BUS\",IF(LOADS!$AE55=H$1,1,0),0)","v":0},{"$f":"IF(LOADS!$AC55=\"BUS\",IF(LOADS!$AE55=I$1,1,0),0)","v":0},0,{"$f":"LOADS!AM55","v":0}]
[{"$f":"IF(ISBLANK(LOADS!A56),\"\",LOADS!A56)","v":{"$error":"#REF!"}},{"$f":"IF(ISBLANK(LOADS!B56),\"\",LOADS!B56)","v":""},{"$f":"IF(LOADS!$AC56=\"BUS\",IF(LOADS!$AE56=C$1,1,0),0)","v":0},{"$f":"IF(LOADS!$AC56=\"BUS\",IF(LOADS!$AE56=D$1,1,0),0)","v":0},{"$f":"IF(LOADS!$AC56=\"BUS\",IF(LOADS!$AE56=E$1,1,0),0)","v":0},{"$f":"IF(LOADS!$AC56=\"BUS\",IF(LOADS!$AE56=F$1,1,0),0)","v":0},{"$f":"IF(LOADS!$AC56=\"BUS\",IF(LOADS!$AE56=G$1,1,0),0)","v":0},{"$f":"IF(LOADS!$AC56=\"BUS\",IF(LOADS!$AE56=H$1,1,0),0)","v":0},{"$f":"IF(LOADS!$AC56=\"BUS\",IF(LOADS!$AE56=I$1,1,0),0)","v":0},0,{"$f":"LOADS!AM56","v":0}]
[{"$f":"IF(ISBLANK(LOADS!A57),\"\",LOADS!A57)","v":{"$error":"#REF!"}},{"$f":"IF(ISBLANK(LOADS!B57),\"\",LOADS!B57)","v":""},{"$f":"IF(LOADS!$AC57=\"BUS\",IF(LOADS!$AE57=C$1,1,0),0)","v":0},{"$f":"IF(LOADS!$AC57=\"BUS\",IF(LOADS!$AE57=D$1,1,0),0)","v":0},{"$f":"IF(LOADS!$AC57=\"BUS\",IF(LOADS!$AE57=E$1,1,0),0)","v":0},{"$f":"IF(LOADS!$AC57=\"BUS\",IF(LOADS!$AE57=F$1,1,0),0)","v":0},{"$f":"IF(LOADS!$AC57=\"BUS\",IF(LOADS!$AE57=G$1,1,0),0)","v":0},{"$f":"IF(LOADS!$AC57=\"BUS\",IF(LOADS!$AE57=H$1,1,0),0)","v":0},{"$f":"IF(LOADS!$AC57=\"BUS\",IF(LOADS!$AE57=I$1,1,0),0)","v":0},0,{"$f":"LOADS!AM57","v":0}]
[{"$f":"IF(ISBLANK(LOADS!A58),\"\",LOADS!A58)","v":{"$error":"#REF!"}},{"$f":"IF(ISBLANK(LOADS!B58),\"\",LOADS!B58)","v":""},{"$f":"IF(LOADS!$AC58=\"BUS\",IF(LOADS!$AE58=C$1,1,0),0)","v":0},{"$f":"IF(LOADS!$AC58=\"BUS\",IF(LOADS!$AE58=D$1,1,0),0)","v":0},{"$f":"IF(LOADS!$AC58=\"BUS\",IF(LOADS!$AE58=E$1,1,0),0)","v":0},{"$f":"IF(LOADS!$AC58=\"BUS\",IF(LOADS!$AE58=F$1,1,0),0)","v":0},{"$f":"IF(LOADS!$AC58=\"BUS\",IF(LOADS!$AE58=G$1,1,0),0)","v":0},{"$f":"IF(LOADS!$AC58=\"BUS\",IF(LOADS!$AE58=H$1,1,0),0)","v":0},{"$f":"IF(LOADS!$AC58=\"BUS\",IF(LOADS!$AE58=I$1,1,0),0)","v":0},0,{"$f":"LOADS!AM58","v":0}]
[{"$f":"IF(ISBLANK(LOADS!A59),\"\",LOADS!A59)","v":{"$error":"#REF!"}},{"$f":"IF(ISBLANK(LOADS!B59),\"\",LOADS!B59)","v":""},{"$f":"IF(LOADS!$AC59=\"BUS\",IF(LOADS!$AE59=C$1,1,0),0)","v":0},{"$f":"IF(LOADS!$AC59=\"BUS\",IF(LOADS!$AE59=D$1,1,0),0)","v":0},{"$f":"IF(LOADS!$AC59=\"BUS\",IF(LOADS!$AE59=E$1,1,0),0)","v":0},{"$f":"IF(LOADS!$AC59=\"BUS\",IF(LOADS!$AE59=F$1,1,0),0)","v":0},{"$f":"IF(LOADS!$AC59=\"BUS\",IF(LOADS!$AE59=G$1,1,0),0)","v":0},{"$f":"IF(LOADS!$AC59=\"BUS\",IF(LOADS!$AE59=H$1,1,0),0)","v":0},{"$f":"IF(LOADS!$AC59=\"BUS\",IF(LOADS!$AE59=I$1,1,0),0)","v":0},0,{"$f":"LOADS!AM59","v":0}]
[{"$f":"IF(ISBLANK(LOADS!A60),\"\",LOADS!A60)","v":{"$error":"#REF!"}},{"$f":"IF(ISBLANK(LOADS!B60),\"\",LOADS!B60)","v":""},{"$f":"IF(LOADS!$AC60=\"BUS\",IF(LOADS!$AE60=C$1,1,0),0)","v":0},{"$f":"IF(LOADS!$AC60=\"BUS\",IF(LOADS!$AE60=D$1,1,0),0)","v":0},{"$f":"IF(LOADS!$AC60=\"BUS\",IF(LOADS!$AE60=E$1,1,0),0)","v":0},{"$f":"IF(LOADS!$AC60=\"BUS\",IF(LOADS!$AE60=F$1,1,0),0)","v":0},{"$f":"IF(LOADS!$AC60=\"BUS\",IF(LOADS!$AE60=G$1,1,0),0)","v":0},{"$f":"IF(LOADS!$AC60=\"BUS\",IF(LOADS!$AE60=H$1,1,0),0)","v":0},{"$f":"IF(LOADS!$AC60=\"BUS\",IF(LOADS!$AE60=I$1,1,0),0)","v":0},0,{"$f":"LOADS!AM60","v":0}]
[{"$f":"IF(ISBLANK(LOADS!A61),\"\",LOADS!A61)","v":{"$error":"#REF!"}},{"$f":"IF(ISBLANK(LOADS!B61),\"\",LOADS!B61)","v":""},{"$f":"IF(LOADS!$AC61=\"BUS\",IF(LOADS!$AE61=C$1,1,0),0)","v":0},{"$f":"IF(LOADS!$AC61=\"BUS\",IF(LOADS!$AE61=D$1,1,0),0)","v":0},{"$f":"IF(LOADS!$AC61=\"BUS\",IF(LOADS!$AE61=E$1,1,0),0)","v":0},{"$f":"IF(LOADS!$AC61=\"BUS\",IF(LOADS!$AE61=F$1,1,0),0)","v":0},{"$f":"IF(LOADS!$AC61=\"BUS\",IF(LOADS!$AE61=G$1,1,0),0)","v":0},{"$f":"IF(LOADS!$AC61=\"BUS\",IF(LOADS!$AE61=H$1,1,0),0)","v":0},{"$f":"IF(LOADS!$AC61=\"BUS\",IF(LOADS!$AE61=I$1,1,0),0)","v":0},0,{"$f":"LOADS!AM61","v":0}]
[{"$f":"IF(ISBLANK(LOADS!A62),\"\",LOADS!A62)","v":{"$error":"#REF!"}},{"$f":"IF(ISBLANK(LOADS!B62),\"\",LOADS!B62)","v":""},{"$f":"IF(LOADS!$AC62=\"BUS\",IF(LOADS!$AE62=C$1,1,0),0)","v":0},{"$f":"IF(LOADS!$AC62=\"BUS\",IF(LOADS!$AE62=D$1,1,0),0)","v":0},{"$f":"IF(LOADS!$AC62=\"BUS\",IF(LOADS!$AE62=E$1,1,0),0)","v":0},{"$f":"IF(LOADS!$AC62=\"BUS\",IF(LOADS!$AE62=F$1,1,0),0)","v":0},{"$f":"IF(LOADS!$AC62=\"BUS\",IF(LOADS!$AE62=G$1,1,0),0)","v":0},{"$f":"IF(LOADS!$AC62=\"BUS\",IF(LOADS!$AE62=H$1,1,0),0)","v":0},{"$f":"IF(LOADS!$AC62=\"BUS\",IF(LOADS!$AE62=I$1,1,0),0)","v":0},0,{"$f":"LOADS!AM62","v":0}]
[{"$f":"IF(ISBLANK(LOADS!A63),\"\",LOADS!A63)","v":{"$error":"#REF!"}},{"$f":"IF(ISBLANK(LOADS!B63),\"\",LOADS!B63)","v":""},{"$f":"IF(LOADS!$AC63=\"BUS\",IF(LOADS!$AE63=C$1,1,0),0)","v":0},{"$f":"IF(LOADS!$AC63=\"BUS\",IF(LOADS!$AE63=D$1,1,0),0)","v":0},{"$f":"IF(LOADS!$AC63=\"BUS\",IF(LOADS!$AE63=E$1,1,0),0)","v":0},{"$f":"IF(LOADS!$AC63=\"BUS\",IF(LOADS!$AE63=F$1,1,0),0)","v":0},{"$f":"IF(LOADS!$AC63=\"BUS\",IF(LOADS!$AE63=G$1,1,0),0)","v":0},{"$f":"IF(LOADS!$AC63=\"BUS\",IF(LOADS!$AE63=H$1,1,0),0)","v":0},{"$f":"IF(LOADS!$AC63=\"BUS\",IF(LOADS!$AE63=I$1,1,0),0)","v":0},0,{"$f":"LOADS!AM63","v":0}]
[{"$f":"IF(ISBLANK(LOADS!A64),\"\",LOADS!A64)","v":{"$error":"#REF!"}},{"$f":"IF(ISBLANK(LOADS!B64),\"\",LOADS!B64)","v":""},{"$f":"IF(LOADS!$AC64=\"BUS\",IF(LOADS!$AE64=C$1,1,0),0)","v":0},{"$f":"IF(LOADS!$AC64=\"BUS\",IF(LOADS!$AE64=D$1,1,0),0)","v":0},{"$f":"IF(LOADS!$AC64=\"BUS\",IF(LOADS!$AE64=E$1,1,0),0)","v":0},{"$f":"IF(LOADS!$AC64=\"BUS\",IF(LOADS!$AE64=F$1,1,0),0)","v":0},{"$f":"IF(LOADS!$AC64=\"BUS\",IF(LOADS!$AE64=G$1,1,0),0)","v":0},{"$f":"IF(LOADS!$AC64=\"BUS\",IF(LOADS!$AE64=H$1,1,0),0)","v":0},{"$f":"IF(LOADS!$AC64=\"BUS\",IF(LOADS!$AE64=I$1,1,0),0)","v":0},0,{"$f":"LOADS!AM64","v":0}]
[{"$f":"IF(ISBLANK(LOADS!A65),\"\",LOADS!A65)","v":{"$error":"#REF!"}},{"$f":"IF(ISBLANK(LOADS!B65),\"\",LOADS!B65)","v":""},{"$f":"IF(LOADS!$AC65=\"BUS\",IF(LOADS!$AE65=C$1,1,0),0)","v":0},{"$f":"IF(LOADS!$AC65=\"BUS\",IF(LOADS!$AE65=D$1,1,0),0)","v":0},{"$f":"IF(LOADS!$AC65=\"BUS\",IF(LOADS!$AE65=E$1,1,0),0)","v":0},{"$f":"IF(LOADS!$AC65=\"BUS\",IF(LOADS!$AE65=F$1,1,0),0)","v":0},{"$f":"IF(LOADS!$AC65=\"BUS\",IF(LOADS!$AE65=G$1,1,0),0)","v":0},{"$f":"IF(LOADS!$AC65=\"BUS\",IF(LOADS!$AE65=H$1,1,0),0)","v":0},{"$f":"IF(LOADS!$AC65=\"BUS\",IF(LOADS!$AE65=I$1,1,0),0)","v":0},0,{"$f":"LOADS!AM65","v":0}]
[{"$f":"IF(ISBLANK(LOADS!A66),\"\",LOADS!A66)","v":{"$error":"#REF!"}},{"$f":"IF(ISBLANK(LOADS!B66),\"\",LOADS!B66)","v":""},{"$f":"IF(LOADS!$AC66=\"BUS\",IF(LOADS!$AE66=C$1,1,0),0)","v":0},{"$f":"IF(LOADS!$AC66=\"BUS\",IF(LOADS!$AE66=D$1,1,0),0)","v":0},{"$f":"IF(LOADS!$AC66=\"BUS\",IF(LOADS!$AE66=E$1,1,0),0)","v":0},{"$f":"IF(LOADS!$AC66=\"BUS\",IF(LOADS!$AE66=F$1,1,0),0)","v":0},{"$f":"IF(LOADS!$AC66=\"BUS\",IF(LOADS!$AE66=G$1,1,0),0)","v":0},{"$f":"IF(LOADS!$AC66=\"BUS\",IF(LOADS!$AE66=H$1,1,0),0)","v":0},{"$f":"IF(LOADS!$AC66=\"BUS\",IF(LOADS!$AE66=I$1,1,0),0)","v":0},{"$f":"SUM(C69:I69)","v":0},{"$f":"LOADS!AM66","v":0}]
[{"$f":"IF(ISBLANK(LOADS!A67),\"\",LOADS!A67)","v":{"$error":"#REF!"}},{"$f":"IF(ISBLANK(LOADS!B67),\"\",LOADS!B67)","v":""},{"$f":"IF(LOADS!$AC67=\"BUS\",IF(LOADS!$AE67=C$1,1,0),0)","v":0},{"$f":"IF(LOADS!$AC67=\"BUS\",IF(LOADS!$AE67=D$1,1,0),0)","v":0},{"$f":"IF(LOADS!$AC67=\"BUS\",IF(LOADS!$AE67=E$1,1,0),0)","v":0},{"$f":"IF(LOADS!$AC67=\"BUS\",IF(LOADS!$AE67=F$1,1,0),0)","v":0},{"$f":"IF(LOADS!$AC67=\"BUS\",IF(LOADS!$AE67=G$1,1,0),0)","v":0},{"$f":"IF(LOADS!$AC67=\"BUS\",IF(LOADS!$AE67=H$1,1,0),0)","v":0},{"$f":"IF(LOADS!$AC67=\"BUS\",IF(LOADS!$AE67=I$1,1,0),0)","v":0},0,{"$f":"LOADS!AM67","v":0}]
[{"$f":"IF(ISBLANK(LOADS!A68),\"\",LOADS!A68)","v":{"$error":"#REF!"}},{"$f":"IF(ISBLANK(LOADS!B68),\"\",LOADS!B68)","v":""},{"$f":"IF(LOADS!$AC68=\"BUS\",IF(LOADS!$AE68=C$1,1,0),0)","v":0},{"$f":"IF(LOADS!$AC68=\"BUS\",IF(LOADS!$AE68=D$1,1,0),0)","v":0},{"$f":"IF(LOADS!$AC68=\"BUS\",IF(LOADS!$AE68=E$1,1,0),0)","v":0},{"$f":"IF(LOADS!$AC68=\"BUS\",IF(LOADS!$AE68=F$1,1,0),0)","v":0},{"$f":"IF(LOADS!$AC68=\"BUS\",IF(LOADS!$AE68=G$1,1,0),0)","v":0},{"$f":"IF(LOADS!$AC68=\"BUS\",IF(LOADS!$AE68=H$1,1,0),0)","v":0},{"$f":"IF(LOADS!$AC68=\"BUS\",IF(LOADS!$AE68=I$1,1,0),0)","v":0},0,{"$f":"LOADS!AM68","v":0}]
[{"$f":"IF(ISBLANK(LOADS!A69),\"\",LOADS!A69)","v":{"$error":"#REF!"}},{"$f":"IF(ISBLANK(LOADS!B69),\"\",LOADS!B69)","v":""},{"$f":"IF(LOADS!$AC69=\"BUS\",IF(LOADS!$AE69=C$1,1,0),0)","v":0},{"$f":"IF(LOADS!$AC69=\"BUS\",IF(LOADS!$AE69=D$1,1,0),0)","v":0},{"$f":"IF(LOADS!$AC69=\"BUS\",IF(LOADS!$AE69=E$1,1,0),0)","v":0},{"$f":"IF(LOADS!$AC69=\"BUS\",IF(LOADS!$AE69=F$1,1,0),0)","v":0},{"$f":"IF(LOADS!$AC69=\"BUS\",IF(LOADS!$AE69=G$1,1,0),0)","v":0},{"$f":"IF(LOADS!$AC69=\"BUS\",IF(LOADS!$AE69=H$1,1,0),0)","v":0},{"$f":"IF(LOADS!$AC69=\"BUS\",IF(LOADS!$AE69=I$1,1,0),0)","v":0},0,{"$f":"LOADS!AM69","v":0}]
[{"$f":"IF(ISBLANK(LOADS!A70),\"\",LOADS!A70)","v":{"$error":"#REF!"}},{"$f":"IF(ISBLANK(LOADS!B70),\"\",LOADS!B70)","v":""},{"$f":"IF(LOADS!$AC70=\"BUS\",IF(LOADS!$AE70=C$1,1,0),0)","v":0},{"$f":"IF(LOADS!$AC70=\"BUS\",IF(LOADS!$AE70=D$1,1,0),0)","v":0},{"$f":"IF(LOADS!$AC70=\"BUS\",IF(LOADS!$AE70=E$1,1,0),0)","v":0},{"$f":"IF(LOADS!$AC70=\"BUS\",IF(LOADS!$AE70=F$1,1,0),0)","v":0},{"$f":"IF(LOADS!$AC70=\"BUS\",IF(LOADS!$AE70=G$1,1,0),0)","v":0},{"$f":"IF(LOADS!$AC70=\"BUS\",IF(LOADS!$AE70=H$1,1,0),0)","v":0},{"$f":"IF(LOADS!$AC70=\"BUS\",IF(LOADS!$AE70=I$1,1,0),0)","v":0},0,{"$f":"LOADS!AM70","v":0}]
[{"$f":"IF(ISBLANK(LOADS!A71),\"\",LOADS!A71)","v":{"$error":"#REF!"}},{"$f":"IF(ISBLANK(LOADS!B71),\"\",LOADS!B71)","v":""},{"$f":"IF(LOADS!$AC71=\"BUS\",IF(LOADS!$AE71=C$1,1,0),0)","v":0},{"$f":"IF(LOADS!$AC71=\"BUS\",IF(LOADS!$AE71=D$1,1,0),0)","v":0},{"$f":"IF(LOADS!$AC71=\"BUS\",IF(LOADS!$AE71=E$1,1,0),0)","v":0},{"$f":"IF(LOADS!$AC71=\"BUS\",IF(LOADS!$AE71=F$1,1,0),0)","v":0},{"$f":"IF(LOADS!$AC71=\"BUS\",IF(LOADS!$AE71=G$1,1,0),0)","v":0},{"$f":"IF(LOADS!$AC71=\"BUS\",IF(LOADS!$AE71=H$1,1,0),0)","v":0},{"$f":"IF(LOADS!$AC71=\"BUS\",IF(LOADS!$AE71=I$1,1,0),0)","v":0},0,{"$f":"LOADS!AM71","v":0}]
[{"$f":"IF(ISBLANK(LOADS!A72),\"\",LOADS!A72)","v":{"$error":"#REF!"}},{"$f":"IF(ISBLANK(LOADS!B72),\"\",LOADS!B72)","v":""},{"$f":"IF(LOADS!$AC72=\"BUS\",IF(LOADS!$AE72=C$1,1,0),0)","v":0},{"$f":"IF(LOADS!$AC72=\"BUS\",IF(LOADS!$AE72=D$1,1,0),0)","v":0},{"$f":"IF(LOADS!$AC72=\"BUS\",IF(LOADS!$AE72=E$1,1,0),0)","v":0},{"$f":"IF(LOADS!$AC72=\"BUS\",IF(LOADS!$AE72=F$1,1,0),0)","v":0},{"$f":"IF(LOADS!$AC72=\"BUS\",IF(LOADS!$AE72=G$1,1,0),0)","v":0},{"$f":"IF(LOADS!$AC72=\"BUS\",IF(LOADS!$AE72=H$1,1,0),0)","v":0},{"$f":"IF(LOADS!$AC72=\"BUS\",IF(LOADS!$AE72=I$1,1,0),0)","v":0},0,{"$f":"LOADS!AM72","v":0}]
[{"$f":"IF(ISBLANK(LOADS!A73),\"\",LOADS!A73)","v":{"$error":"#REF!"}},{"$f":"IF(ISBLANK(LOADS!B73),\"\",LOADS!B73)","v":""},{"$f":"IF(LOADS!$AC73=\"BUS\",IF(LOADS!$AE73=C$1,1,0),0)","v":0},{"$f":"IF(LOADS!$AC73=\"BUS\",IF(LOADS!$AE73=D$1,1,0),0)","v":0},{"$f":"IF(LOADS!$AC73=\"BUS\",IF(LOADS!$AE73=E$1,1,0),0)","v":0},{"$f":"IF(LOADS!$AC73=\"BUS\",IF(LOADS!$AE73=F$1,1,0),0)","v":0},{"$f":"IF(LOADS!$AC73=\"BUS\",IF(LOADS!$AE73=G$1,1,0),0)","v":0},{"$f":"IF(LOADS!$AC73=\"BUS\",IF(LOADS!$AE73=H$1,1,0),0)","v":0},{"$f":"IF(LOADS!$AC73=\"BUS\",IF(LOADS!$AE73=I$1,1,0),0)","v":0},0,{"$f":"LOADS!AM73","v":0}]
[{"$f":"IF(ISBLANK(LOADS!A74),\"\",LOADS!A74)","v":{"$error":"#REF!"}},{"$f":"IF(ISBLANK(LOADS!B74),\"\",LOADS!B74)","v":""},{"$f":"IF(LOADS!$AC74=\"BUS\",IF(LOADS!$AE74=C$1,1,0),0)","v":0},{"$f":"IF(LOADS!$AC74=\"BUS\",IF(LOADS!$AE74=D$1,1,0),0)","v":0},{"$f":"IF(LOADS!$AC74=\"BUS\",IF(LOADS!$AE74=E$1,1,0),0)","v":0},{"$f":"IF(LOADS!$AC74=\"BUS\",IF(LOADS!$AE74=F$1,1,0),0)","v":0},{"$f":"IF(LOADS!$AC74=\"BUS\",IF(LOADS!$AE74=G$1,1,0),0)","v":0},{"$f":"IF(LOADS!$AC74=\"BUS\",IF(LOADS!$AE74=H$1,1,0),0)","v":0},{"$f":"IF(LOADS!$AC74=\"BUS\",IF(LOADS!$AE74=I$1,1,0),0)","v":0},0,{"$f":"LOADS!AM74","v":0}]
[{"$f":"IF(ISBLANK(LOADS!A75),\"\",LOADS!A75)","v":{"$error":"#REF!"}},{"$f":"IF(ISBLANK(LOADS!B75),\"\",LOADS!B75)","v":""},{"$f":"IF(LOADS!$AC75=\"BUS\",IF(LOADS!$AE75=C$1,1,0),0)","v":0},{"$f":"IF(LOADS!$AC75=\"BUS\",IF(LOADS!$AE75=D$1,1,0),0)","v":0},{"$f":"IF(LOADS!$AC75=\"BUS\",IF(LOADS!$AE75=E$1,1,0),0)","v":0},{"$f":"IF(LOADS!$AC75=\"BUS\",IF(LOADS!$AE75=F$1,1,0),0)","v":0},{"$f":"IF(LOADS!$AC75=\"BUS\",IF(LOADS!$AE75=G$1,1,0),0)","v":0},{"$f":"IF(LOADS!$AC75=\"BUS\",IF(LOADS!$AE75=H$1,1,0),0)","v":0},{"$f":"IF(LOADS!$AC75=\"BUS\",IF(LOADS!$AE75=I$1,1,0),0)","v":0},0,{"$f":"LOADS!AM75","v":0}]
[{"$f":"IF(ISBLANK(LOADS!A76),\"\",LOADS!A76)","v":{"$error":"#REF!"}},{"$f":"IF(ISBLANK(LOADS!B76),\"\",LOADS!B76)","v":""},{"$f":"IF(LOADS!$AC76=\"BUS\",IF(LOADS!$AE76=C$1,1,0),0)","v":0},{"$f":"IF(LOADS!$AC76=\"BUS\",IF(LOADS!$AE76=D$1,1,0),0)","v":0},{"$f":"IF(LOADS!$AC76=\"BUS\",IF(LOADS!$AE76=E$1,1,0),0)","v":0},{"$f":"IF(LOADS!$AC76=\"BUS\",IF(LOADS!$AE76=F$1,1,0),0)","v":0},{"$f":"IF(LOADS!$AC76=\"BUS\",IF(LOADS!$AE76=G$1,1,0),0)","v":0},{"$f":"IF(LOADS!$AC76=\"BUS\",IF(LOADS!$AE76=H$1,1,0),0)","v":0},{"$f":"IF(LOADS!$AC76=\"BUS\",IF(LOADS!$AE76=I$1,1,0),0)","v":0},0,{"$f":"LOADS!AM76","v":0}]
[{"$f":"IF(ISBLANK(LOADS!A77),\"\",LOADS!A77)","v":{"$error":"#REF!"}},{"$f":"IF(ISBLANK(LOADS!B77),\"\",LOADS!B77)","v":""},{"$f":"IF(LOADS!$AC77=\"BUS\",IF(LOADS!$AE77=C$1,1,0),0)","v":0},{"$f":"IF(LOADS!$AC77=\"BUS\",IF(LOADS!$AE77=D$1,1,0),0)","v":0},{"$f":"IF(LOADS!$AC77=\"BUS\",IF(LOADS!$AE77=E$1,1,0),0)","v":0},{"$f":"IF(LOADS!$AC77=\"BUS\",IF(LOADS!$AE77=F$1,1,0),0)","v":0},{"$f":"IF(LOADS!$AC77=\"BUS\",IF(LOADS!$AE77=G$1,1,0),0)","v":0},{"$f":"IF(LOADS!$AC77=\"BUS\",IF(LOADS!$AE77=H$1,1,0),0)","v":0},{"$f":"IF(LOADS!$AC77=\"BUS\",IF(LOADS!$AE77=I$1,1,0),0)","v":0},0,{"$f":"LOADS!AM77","v":0}]
[{"$f":"IF(ISBLANK(LOADS!A78),\"\",LOADS!A78)","v":{"$error":"#REF!"}},{"$f":"IF(ISBLANK(LOADS!B78),\"\",LOADS!B78)","v":""},{"$f":"IF(LOADS!$AC78=\"BUS\",IF(LOADS!$AE78=C$1,1,0),0)","v":0},{"$f":"IF(LOADS!$AC78=\"BUS\",IF(LOADS!$AE78=D$1,1,0),0)","v":0},{"$f":"IF(LOADS!$AC78=\"BUS\",IF(LOADS!$AE78=E$1,1,0),0)","v":0},{"$f":"IF(LOADS!$AC78=\"BUS\",IF(LOADS!$AE78=F$1,1,0),0)","v":0},{"$f":"IF(LOADS!$AC78=\"BUS\",IF(LOADS!$AE78=G$1,1,0),0)","v":0},{"$f":"IF(LOADS!$AC78=\"BUS\",IF(LOADS!$AE78=H$1,1,0),0)","v":0},{"$f":"IF(LOADS!$AC78=\"BUS\",IF(LOADS!$AE78=I$1,1,0),0)","v":0},0,{"$f":"LOADS!AM78","v":0}]
[{"$f":"IF(ISBLANK(LOADS!A79),\"\",LOADS!A79)","v":{"$error":"#REF!"}},{"$f":"IF(ISBLANK(LOADS!B79),\"\",LOADS!B79)","v":""},{"$f":"IF(LOADS!$AC79=\"BUS\",IF(LOADS!$AE79=C$1,1,0),0)","v":0},{"$f":"IF(LOADS!$AC79=\"BUS\",IF(LOADS!$AE79=D$1,1,0),0)","v":0},{"$f":"IF(LOADS!$AC79=\"BUS\",IF(LOADS!$AE79=E$1,1,0),0)","v":0},{"$f":"IF(LOADS!$AC79=\"BUS\",IF(LOADS!$AE79=F$1,1,0),0)","v":0},{"$f":"IF(LOADS!$AC79=\"BUS\",IF(LOADS!$AE79=G$1,1,0),0)","v":0},{"$f":"IF(LOADS!$AC79=\"BUS\",IF(LOADS!$AE79=H$1,1,0),0)","v":0},{"$f":"IF(LOADS!$AC79=\"BUS\",IF(LOADS!$AE79=I$1,1,0),0)","v":0},0,{"$f":"LOADS!AM79","v":0}]
[{"$f":"IF(ISBLANK(LOADS!A80),\"\",LOADS!A80)","v":{"$error":"#REF!"}},{"$f":"IF(ISBLANK(LOADS!B80),\"\",LOADS!B80)","v":""},{"$f":"IF(LOADS!$AC80=\"BUS\",IF(LOADS!$AE80=C$1,1,0),0)","v":0},{"$f":"IF(LOADS!$AC80=\"BUS\",IF(LOADS!$AE80=D$1,1,0),0)","v":0},{"$f":"IF(LOADS!$AC80=\"BUS\",IF(LOADS!$AE80=E$1,1,0),0)","v":0},{"$f":"IF(LOADS!$AC80=\"BUS\",IF(LOADS!$AE80=F$1,1,0),0)","v":0},{"$f":"IF(LOADS!$AC80=\"BUS\",IF(LOADS!$AE80=G$1,1,0),0)","v":0},{"$f":"IF(LOADS!$AC80=\"BUS\",IF(LOADS!$AE80=H$1,1,0),0)","v":0},{"$f":"IF(LOADS!$AC80=\"BUS\",IF(LOADS!$AE80=I$1,1,0),0)","v":0},0,{"$f":"LOADS!AM80","v":0}]
[{"$f":"IF(ISBLANK(LOADS!A81),\"\",LOADS!A81)","v":{"$error":"#REF!"}},{"$f":"IF(ISBLANK(LOADS!B81),\"\",LOADS!B81)","v":""},{"$f":"IF(LOADS!$AC81=\"BUS\",IF(LOADS!$AE81=C$1,1,0),0)","v":0},{"$f":"IF(LOADS!$AC81=\"BUS\",IF(LOADS!$AE81=D$1,1,0),0)","v":0},{"$f":"IF(LOADS!$AC81=\"BUS\",IF(LOADS!$AE81=E$1,1,0),0)","v":0},{"$f":"IF(LOADS!$AC81=\"BUS\",IF(LOADS!$AE81=F$1,1,0),0)","v":0},{"$f":"IF(LOADS!$AC81=\"BUS\",IF(LOADS!$AE81=G$1,1,0),0)","v":0},{"$f":"IF(LOADS!$AC81=\"BUS\",IF(LOADS!$AE81=H$1,1,0),0)","v":0},{"$f":"IF(LOADS!$AC81=\"BUS\",IF(LOADS!$AE81=I$1,1,0),0)","v":0},0,{"$f":"LOADS!AM81","v":0}]
[{"$f":"IF(ISBLANK(LOADS!A82),\"\",LOADS!A82)","v":{"$error":"#REF!"}},{"$f":"IF(ISBLANK(LOADS!B82),\"\",LOADS!B82)","v":""},{"$f":"IF(LOADS!$AC82=\"BUS\",IF(LOADS!$AE82=C$1,1,0),0)","v":0},{"$f":"IF(LOADS!$AC82=\"BUS\",IF(LOADS!$AE82=D$1,1,0),0)","v":0},{"$f":"IF(LOADS!$AC82=\"BUS\",IF(LOADS!$AE82=E$1,1,0),0)","v":0},{"$f":"IF(LOADS!$AC82=\"BUS\",IF(LOADS!$AE82=F$1,1,0),0)","v":0},{"$f":"IF(LOADS!$AC82=\"BUS\",IF(LOADS!$AE82=G$1,1,0),0)","v":0},{"$f":"IF(LOADS!$AC82=\"BUS\",IF(LOADS!$AE82=H$1,1,0),0)","v":0},{"$f":"IF(LOADS!$AC82=\"BUS\",IF(LOADS!$AE82=I$1,1,0),0)","v":0},0,{"$f":"LOADS!AM82","v":0}]
[{"$f":"IF(ISBLANK(LOADS!A83),\"\",LOADS!A83)","v":{"$error":"#REF!"}},{"$f":"IF(ISBLANK(LOADS!B83),\"\",LOADS!B83)","v":""},{"$f":"IF(LOADS!$AC83=\"BUS\",IF(LOADS!$AE83=C$1,1,0),0)","v":0},{"$f":"IF(LOADS!$AC83=\"BUS\",IF(LOADS!$AE83=D$1,1,0),0)","v":0},{"$f":"IF(LOADS!$AC83=\"BUS\",IF(LOADS!$AE83=E$1,1,0),0)","v":0},{"$f":"IF(LOADS!$AC83=\"BUS\",IF(LOADS!$AE83=F$1,1,0),0)","v":0},{"$f":"IF(LOADS!$AC83=\"BUS\",IF(LOADS!$AE83=G$1,1,0),0)","v":0},{"$f":"IF(LOADS!$AC83=\"BUS\",IF(LOADS!$AE83=H$1,1,0),0)","v":0},{"$f":"IF(LOADS!$AC83=\"BUS\",IF(LOADS!$AE83=I$1,1,0),0)","v":0},0,{"$f":"LOADS!AM83","v":0}]
[{"$f":"IF(ISBLANK(LOADS!A84),\"\",LOADS!A84)","v":{"$error":"#REF!"}},{"$f":"IF(ISBLANK(LOADS!B84),\"\",LOADS!B84)","v":""},{"$f":"IF(LOADS!$AC84=\"BUS\",IF(LOADS!$AE84=C$1,1,0),0)","v":0},{"$f":"IF(LOADS!$AC84=\"BUS\",IF(LOADS!$AE84=D$1,1,0),0)","v":0},{"$f":"IF(LOADS!$AC84=\"BUS\",IF(LOADS!$AE84=E$1,1,0),0)","v":0},{"$f":"IF(LOADS!$AC84=\"BUS\",IF(LOADS!$AE84=F$1,1,0),0)","v":0},{"$f":"IF(LOADS!$AC84=\"BUS\",IF(LOADS!$AE84=G$1,1,0),0)","v":0},{"$f":"IF(LOADS!$AC84=\"BUS\",IF(LOADS!$AE84=H$1,1,0),0)","v":0},{"$f":"IF(LOADS!$AC84=\"BUS\",IF(LOADS!$AE84=I$1,1,0),0)","v":0},0,{"$f":"LOADS!AM84","v":0}]
[{"$f":"IF(ISBLANK(LOADS!A85),\"\",LOADS!A85)","v":{"$error":"#REF!"}},{"$f":"IF(ISBLANK(LOADS!B85),\"\",LOADS!B85)","v":""},{"$f":"IF(LOADS!$AC85=\"BUS\",IF(LOADS!$AE85=C$1,1,0),0)","v":0},{"$f":"IF(LOADS!$AC85=\"BUS\",IF(LOADS!$AE85=D$1,1,0),0)","v":0},{"$f":"IF(LOADS!$AC85=\"BUS\",IF(LOADS!$AE85=E$1,1,0),0)","v":0},{"$f":"IF(LOADS!$AC85=\"BUS\",IF(LOADS!$AE85=F$1,1,0),0)","v":0},{"$f":"IF(LOADS!$AC85=\"BUS\",IF(LOADS!$AE85=G$1,1,0),0)","v":0},{"$f":"IF(LOADS!$AC85=\"BUS\",IF(LOADS!$AE85=H$1,1,0),0)","v":0},{"$f":"IF(LOADS!$AC85=\"BUS\",IF(LOADS!$AE85=I$1,1,0),0)","v":0},0,{"$f":"LOADS!AM85","v":0}]
[{"$f":"IF(ISBLANK(LOADS!A86),\"\",LOADS!A86)","v":{"$error":"#REF!"}},{"$f":"IF(ISBLANK(LOADS!B86),\"\",LOADS!B86)","v":""},{"$f":"IF(LOADS!$AC86=\"BUS\",IF(LOADS!$AE86=C$1,1,0),0)","v":0},{"$f":"IF(LOADS!$AC86=\"BUS\",IF(LOADS!$AE86=D$1,1,0),0)","v":0},{"$f":"IF(LOADS!$AC86=\"BUS\",IF(LOADS!$AE86=E$1,1,0),0)","v":0},{"$f":"IF(LOADS!$AC86=\"BUS\",IF(LOADS!$AE86=F$1,1,0),0)","v":0},{"$f":"IF(LOADS!$AC86=\"BUS\",IF(LOADS!$AE86=G$1,1,0),0)","v":0},{"$f":"IF(LOADS!$AC86=\"BUS\",IF(LOADS!$AE86=H$1,1,0),0)","v":0},{"$f":"IF(LOADS!$AC86=\"BUS\",IF(LOADS!$AE86=I$1,1,0),0)","v":0},0,{"$f":"LOADS!AM86","v":0}]
[{"$f":"IF(ISBLANK(LOADS!A87),\"\",LOADS!A87)","v":{"$error":"#REF!"}},{"$f":"IF(ISBLANK(LOADS!B87),\"\",LOADS!B87)","v":""},{"$f":"IF(LOADS!$AC87=\"BUS\",IF(LOADS!$AE87=C$1,1,0),0)","v":0},{"$f":"IF(LOADS!$AC87=\"BUS\",IF(LOADS!$AE87=D$1,1,0),0)","v":0},{"$f":"IF(LOADS!$AC87=\"BUS\",IF(LOADS!$AE87=E$1,1,0),0)","v":0},{"$f":"IF(LOADS!$AC87=\"BUS\",IF(LOADS!$AE87=F$1,1,0),0)","v":0},{"$f":"IF(LOADS!$AC87=\"BUS\",IF(LOADS!$AE87=G$1,1,0),0)","v":0},{"$f":"IF(LOADS!$AC87=\"BUS\",IF(LOADS!$AE87=H$1,1,0),0)","v":0},{"$f":"IF(LOADS!$AC87=\"BUS\",IF(LOADS!$AE87=I$1,1,0),0)","v":0},0,{"$f":"LOADS!AM87","v":0}]
[{"$f":"IF(ISBLANK(LOADS!A88),\"\",LOADS!A88)","v":{"$error":"#REF!"}},{"$f":"IF(ISBLANK(LOADS!B88),\"\",LOADS!B88)","v":""},{"$f":"IF(LOADS!$AC88=\"BUS\",IF(LOADS!$AE88=C$1,1,0),0)","v":0},{"$f":"IF(LOADS!$AC88=\"BUS\",IF(LOADS!$AE88=D$1,1,0),0)","v":0},{"$f":"IF(LOADS!$AC88=\"BUS\",IF(LOADS!$AE88=E$1,1,0),0)","v":0},{"$f":"IF(LOADS!$AC88=\"BUS\",IF(LOADS!$AE88=F$1,1,0),0)","v":0},{"$f":"IF(LOADS!$AC88=\"BUS\",IF(LOADS!$AE88=G$1,1,0),0)","v":0},{"$f":"IF(LOADS!$AC88=\"BUS\",IF(LOADS!$AE88=H$1,1,0),0)","v":0},{"$f":"IF(LOADS!$AC88=\"BUS\",IF(LOADS!$AE88=I$1,1,0),0)","v":0},0,{"$f":"LOADS!AM88","v":0}]
[{"$f":"IF(ISBLANK(LOADS!A89),\"\",LOADS!A89)","v":{"$error":"#REF!"}},{"$f":"IF(ISBLANK(LOADS!B89),\"\",LOADS!B89)","v":""},{"$f":"IF(LOADS!$AC89=\"BUS\",IF(LOADS!$AE89=C$1,1,0),0)","v":0},{"$f":"IF(LOADS!$AC89=\"BUS\",IF(LOADS!$AE89=D$1,1,0),0)","v":0},{"$f":"IF(LOADS!$AC89=\"BUS\",IF(LOADS!$AE89=E$1,1,0),0)","v":0},{"$f":"IF(LOADS!$AC89=\"BUS\",IF(LOADS!$AE89=F$1,1,0),0)","v":0},{"$f":"IF(LOADS!$AC89=\"BUS\",IF(LOADS!$AE89=G$1,1,0),0)","v":0},{"$f":"IF(LOADS!$AC89=\"BUS\",IF(LOADS!$AE89=H$1,1,0),0)","v":0},{"$f":"IF(LOADS!$AC89=\"BUS\",IF(LOADS!$AE89=I$1,1,0),0)","v":0},0,{"$f":"LOADS!AM89","v":0}]
[{"$f":"IF(ISBLANK(LOADS!A90),\"\",LOADS!A90)","v":{"$error":"#REF!"}},{"$f":"IF(ISBLANK(LOADS!B90),\"\",LOADS!B90)","v":""},{"$f":"IF(LOADS!$AC90=\"BUS\",IF(LOADS!$AE90=C$1,1,0),0)","v":0},{"$f":"IF(LOADS!$AC90=\"BUS\",IF(LOADS!$AE90=D$1,1,0),0)","v":0},{"$f":"IF(LOADS!$AC90=\"BUS\",IF(LOADS!$AE90=E$1,1,0),0)","v":0},{"$f":"IF(LOADS!$AC90=\"BUS\",IF(LOADS!$AE90=F$1,1,0),0)","v":0},{"$f":"IF(LOADS!$AC90=\"BUS\",IF(LOADS!$AE90=G$1,1,0),0)","v":0},{"$f":"IF(LOADS!$AC90=\"BUS\",IF(LOADS!$AE90=H$1,1,0),0)","v":0},{"$f":"IF(LOADS!$AC90=\"BUS\",IF(LOADS!$AE90=I$1,1,0),0)","v":0},0,{"$f":"LOADS!AM90","v":0}]
[{"$f":"IF(ISBLANK(LOADS!A91),\"\",LOADS!A91)","v":{"$error":"#REF!"}},{"$f":"IF(ISBLANK(LOADS!B91),\"\",LOADS!B91)","v":""},{"$f":"IF(LOADS!$AC91=\"BUS\",IF(LOADS!$AE91=C$1,1,0),0)","v":0},{"$f":"IF(LOADS!$AC91=\"BUS\",IF(LOADS!$AE91=D$1,1,0),0)","v":0},{"$f":"IF(LOADS!$AC91=\"BUS\",IF(LOADS!$AE91=E$1,1,0),0)","v":0},{"$f":"IF(LOADS!$AC91=\"BUS\",IF(LOADS!$AE91=F$1,1,0),0)","v":0},{"$f":"IF(LOADS!$AC91=\"BUS\",IF(LOADS!$AE91=G$1,1,0),0)","v":0},{"$f":"IF(LOADS!$AC91=\"BUS\",IF(LOADS!$AE91=H$1,1,0),0)","v":0},{"$f":"IF(LOADS!$AC91=\"BUS\",IF(LOADS!$AE91=I$1,1,0),0)","v":0},0,{"$f":"LOADS!AM91","v":0}]
[{"$f":"IF(ISBLANK(LOADS!A92),\"\",LOADS!A92)","v":{"$error":"#REF!"}},{"$f":"IF(ISBLANK(LOADS!B92),\"\",LOADS!B92)","v":""},{"$f":"IF(LOADS!$AC92=\"BUS\",IF(LOADS!$AE92=C$1,1,0),0)","v":0},{"$f":"IF(LOADS!$AC92=\"BUS\",IF(LOADS!$AE92=D$1,1,0),0)","v":0},{"$f":"IF(LOADS!$AC92=\"BUS\",IF(LOADS!$AE92=E$1,1,0),0)","v":0},{"$f":"IF(LOADS!$AC92=\"BUS\",IF(LOADS!$AE92=F$1,1,0),0)","v":0},{"$f":"IF(LOADS!$AC92=\"BUS\",IF(LOADS!$AE92=G$1,1,0),0)","v":0},{"$f":"IF(LOADS!$AC92=\"BUS\",IF(LOADS!$AE92=H$1,1,0),0)","v":0},{"$f":"IF(LOADS!$AC92=\"BUS\",IF(LOADS!$AE92=I$1,1,0),0)","v":0},0,{"$f":"LOADS!AM92","v":0}]
[{"$f":"IF(ISBLANK(LOADS!A93),\"\",LOADS!A93)","v":{"$error":"#REF!"}},{"$f":"IF(ISBLANK(LOADS!B93),\"\",LOADS!B93)","v":""},{"$f":"IF(LOADS!$AC93=\"BUS\",IF(LOADS!$AE93=C$1,1,0),0)","v":0},{"$f":"IF(LOADS!$AC93=\"BUS\",IF(LOADS!$AE93=D$1,1,0),0)","v":0},{"$f":"IF(LOADS!$AC93=\"BUS\",IF(LOADS!$AE93=E$1,1,0),0)","v":0},{"$f":"IF(LOADS!$AC93=\"BUS\",IF(LOADS!$AE93=F$1,1,0),0)","v":0},{"$f":"IF(LOADS!$AC93=\"BUS\",IF(LOADS!$AE93=G$1,1,0),0)","v":0},{"$f":"IF(LOADS!$AC93=\"BUS\",IF(LOADS!$AE93=H$1,1,0),0)","v":0},{"$f":"IF(LOADS!$AC93=\"BUS\",IF(LOADS!$AE93=I$1,1,0),0)","v":0},0,{"$f":"LOADS!AM93","v":0}]
[{"$f":"IF(ISBLANK(LOADS!A94),\"\",LOADS!A94)","v":{"$error":"#REF!"}},{"$f":"IF(ISBLANK(LOADS!B94),\"\",LOADS!B94)","v":""},{"$f":"IF(LOADS!$AC94=\"BUS\",IF(LOADS!$AE94=C$1,1,0),0)","v":0},{"$f":"IF(LOADS!$AC94=\"BUS\",IF(LOADS!$AE94=D$1,1,0),0)","v":0},{"$f":"IF(LOADS!$AC94=\"BUS\",IF(LOADS!$AE94=E$1,1,0),0)","v":0},{"$f":"IF(LOADS!$AC94=\"BUS\",IF(LOADS!$AE94=F$1,1,0),0)","v":0},{"$f":"IF(LOADS!$AC94=\"BUS\",IF(LOADS!$AE94=G$1,1,0),0)","v":0},{"$f":"IF(LOADS!$AC94=\"BUS\",IF(LOADS!$AE94=H$1,1,0),0)","v":0},{"$f":"IF(LOADS!$AC94=\"BUS\",IF(LOADS!$AE94=I$1,1,0),0)","v":0},0,{"$f":"LOADS!AM94","v":0}]
[{"$f":"IF(ISBLANK(LOADS!A95),\"\",LOADS!A95)","v":{"$error":"#REF!"}},{"$f":"IF(ISBLANK(LOADS!B95),\"\",LOADS!B95)","v":""},{"$f":"IF(LOADS!$AC95=\"BUS\",IF(LOADS!$AE95=C$1,1,0),0)","v":0},{"$f":"IF(LOADS!$AC95=\"BUS\",IF(LOADS!$AE95=D$1,1,0),0)","v":0},{"$f":"IF(LOADS!$AC95=\"BUS\",IF(LOADS!$AE95=E$1,1,0),0)","v":0},{"$f":"IF(LOADS!$AC95=\"BUS\",IF(LOADS!$AE95=F$1,1,0),0)","v":0},{"$f":"IF(LOADS!$AC95=\"BUS\",IF(LOADS!$AE95=G$1,1,0),0)","v":0},{"$f":"IF(LOADS!$AC95=\"BUS\",IF(LOADS!$AE95=H$1,1,0),0)","v":0},{"$f":"IF(LOADS!$AC95=\"BUS\",IF(LOADS!$AE95=I$1,1,0),0)","v":0},0,{"$f":"LOADS!AM95","v":0}]
[{"$f":"IF(ISBLANK(LOADS!A96),\"\",LOADS!A96)","v":{"$error":"#REF!"}},{"$f":"IF(ISBLANK(LOADS!B96),\"\",LOADS!B96)","v":""},{"$f":"IF(LOADS!$AC96=\"BUS\",IF(LOADS!$AE96=C$1,1,0),0)","v":0},{"$f":"IF(LOADS!$AC96=\"BUS\",IF(LOADS!$AE96=D$1,1,0),0)","v":0},{"$f":"IF(LOADS!$AC96=\"BUS\",IF(LOADS!$AE96=E$1,1,0),0)","v":0},{"$f":"IF(LOADS!$AC96=\"BUS\",IF(LOADS!$AE96=F$1,1,0),0)","v":0},{"$f":"IF(LOADS!$AC96=\"BUS\",IF(LOADS!$AE96=G$1,1,0),0)","v":0},{"$f":"IF(LOADS!$AC96=\"BUS\",IF(LOADS!$AE96=H$1,1,0),0)","v":0},{"$f":"IF(LOADS!$AC96=\"BUS\",IF(LOADS!$AE96=I$1,1,0),0)","v":0},0,{"$f":"LOADS!AM96","v":0}]
[{"$f":"IF(ISBLANK(LOADS!A97),\"\",LOADS!A97)","v":{"$error":"#REF!"}},{"$f":"IF(ISBLANK(LOADS!B97),\"\",LOADS!B97)","v":""},{"$f":"IF(LOADS!$AC97=\"BUS\",IF(LOADS!$AE97=C$1,1,0),0)","v":0},{"$f":"IF(LOADS!$AC97=\"BUS\",IF(LOADS!$AE97=D$1,1,0),0)","v":0},{"$f":"IF(LOADS!$AC97=\"BUS\",IF(LOADS!$AE97=E$1,1,0),0)","v":0},{"$f":"IF(LOADS!$AC97=\"BUS\",IF(LOADS!$AE97=F$1,1,0),0)","v":0},{"$f":"IF(LOADS!$AC97=\"BUS\",IF(LOADS!$AE97=G$1,1,0),0)","v":0},{"$f":"IF(LOADS!$AC97=\"BUS\",IF(LOADS!$AE97=H$1,1,0),0)","v":0},{"$f":"IF(LOADS!$AC97=\"BUS\",IF(LOADS!$AE97=I$1,1,0),0)","v":0},0,{"$f":"LOADS!AM97","v":0}]
[{"$f":"IF(ISBLANK(LOADS!A98),\"\",LOADS!A98)","v":{"$error":"#REF!"}},{"$f":"IF(ISBLANK(LOADS!B98),\"\",LOADS!B98)","v":""},{"$f":"IF(LOADS!$AC98=\"BUS\",IF(LOADS!$AE98=C$1,1,0),0)","v":0},{"$f":"IF(LOADS!$AC98=\"BUS\",IF(LOADS!$AE98=D$1,1,0),0)","v":0},{"$f":"IF(LOADS!$AC98=\"BUS\",IF(LOADS!$AE98=E$1,1,0),0)","v":0},{"$f":"IF(LOADS!$AC98=\"BUS\",IF(LOADS!$AE98=F$1,1,0),0)","v":0},{"$f":"IF(LOADS!$AC98=\"BUS\",IF(LOADS!$AE98=G$1,1,0),0)","v":0},{"$f":"IF(LOADS!$AC98=\"BUS\",IF(LOADS!$AE98=H$1,1,0),0)","v":0},{"$f":"IF(LOADS!$AC98=\"BUS\",IF(LOADS!$AE98=I$1,1,0),0)","v":0},0,{"$f":"LOADS!AM98","v":0}]
[{"$f":"IF(ISBLANK(LOADS!A99),\"\",LOADS!A99)","v":{"$error":"#REF!"}},{"$f":"IF(ISBLANK(LOADS!B99),\"\",LOADS!B99)","v":""},{"$f":"IF(LOADS!$AC99=\"BUS\",IF(LOADS!$AE99=C$1,1,0),0)","v":0},{"$f":"IF(LOADS!$AC99=\"BUS\",IF(LOADS!$AE99=D$1,1,0),0)","v":0},{"$f":"IF(LOADS!$AC99=\"BUS\",IF(LOADS!$AE99=E$1,1,0),0)","v":0},{"$f":"IF(LOADS!$AC99=\"BUS\",IF(LOADS!$AE99=F$1,1,0),0)","v":0},{"$f":"IF(LOADS!$AC99=\"BUS\",IF(LOADS!$AE99=G$1,1,0),0)","v":0},{"$f":"IF(LOADS!$AC99=\"BUS\",IF(LOADS!$AE99=H$1,1,0),0)","v":0},{"$f":"IF(LOADS!$AC99=\"BUS\",IF(LOADS!$AE99=I$1,1,0),0)","v":0},0,{"$f":"LOADS!AM99","v":0}]
[{"$f":"IF(ISBLANK(LOADS!A100),\"\",LOADS!A100)","v":{"$error":"#REF!"}},{"$f":"IF(ISBLANK(LOADS!B100),\"\",LOADS!B100)","v":""},{"$f":"IF(LOADS!$AC100=\"BUS\",IF(LOADS!$AE100=C$1,1,0),0)","v":0},{"$f":"IF(LOADS!$AC100=\"BUS\",IF(LOADS!$AE100=D$1,1,0),0)","v":0},{"$f":"IF(LOADS!$AC100=\"BUS\",IF(LOADS!$AE100=E$1,1,0),0)","v":0},{"$f":"IF(LOADS!$AC100=\"BUS\",IF(LOADS!$AE100=F$1,1,0),0)","v":0},{"$f":"IF(LOADS!$AC100=\"BUS\",IF(LOADS!$AE100=G$1,1,0),0)","v":0},{"$f":"IF(LOADS!$AC100=\"BUS\",IF(LOADS!$AE100=H$1,1,0),0)","v":0},{"$f":"IF(LOADS!$AC100=\"BUS\",IF(LOADS!$AE100=I$1,1,0),0)","v":0},0,{"$f":"LOADS!AM100","v":0}]
[{"$f":"IF(ISBLANK(LOADS!A101),\"\",LOADS!A101)","v":{"$error":"#REF!"}},{"$f":"IF(ISBLANK(LOADS!B101),\"\",LOADS!B101)","v":""},{"$f":"IF(LOADS!$AC101=\"BUS\",IF(LOADS!$AE101=C$1,1,0),0)","v":0},{"$f":"IF(LOADS!$AC101=\"BUS\",IF(LOADS!$AE101=D$1,1,0),0)","v":0},{"$f":"IF(LOADS!$AC101=\"BUS\",IF(LOADS!$AE101=E$1,1,0),0)","v":0},{"$f":"IF(LOADS!$AC101=\"BUS\",IF(LOADS!$AE101=F$1,1,0),0)","v":0},{"$f":"IF(LOADS!$AC101=\"BUS\",IF(LOADS!$AE101=G$1,1,0),0)","v":0},{"$f":"IF(LOADS!$AC101=\"BUS\",IF(LOADS!$AE101=H$1,1,0),0)","v":0},{"$f":"IF(LOADS!$AC101=\"BUS\",IF(LOADS!$AE101=I$1,1,0),0)","v":0},0,{"$f":"LOADS!AM101","v":0}]
[{"$f":"IF(ISBLANK(LOADS!A102),\"\",LOADS!A102)","v":{"$error":"#REF!"}},{"$f":"IF(ISBLANK(LOADS!B102),\"\",LOADS!B102)","v":""},{"$f":"IF(LOADS!$AC102=\"BUS\",IF(LOADS!$AE102=C$1,1,0),0)","v":0},{"$f":"IF(LOADS!$AC102=\"BUS\",IF(LOADS!$AE102=D$1,1,0),0)","v":0},{"$f":"IF(LOADS!$AC102=\"BUS\",IF(LOADS!$AE102=E$1,1,0),0)","v":0},{"$f":"IF(LOADS!$AC102=\"BUS\",IF(LOADS!$AE102=F$1,1,0),0)","v":0},{"$f":"IF(LOADS!$AC102=\"BUS\",IF(LOADS!$AE102=G$1,1,0),0)","v":0},{"$f":"IF(LOADS!$AC102=\"BUS\",IF(LOADS!$AE102=H$1,1,0),0)","v":0},{"$f":"IF(LOADS!$AC102=\"BUS\",IF(LOADS!$AE102=I$1,1,0),0)","v":0},0,{"$f":"LOADS!AM102","v":0}]
[{"$f":"IF(ISBLANK(LOADS!A103),\"\",LOADS!A103)","v":{"$error":"#REF!"}},{"$f":"IF(ISBLANK(LOADS!B103),\"\",LOADS!B103)","v":""},{"$f":"IF(LOADS!$AC103=\"BUS\",IF(LOADS!$AE103=C$1,1,0),0)","v":0},{"$f":"IF(LOADS!$AC103=\"BUS\",IF(LOADS!$AE103=D$1,1,0),0)","v":0},{"$f":"IF(LOADS!$AC103=\"BUS\",IF(LOADS!$AE103=E$1,1,0),0)","v":0},{"$f":"IF(LOADS!$AC103=\"BUS\",IF(LOADS!$AE103=F$1,1,0),0)","v":0},{"$f":"IF(LOADS!$AC103=\"BUS\",IF(LOADS!$AE103=G$1,1,0),0)","v":0},{"$f":"IF(LOADS!$AC103=\"BUS\",IF(LOADS!$AE103=H$1,1,0),0)","v":0},{"$f":"IF(LOADS!$AC103=\"BUS\",IF(LOADS!$AE103=I$1,1,0),0)","v":0},0,{"$f":"LOADS!AM103","v":0}]
[{"$f":"IF(ISBLANK(LOADS!A104),\"\",LOADS!A104)","v":{"$error":"#REF!"}},{"$f":"IF(ISBLANK(LOADS!B104),\"\",LOADS!B104)","v":""},{"$f":"IF(LOADS!$AC104=\"BUS\",IF(LOADS!$AE104=C$1,1,0),0)","v":0},{"$f":"IF(LOADS!$AC104=\"BUS\",IF(LOADS!$AE104=D$1,1,0),0)","v":0},{"$f":"IF(LOADS!$AC104=\"BUS\",IF(LOADS!$AE104=E$1,1,0),0)","v":0},{"$f":"IF(LOADS!$AC104=\"BUS\",IF(LOADS!$AE104=F$1,1,0),0)","v":0},{"$f":"IF(LOADS!$AC104=\"BUS\",IF(LOADS!$AE104=G$1,1,0),0)","v":0},{"$f":"IF(LOADS!$AC104=\"BUS\",IF(LOADS!$AE104=H$1,1,0),0)","v":0},{"$f":"IF(LOADS!$AC104=\"BUS\",IF(LOADS!$AE104=I$1,1,0),0)","v":0},0,{"$f":"LOADS!AM104","v":0}]
[{"$f":"IF(ISBLANK(LOADS!A105),\"\",LOADS!A105)","v":{"$error":"#REF!"}},{"$f":"IF(ISBLANK(LOADS!B105),\"\",LOADS!B105)","v":""},{"$f":"IF(LOADS!$AC105=\"BUS\",IF(LOADS!$AE105=C$1,1,0),0)","v":0},{"$f":"IF(LOADS!$AC105=\"BUS\",IF(LOADS!$AE105=D$1,1,0),0)","v":0},{"$f":"IF(LOADS!$AC105=\"BUS\",IF(LOADS!$AE105=E$1,1,0),0)","v":0},{"$f":"IF(LOADS!$AC105=\"BUS\",IF(LOADS!$AE105=F$1,1,0),0)","v":0},{"$f":"IF(LOADS!$AC105=\"BUS\",IF(LOADS!$AE105=G$1,1,0),0)","v":0},{"$f":"IF(LOADS!$AC105=\"BUS\",IF(LOADS!$AE105=H$1,1,0),0)","v":0},{"$f":"IF(LOADS!$AC105=\"BUS\",IF(LOADS!$AE105=I$1,1,0),0)","v":0},0,{"$f":"LOADS!AM105","v":0}]
[{"$f":"IF(ISBLANK(LOADS!A106),\"\",LOADS!A106)","v":{"$error":"#REF!"}},{"$f":"IF(ISBLANK(LOADS!B106),\"\",LOADS!B106)","v":""},{"$f":"IF(LOADS!$AC106=\"BUS\",IF(LOADS!$AE106=C$1,1,0),0)","v":0},{"$f":"IF(LOADS!$AC106=\"BUS\",IF(LOADS!$AE106=D$1,1,0),0)","v":0},{"$f":"IF(LOADS!$AC106=\"BUS\",IF(LOADS!$AE106=E$1,1,0),0)","v":0},{"$f":"IF(LOADS!$AC106=\"BUS\",IF(LOADS!$AE106=F$1,1,0),0)","v":0},{"$f":"IF(LOADS!$AC106=\"BUS\",IF(LOADS!$AE106=G$1,1,0),0)","v":0},{"$f":"IF(LOADS!$AC106=\"BUS\",IF(LOADS!$AE106=H$1,1,0),0)","v":0},{"$f":"IF(LOADS!$AC106=\"BUS\",IF(LOADS!$AE106=I$1,1,0),0)","v":0},0,{"$f":"LOADS!AM106","v":0}]
[{"$f":"IF(ISBLANK(LOADS!A107),\"\",LOADS!A107)","v":{"$error":"#REF!"}},{"$f":"IF(ISBLANK(LOADS!B107),\"\",LOADS!B107)","v":""},{"$f":"IF(LOADS!$AC107=\"BUS\",IF(LOADS!$AE107=C$1,1,0),0)","v":0},{"$f":"IF(LOADS!$AC107=\"BUS\",IF(LOADS!$AE107=D$1,1,0),0)","v":0},{"$f":"IF(LOADS!$AC107=\"BUS\",IF(LOADS!$AE107=E$1,1,0),0)","v":0},{"$f":"IF(LOADS!$AC107=\"BUS\",IF(LOADS!$AE107=F$1,1,0),0)","v":0},{"$f":"IF(LOADS!$AC107=\"BUS\",IF(LOADS!$AE107=G$1,1,0),0)","v":0},{"$f":"IF(LOADS!$AC107=\"BUS\",IF(LOADS!$AE107=H$1,1,0),0)","v":0},{"$f":"IF(LOADS!$AC107=\"BUS\",IF(LOADS!$AE107=I$1,1,0),0)","v":0},0,{"$f":"LOADS!AM107","v":0}]
[{"$f":"IF(ISBLANK(LOADS!A108),\"\",LOADS!A108)","v":{"$error":"#REF!"}},{"$f":"IF(ISBLANK(LOADS!B108),\"\",LOADS!B108)","v":""},{"$f":"IF(LOADS!$AC108=\"BUS\",IF(LOADS!$AE108=C$1,1,0),0)","v":0},{"$f":"IF(LOADS!$AC108=\"BUS\",IF(LOADS!$AE108=D$1,1,0),0)","v":0},{"$f":"IF(LOADS!$AC108=\"BUS\",IF(LOADS!$AE108=E$1,1,0),0)","v":0},{"$f":"IF(LOADS!$AC108=\"BUS\",IF(LOADS!$AE108=F$1,1,0),0)","v":0},{"$f":"IF(LOADS!$AC108=\"BUS\",IF(LOADS!$AE108=G$1,1,0),0)","v":0},{"$f":"IF(LOADS!$AC108=\"BUS\",IF(LOADS!$AE108=H$1,1,0),0)","v":0},{"$f":"IF(LOADS!$AC108=\"BUS\",IF(LOADS!$AE108=I$1,1,0),0)","v":0},0,{"$f":"LOADS!AM108","v":0}]
[{"$f":"IF(ISBLANK(LOADS!A109),\"\",LOADS!A109)","v":{"$error":"#REF!"}},{"$f":"IF(ISBLANK(LOADS!B109),\"\",LOADS!B109)","v":""},{"$f":"IF(LOADS!$AC109=\"BUS\",IF(LOADS!$AE109=C$1,1,0),0)","v":0},{"$f":"IF(LOADS!$AC109=\"BUS\",IF(LOADS!$AE109=D$1,1,0),0)","v":0},{"$f":"IF(LOADS!$AC109=\"BUS\",IF(LOADS!$AE109=E$1,1,0),0)","v":0},{"$f":"IF(LOADS!$AC109=\"BUS\",IF(LOADS!$AE109=F$1,1,0),0)","v":0},{"$f":"IF(LOADS!$AC109=\"BUS\",IF(LOADS!$AE109=G$1,1,0),0)","v":0},{"$f":"IF(LOADS!$AC109=\"BUS\",IF(LOADS!$AE109=H$1,1,0),0)","v":0},{"$f":"IF(LOADS!$AC109=\"BUS\",IF(LOADS!$AE109=I$1,1,0),0)","v":0},0,{"$f":"LOADS!AM109","v":0}]
[{"$f":"IF(ISBLANK(LOADS!A110),\"\",LOADS!A110)","v":{"$error":"#REF!"}},{"$f":"IF(ISBLANK(LOADS!B110),\"\",LOADS!B110)","v":""},{"$f":"IF(LOADS!$AC110=\"BUS\",IF(LOADS!$AE110=C$1,1,0),0)","v":0},{"$f":"IF(LOADS!$AC110=\"BUS\",IF(LOADS!$AE110=D$1,1,0),0)","v":0},{"$f":"IF(LOADS!$AC110=\"BUS\",IF(LOADS!$AE110=E$1,1,0),0)","v":0},{"$f":"IF(LOADS!$AC110=\"BUS\",IF(LOADS!$AE110=F$1,1,0),0)","v":0},{"$f":"IF(LOADS!$AC110=\"BUS\",IF(LOADS!$AE110=G$1,1,0),0)","v":0},{"$f":"IF(LOADS!$AC110=\"BUS\",IF(LOADS!$AE110=H$1,1,0),0)","v":0},{"$f":"IF(LOADS!$AC110=\"BUS\",IF(LOADS!$AE110=I$1,1,0),0)","v":0},0,{"$f":"LOADS!AM110","v":0}]
[{"$f":"IF(ISBLANK(LOADS!A111),\"\",LOADS!A111)","v":{"$error":"#REF!"}},{"$f":"IF(ISBLANK(LOADS!B111),\"\",LOADS!B111)","v":""},{"$f":"IF(LOADS!$AC111=\"BUS\",IF(LOADS!$AE111=C$1,1,0),0)","v":0},{"$f":"IF(LOADS!$AC111=\"BUS\",IF(LOADS!$AE111=D$1,1,0),0)","v":0},{"$f":"IF(LOADS!$AC111=\"BUS\",IF(LOADS!$AE111=E$1,1,0),0)","v":0},{"$f":"IF(LOADS!$AC111=\"BUS\",IF(LOADS!$AE111=F$1,1,0),0)","v":0},{"$f":"IF(LOADS!$AC111=\"BUS\",IF(LOADS!$AE111=G$1,1,0),0)","v":0},{"$f":"IF(LOADS!$AC111=\"BUS\",IF(LOADS!$AE111=H$1,1,0),0)","v":0},{"$f":"IF(LOADS!$AC111=\"BUS\",IF(LOADS!$AE111=I$1,1,0),0)","v":0},0,{"$f":"LOADS!AM111","v":0}]
[{"$f":"IF(ISBLANK(LOADS!A112),\"\",LOADS!A112)","v":{"$error":"#REF!"}},{"$f":"IF(ISBLANK(LOADS!B112),\"\",LOADS!B112)","v":""},{"$f":"IF(LOADS!$AC112=\"BUS\",IF(LOADS!$AE112=C$1,1,0),0)","v":0},{"$f":"IF(LOADS!$AC112=\"BUS\",IF(LOADS!$AE112=D$1,1,0),0)","v":0},{"$f":"IF(LOADS!$AC112=\"BUS\",IF(LOADS!$AE112=E$1,1,0),0)","v":0},{"$f":"IF(LOADS!$AC112=\"BUS\",IF(LOADS!$AE112=F$1,1,0),0)","v":0},{"$f":"IF(LOADS!$AC112=\"BUS\",IF(LOADS!$AE112=G$1,1,0),0)","v":0},{"$f":"IF(LOADS!$AC112=\"BUS\",IF(LOADS!$AE112=H$1,1,0),0)","v":0},{"$f":"IF(LOADS!$AC112=\"BUS\",IF(LOADS!$AE112=I$1,1,0),0)","v":0},0,{"$f":"LOADS!AM112","v":0}]
[{"$f":"IF(ISBLANK(LOADS!A113),\"\",LOADS!A113)","v":{"$error":"#REF!"}},{"$f":"IF(ISBLANK(LOADS!B113),\"\",LOADS!B113)","v":""},{"$f":"IF(LOADS!$AC113=\"BUS\",IF(LOADS!$AE113=C$1,1,0),0)","v":0},{"$f":"IF(LOADS!$AC113=\"BUS\",IF(LOADS!$AE113=D$1,1,0),0)","v":0},{"$f":"IF(LOADS!$AC113=\"BUS\",IF(LOADS!$AE113=E$1,1,0),0)","v":0},{"$f":"IF(LOADS!$AC113=\"BUS\",IF(LOADS!$AE113=F$1,1,0),0)","v":0},{"$f":"IF(LOADS!$AC113=\"BUS\",IF(LOADS!$AE113=G$1,1,0),0)","v":0},{"$f":"IF(LOADS!$AC113=\"BUS\",IF(LOADS!$AE113=H$1,1,0),0)","v":0},{"$f":"IF(LOADS!$AC113=\"BUS\",IF(LOADS!$AE113=I$1,1,0),0)","v":0},0,{"$f":"LOADS!AM113","v":0}]
[{"$f":"IF(ISBLANK(LOADS!A114),\"\",LOADS!A114)","v":{"$error":"#REF!"}},{"$f":"IF(ISBLANK(LOADS!B114),\"\",LOADS!B114)","v":""},{"$f":"IF(LOADS!$AC114=\"BUS\",IF(LOADS!$AE114=C$1,1,0),0)","v":0},{"$f":"IF(LOADS!$AC114=\"BUS\",IF(LOADS!$AE114=D$1,1,0),0)","v":0},{"$f":"IF(LOADS!$AC114=\"BUS\",IF(LOADS!$AE114=E$1,1,0),0)","v":0},{"$f":"IF(LOADS!$AC114=\"BUS\",IF(LOADS!$AE114=F$1,1,0),0)","v":0},{"$f":"IF(LOADS!$AC114=\"BUS\",IF(LOADS!$AE114=G$1,1,0),0)","v":0},{"$f":"IF(LOADS!$AC114=\"BUS\",IF(LOADS!$AE114=H$1,1,0),0)","v":0},{"$f":"IF(LOADS!$AC114=\"BUS\",IF(LOADS!$AE114=I$1,1,0),0)","v":0},0,{"$f":"LOADS!AM114","v":0}]
[{"$f":"IF(ISBLANK(LOADS!A115),\"\",LOADS!A115)","v":{"$error":"#REF!"}},{"$f":"IF(ISBLANK(LOADS!B115),\"\",LOADS!B115)","v":""},{"$f":"IF(LOADS!$AC115=\"BUS\",IF(LOADS!$AE115=C$1,1,0),0)","v":0},{"$f":"IF(LOADS!$AC115=\"BUS\",IF(LOADS!$AE115=D$1,1,0),0)","v":0},{"$f":"IF(LOADS!$AC115=\"BUS\",IF(LOADS!$AE115=E$1,1,0),0)","v":0},{"$f":"IF(LOADS!$AC115=\"BUS\",IF(LOADS!$AE115=F$1,1,0),0)","v":0},{"$f":"IF(LOADS!$AC115=\"BUS\",IF(LOADS!$AE115=G$1,1,0),0)","v":0},{"$f":"IF(LOADS!$AC115=\"BUS\",IF(LOADS!$AE115=H$1,1,0),0)","v":0},{"$f":"IF(LOADS!$AC115=\"BUS\",IF(LOADS!$AE115=I$1,1,0),0)","v":0},0,{"$f":"LOADS!AM115","v":0}]
[{"$f":"IF(ISBLANK(LOADS!A116),\"\",LOADS!A116)","v":{"$error":"#REF!"}},{"$f":"IF(ISBLANK(LOADS!B116),\"\",LOADS!B116)","v":""},{"$f":"IF(LOADS!$AC116=\"BUS\",IF(LOADS!$AE116=C$1,1,0),0)","v":0},{"$f":"IF(LOADS!$AC116=\"BUS\",IF(LOADS!$AE116=D$1,1,0),0)","v":0},{"$f":"IF(LOADS!$AC116=\"BUS\",IF(LOADS!$AE116=E$1,1,0),0)","v":0},{"$f":"IF(LOADS!$AC116=\"BUS\",IF(LOADS!$AE116=F$1,1,0),0)","v":0},{"$f":"IF(LOADS!$AC116=\"BUS\",IF(LOADS!$AE116=G$1,1,0),0)","v":0},{"$f":"IF(LOADS!$AC116=\"BUS\",IF(LOADS!$AE116=H$1,1,0),0)","v":0},{"$f":"IF(LOADS!$AC116=\"BUS\",IF(LOADS!$AE116=I$1,1,0),0)","v":0},0,{"$f":"LOADS!AM116","v":0}]
[{"$f":"IF(ISBLANK(LOADS!A117),\"\",LOADS!A117)","v":{"$error":"#REF!"}},{"$f":"IF(ISBLANK(LOADS!B117),\"\",LOADS!B117)","v":""},{"$f":"IF(LOADS!$AC117=\"BUS\",IF(LOADS!$AE117=C$1,1,0),0)","v":0},{"$f":"IF(LOADS!$AC117=\"BUS\",IF(LOADS!$AE117=D$1,1,0),0)","v":0},{"$f":"IF(LOADS!$AC117=\"BUS\",IF(LOADS!$AE117=E$1,1,0),0)","v":0},{"$f":"IF(LOADS!$AC117=\"BUS\",IF(LOADS!$AE117=F$1,1,0),0)","v":0},{"$f":"IF(LOADS!$AC117=\"BUS\",IF(LOADS!$AE117=G$1,1,0),0)","v":0},{"$f":"IF(LOADS!$AC117=\"BUS\",IF(LOADS!$AE117=H$1,1,0),0)","v":0},{"$f":"IF(LOADS!$AC117=\"BUS\",IF(LOADS!$AE117=I$1,1,0),0)","v":0},0,{"$f":"LOADS!AM117","v":0}]
[{"$f":"IF(ISBLANK(LOADS!A118),\"\",LOADS!A118)","v":{"$error":"#REF!"}},{"$f":"IF(ISBLANK(LOADS!B118),\"\",LOADS!B118)","v":""},{"$f":"IF(LOADS!$AC118=\"BUS\",IF(LOADS!$AE118=C$1,1,0),0)","v":0},{"$f":"IF(LOADS!$AC118=\"BUS\",IF(LOADS!$AE118=D$1,1,0),0)","v":0},{"$f":"IF(LOADS!$AC118=\"BUS\",IF(LOADS!$AE118=E$1,1,0),0)","v":0},{"$f":"IF(LOADS!$AC118=\"BUS\",IF(LOADS!$AE118=F$1,1,0),0)","v":0},{"$f":"IF(LOADS!$AC118=\"BUS\",IF(LOADS!$AE118=G$1,1,0),0)","v":0},{"$f":"IF(LOADS!$AC118=\"BUS\",IF(LOADS!$AE118=H$1,1,0),0)","v":0},{"$f":"IF(LOADS!$AC118=\"BUS\",IF(LOADS!$AE118=I$1,1,0),0)","v":0},0,{"$f":"LOADS!AM118","v":0}]
[{"$f":"IF(ISBLANK(LOADS!A119),\"\",LOADS!A119)","v":{"$error":"#REF!"}},{"$f":"IF(ISBLANK(LOADS!B119),\"\",LOADS!B119)","v":""},{"$f":"IF(LOADS!$AC119=\"BUS\",IF(LOADS!$AE119=C$1,1,0),0)","v":0},{"$f":"IF(LOADS!$AC119=\"BUS\",IF(LOADS!$AE119=D$1,1,0),0)","v":0},{"$f":"IF(LOADS!$AC119=\"BUS\",IF(LOADS!$AE119=E$1,1,0),0)","v":0},{"$f":"IF(LOADS!$AC119=\"BUS\",IF(LOADS!$AE119=F$1,1,0),0)","v":0},{"$f":"IF(LOADS!$AC119=\"BUS\",IF(LOADS!$AE119=G$1,1,0),0)","v":0},{"$f":"IF(LOADS!$AC119=\"BUS\",IF(LOADS!$AE119=H$1,1,0),0)","v":0},{"$f":"IF(LOADS!$AC119=\"BUS\",IF(LOADS!$AE119=I$1,1,0),0)","v":0},0,{"$f":"LOADS!AM119","v":0}]
[{"$f":"IF(ISBLANK(LOADS!A120),\"\",LOADS!A120)","v":{"$error":"#REF!"}},{"$f":"IF(ISBLANK(LOADS!B120),\"\",LOADS!B120)","v":""},{"$f":"IF(LOADS!$AC120=\"BUS\",IF(LOADS!$AE120=C$1,1,0),0)","v":0},{"$f":"IF(LOADS!$AC120=\"BUS\",IF(LOADS!$AE120=D$1,1,0),0)","v":0},{"$f":"IF(LOADS!$AC120=\"BUS\",IF(LOADS!$AE120=E$1,1,0),0)","v":0},{"$f":"IF(LOADS!$AC120=\"BUS\",IF(LOADS!$AE120=F$1,1,0),0)","v":0},{"$f":"IF(LOADS!$AC120=\"BUS\",IF(LOADS!$AE120=G$1,1,0),0)","v":0},{"$f":"IF(LOADS!$AC120=\"BUS\",IF(LOADS!$AE120=H$1,1,0),0)","v":0},{"$f":"IF(LOADS!$AC120=\"BUS\",IF(LOADS!$AE120=I$1,1,0),0)","v":0},0,{"$f":"LOADS!AM120","v":0}]
[{"$f":"IF(ISBLANK(LOADS!A121),\"\",LOADS!A121)","v":{"$error":"#REF!"}},{"$f":"IF(ISBLANK(LOADS!B121),\"\",LOADS!B121)","v":""},{"$f":"IF(LOADS!$AC121=\"BUS\",IF(LOADS!$AE121=C$1,1,0),0)","v":0},{"$f":"IF(LOADS!$AC121=\"BUS\",IF(LOADS!$AE121=D$1,1,0),0)","v":0},{"$f":"IF(LOADS!$AC121=\"BUS\",IF(LOADS!$AE121=E$1,1,0),0)","v":0},{"$f":"IF(LOADS!$AC121=\"BUS\",IF(LOADS!$AE121=F$1,1,0),0)","v":0},{"$f":"IF(LOADS!$AC121=\"BUS\",IF(LOADS!$AE121=G$1,1,0),0)","v":0},{"$f":"IF(LOADS!$AC121=\"BUS\",IF(LOADS!$AE121=H$1,1,0),0)","v":0},{"$f":"IF(LOADS!$AC121=\"BUS\",IF(LOADS!$AE121=I$1,1,0),0)","v":0},0,{"$f":"LOADS!AM121","v":0}]
[{"$f":"IF(ISBLANK(LOADS!A122),\"\",LOADS!A122)","v":{"$error":"#REF!"}},{"$f":"IF(ISBLANK(LOADS!B122),\"\",LOADS!B122)","v":""},{"$f":"IF(LOADS!$AC122=\"BUS\",IF(LOADS!$AE122=C$1,1,0),0)","v":0},{"$f":"IF(LOADS!$AC122=\"BUS\",IF(LOADS!$AE122=D$1,1,0),0)","v":0},{"$f":"IF(LOADS!$AC122=\"BUS\",IF(LOADS!$AE122=E$1,1,0),0)","v":0},{"$f":"IF(LOADS!$AC122=\"BUS\",IF(LOADS!$AE122=F$1,1,0),0)","v":0},{"$f":"IF(LOADS!$AC122=\"BUS\",IF(LOADS!$AE122=G$1,1,0),0)","v":0},{"$f":"IF(LOADS!$AC122=\"BUS\",IF(LOADS!$AE122=H$1,1,0),0)","v":0},{"$f":"IF(LOADS!$AC122=\"BUS\",IF(LOADS!$AE122=I$1,1,0),0)","v":0},0,{"$f":"LOADS!AM122","v":0}]
[{"$f":"IF(ISBLANK(LOADS!A123),\"\",LOADS!A123)","v":{"$error":"#REF!"}},{"$f":"IF(ISBLANK(LOADS!B123),\"\",LOADS!B123)","v":""},{"$f":"IF(LOADS!$AC123=\"BUS\",IF(LOADS!$AE123=C$1,1,0),0)","v":0},{"$f":"IF(LOADS!$AC123=\"BUS\",IF(LOADS!$AE123=D$1,1,0),0)","v":0},{"$f":"IF(LOADS!$AC123=\"BUS\",IF(LOADS!$AE123=E$1,1,0),0)","v":0},{"$f":"IF(LOADS!$AC123=\"BUS\",IF(LOADS!$AE123=F$1,1,0),0)","v":0},{"$f":"IF(LOADS!$AC123=\"BUS\",IF(LOADS!$AE123=G$1,1,0),0)","v":0},{"$f":"IF(LOADS!$AC123=\"BUS\",IF(LOADS!$AE123=H$1,1,0),0)","v":0},{"$f":"IF(LOADS!$AC123=\"BUS\",IF(LOADS!$AE123=I$1,1,0),0)","v":0},0,{"$f":"LOADS!AM123","v":0}]
[{"$f":"IF(ISBLANK(LOADS!A124),\"\",LOADS!A124)","v":{"$error":"#REF!"}},{"$f":"IF(ISBLANK(LOADS!B124),\"\",LOADS!B124)","v":""},{"$f":"IF(LOADS!$AC124=\"BUS\",IF(LOADS!$AE124=C$1,1,0),0)","v":0},{"$f":"IF(LOADS!$AC124=\"BUS\",IF(LOADS!$AE124=D$1,1,0),0)","v":0},{"$f":"IF(LOADS!$AC124=\"BUS\",IF(LOADS!$AE124=E$1,1,0),0)","v":0},{"$f":"IF(LOADS!$AC124=\"BUS\",IF(LOADS!$AE124=F$1,1,0),0)","v":0},{"$f":"IF(LOADS!$AC124=\"BUS\",IF(LOADS!$AE124=G$1,1,0),0)","v":0},{"$f":"IF(LOADS!$AC124=\"BUS\",IF(LOADS!$AE124=H$1,1,0),0)","v":0},{"$f":"IF(LOADS!$AC124=\"BUS\",IF(LOADS!$AE124=I$1,1,0),0)","v":0},0,{"$f":"LOADS!AM124","v":0}]
[{"$f":"IF(ISBLANK(LOADS!A125),\"\",LOADS!A125)","v":{"$error":"#REF!"}},{"$f":"IF(ISBLANK(LOADS!B125),\"\",LOADS!B125)","v":""},{"$f":"IF(LOADS!$AC125=\"BUS\",IF(LOADS!$AE125=C$1,1,0),0)","v":0},{"$f":"IF(LOADS!$AC125=\"BUS\",IF(LOADS!$AE125=D$1,1,0),0)","v":0},{"$f":"IF(LOADS!$AC125=\"BUS\",IF(LOADS!$AE125=E$1,1,0),0)","v":0},{"$f":"IF(LOADS!$AC125=\"BUS\",IF(LOADS!$AE125=F$1,1,0),0)","v":0},{"$f":"IF(LOADS!$AC125=\"BUS\",IF(LOADS!$AE125=G$1,1,0),0)","v":0},{"$f":"IF(LOADS!$AC125=\"BUS\",IF(LOADS!$AE125=H$1,1,0),0)","v":0},{"$f":"IF(LOADS!$AC125=\"BUS\",IF(LOADS!$AE125=I$1,1,0),0)","v":0},0,{"$f":"LOADS!AM125","v":0}]
[{"$f":"IF(ISBLANK(LOADS!A126),\"\",LOADS!A126)","v":{"$error":"#REF!"}},{"$f":"IF(ISBLANK(LOADS!B126),\"\",LOADS!B126)","v":""},{"$f":"IF(LOADS!$AC126=\"BUS\",IF(LOADS!$AE126=C$1,1,0),0)","v":0},{"$f":"IF(LOADS!$AC126=\"BUS\",IF(LOADS!$AE126=D$1,1,0),0)","v":0},{"$f":"IF(LOADS!$AC126=\"BUS\",IF(LOADS!$AE126=E$1,1,0),0)","v":0},{"$f":"IF(LOADS!$AC126=\"BUS\",IF(LOADS!$AE126=F$1,1,0),0)","v":0},{"$f":"IF(LOADS!$AC126=\"BUS\",IF(LOADS!$AE126=G$1,1,0),0)","v":0},{"$f":"IF(LOADS!$AC126=\"BUS\",IF(LOADS!$AE126=H$1,1,0),0)","v":0},{"$f":"IF(LOADS!$AC126=\"BUS\",IF(LOADS!$AE126=I$1,1,0),0)","v":0},0,{"$f":"LOADS!AM126","v":0}]
[{"$f":"IF(ISBLANK(LOADS!A127),\"\",LOADS!A127)","v":{"$error":"#REF!"}},{"$f":"IF(ISBLANK(LOADS!B127),\"\",LOADS!B127)","v":""},{"$f":"IF(LOADS!$AC127=\"BUS\",IF(LOADS!$AE127=C$1,1,0),0)","v":0},{"$f":"IF(LOADS!$AC127=\"BUS\",IF(LOADS!$AE127=D$1,1,0),0)","v":0},{"$f":"IF(LOADS!$AC127=\"BUS\",IF(LOADS!$AE127=E$1,1,0),0)","v":0},{"$f":"IF(LOADS!$AC127=\"BUS\",IF(LOADS!$AE127=F$1,1,0),0)","v":0},{"$f":"IF(LOADS!$AC127=\"BUS\",IF(LOADS!$AE127=G$1,1,0),0)","v":0},{"$f":"IF(LOADS!$AC127=\"BUS\",IF(LOADS!$AE127=H$1,1,0),0)","v":0},{"$f":"IF(LOADS!$AC127=\"BUS\",IF(LOADS!$AE127=I$1,1,0),0)","v":0},0,{"$f":"LOADS!AM127","v":0}]
[{"$f":"IF(ISBLANK(LOADS!A128),\"\",LOADS!A128)","v":{"$error":"#REF!"}},{"$f":"IF(ISBLANK(LOADS!B128),\"\",LOADS!B128)","v":""},{"$f":"IF(LOADS!$AC128=\"BUS\",IF(LOADS!$AE128=C$1,1,0),0)","v":0},{"$f":"IF(LOADS!$AC128=\"BUS\",IF(LOADS!$AE128=D$1,1,0),0)","v":0},{"$f":"IF(LOADS!$AC128=\"BUS\",IF(LOADS!$AE128=E$1,1,0),0)","v":0},{"$f":"IF(LOADS!$AC128=\"BUS\",IF(LOADS!$AE128=F$1,1,0),0)","v":0},{"$f":"IF(LOADS!$AC128=\"BUS\",IF(LOADS!$AE128=G$1,1,0),0)","v":0},{"$f":"IF(LOADS!$AC128=\"BUS\",IF(LOADS!$AE128=H$1,1,0),0)","v":0},{"$f":"IF(LOADS!$AC128=\"BUS\",IF(LOADS!$AE128=I$1,1,0),0)","v":0},0,{"$f":"LOADS!AM128","v":0}]
[{"$f":"IF(ISBLANK(LOADS!A129),\"\",LOADS!A129)","v":{"$error":"#REF!"}},{"$f":"IF(ISBLANK(LOADS!B129),\"\",LOADS!B129)","v":""},{"$f":"IF(LOADS!$AC129=\"BUS\",IF(LOADS!$AE129=C$1,1,0),0)","v":0},{"$f":"IF(LOADS!$AC129=\"BUS\",IF(LOADS!$AE129=D$1,1,0),0)","v":0},{"$f":"IF(LOADS!$AC129=\"BUS\",IF(LOADS!$AE129=E$1,1,0),0)","v":0},{"$f":"IF(LOADS!$AC129=\"BUS\",IF(LOADS!$AE129=F$1,1,0),0)","v":0},{"$f":"IF(LOADS!$AC129=\"BUS\",IF(LOADS!$AE129=G$1,1,0),0)","v":0},{"$f":"IF(LOADS!$AC129=\"BUS\",IF(LOADS!$AE129=H$1,1,0),0)","v":0},{"$f":"IF(LOADS!$AC129=\"BUS\",IF(LOADS!$AE129=I$1,1,0),0)","v":0},0,{"$f":"LOADS!AM129","v":0}]
[{"$f":"IF(ISBLANK(LOADS!A130),\"\",LOADS!A130)","v":{"$error":"#REF!"}},{"$f":"IF(ISBLANK(LOADS!B130),\"\",LOADS!B130)","v":""},{"$f":"IF(LOADS!$AC130=\"BUS\",IF(LOADS!$AE130=C$1,1,0),0)","v":0},{"$f":"IF(LOADS!$AC130=\"BUS\",IF(LOADS!$AE130=D$1,1,0),0)","v":0},{"$f":"IF(LOADS!$AC130=\"BUS\",IF(LOADS!$AE130=E$1,1,0),0)","v":0},{"$f":"IF(LOADS!$AC130=\"BUS\",IF(LOADS!$AE130=F$1,1,0),0)","v":0},{"$f":"IF(LOADS!$AC130=\"BUS\",IF(LOADS!$AE130=G$1,1,0),0)","v":0},{"$f":"IF(LOADS!$AC130=\"BUS\",IF(LOADS!$AE130=H$1,1,0),0)","v":0},{"$f":"IF(LOADS!$AC130=\"BUS\",IF(LOADS!$AE130=I$1,1,0),0)","v":0},{"$f":"SUM(C133:I133)","v":0},{"$f":"LOADS!AM130","v":0}]
[{"$f":"IF(ISBLANK(LOADS!A131),\"\",LOADS!A131)","v":{"$error":"#REF!"}},{"$f":"IF(ISBLANK(LOADS!B131),\"\",LOADS!B131)","v":""},{"$f":"IF(LOADS!$AC131=\"BUS\",IF(LOADS!$AE131=C$1,1,0),0)","v":0},{"$f":"IF(LOADS!$AC131=\"BUS\",IF(LOADS!$AE131=D$1,1,0),0)","v":0},{"$f":"IF(LOADS!$AC131=\"BUS\",IF(LOADS!$AE131=E$1,1,0),0)","v":0},{"$f":"IF(LOADS!$AC131=\"BUS\",IF(LOADS!$AE131=F$1,1,0),0)","v":0},{"$f":"IF(LOADS!$AC131=\"BUS\",IF(LOADS!$AE131=G$1,1,0),0)","v":0},{"$f":"IF(LOADS!$AC131=\"BUS\",IF(LOADS!$AE131=H$1,1,0),0)","v":0},{"$f":"IF(LOADS!$AC131=\"BUS\",IF(LOADS!$AE131=I$1,1,0),0)","v":0},0,{"$f":"LOADS!AM131","v":0}]
[{"$f":"IF(ISBLANK(LOADS!A132),\"\",LOADS!A132)","v":{"$error":"#REF!"}},{"$f":"IF(ISBLANK(LOADS!B132),\"\",LOADS!B132)","v":""},{"$f":"IF(LOADS!$AC132=\"BUS\",IF(LOADS!$AE132=C$1,1,0),0)","v":0},{"$f":"IF(LOADS!$AC132=\"BUS\",IF(LOADS!$AE132=D$1,1,0),0)","v":0},{"$f":"IF(LOADS!$AC132=\"BUS\",IF(LOADS!$AE132=E$1,1,0),0)","v":0},{"$f":"IF(LOADS!$AC132=\"BUS\",IF(LOADS!$AE132=F$1,1,0),0)","v":0},{"$f":"IF(LOADS!$AC132=\"BUS\",IF(LOADS!$AE132=G$1,1,0),0)","v":0},{"$f":"IF(LOADS!$AC132=\"BUS\",IF(LOADS!$AE132=H$1,1,0),0)","v":0},{"$f":"IF(LOADS!$AC132=\"BUS\",IF(LOADS!$AE132=I$1,1,0),0)","v":0},0,{"$f":"LOADS!AM132","v":0}]
[{"$f":"IF(ISBLANK(LOADS!A133),\"\",LOADS!A133)","v":{"$error":"#REF!"}},{"$f":"IF(ISBLANK(LOADS!B133),\"\",LOADS!B133)","v":""},{"$f":"IF(LOADS!$AC133=\"BUS\",IF(LOADS!$AE133=C$1,1,0),0)","v":0},{"$f":"IF(LOADS!$AC133=\"BUS\",IF(LOADS!$AE133=D$1,1,0),0)","v":0},{"$f":"IF(LOADS!$AC133=\"BUS\",IF(LOADS!$AE133=E$1,1,0),0)","v":0},{"$f":"IF(LOADS!$AC133=\"BUS\",IF(LOADS!$AE133=F$1,1,0),0)","v":0},{"$f":"IF(LOADS!$AC133=\"BUS\",IF(LOADS!$AE133=G$1,1,0),0)","v":0},{"$f":"IF(LOADS!$AC133=\"BUS\",IF(LOADS!$AE133=H$1,1,0),0)","v":0},{"$f":"IF(LOADS!$AC133=\"BUS\",IF(LOADS!$AE133=I$1,1,0),0)","v":0},0,{"$f":"LOADS!AM133","v":0}]
[{"$f":"IF(ISBLANK(LOADS!A134),\"\",LOADS!A134)","v":{"$error":"#REF!"}},{"$f":"IF(ISBLANK(LOADS!B134),\"\",LOADS!B134)","v":""},{"$f":"IF(LOADS!$AC134=\"BUS\",IF(LOADS!$AE134=C$1,1,0),0)","v":0},{"$f":"IF(LOADS!$AC134=\"BUS\",IF(LOADS!$AE134=D$1,1,0),0)","v":0},{"$f":"IF(LOADS!$AC134=\"BUS\",IF(LOADS!$AE134=E$1,1,0),0)","v":0},{"$f":"IF(LOADS!$AC134=\"BUS\",IF(LOADS!$AE134=F$1,1,0),0)","v":0},{"$f":"IF(LOADS!$AC134=\"BUS\",IF(LOADS!$AE134=G$1,1,0),0)","v":0},{"$f":"IF(LOADS!$AC134=\"BUS\",IF(LOADS!$AE134=H$1,1,0),0)","v":0},{"$f":"IF(LOADS!$AC134=\"BUS\",IF(LOADS!$AE134=I$1,1,0),0)","v":0},0,{"$f":"LOADS!AM134","v":0}]
[{"$f":"IF(ISBLANK(LOADS!A135),\"\",LOADS!A135)","v":{"$error":"#REF!"}},{"$f":"IF(ISBLANK(LOADS!B135),\"\",LOADS!B135)","v":""},{"$f":"IF(LOADS!$AC135=\"BUS\",IF(LOADS!$AE135=C$1,1,0),0)","v":0},{"$f":"IF(LOADS!$AC135=\"BUS\",IF(LOADS!$AE135=D$1,1,0),0)","v":0},{"$f":"IF(LOADS!$AC135=\"BUS\",IF(LOADS!$AE135=E$1,1,0),0)","v":0},{"$f":"IF(LOADS!$AC135=\"BUS\",IF(LOADS!$AE135=F$1,1,0),0)","v":0},{"$f":"IF(LOADS!$AC135=\"BUS\",IF(LOADS!$AE135=G$1,1,0),0)","v":0},{"$f":"IF(LOADS!$AC135=\"BUS\",IF(LOADS!$AE135=H$1,1,0),0)","v":0},{"$f":"IF(LOADS!$AC135=\"BUS\",IF(LOADS!$AE135=I$1,1,0),0)","v":0},0,{"$f":"LOADS!AM135","v":0}]
[{"$f":"IF(ISBLANK(LOADS!A136),\"\",LOADS!A136)","v":{"$error":"#REF!"}},{"$f":"IF(ISBLANK(LOADS!B136),\"\",LOADS!B136)","v":""},{"$f":"IF(LOADS!$AC136=\"BUS\",IF(LOADS!$AE136=C$1,1,0),0)","v":0},{"$f":"IF(LOADS!$AC136=\"BUS\",IF(LOADS!$AE136=D$1,1,0),0)","v":0},{"$f":"IF(LOADS!$AC136=\"BUS\",IF(LOADS!$AE136=E$1,1,0),0)","v":0},{"$f":"IF(LOADS!$AC136=\"BUS\",IF(LOADS!$AE136=F$1,1,0),0)","v":0},{"$f":"IF(LOADS!$AC136=\"BUS\",IF(LOADS!$AE136=G$1,1,0),0)","v":0},{"$f":"IF(LOADS!$AC136=\"BUS\",IF(LOADS!$AE136=H$1,1,0),0)","v":0},{"$f":"IF(LOADS!$AC136=\"BUS\",IF(LOADS!$AE136=I$1,1,0),0)","v":0},0,{"$f":"LOADS!AM136","v":0}]
[{"$f":"IF(ISBLANK(LOADS!A137),\"\",LOADS!A137)","v":{"$error":"#REF!"}},{"$f":"IF(ISBLANK(LOADS!B137),\"\",LOADS!B137)","v":""},{"$f":"IF(LOADS!$AC137=\"BUS\",IF(LOADS!$AE137=C$1,1,0),0)","v":0},{"$f":"IF(LOADS!$AC137=\"BUS\",IF(LOADS!$AE137=D$1,1,0),0)","v":0},{"$f":"IF(LOADS!$AC137=\"BUS\",IF(LOADS!$AE137=E$1,1,0),0)","v":0},{"$f":"IF(LOADS!$AC137=\"BUS\",IF(LOADS!$AE137=F$1,1,0),0)","v":0},{"$f":"IF(LOADS!$AC137=\"BUS\",IF(LOADS!$AE137=G$1,1,0),0)","v":0},{"$f":"IF(LOADS!$AC137=\"BUS\",IF(LOADS!$AE137=H$1,1,0),0)","v":0},{"$f":"IF(LOADS!$AC137=\"BUS\",IF(LOADS!$AE137=I$1,1,0),0)","v":0},0,{"$f":"LOADS!AM137","v":0}]
[{"$f":"IF(ISBLANK(LOADS!A138),\"\",LOADS!A138)","v":{"$error":"#REF!"}},{"$f":"IF(ISBLANK(LOADS!B138),\"\",LOADS!B138)","v":""},{"$f":"IF(LOADS!$AC138=\"BUS\",IF(LOADS!$AE138=C$1,1,0),0)","v":0},{"$f":"IF(LOADS!$AC138=\"BUS\",IF(LOADS!$AE138=D$1,1,0),0)","v":0},{"$f":"IF(LOADS!$AC138=\"BUS\",IF(LOADS!$AE138=E$1,1,0),0)","v":0},{"$f":"IF(LOADS!$AC138=\"BUS\",IF(LOADS!$AE138=F$1,1,0),0)","v":0},{"$f":"IF(LOADS!$AC138=\"BUS\",IF(LOADS!$AE138=G$1,1,0),0)","v":0},{"$f":"IF(LOADS!$AC138=\"BUS\",IF(LOADS!$AE138=H$1,1,0),0)","v":0},{"$f":"IF(LOADS!$AC138=\"BUS\",IF(LOADS!$AE138=I$1,1,0),0)","v":0},0,{"$f":"LOADS!AM138","v":0}]
[{"$f":"IF(ISBLANK(LOADS!A139),\"\",LOADS!A139)","v":{"$error":"#REF!"}},{"$f":"IF(ISBLANK(LOADS!B139),\"\",LOADS!B139)","v":""},{"$f":"IF(LOADS!$AC139=\"BUS\",IF(LOADS!$AE139=C$1,1,0),0)","v":0},{"$f":"IF(LOADS!$AC139=\"BUS\",IF(LOADS!$AE139=D$1,1,0),0)","v":0},{"$f":"IF(LOADS!$AC139=\"BUS\",IF(LOADS!$AE139=E$1,1,0),0)","v":0},{"$f":"IF(LOADS!$AC139=\"BUS\",IF(LOADS!$AE139=F$1,1,0),0)","v":0},{"$f":"IF(LOADS!$AC139=\"BUS\",IF(LOADS!$AE139=G$1,1,0),0)","v":0},{"$f":"IF(LOADS!$AC139=\"BUS\",IF(LOADS!$AE139=H$1,1,0),0)","v":0},{"$f":"IF(LOADS!$AC139=\"BUS\",IF(LOADS!$AE139=I$1,1,0),0)","v":0},0,{"$f":"LOADS!AM139","v":0}]
[{"$f":"IF(ISBLANK(LOADS!A140),\"\",LOADS!A140)","v":{"$error":"#REF!"}},{"$f":"IF(ISBLANK(LOADS!B140),\"\",LOADS!B140)","v":""},{"$f":"IF(LOADS!$AC140=\"BUS\",IF(LOADS!$AE140=C$1,1,0),0)","v":0},{"$f":"IF(LOADS!$AC140=\"BUS\",IF(LOADS!$AE140=D$1,1,0),0)","v":0},{"$f":"IF(LOADS!$AC140=\"BUS\",IF(LOADS!$AE140=E$1,1,0),0)","v":0},{"$f":"IF(LOADS!$AC140=\"BUS\",IF(LOADS!$AE140=F$1,1,0),0)","v":0},{"$f":"IF(LOADS!$AC140=\"BUS\",IF(LOADS!$AE140=G$1,1,0),0)","v":0},{"$f":"IF(LOADS!$AC140=\"BUS\",IF(LOADS!$AE140=H$1,1,0),0)","v":0},{"$f":"IF(LOADS!$AC140=\"BUS\",IF(LOADS!$AE140=I$1,1,0),0)","v":0},0,{"$f":"LOADS!AM140","v":0}]
[{"$f":"IF(ISBLANK(LOADS!A141),\"\",LOADS!A141)","v":{"$error":"#REF!"}},{"$f":"IF(ISBLANK(LOADS!B141),\"\",LOADS!B141)","v":""},{"$f":"IF(LOADS!$AC141=\"BUS\",IF(LOADS!$AE141=C$1,1,0),0)","v":0},{"$f":"IF(LOADS!$AC141=\"BUS\",IF(LOADS!$AE141=D$1,1,0),0)","v":0},{"$f":"IF(LOADS!$AC141=\"BUS\",IF(LOADS!$AE141=E$1,1,0),0)","v":0},{"$f":"IF(LOADS!$AC141=\"BUS\",IF(LOADS!$AE141=F$1,1,0),0)","v":0},{"$f":"IF(LOADS!$AC141=\"BUS\",IF(LOADS!$AE141=G$1,1,0),0)","v":0},{"$f":"IF(LOADS!$AC141=\"BUS\",IF(LOADS!$AE141=H$1,1,0),0)","v":0},{"$f":"IF(LOADS!$AC141=\"BUS\",IF(LOADS!$AE141=I$1,1,0),0)","v":0},0,{"$f":"LOADS!AM141","v":0}]
[{"$f":"IF(ISBLANK(LOADS!A142),\"\",LOADS!A142)","v":{"$error":"#REF!"}},{"$f":"IF(ISBLANK(LOADS!B142),\"\",LOADS!B142)","v":""},{"$f":"IF(LOADS!$AC142=\"BUS\",IF(LOADS!$AE142=C$1,1,0),0)","v":0},{"$f":"IF(LOADS!$AC142=\"BUS\",IF(LOADS!$AE142=D$1,1,0),0)","v":0},{"$f":"IF(LOADS!$AC142=\"BUS\",IF(LOADS!$AE142=E$1,1,0),0)","v":0},{"$f":"IF(LOADS!$AC142=\"BUS\",IF(LOADS!$AE142=F$1,1,0),0)","v":0},{"$f":"IF(LOADS!$AC142=\"BUS\",IF(LOADS!$AE142=G$1,1,0),0)","v":0},{"$f":"IF(LOADS!$AC142=\"BUS\",IF(LOADS!$AE142=H$1,1,0),0)","v":0},{"$f":"IF(LOADS!$AC142=\"BUS\",IF(LOADS!$AE142=I$1,1,0),0)","v":0},0,{"$f":"LOADS!AM142","v":0}]
[{"$f":"IF(ISBLANK(LOADS!A143),\"\",LOADS!A143)","v":{"$error":"#REF!"}},{"$f":"IF(ISBLANK(LOADS!B143),\"\",LOADS!B143)","v":""},{"$f":"IF(LOADS!$AC143=\"BUS\",IF(LOADS!$AE143=C$1,1,0),0)","v":0},{"$f":"IF(LOADS!$AC143=\"BUS\",IF(LOADS!$AE143=D$1,1,0),0)","v":0},{"$f":"IF(LOADS!$AC143=\"BUS\",IF(LOADS!$AE143=E$1,1,0),0)","v":0},{"$f":"IF(LOADS!$AC143=\"BUS\",IF(LOADS!$AE143=F$1,1,0),0)","v":0},{"$f":"IF(LOADS!$AC143=\"BUS\",IF(LOADS!$AE143=G$1,1,0),0)","v":0},{"$f":"IF(LOADS!$AC143=\"BUS\",IF(LOADS!$AE143=H$1,1,0),0)","v":0},{"$f":"IF(LOADS!$AC143=\"BUS\",IF(LOADS!$AE143=I$1,1,0),0)","v":0},0,{"$f":"LOADS!AM143","v":0}]
[{"$f":"IF(ISBLANK(LOADS!A144),\"\",LOADS!A144)","v":{"$error":"#REF!"}},{"$f":"IF(ISBLANK(LOADS!B144),\"\",LOADS!B144)","v":""},{"$f":"IF(LOADS!$AC144=\"BUS\",IF(LOADS!$AE144=C$1,1,0),0)","v":0},{"$f":"IF(LOADS!$AC144=\"BUS\",IF(LOADS!$AE144=D$1,1,0),0)","v":0},{"$f":"IF(LOADS!$AC144=\"BUS\",IF(LOADS!$AE144=E$1,1,0),0)","v":0},{"$f":"IF(LOADS!$AC144=\"BUS\",IF(LOADS!$AE144=F$1,1,0),0)","v":0},{"$f":"IF(LOADS!$AC144=\"BUS\",IF(LOADS!$AE144=G$1,1,0),0)","v":0},{"$f":"IF(LOADS!$AC144=\"BUS\",IF(LOADS!$AE144=H$1,1,0),0)","v":0},{"$f":"IF(LOADS!$AC144=\"BUS\",IF(LOADS!$AE144=I$1,1,0),0)","v":0},0,{"$f":"LOADS!AM144","v":0}]
[{"$f":"IF(ISBLANK(LOADS!A145),\"\",LOADS!A145)","v":{"$error":"#REF!"}},{"$f":"IF(ISBLANK(LOADS!B145),\"\",LOADS!B145)","v":""},{"$f":"IF(LOADS!$AC145=\"BUS\",IF(LOADS!$AE145=C$1,1,0),0)","v":0},{"$f":"IF(LOADS!$AC145=\"BUS\",IF(LOADS!$AE145=D$1,1,0),0)","v":0},{"$f":"IF(LOADS!$AC145=\"BUS\",IF(LOADS!$AE145=E$1,1,0),0)","v":0},{"$f":"IF(LOADS!$AC145=\"BUS\",IF(LOADS!$AE145=F$1,1,0),0)","v":0},{"$f":"IF(LOADS!$AC145=\"BUS\",IF(LOADS!$AE145=G$1,1,0),0)","v":0},{"$f":"IF(LOADS!$AC145=\"BUS\",IF(LOADS!$AE145=H$1,1,0),0)","v":0},{"$f":"IF(LOADS!$AC145=\"BUS\",IF(LOADS!$AE145=I$1,1,0),0)","v":0},0,{"$f":"LOADS!AM145","v":0}]
[{"$f":"IF(ISBLANK(LOADS!A146),\"\",LOADS!A146)","v":{"$error":"#REF!"}},{"$f":"IF(ISBLANK(LOADS!B146),\"\",LOADS!B146)","v":""},{"$f":"IF(LOADS!$AC146=\"BUS\",IF(LOADS!$AE146=C$1,1,0),0)","v":0},{"$f":"IF(LOADS!$AC146=\"BUS\",IF(LOADS!$AE146=D$1,1,0),0)","v":0},{"$f":"IF(LOADS!$AC146=\"BUS\",IF(LOADS!$AE146=E$1,1,0),0)","v":0},{"$f":"IF(LOADS!$AC146=\"BUS\",IF(LOADS!$AE146=F$1,1,0),0)","v":0},{"$f":"IF(LOADS!$AC146=\"BUS\",IF(LOADS!$AE146=G$1,1,0),0)","v":0},{"$f":"IF(LOADS!$AC146=\"BUS\",IF(LOADS!$AE146=H$1,1,0),0)","v":0},{"$f":"IF(LOADS!$AC146=\"BUS\",IF(LOADS!$AE146=I$1,1,0),0)","v":0},0,{"$f":"LOADS!AM146","v":0}]
[{"$f":"IF(ISBLANK(LOADS!A147),\"\",LOADS!A147)","v":{"$error":"#REF!"}},{"$f":"IF(ISBLANK(LOADS!B147),\"\",LOADS!B147)","v":""},{"$f":"IF(LOADS!$AC147=\"BUS\",IF(LOADS!$AE147=C$1,1,0),0)","v":0},{"$f":"IF(LOADS!$AC147=\"BUS\",IF(LOADS!$AE147=D$1,1,0),0)","v":0},{"$f":"IF(LOADS!$AC147=\"BUS\",IF(LOADS!$AE147=E$1,1,0),0)","v":0},{"$f":"IF(LOADS!$AC147=\"BUS\",IF(LOADS!$AE147=F$1,1,0),0)","v":0},{"$f":"IF(LOADS!$AC147=\"BUS\",IF(LOADS!$AE147=G$1,1,0),0)","v":0},{"$f":"IF(LOADS!$AC147=\"BUS\",IF(LOADS!$AE147=H$1,1,0),0)","v":0},{"$f":"IF(LOADS!$AC147=\"BUS\",IF(LOADS!$AE147=I$1,1,0),0)","v":0},0,{"$f":"LOADS!AM147","v":0}]
[{"$f":"IF(ISBLANK(LOADS!A148),\"\",LOADS!A148)","v":{"$error":"#REF!"}},{"$f":"IF(ISBLANK(LOADS!B148),\"\",LOADS!B148)","v":""},{"$f":"IF(LOADS!$AC148=\"BUS\",IF(LOADS!$AE148=C$1,1,0),0)","v":0},{"$f":"IF(LOADS!$AC148=\"BUS\",IF(LOADS!$AE148=D$1,1,0),0)","v":0},{"$f":"IF(LOADS!$AC148=\"BUS\",IF(LOADS!$AE148=E$1,1,0),0)","v":0},{"$f":"IF(LOADS!$AC148=\"BUS\",IF(LOADS!$AE148=F$1,1,0),0)","v":0},{"$f":"IF(LOADS!$AC148=\"BUS\",IF(LOADS!$AE148=G$1,1,0),0)","v":0},{"$f":"IF(LOADS!$AC148=\"BUS\",IF(LOADS!$AE148=H$1,1,0),0)","v":0},{"$f":"IF(LOADS!$AC148=\"BUS\",IF(LOADS!$AE148=I$1,1,0),0)","v":0},0,{"$f":"LOADS!AM148","v":0}]
[{"$f":"IF(ISBLANK(LOADS!A149),\"\",LOADS!A149)","v":{"$error":"#REF!"}},{"$f":"IF(ISBLANK(LOADS!B149),\"\",LOADS!B149)","v":""},{"$f":"IF(LOADS!$AC149=\"BUS\",IF(LOADS!$AE149=C$1,1,0),0)","v":0},{"$f":"IF(LOADS!$AC149=\"BUS\",IF(LOADS!$AE149=D$1,1,0),0)","v":0},{"$f":"IF(LOADS!$AC149=\"BUS\",IF(LOADS!$AE149=E$1,1,0),0)","v":0},{"$f":"IF(LOADS!$AC149=\"BUS\",IF(LOADS!$AE149=F$1,1,0),0)","v":0},{"$f":"IF(LOADS!$AC149=\"BUS\",IF(LOADS!$AE149=G$1,1,0),0)","v":0},{"$f":"IF(LOADS!$AC149=\"BUS\",IF(LOADS!$AE149=H$1,1,0),0)","v":0},{"$f":"IF(LOADS!$AC149=\"BUS\",IF(LOADS!$AE149=I$1,1,0),0)","v":0},0,{"$f":"LOADS!AM149","v":0}]
[{"$f":"IF(ISBLANK(LOADS!A150),\"\",LOADS!A150)","v":{"$error":"#REF!"}},{"$f":"IF(ISBLANK(LOADS!B150),\"\",LOADS!B150)","v":""},{"$f":"IF(LOADS!$AC150=\"BUS\",IF(LOADS!$AE150=C$1,1,0),0)","v":0},{"$f":"IF(LOADS!$AC150=\"BUS\",IF(LOADS!$AE150=D$1,1,0),0)","v":0},{"$f":"IF(LOADS!$AC150=\"BUS\",IF(LOADS!$AE150=E$1,1,0),0)","v":0},{"$f":"IF(LOADS!$AC150=\"BUS\",IF(LOADS!$AE150=F$1,1,0),0)","v":0},{"$f":"IF(LOADS!$AC150=\"BUS\",IF(LOADS!$AE150=G$1,1,0),0)","v":0},{"$f":"IF(LOADS!$AC150=\"BUS\",IF(LOADS!$AE150=H$1,1,0),0)","v":0},{"$f":"IF(LOADS!$AC150=\"BUS\",IF(LOADS!$AE150=I$1,1,0),0)","v":0},0,{"$f":"LOADS!AM150","v":0}]
[{"$f":"IF(ISBLANK(LOADS!A151),\"\",LOADS!A151)","v":{"$error":"#REF!"}},{"$f":"IF(ISBLANK(LOADS!B151),\"\",LOADS!B151)","v":""},{"$f":"IF(LOADS!$AC151=\"BUS\",IF(LOADS!$AE151=C$1,1,0),0)","v":0},{"$f":"IF(LOADS!$AC151=\"BUS\",IF(LOADS!$AE151=D$1,1,0),0)","v":0},{"$f":"IF(LOADS!$AC151=\"BUS\",IF(LOADS!$AE151=E$1,1,0),0)","v":0},{"$f":"IF(LOADS!$AC151=\"BUS\",IF(LOADS!$AE151=F$1,1,0),0)","v":0},{"$f":"IF(LOADS!$AC151=\"BUS\",IF(LOADS!$AE151=G$1,1,0),0)","v":0},{"$f":"IF(LOADS!$AC151=\"BUS\",IF(LOADS!$AE151=H$1,1,0),0)","v":0},{"$f":"IF(LOADS!$AC151=\"BUS\",IF(LOADS!$AE151=I$1,1,0),0)","v":0},0,{"$f":"LOADS!AM151","v":0}]
[{"$f":"IF(ISBLANK(LOADS!A152),\"\",LOADS!A152)","v":{"$error":"#REF!"}},{"$f":"IF(ISBLANK(LOADS!B152),\"\",LOADS!B152)","v":""},{"$f":"IF(LOADS!$AC152=\"BUS\",IF(LOADS!$AE152=C$1,1,0),0)","v":0},{"$f":"IF(LOADS!$AC152=\"BUS\",IF(LOADS!$AE152=D$1,1,0),0)","v":0},{"$f":"IF(LOADS!$AC152=\"BUS\",IF(LOADS!$AE152=E$1,1,0),0)","v":0},{"$f":"IF(LOADS!$AC152=\"BUS\",IF(LOADS!$AE152=F$1,1,0),0)","v":0},{"$f":"IF(LOADS!$AC152=\"BUS\",IF(LOADS!$AE152=G$1,1,0),0)","v":0},{"$f":"IF(LOADS!$AC152=\"BUS\",IF(LOADS!$AE152=H$1,1,0),0)","v":0},{"$f":"IF(LOADS!$AC152=\"BUS\",IF(LOADS!$AE152=I$1,1,0),0)","v":0},0,{"$f":"LOADS!AM152","v":0}]
[{"$f":"IF(ISBLANK(LOADS!A153),\"\",LOADS!A153)","v":{"$error":"#REF!"}},{"$f":"IF(ISBLANK(LOADS!B153),\"\",LOADS!B153)","v":""},{"$f":"IF(LOADS!$AC153=\"BUS\",IF(LOADS!$AE153=C$1,1,0),0)","v":0},{"$f":"IF(LOADS!$AC153=\"BUS\",IF(LOADS!$AE153=D$1,1,0),0)","v":0},{"$f":"IF(LOADS!$AC153=\"BUS\",IF(LOADS!$AE153=E$1,1,0),0)","v":0},{"$f":"IF(LOADS!$AC153=\"BUS\",IF(LOADS!$AE153=F$1,1,0),0)","v":0},{"$f":"IF(LOADS!$AC153=\"BUS\",IF(LOADS!$AE153=G$1,1,0),0)","v":0},{"$f":"IF(LOADS!$AC153=\"BUS\",IF(LOADS!$AE153=H$1,1,0),0)","v":0},{"$f":"IF(LOADS!$AC153=\"BUS\",IF(LOADS!$AE153=I$1,1,0),0)","v":0},0,{"$f":"LOADS!AM153","v":0}]
[{"$f":"IF(ISBLANK(LOADS!A154),\"\",LOADS!A154)","v":{"$error":"#REF!"}},{"$f":"IF(ISBLANK(LOADS!B154),\"\",LOADS!B154)","v":""},{"$f":"IF(LOADS!$AC154=\"BUS\",IF(LOADS!$AE154=C$1,1,0),0)","v":0},{"$f":"IF(LOADS!$AC154=\"BUS\",IF(LOADS!$AE154=D$1,1,0),0)","v":0},{"$f":"IF(LOADS!$AC154=\"BUS\",IF(LOADS!$AE154=E$1,1,0),0)","v":0},{"$f":"IF(LOADS!$AC154=\"BUS\",IF(LOADS!$AE154=F$1,1,0),0)","v":0},{"$f":"IF(LOADS!$AC154=\"BUS\",IF(LOADS!$AE154=G$1,1,0),0)","v":0},{"$f":"IF(LOADS!$AC154=\"BUS\",IF(LOADS!$AE154=H$1,1,0),0)","v":0},{"$f":"IF(LOADS!$AC154=\"BUS\",IF(LOADS!$AE154=I$1,1,0),0)","v":0},0,{"$f":"LOADS!AM154","v":0}]
[{"$f":"IF(ISBLANK(LOADS!A155),\"\",LOADS!A155)","v":{"$error":"#REF!"}},{"$f":"IF(ISBLANK(LOADS!B155),\"\",LOADS!B155)","v":""},{"$f":"IF(LOADS!$AC155=\"BUS\",IF(LOADS!$AE155=C$1,1,0),0)","v":0},{"$f":"IF(LOADS!$AC155=\"BUS\",IF(LOADS!$AE155=D$1,1,0),0)","v":0},{"$f":"IF(LOADS!$AC155=\"BUS\",IF(LOADS!$AE155=E$1,1,0),0)","v":0},{"$f":"IF(LOADS!$AC155=\"BUS\",IF(LOADS!$AE155=F$1,1,0),0)","v":0},{"$f":"IF(LOADS!$AC155=\"BUS\",IF(LOADS!$AE155=G$1,1,0),0)","v":0},{"$f":"IF(LOADS!$AC155=\"BUS\",IF(LOADS!$AE155=H$1,1,0),0)","v":0},{"$f":"IF(LOADS!$AC155=\"BUS\",IF(LOADS!$AE155=I$1,1,0),0)","v":0},0,{"$f":"LOADS!AM155","v":0}]
[{"$f":"IF(ISBLANK(LOADS!A156),\"\",LOADS!A156)","v":{"$error":"#REF!"}},{"$f":"IF(ISBLANK(LOADS!B156),\"\",LOADS!B156)","v":""},{"$f":"IF(LOADS!$AC156=\"BUS\",IF(LOADS!$AE156=C$1,1,0),0)","v":0},{"$f":"IF(LOADS!$AC156=\"BUS\",IF(LOADS!$AE156=D$1,1,0),0)","v":0},{"$f":"IF(LOADS!$AC156=\"BUS\",IF(LOADS!$AE156=E$1,1,0),0)","v":0},{"$f":"IF(LOADS!$AC156=\"BUS\",IF(LOADS!$AE156=F$1,1,0),0)","v":0},{"$f":"IF(LOADS!$AC156=\"BUS\",IF(LOADS!$AE156=G$1,1,0),0)","v":0},{"$f":"IF(LOADS!$AC156=\"BUS\",IF(LOADS!$AE156=H$1,1,0),0)","v":0},{"$f":"IF(LOADS!$AC156=\"BUS\",IF(LOADS!$AE156=I$1,1,0),0)","v":0},0,{"$f":"LOADS!AM156","v":0}]
[{"$f":"IF(ISBLANK(LOADS!A157),\"\",LOADS!A157)","v":{"$error":"#REF!"}},{"$f":"IF(ISBLANK(LOADS!B157),\"\",LOADS!B157)","v":""},{"$f":"IF(LOADS!$AC157=\"BUS\",IF(LOADS!$AE157=C$1,1,0),0)","v":0},{"$f":"IF(LOADS!$AC157=\"BUS\",IF(LOADS!$AE157=D$1,1,0),0)","v":0},{"$f":"IF(LOADS!$AC157=\"BUS\",IF(LOADS!$AE157=E$1,1,0),0)","v":0},{"$f":"IF(LOADS!$AC157=\"BUS\",IF(LOADS!$AE157=F$1,1,0),0)","v":0},{"$f":"IF(LOADS!$AC157=\"BUS\",IF(LOADS!$AE157=G$1,1,0),0)","v":0},{"$f":"IF(LOADS!$AC157=\"BUS\",IF(LOADS!$AE157=H$1,1,0),0)","v":0},{"$f":"IF(LOADS!$AC157=\"BUS\",IF(LOADS!$AE157=I$1,1,0),0)","v":0},0,{"$f":"LOADS!AM157","v":0}]
[{"$f":"IF(ISBLANK(LOADS!A158),\"\",LOADS!A158)","v":{"$error":"#REF!"}},{"$f":"IF(ISBLANK(LOADS!B158),\"\",LOADS!B158)","v":""},{"$f":"IF(LOADS!$AC158=\"BUS\",IF(LOADS!$AE158=C$1,1,0),0)","v":0},{"$f":"IF(LOADS!$AC158=\"BUS\",IF(LOADS!$AE158=D$1,1,0),0)","v":0},{"$f":"IF(LOADS!$AC158=\"BUS\",IF(LOADS!$AE158=E$1,1,0),0)","v":0},{"$f":"IF(LOADS!$AC158=\"BUS\",IF(LOADS!$AE158=F$1,1,0),0)","v":0},{"$f":"IF(LOADS!$AC158=\"BUS\",IF(LOADS!$AE158=G$1,1,0),0)","v":0},{"$f":"IF(LOADS!$AC158=\"BUS\",IF(LOADS!$AE158=H$1,1,0),0)","v":0},{"$f":"IF(LOADS!$AC158=\"BUS\",IF(LOADS!$AE158=I$1,1,0),0)","v":0},0,{"$f":"LOADS!AM158","v":0}]
[{"$f":"IF(ISBLANK(LOADS!A159),\"\",LOADS!A159)","v":{"$error":"#REF!"}},{"$f":"IF(ISBLANK(LOADS!B159),\"\",LOADS!B159)","v":""},{"$f":"IF(LOADS!$AC159=\"BUS\",IF(LOADS!$AE159=C$1,1,0),0)","v":0},{"$f":"IF(LOADS!$AC159=\"BUS\",IF(LOADS!$AE159=D$1,1,0),0)","v":0},{"$f":"IF(LOADS!$AC159=\"BUS\",IF(LOADS!$AE159=E$1,1,0),0)","v":0},{"$f":"IF(LOADS!$AC159=\"BUS\",IF(LOADS!$AE159=F$1,1,0),0)","v":0},{"$f":"IF(LOADS!$AC159=\"BUS\",IF(LOADS!$AE159=G$1,1,0),0)","v":0},{"$f":"IF(LOADS!$AC159=\"BUS\",IF(LOADS!$AE159=H$1,1,0),0)","v":0},{"$f":"IF(LOADS!$AC159=\"BUS\",IF(LOADS!$AE159=I$1,1,0),0)","v":0},0,{"$f":"LOADS!AM159","v":0}]
[{"$f":"IF(ISBLANK(LOADS!A160),\"\",LOADS!A160)","v":{"$error":"#REF!"}},{"$f":"IF(ISBLANK(LOADS!B160),\"\",LOADS!B160)","v":""},{"$f":"IF(LOADS!$AC160=\"BUS\",IF(LOADS!$AE160=C$1,1,0),0)","v":0},{"$f":"IF(LOADS!$AC160=\"BUS\",IF(LOADS!$AE160=D$1,1,0),0)","v":0},{"$f":"IF(LOADS!$AC160=\"BUS\",IF(LOADS!$AE160=E$1,1,0),0)","v":0},{"$f":"IF(LOADS!$AC160=\"BUS\",IF(LOADS!$AE160=F$1,1,0),0)","v":0},{"$f":"IF(LOADS!$AC160=\"BUS\",IF(LOADS!$AE160=G$1,1,0),0)","v":0},{"$f":"IF(LOADS!$AC160=\"BUS\",IF(LOADS!$AE160=H$1,1,0),0)","v":0},{"$f":"IF(LOADS!$AC160=\"BUS\",IF(LOADS!$AE160=I$1,1,0),0)","v":0},0,{"$f":"LOADS!AM160","v":0}]
[{"$f":"IF(ISBLANK(LOADS!A161),\"\",LOADS!A161)","v":{"$error":"#REF!"}},{"$f":"IF(ISBLANK(LOADS!B161),\"\",LOADS!B161)","v":""},{"$f":"IF(LOADS!$AC161=\"BUS\",IF(LOADS!$AE161=C$1,1,0),0)","v":0},{"$f":"IF(LOADS!$AC161=\"BUS\",IF(LOADS!$AE161=D$1,1,0),0)","v":0},{"$f":"IF(LOADS!$AC161=\"BUS\",IF(LOADS!$AE161=E$1,1,0),0)","v":0},{"$f":"IF(LOADS!$AC161=\"BUS\",IF(LOADS!$AE161=F$1,1,0),0)","v":0},{"$f":"IF(LOADS!$AC161=\"BUS\",IF(LOADS!$AE161=G$1,1,0),0)","v":0},{"$f":"IF(LOADS!$AC161=\"BUS\",IF(LOADS!$AE161=H$1,1,0),0)","v":0},{"$f":"IF(LOADS!$AC161=\"BUS\",IF(LOADS!$AE161=I$1,1,0),0)","v":0},0,{"$f":"LOADS!AM161","v":0}]
[{"$f":"IF(ISBLANK(LOADS!A162),\"\",LOADS!A162)","v":{"$error":"#REF!"}},{"$f":"IF(ISBLANK(LOADS!B162),\"\",LOADS!B162)","v":""},{"$f":"IF(LOADS!$AC162=\"BUS\",IF(LOADS!$AE162=C$1,1,0),0)","v":0},{"$f":"IF(LOADS!$AC162=\"BUS\",IF(LOADS!$AE162=D$1,1,0),0)","v":0},{"$f":"IF(LOADS!$AC162=\"BUS\",IF(LOADS!$AE162=E$1,1,0),0)","v":0},{"$f":"IF(LOADS!$AC162=\"BUS\",IF(LOADS!$AE162=F$1,1,0),0)","v":0},{"$f":"IF(LOADS!$AC162=\"BUS\",IF(LOADS!$AE162=G$1,1,0),0)","v":0},{"$f":"IF(LOADS!$AC162=\"BUS\",IF(LOADS!$AE162=H$1,1,0),0)","v":0},{"$f":"IF(LOADS!$AC162=\"BUS\",IF(LOADS!$AE162=I$1,1,0),0)","v":0},0,{"$f":"LOADS!AM162","v":0}]
[{"$f":"IF(ISBLANK(LOADS!A163),\"\",LOADS!A163)","v":{"$error":"#REF!"}},{"$f":"IF(ISBLANK(LOADS!B163),\"\",LOADS!B163)","v":""},{"$f":"IF(LOADS!$AC163=\"BUS\",IF(LOADS!$AE163=C$1,1,0),0)","v":0},{"$f":"IF(LOADS!$AC163=\"BUS\",IF(LOADS!$AE163=D$1,1,0),0)","v":0},{"$f":"IF(LOADS!$AC163=\"BUS\",IF(LOADS!$AE163=E$1,1,0),0)","v":0},{"$f":"IF(LOADS!$AC163=\"BUS\",IF(LOADS!$AE163=F$1,1,0),0)","v":0},{"$f":"IF(LOADS!$AC163=\"BUS\",IF(LOADS!$AE163=G$1,1,0),0)","v":0},{"$f":"IF(LOADS!$AC163=\"BUS\",IF(LOADS!$AE163=H$1,1,0),0)","v":0},{"$f":"IF(LOADS!$AC163=\"BUS\",IF(LOADS!$AE163=I$1,1,0),0)","v":0},0,{"$f":"LOADS!AM163","v":0}]
[{"$f":"IF(ISBLANK(LOADS!A164),\"\",LOADS!A164)","v":{"$error":"#REF!"}},{"$f":"IF(ISBLANK(LOADS!B164),\"\",LOADS!B164)","v":""},{"$f":"IF(LOADS!$AC164=\"BUS\",IF(LOADS!$AE164=C$1,1,0),0)","v":0},{"$f":"IF(LOADS!$AC164=\"BUS\",IF(LOADS!$AE164=D$1,1,0),0)","v":0},{"$f":"IF(LOADS!$AC164=\"BUS\",IF(LOADS!$AE164=E$1,1,0),0)","v":0},{"$f":"IF(LOADS!$AC164=\"BUS\",IF(LOADS!$AE164=F$1,1,0),0)","v":0},{"$f":"IF(LOADS!$AC164=\"BUS\",IF(LOADS!$AE164=G$1,1,0),0)","v":0},{"$f":"IF(LOADS!$AC164=\"BUS\",IF(LOADS!$AE164=H$1,1,0),0)","v":0},{"$f":"IF(LOADS!$AC164=\"BUS\",IF(LOADS!$AE164=I$1,1,0),0)","v":0},0,{"$f":"LOADS!AM164","v":0}]
[{"$f":"IF(ISBLANK(LOADS!A165),\"\",LOADS!A165)","v":{"$error":"#REF!"}},{"$f":"IF(ISBLANK(LOADS!B165),\"\",LOADS!B165)","v":""},{"$f":"IF(LOADS!$AC165=\"BUS\",IF(LOADS!$AE165=C$1,1,0),0)","v":0},{"$f":"IF(LOADS!$AC165=\"BUS\",IF(LOADS!$AE165=D$1,1,0),0)","v":0},{"$f":"IF(LOADS!$AC165=\"BUS\",IF(LOADS!$AE165=E$1,1,0),0)","v":0},{"$f":"IF(LOADS!$AC165=\"BUS\",IF(LOADS!$AE165=F$1,1,0),0)","v":0},{"$f":"IF(LOADS!$AC165=\"BUS\",IF(LOADS!$AE165=G$1,1,0),0)","v":0},{"$f":"IF(LOADS!$AC165=\"BUS\",IF(LOADS!$AE165=H$1,1,0),0)","v":0},{"$f":"IF(LOADS!$AC165=\"BUS\",IF(LOADS!$AE165=I$1,1,0),0)","v":0},0,{"$f":"LOADS!AM165","v":0}]
[{"$f":"IF(ISBLANK(LOADS!A166),\"\",LOADS!A166)","v":{"$error":"#REF!"}},{"$f":"IF(ISBLANK(LOADS!B166),\"\",LOADS!B166)","v":""},{"$f":"IF(LOADS!$AC166=\"BUS\",IF(LOADS!$AE166=C$1,1,0),0)","v":0},{"$f":"IF(LOADS!$AC166=\"BUS\",IF(LOADS!$AE166=D$1,1,0),0)","v":0},{"$f":"IF(LOADS!$AC166=\"BUS\",IF(LOADS!$AE166=E$1,1,0),0)","v":0},{"$f":"IF(LOADS!$AC166=\"BUS\",IF(LOADS!$AE166=F$1,1,0),0)","v":0},{"$f":"IF(LOADS!$AC166=\"BUS\",IF(LOADS!$AE166=G$1,1,0),0)","v":0},{"$f":"IF(LOADS!$AC166=\"BUS\",IF(LOADS!$AE166=H$1,1,0),0)","v":0},{"$f":"IF(LOADS!$AC166=\"BUS\",IF(LOADS!$AE166=I$1,1,0),0)","v":0},0,{"$f":"LOADS!AM166","v":0}]
[{"$f":"IF(ISBLANK(LOADS!A167),\"\",LOADS!A167)","v":{"$error":"#REF!"}},{"$f":"IF(ISBLANK(LOADS!B167),\"\",LOADS!B167)","v":""},{"$f":"IF(LOADS!$AC167=\"BUS\",IF(LOADS!$AE167=C$1,1,0),0)","v":0},{"$f":"IF(LOADS!$AC167=\"BUS\",IF(LOADS!$AE167=D$1,1,0),0)","v":0},{"$f":"IF(LOADS!$AC167=\"BUS\",IF(LOADS!$AE167=E$1,1,0),0)","v":0},{"$f":"IF(LOADS!$AC167=\"BUS\",IF(LOADS!$AE167=F$1,1,0),0)","v":0},{"$f":"IF(LOADS!$AC167=\"BUS\",IF(LOADS!$AE167=G$1,1,0),0)","v":0},{"$f":"IF(LOADS!$AC167=\"BUS\",IF(LOADS!$AE167=H$1,1,0),0)","v":0},{"$f":"IF(LOADS!$AC167=\"BUS\",IF(LOADS!$AE167=I$1,1,0),0)","v":0},0,{"$f":"LOADS!AM167","v":0}]
[{"$f":"IF(ISBLANK(LOADS!A168),\"\",LOADS!A168)","v":{"$error":"#REF!"}},{"$f":"IF(ISBLANK(LOADS!B168),\"\",LOADS!B168)","v":""},{"$f":"IF(LOADS!$AC168=\"BUS\",IF(LOADS!$AE168=C$1,1,0),0)","v":0},{"$f":"IF(LOADS!$AC168=\"BUS\",IF(LOADS!$AE168=D$1,1,0),0)","v":0},{"$f":"IF(LOADS!$AC168=\"BUS\",IF(LOADS!$AE168=E$1,1,0),0)","v":0},{"$f":"IF(LOADS!$AC168=\"BUS\",IF(LOADS!$AE168=F$1,1,0),0)","v":0},{"$f":"IF(LOADS!$AC168=\"BUS\",IF(LOADS!$AE168=G$1,1,0),0)","v":0},{"$f":"IF(LOADS!$AC168=\"BUS\",IF(LOADS!$AE168=H$1,1,0),0)","v":0},{"$f":"IF(LOADS!$AC168=\"BUS\",IF(LOADS!$AE168=I$1,1,0),0)","v":0},0,{"$f":"LOADS!AM168","v":0}]
[{"$f":"IF(ISBLANK(LOADS!A169),\"\",LOADS!A169)","v":{"$error":"#REF!"}},{"$f":"IF(ISBLANK(LOADS!B169),\"\",LOADS!B169)","v":""},{"$f":"IF(LOADS!$AC169=\"BUS\",IF(LOADS!$AE169=C$1,1,0),0)","v":0},{"$f":"IF(LOADS!$AC169=\"BUS\",IF(LOADS!$AE169=D$1,1,0),0)","v":0},{"$f":"IF(LOADS!$AC169=\"BUS\",IF(LOADS!$AE169=E$1,1,0),0)","v":0},{"$f":"IF(LOADS!$AC169=\"BUS\",IF(LOADS!$AE169=F$1,1,0),0)","v":0},{"$f":"IF(LOADS!$AC169=\"BUS\",IF(LOADS!$AE169=G$1,1,0),0)","v":0},{"$f":"IF(LOADS!$AC169=\"BUS\",IF(LOADS!$AE169=H$1,1,0),0)","v":0},{"$f":"IF(LOADS!$AC169=\"BUS\",IF(LOADS!$AE169=I$1,1,0),0)","v":0},0,{"$f":"LOADS!AM169","v":0}]
[{"$f":"IF(ISBLANK(LOADS!A170),\"\",LOADS!A170)","v":{"$error":"#REF!"}},{"$f":"IF(ISBLANK(LOADS!B170),\"\",LOADS!B170)","v":""},{"$f":"IF(LOADS!$AC170=\"BUS\",IF(LOADS!$AE170=C$1,1,0),0)","v":0},{"$f":"IF(LOADS!$AC170=\"BUS\",IF(LOADS!$AE170=D$1,1,0),0)","v":0},{"$f":"IF(LOADS!$AC170=\"BUS\",IF(LOADS!$AE170=E$1,1,0),0)","v":0},{"$f":"IF(LOADS!$AC170=\"BUS\",IF(LOADS!$AE170=F$1,1,0),0)","v":0},{"$f":"IF(LOADS!$AC170=\"BUS\",IF(LOADS!$AE170=G$1,1,0),0)","v":0},{"$f":"IF(LOADS!$AC170=\"BUS\",IF(LOADS!$AE170=H$1,1,0),0)","v":0},{"$f":"IF(LOADS!$AC170=\"BUS\",IF(LOADS!$AE170=I$1,1,0),0)","v":0},0,{"$f":"LOADS!AM170","v":0}]
[{"$f":"IF(ISBLANK(LOADS!A171),\"\",LOADS!A171)","v":{"$error":"#REF!"}},{"$f":"IF(ISBLANK(LOADS!B171),\"\",LOADS!B171)","v":""},{"$f":"IF(LOADS!$AC171=\"BUS\",IF(LOADS!$AE171=C$1,1,0),0)","v":0},{"$f":"IF(LOADS!$AC171=\"BUS\",IF(LOADS!$AE171=D$1,1,0),0)","v":0},{"$f":"IF(LOADS!$AC171=\"BUS\",IF(LOADS!$AE171=E$1,1,0),0)","v":0},{"$f":"IF(LOADS!$AC171=\"BUS\",IF(LOADS!$AE171=F$1,1,0),0)","v":0},{"$f":"IF(LOADS!$AC171=\"BUS\",IF(LOADS!$AE171=G$1,1,0),0)","v":0},{"$f":"IF(LOADS!$AC171=\"BUS\",IF(LOADS!$AE171=H$1,1,0),0)","v":0},{"$f":"IF(LOADS!$AC171=\"BUS\",IF(LOADS!$AE171=I$1,1,0),0)","v":0},0,{"$f":"LOADS!AM171","v":0}]
[{"$f":"IF(ISBLANK(LOADS!A172),\"\",LOADS!A172)","v":{"$error":"#REF!"}},{"$f":"IF(ISBLANK(LOADS!B172),\"\",LOADS!B172)","v":""},{"$f":"IF(LOADS!$AC172=\"BUS\",IF(LOADS!$AE172=C$1,1,0),0)","v":0},{"$f":"IF(LOADS!$AC172=\"BUS\",IF(LOADS!$AE172=D$1,1,0),0)","v":0},{"$f":"IF(LOADS!$AC172=\"BUS\",IF(LOADS!$AE172=E$1,1,0),0)","v":0},{"$f":"IF(LOADS!$AC172=\"BUS\",IF(LOADS!$AE172=F$1,1,0),0)","v":0},{"$f":"IF(LOADS!$AC172=\"BUS\",IF(LOADS!$AE172=G$1,1,0),0)","v":0},{"$f":"IF(LOADS!$AC172=\"BUS\",IF(LOADS!$AE172=H$1,1,0),0)","v":0},{"$f":"IF(LOADS!$AC172=\"BUS\",IF(LOADS!$AE172=I$1,1,0),0)","v":0},0,{"$f":"LOADS!AM172","v":0}]
[{"$f":"IF(ISBLANK(LOADS!A173),\"\",LOADS!A173)","v":{"$error":"#REF!"}},{"$f":"IF(ISBLANK(LOADS!B173),\"\",LOADS!B173)","v":""},{"$f":"IF(LOADS!$AC173=\"BUS\",IF(LOADS!$AE173=C$1,1,0),0)","v":0},{"$f":"IF(LOADS!$AC173=\"BUS\",IF(LOADS!$AE173=D$1,1,0),0)","v":0},{"$f":"IF(LOADS!$AC173=\"BUS\",IF(LOADS!$AE173=E$1,1,0),0)","v":0},{"$f":"IF(LOADS!$AC173=\"BUS\",IF(LOADS!$AE173=F$1,1,0),0)","v":0},{"$f":"IF(LOADS!$AC173=\"BUS\",IF(LOADS!$AE173=G$1,1,0),0)","v":0},{"$f":"IF(LOADS!$AC173=\"BUS\",IF(LOADS!$AE173=H$1,1,0),0)","v":0},{"$f":"IF(LOADS!$AC173=\"BUS\",IF(LOADS!$AE173=I$1,1,0),0)","v":0},0,{"$f":"LOADS!AM173","v":0}]
[{"$f":"IF(ISBLANK(LOADS!A174),\"\",LOADS!A174)","v":{"$error":"#REF!"}},{"$f":"IF(ISBLANK(LOADS!B174),\"\",LOADS!B174)","v":""},{"$f":"IF(LOADS!$AC174=\"BUS\",IF(LOADS!$AE174=C$1,1,0),0)","v":0},{"$f":"IF(LOADS!$AC174=\"BUS\",IF(LOADS!$AE174=D$1,1,0),0)","v":0},{"$f":"IF(LOADS!$AC174=\"BUS\",IF(LOADS!$AE174=E$1,1,0),0)","v":0},{"$f":"IF(LOADS!$AC174=\"BUS\",IF(LOADS!$AE174=F$1,1,0),0)","v":0},{"$f":"IF(LOADS!$AC174=\"BUS\",IF(LOADS!$AE174=G$1,1,0),0)","v":0},{"$f":"IF(LOADS!$AC174=\"BUS\",IF(LOADS!$AE174=H$1,1,0),0)","v":0},{"$f":"IF(LOADS!$AC174=\"BUS\",IF(LOADS!$AE174=I$1,1,0),0)","v":0},0,{"$f":"LOADS!AM174","v":0}]
[{"$f":"IF(ISBLANK(LOADS!A175),\"\",LOADS!A175)","v":{"$error":"#REF!"}},{"$f":"IF(ISBLANK(LOADS!B175),\"\",LOADS!B175)","v":""},{"$f":"IF(LOADS!$AC175=\"BUS\",IF(LOADS!$AE175=C$1,1,0),0)","v":0},{"$f":"IF(LOADS!$AC175=\"BUS\",IF(LOADS!$AE175=D$1,1,0),0)","v":0},{"$f":"IF(LOADS!$AC175=\"BUS\",IF(LOADS!$AE175=E$1,1,0),0)","v":0},{"$f":"IF(LOADS!$AC175=\"BUS\",IF(LOADS!$AE175=F$1,1,0),0)","v":0},{"$f":"IF(LOADS!$AC175=\"BUS\",IF(LOADS!$AE175=G$1,1,0),0)","v":0},{"$f":"IF(LOADS!$AC175=\"BUS\",IF(LOADS!$AE175=H$1,1,0),0)","v":0},{"$f":"IF(LOADS!$AC175=\"BUS\",IF(LOADS!$AE175=I$1,1,0),0)","v":0},0,{"$f":"LOADS!AM175","v":0}]
[{"$f":"IF(ISBLANK(LOADS!A176),\"\",LOADS!A176)","v":{"$error":"#REF!"}},{"$f":"IF(ISBLANK(LOADS!B176),\"\",LOADS!B176)","v":""},{"$f":"IF(LOADS!$AC176=\"BUS\",IF(LOADS!$AE176=C$1,1,0),0)","v":0},{"$f":"IF(LOADS!$AC176=\"BUS\",IF(LOADS!$AE176=D$1,1,0),0)","v":0},{"$f":"IF(LOADS!$AC176=\"BUS\",IF(LOADS!$AE176=E$1,1,0),0)","v":0},{"$f":"IF(LOADS!$AC176=\"BUS\",IF(LOADS!$AE176=F$1,1,0),0)","v":0},{"$f":"IF(LOADS!$AC176=\"BUS\",IF(LOADS!$AE176=G$1,1,0),0)","v":0},{"$f":"IF(LOADS!$AC176=\"BUS\",IF(LOADS!$AE176=H$1,1,0),0)","v":0},{"$f":"IF(LOADS!$AC176=\"BUS\",IF(LOADS!$AE176=I$1,1,0),0)","v":0},0,{"$f":"LOADS!AM176","v":0}]
[{"$f":"IF(ISBLANK(LOADS!A177),\"\",LOADS!A177)","v":{"$error":"#REF!"}},{"$f":"IF(ISBLANK(LOADS!B177),\"\",LOADS!B177)","v":""},{"$f":"IF(LOADS!$AC177=\"BUS\",IF(LOADS!$AE177=C$1,1,0),0)","v":0},{"$f":"IF(LOADS!$AC177=\"BUS\",IF(LOADS!$AE177=D$1,1,0),0)","v":0},{"$f":"IF(LOADS!$AC177=\"BUS\",IF(LOADS!$AE177=E$1,1,0),0)","v":0},{"$f":"IF(LOADS!$AC177=\"BUS\",IF(LOADS!$AE177=F$1,1,0),0)","v":0},{"$f":"IF(LOADS!$AC177=\"BUS\",IF(LOADS!$AE177=G$1,1,0),0)","v":0},{"$f":"IF(LOADS!$AC177=\"BUS\",IF(LOADS!$AE177=H$1,1,0),0)","v":0},{"$f":"IF(LOADS!$AC177=\"BUS\",IF(LOADS!$AE177=I$1,1,0),0)","v":0},0,{"$f":"LOADS!AM177","v":0}]
[{"$f":"IF(ISBLANK(LOADS!A178),\"\",LOADS!A178)","v":{"$error":"#REF!"}},{"$f":"IF(ISBLANK(LOADS!B178),\"\",LOADS!B178)","v":""},{"$f":"IF(LOADS!$AC178=\"BUS\",IF(LOADS!$AE178=C$1,1,0),0)","v":0},{"$f":"IF(LOADS!$AC178=\"BUS\",IF(LOADS!$AE178=D$1,1,0),0)","v":0},{"$f":"IF(LOADS!$AC178=\"BUS\",IF(LOADS!$AE178=E$1,1,0),0)","v":0},{"$f":"IF(LOADS!$AC178=\"BUS\",IF(LOADS!$AE178=F$1,1,0),0)","v":0},{"$f":"IF(LOADS!$AC178=\"BUS\",IF(LOADS!$AE178=G$1,1,0),0)","v":0},{"$f":"IF(LOADS!$AC178=\"BUS\",IF(LOADS!$AE178=H$1,1,0),0)","v":0},{"$f":"IF(LOADS!$AC178=\"BUS\",IF(LOADS!$AE178=I$1,1,0),0)","v":0},0,{"$f":"LOADS!AM178","v":0}]
[{"$f":"IF(ISBLANK(LOADS!A179),\"\",LOADS!A179)","v":{"$error":"#REF!"}},{"$f":"IF(ISBLANK(LOADS!B179),\"\",LOADS!B179)","v":""},{"$f":"IF(LOADS!$AC179=\"BUS\",IF(LOADS!$AE179=C$1,1,0),0)","v":0},{"$f":"IF(LOADS!$AC179=\"BUS\",IF(LOADS!$AE179=D$1,1,0),0)","v":0},{"$f":"IF(LOADS!$AC179=\"BUS\",IF(LOADS!$AE179=E$1,1,0),0)","v":0},{"$f":"IF(LOADS!$AC179=\"BUS\",IF(LOADS!$AE179=F$1,1,0),0)","v":0},{"$f":"IF(LOADS!$AC179=\"BUS\",IF(LOADS!$AE179=G$1,1,0),0)","v":0},{"$f":"IF(LOADS!$AC179=\"BUS\",IF(LOADS!$AE179=H$1,1,0),0)","v":0},{"$f":"IF(LOADS!$AC179=\"BUS\",IF(LOADS!$AE179=I$1,1,0),0)","v":0},0,{"$f":"LOADS!AM179","v":0}]
[{"$f":"IF(ISBLANK(LOADS!A180),\"\",LOADS!A180)","v":{"$error":"#REF!"}},{"$f":"IF(ISBLANK(LOADS!B180),\"\",LOADS!B180)","v":""},{"$f":"IF(LOADS!$AC180=\"BUS\",IF(LOADS!$AE180=C$1,1,0),0)","v":0},{"$f":"IF(LOADS!$AC180=\"BUS\",IF(LOADS!$AE180=D$1,1,0),0)","v":0},{"$f":"IF(LOADS!$AC180=\"BUS\",IF(LOADS!$AE180=E$1,1,0),0)","v":0},{"$f":"IF(LOADS!$AC180=\"BUS\",IF(LOADS!$AE180=F$1,1,0),0)","v":0},{"$f":"IF(LOADS!$AC180=\"BUS\",IF(LOADS!$AE180=G$1,1,0),0)","v":0},{"$f":"IF(LOADS!$AC180=\"BUS\",IF(LOADS!$AE180=H$1,1,0),0)","v":0},{"$f":"IF(LOADS!$AC180=\"BUS\",IF(LOADS!$AE180=I$1,1,0),0)","v":0},0,{"$f":"LOADS!AM180","v":0}]
[{"$f":"IF(ISBLANK(LOADS!A181),\"\",LOADS!A181)","v":{"$error":"#REF!"}},{"$f":"IF(ISBLANK(LOADS!B181),\"\",LOADS!B181)","v":""},{"$f":"IF(LOADS!$AC181=\"BUS\",IF(LOADS!$AE181=C$1,1,0),0)","v":0},{"$f":"IF(LOADS!$AC181=\"BUS\",IF(LOADS!$AE181=D$1,1,0),0)","v":0},{"$f":"IF(LOADS!$AC181=\"BUS\",IF(LOADS!$AE181=E$1,1,0),0)","v":0},{"$f":"IF(LOADS!$AC181=\"BUS\",IF(LOADS!$AE181=F$1,1,0),0)","v":0},{"$f":"IF(LOADS!$AC181=\"BUS\",IF(LOADS!$AE181=G$1,1,0),0)","v":0},{"$f":"IF(LOADS!$AC181=\"BUS\",IF(LOADS!$AE181=H$1,1,0),0)","v":0},{"$f":"IF(LOADS!$AC181=\"BUS\",IF(LOADS!$AE181=I$1,1,0),0)","v":0},0,{"$f":"LOADS!AM181","v":0}]
[{"$f":"IF(ISBLANK(LOADS!A182),\"\",LOADS!A182)","v":{"$error":"#REF!"}},{"$f":"IF(ISBLANK(LOADS!B182),\"\",LOADS!B182)","v":""},{"$f":"IF(LOADS!$AC182=\"BUS\",IF(LOADS!$AE182=C$1,1,0),0)","v":0},{"$f":"IF(LOADS!$AC182=\"BUS\",IF(LOADS!$AE182=D$1,1,0),0)","v":0},{"$f":"IF(LOADS!$AC182=\"BUS\",IF(LOADS!$AE182=E$1,1,0),0)","v":0},{"$f":"IF(LOADS!$AC182=\"BUS\",IF(LOADS!$AE182=F$1,1,0),0)","v":0},{"$f":"IF(LOADS!$AC182=\"BUS\",IF(LOADS!$AE182=G$1,1,0),0)","v":0},{"$f":"IF(LOADS!$AC182=\"BUS\",IF(LOADS!$AE182=H$1,1,0),0)","v":0},{"$f":"IF(LOADS!$AC182=\"BUS\",IF(LOADS!$AE182=I$1,1,0),0)","v":0},0,{"$f":"LOADS!AM182","v":0}]
[{"$f":"IF(ISBLANK(LOADS!A183),\"\",LOADS!A183)","v":{"$error":"#REF!"}},{"$f":"IF(ISBLANK(LOADS!B183),\"\",LOADS!B183)","v":""},{"$f":"IF(LOADS!$AC183=\"BUS\",IF(LOADS!$AE183=C$1,1,0),0)","v":0},{"$f":"IF(LOADS!$AC183=\"BUS\",IF(LOADS!$AE183=D$1,1,0),0)","v":0},{"$f":"IF(LOADS!$AC183=\"BUS\",IF(LOADS!$AE183=E$1,1,0),0)","v":0},{"$f":"IF(LOADS!$AC183=\"BUS\",IF(LOADS!$AE183=F$1,1,0),0)","v":0},{"$f":"IF(LOADS!$AC183=\"BUS\",IF(LOADS!$AE183=G$1,1,0),0)","v":0},{"$f":"IF(LOADS!$AC183=\"BUS\",IF(LOADS!$AE183=H$1,1,0),0)","v":0},{"$f":"IF(LOADS!$AC183=\"BUS\",IF(LOADS!$AE183=I$1,1,0),0)","v":0},0,{"$f":"LOADS!AM183","v":0}]
[{"$f":"IF(ISBLANK(LOADS!A184),\"\",LOADS!A184)","v":{"$error":"#REF!"}},{"$f":"IF(ISBLANK(LOADS!B184),\"\",LOADS!B184)","v":""},{"$f":"IF(LOADS!$AC184=\"BUS\",IF(LOADS!$AE184=C$1,1,0),0)","v":0},{"$f":"IF(LOADS!$AC184=\"BUS\",IF(LOADS!$AE184=D$1,1,0),0)","v":0},{"$f":"IF(LOADS!$AC184=\"BUS\",IF(LOADS!$AE184=E$1,1,0),0)","v":0},{"$f":"IF(LOADS!$AC184=\"BUS\",IF(LOADS!$AE184=F$1,1,0),0)","v":0},{"$f":"IF(LOADS!$AC184=\"BUS\",IF(LOADS!$AE184=G$1,1,0),0)","v":0},{"$f":"IF(LOADS!$AC184=\"BUS\",IF(LOADS!$AE184=H$1,1,0),0)","v":0},{"$f":"IF(LOADS!$AC184=\"BUS\",IF(LOADS!$AE184=I$1,1,0),0)","v":0},0,{"$f":"LOADS!AM184","v":0}]
[{"$f":"IF(ISBLANK(LOADS!A185),\"\",LOADS!A185)","v":{"$error":"#REF!"}},{"$f":"IF(ISBLANK(LOADS!B185),\"\",LOADS!B185)","v":""},{"$f":"IF(LOADS!$AC185=\"BUS\",IF(LOADS!$AE185=C$1,1,0),0)","v":0},{"$f":"IF(LOADS!$AC185=\"BUS\",IF(LOADS!$AE185=D$1,1,0),0)","v":0},{"$f":"IF(LOADS!$AC185=\"BUS\",IF(LOADS!$AE185=E$1,1,0),0)","v":0},{"$f":"IF(LOADS!$AC185=\"BUS\",IF(LOADS!$AE185=F$1,1,0),0)","v":0},{"$f":"IF(LOADS!$AC185=\"BUS\",IF(LOADS!$AE185=G$1,1,0),0)","v":0},{"$f":"IF(LOADS!$AC185=\"BUS\",IF(LOADS!$AE185=H$1,1,0),0)","v":0},{"$f":"IF(LOADS!$AC185=\"BUS\",IF(LOADS!$AE185=I$1,1,0),0)","v":0},0,{"$f":"LOADS!AM185","v":0}]
[{"$f":"IF(ISBLANK(LOADS!A186),\"\",LOADS!A186)","v":{"$error":"#REF!"}},{"$f":"IF(ISBLANK(LOADS!B186),\"\",LOADS!B186)","v":""},{"$f":"IF(LOADS!$AC186=\"BUS\",IF(LOADS!$AE186=C$1,1,0),0)","v":0},{"$f":"IF(LOADS!$AC186=\"BUS\",IF(LOADS!$AE186=D$1,1,0),0)","v":0},{"$f":"IF(LOADS!$AC186=\"BUS\",IF(LOADS!$AE186=E$1,1,0),0)","v":0},{"$f":"IF(LOADS!$AC186=\"BUS\",IF(LOADS!$AE186=F$1,1,0),0)","v":0},{"$f":"IF(LOADS!$AC186=\"BUS\",IF(LOADS!$AE186=G$1,1,0),0)","v":0},{"$f":"IF(LOADS!$AC186=\"BUS\",IF(LOADS!$AE186=H$1,1,0),0)","v":0},{"$f":"IF(LOADS!$AC186=\"BUS\",IF(LOADS!$AE186=I$1,1,0),0)","v":0},0,{"$f":"LOADS!AM186","v":0}]
[{"$f":"IF(ISBLANK(LOADS!A187),\"\",LOADS!A187)","v":{"$error":"#REF!"}},{"$f":"IF(ISBLANK(LOADS!B187),\"\",LOADS!B187)","v":""},{"$f":"IF(LOADS!$AC187=\"BUS\",IF(LOADS!$AE187=C$1,1,0),0)","v":0},{"$f":"IF(LOADS!$AC187=\"BUS\",IF(LOADS!$AE187=D$1,1,0),0)","v":0},{"$f":"IF(LOADS!$AC187=\"BUS\",IF(LOADS!$AE187=E$1,1,0),0)","v":0},{"$f":"IF(LOADS!$AC187=\"BUS\",IF(LOADS!$AE187=F$1,1,0),0)","v":0},{"$f":"IF(LOADS!$AC187=\"BUS\",IF(LOADS!$AE187=G$1,1,0),0)","v":0},{"$f":"IF(LOADS!$AC187=\"BUS\",IF(LOADS!$AE187=H$1,1,0),0)","v":0},{"$f":"IF(LOADS!$AC187=\"BUS\",IF(LOADS!$AE187=I$1,1,0),0)","v":0},0,{"$f":"LOADS!AM187","v":0}]
[{"$f":"IF(ISBLANK(LOADS!A188),\"\",LOADS!A188)","v":{"$error":"#REF!"}},{"$f":"IF(ISBLANK(LOADS!B188),\"\",LOADS!B188)","v":""},{"$f":"IF(LOADS!$AC188=\"BUS\",IF(LOADS!$AE188=C$1,1,0),0)","v":0},{"$f":"IF(LOADS!$AC188=\"BUS\",IF(LOADS!$AE188=D$1,1,0),0)","v":0},{"$f":"IF(LOADS!$AC188=\"BUS\",IF(LOADS!$AE188=E$1,1,0),0)","v":0},{"$f":"IF(LOADS!$AC188=\"BUS\",IF(LOADS!$AE188=F$1,1,0),0)","v":0},{"$f":"IF(LOADS!$AC188=\"BUS\",IF(LOADS!$AE188=G$1,1,0),0)","v":0},{"$f":"IF(LOADS!$AC188=\"BUS\",IF(LOADS!$AE188=H$1,1,0),0)","v":0},{"$f":"IF(LOADS!$AC188=\"BUS\",IF(LOADS!$AE188=I$1,1,0),0)","v":0},0,{"$f":"LOADS!AM188","v":0}]
[{"$f":"IF(ISBLANK(LOADS!A189),\"\",LOADS!A189)","v":{"$error":"#REF!"}},{"$f":"IF(ISBLANK(LOADS!B189),\"\",LOADS!B189)","v":""},{"$f":"IF(LOADS!$AC189=\"BUS\",IF(LOADS!$AE189=C$1,1,0),0)","v":0},{"$f":"IF(LOADS!$AC189=\"BUS\",IF(LOADS!$AE189=D$1,1,0),0)","v":0},{"$f":"IF(LOADS!$AC189=\"BUS\",IF(LOADS!$AE189=E$1,1,0),0)","v":0},{"$f":"IF(LOADS!$AC189=\"BUS\",IF(LOADS!$AE189=F$1,1,0),0)","v":0},{"$f":"IF(LOADS!$AC189=\"BUS\",IF(LOADS!$AE189=G$1,1,0),0)","v":0},{"$f":"IF(LOADS!$AC189=\"BUS\",IF(LOADS!$AE189=H$1,1,0),0)","v":0},{"$f":"IF(LOADS!$AC189=\"BUS\",IF(LOADS!$AE189=I$1,1,0),0)","v":0},0,{"$f":"LOADS!AM189","v":0}]
[{"$f":"IF(ISBLANK(LOADS!A190),\"\",LOADS!A190)","v":{"$error":"#REF!"}},{"$f":"IF(ISBLANK(LOADS!B190),\"\",LOADS!B190)","v":""},{"$f":"IF(LOADS!$AC190=\"BUS\",IF(LOADS!$AE190=C$1,1,0),0)","v":0},{"$f":"IF(LOADS!$AC190=\"BUS\",IF(LOADS!$AE190=D$1,1,0),0)","v":0},{"$f":"IF(LOADS!$AC190=\"BUS\",IF(LOADS!$AE190=E$1,1,0),0)","v":0},{"$f":"IF(LOADS!$AC190=\"BUS\",IF(LOADS!$AE190=F$1,1,0),0)","v":0},{"$f":"IF(LOADS!$AC190=\"BUS\",IF(LOADS!$AE190=G$1,1,0),0)","v":0},{"$f":"IF(LOADS!$AC190=\"BUS\",IF(LOADS!$AE190=H$1,1,0),0)","v":0},{"$f":"IF(LOADS!$AC190=\"BUS\",IF(LOADS!$AE190=I$1,1,0),0)","v":0},0,{"$f":"LOADS!AM190","v":0}]
[{"$f":"IF(ISBLANK(LOADS!A191),\"\",LOADS!A191)","v":{"$error":"#REF!"}},{"$f":"IF(ISBLANK(LOADS!B191),\"\",LOADS!B191)","v":""},{"$f":"IF(LOADS!$AC191=\"BUS\",IF(LOADS!$AE191=C$1,1,0),0)","v":0},{"$f":"IF(LOADS!$AC191=\"BUS\",IF(LOADS!$AE191=D$1,1,0),0)","v":0},{"$f":"IF(LOADS!$AC191=\"BUS\",IF(LOADS!$AE191=E$1,1,0),0)","v":0},{"$f":"IF(LOADS!$AC191=\"BUS\",IF(LOADS!$AE191=F$1,1,0),0)","v":0},{"$f":"IF(LOADS!$AC191=\"BUS\",IF(LOADS!$AE191=G$1,1,0),0)","v":0},{"$f":"IF(LOADS!$AC191=\"BUS\",IF(LOADS!$AE191=H$1,1,0),0)","v":0},{"$f":"IF(LOADS!$AC191=\"BUS\",IF(LOADS!$AE191=I$1,1,0),0)","v":0},0,{"$f":"LOADS!AM191","v":0}]
[{"$f":"IF(ISBLANK(LOADS!A192),\"\",LOADS!A192)","v":{"$error":"#REF!"}},{"$f":"IF(ISBLANK(LOADS!B192),\"\",LOADS!B192)","v":""},{"$f":"IF(LOADS!$AC192=\"BUS\",IF(LOADS!$AE192=C$1,1,0),0)","v":0},{"$f":"IF(LOADS!$AC192=\"BUS\",IF(LOADS!$AE192=D$1,1,0),0)","v":0},{"$f":"IF(LOADS!$AC192=\"BUS\",IF(LOADS!$AE192=E$1,1,0),0)","v":0},{"$f":"IF(LOADS!$AC192=\"BUS\",IF(LOADS!$AE192=F$1,1,0),0)","v":0},{"$f":"IF(LOADS!$AC192=\"BUS\",IF(LOADS!$AE192=G$1,1,0),0)","v":0},{"$f":"IF(LOADS!$AC192=\"BUS\",IF(LOADS!$AE192=H$1,1,0),0)","v":0},{"$f":"IF(LOADS!$AC192=\"BUS\",IF(LOADS!$AE192=I$1,1,0),0)","v":0},0,{"$f":"LOADS!AM192","v":0}]
[{"$f":"IF(ISBLANK(LOADS!A193),\"\",LOADS!A193)","v":{"$error":"#REF!"}},{"$f":"IF(ISBLANK(LOADS!B193),\"\",LOADS!B193)","v":""},{"$f":"IF(LOADS!$AC193=\"BUS\",IF(LOADS!$AE193=C$1,1,0),0)","v":0},{"$f":"IF(LOADS!$AC193=\"BUS\",IF(LOADS!$AE193=D$1,1,0),0)","v":0},{"$f":"IF(LOADS!$AC193=\"BUS\",IF(LOADS!$AE193=E$1,1,0),0)","v":0},{"$f":"IF(LOADS!$AC193=\"BUS\",IF(LOADS!$AE193=F$1,1,0),0)","v":0},{"$f":"IF(LOADS!$AC193=\"BUS\",IF(LOADS!$AE193=G$1,1,0),0)","v":0},{"$f":"IF(LOADS!$AC193=\"BUS\",IF(LOADS!$AE193=H$1,1,0),0)","v":0},{"$f":"IF(LOADS!$AC193=\"BUS\",IF(LOADS!$AE193=I$1,1,0),0)","v":0},0,{"$f":"LOADS!AM193","v":0}]
[{"$f":"IF(ISBLANK(LOADS!A194),\"\",LOADS!A194)","v":{"$error":"#REF!"}},{"$f":"IF(ISBLANK(LOADS!B194),\"\",LOADS!B194)","v":""},{"$f":"IF(LOADS!$AC194=\"BUS\",IF(LOADS!$AE194=C$1,1,0),0)","v":0},{"$f":"IF(LOADS!$AC194=\"BUS\",IF(LOADS!$AE194=D$1,1,0),0)","v":0},{"$f":"IF(LOADS!$AC194=\"BUS\",IF(LOADS!$AE194=E$1,1,0),0)","v":0},{"$f":"IF(LOADS!$AC194=\"BUS\",IF(LOADS!$AE194=F$1,1,0),0)","v":0},{"$f":"IF(LOADS!$AC194=\"BUS\",IF(LOADS!$AE194=G$1,1,0),0)","v":0},{"$f":"IF(LOADS!$AC194=\"BUS\",IF(LOADS!$AE194=H$1,1,0),0)","v":0},{"$f":"IF(LOADS!$AC194=\"BUS\",IF(LOADS!$AE194=I$1,1,0),0)","v":0},{"$f":"SUM(C197:I197)","v":0},{"$f":"LOADS!AM194","v":0}]
[{"$f":"IF(ISBLANK(LOADS!A195),\"\",LOADS!A195)","v":{"$error":"#REF!"}},{"$f":"IF(ISBLANK(LOADS!B195),\"\",LOADS!B195)","v":""},{"$f":"IF(LOADS!$AC195=\"BUS\",IF(LOADS!$AE195=C$1,1,0),0)","v":0},{"$f":"IF(LOADS!$AC195=\"BUS\",IF(LOADS!$AE195=D$1,1,0),0)","v":0},{"$f":"IF(LOADS!$AC195=\"BUS\",IF(LOADS!$AE195=E$1,1,0),0)","v":0},{"$f":"IF(LOADS!$AC195=\"BUS\",IF(LOADS!$AE195=F$1,1,0),0)","v":0},{"$f":"IF(LOADS!$AC195=\"BUS\",IF(LOADS!$AE195=G$1,1,0),0)","v":0},{"$f":"IF(LOADS!$AC195=\"BUS\",IF(LOADS!$AE195=H$1,1,0),0)","v":0},{"$f":"IF(LOADS!$AC195=\"BUS\",IF(LOADS!$AE195=I$1,1,0),0)","v":0},0,{"$f":"LOADS!AM195","v":0}]
[{"$f":"IF(ISBLANK(LOADS!A196),\"\",LOADS!A196)","v":{"$error":"#REF!"}},{"$f":"IF(ISBLANK(LOADS!B196),\"\",LOADS!B196)","v":""},{"$f":"IF(LOADS!$AC196=\"BUS\",IF(LOADS!$AE196=C$1,1,0),0)","v":0},{"$f":"IF(LOADS!$AC196=\"BUS\",IF(LOADS!$AE196=D$1,1,0),0)","v":0},{"$f":"IF(LOADS!$AC196=\"BUS\",IF(LOADS!$AE196=E$1,1,0),0)","v":0},{"$f":"IF(LOADS!$AC196=\"BUS\",IF(LOADS!$AE196=F$1,1,0),0)","v":0},{"$f":"IF(LOADS!$AC196=\"BUS\",IF(LOADS!$AE196=G$1,1,0),0)","v":0},{"$f":"IF(LOADS!$AC196=\"BUS\",IF(LOADS!$AE196=H$1,1,0),0)","v":0},{"$f":"IF(LOADS!$AC196=\"BUS\",IF(LOADS!$AE196=I$1,1,0),0)","v":0},0,{"$f":"LOADS!AM196","v":0}]
[{"$f":"IF(ISBLANK(LOADS!A197),\"\",LOADS!A197)","v":{"$error":"#REF!"}},{"$f":"IF(ISBLANK(LOADS!B197),\"\",LOADS!B197)","v":""},{"$f":"IF(LOADS!$AC197=\"BUS\",IF(LOADS!$AE197=C$1,1,0),0)","v":0},{"$f":"IF(LOADS!$AC197=\"BUS\",IF(LOADS!$AE197=D$1,1,0),0)","v":0},{"$f":"IF(LOADS!$AC197=\"BUS\",IF(LOADS!$AE197=E$1,1,0),0)","v":0},{"$f":"IF(LOADS!$AC197=\"BUS\",IF(LOADS!$AE197=F$1,1,0),0)","v":0},{"$f":"IF(LOADS!$AC197=\"BUS\",IF(LOADS!$AE197=G$1,1,0),0)","v":0},{"$f":"IF(LOADS!$AC197=\"BUS\",IF(LOADS!$AE197=H$1,1,0),0)","v":0},{"$f":"IF(LOADS!$AC197=\"BUS\",IF(LOADS!$AE197=I$1,1,0),0)","v":0},0,{"$f":"LOADS!AM197","v":0}]
[{"$f":"IF(ISBLANK(LOADS!A198),\"\",LOADS!A198)","v":{"$error":"#REF!"}},{"$f":"IF(ISBLANK(LOADS!B198),\"\",LOADS!B198)","v":""},{"$f":"IF(LOADS!$AC198=\"BUS\",IF(LOADS!$AE198=C$1,1,0),0)","v":0},{"$f":"IF(LOADS!$AC198=\"BUS\",IF(LOADS!$AE198=D$1,1,0),0)","v":0},{"$f":"IF(LOADS!$AC198=\"BUS\",IF(LOADS!$AE198=E$1,1,0),0)","v":0},{"$f":"IF(LOADS!$AC198=\"BUS\",IF(LOADS!$AE198=F$1,1,0),0)","v":0},{"$f":"IF(LOADS!$AC198=\"BUS\",IF(LOADS!$AE198=G$1,1,0),0)","v":0},{"$f":"IF(LOADS!$AC198=\"BUS\",IF(LOADS!$AE198=H$1,1,0),0)","v":0},{"$f":"IF(LOADS!$AC198=\"BUS\",IF(LOADS!$AE198=I$1,1,0),0)","v":0},0,{"$f":"LOADS!AM198","v":0}]
[{"$f":"IF(ISBLANK(LOADS!A199),\"\",LOADS!A199)","v":{"$error":"#REF!"}},{"$f":"IF(ISBLANK(LOADS!B199),\"\",LOADS!B199)","v":""},{"$f":"IF(LOADS!$AC199=\"BUS\",IF(LOADS!$AE199=C$1,1,0),0)","v":0},{"$f":"IF(LOADS!$AC199=\"BUS\",IF(LOADS!$AE199=D$1,1,0),0)","v":0},{"$f":"IF(LOADS!$AC199=\"BUS\",IF(LOADS!$AE199=E$1,1,0),0)","v":0},{"$f":"IF(LOADS!$AC199=\"BUS\",IF(LOADS!$AE199=F$1,1,0),0)","v":0},{"$f":"IF(LOADS!$AC199=\"BUS\",IF(LOADS!$AE199=G$1,1,0),0)","v":0},{"$f":"IF(LOADS!$AC199=\"BUS\",IF(LOADS!$AE199=H$1,1,0),0)","v":0},{"$f":"IF(LOADS!$AC199=\"BUS\",IF(LOADS!$AE199=I$1,1,0),0)","v":0},0,{"$f":"LOADS!AM199","v":0}]
[{"$f":"IF(ISBLANK(LOADS!A200),\"\",LOADS!A200)","v":{"$error":"#REF!"}},{"$f":"IF(ISBLANK(LOADS!B200),\"\",LOADS!B200)","v":""},{"$f":"IF(LOADS!$AC200=\"BUS\",IF(LOADS!$AE200=C$1,1,0),0)","v":0},{"$f":"IF(LOADS!$AC200=\"BUS\",IF(LOADS!$AE200=D$1,1,0),0)","v":0},{"$f":"IF(LOADS!$AC200=\"BUS\",IF(LOADS!$AE200=E$1,1,0),0)","v":0},{"$f":"IF(LOADS!$AC200=\"BUS\",IF(LOADS!$AE200=F$1,1,0),0)","v":0},{"$f":"IF(LOADS!$AC200=\"BUS\",IF(LOADS!$AE200=G$1,1,0),0)","v":0},{"$f":"IF(LOADS!$AC200=\"BUS\",IF(LOADS!$AE200=H$1,1,0),0)","v":0},{"$f":"IF(LOADS!$AC200=\"BUS\",IF(LOADS!$AE200=I$1,1,0),0)","v":0},0,{"$f":"LOADS!AM200","v":0}]
[{"$f":"IF(ISBLANK(LOADS!A201),\"\",LOADS!A201)","v":{"$error":"#REF!"}},{"$f":"IF(ISBLANK(LOADS!B201),\"\",LOADS!B201)","v":""},{"$f":"IF(LOADS!$AC201=\"BUS\",IF(LOADS!$AE201=C$1,1,0),0)","v":0},{"$f":"IF(LOADS!$AC201=\"BUS\",IF(LOADS!$AE201=D$1,1,0),0)","v":0},{"$f":"IF(LOADS!$AC201=\"BUS\",IF(LOADS!$AE201=E$1,1,0),0)","v":0},{"$f":"IF(LOADS!$AC201=\"BUS\",IF(LOADS!$AE201=F$1,1,0),0)","v":0},{"$f":"IF(LOADS!$AC201=\"BUS\",IF(LOADS!$AE201=G$1,1,0),0)","v":0},{"$f":"IF(LOADS!$AC201=\"BUS\",IF(LOADS!$AE201=H$1,1,0),0)","v":0},{"$f":"IF(LOADS!$AC201=\"BUS\",IF(LOADS!$AE201=I$1,1,0),0)","v":0},0,{"$f":"LOADS!AM201","v":0}]
[{"$f":"IF(ISBLANK(LOADS!A202),\"\",LOADS!A202)","v":{"$error":"#REF!"}},{"$f":"IF(ISBLANK(LOADS!B202),\"\",LOADS!B202)","v":""},{"$f":"IF(LOADS!$AC202=\"BUS\",IF(LOADS!$AE202=C$1,1,0),0)","v":0},{"$f":"IF(LOADS!$AC202=\"BUS\",IF(LOADS!$AE202=D$1,1,0),0)","v":0},{"$f":"IF(LOADS!$AC202=\"BUS\",IF(LOADS!$AE202=E$1,1,0),0)","v":0},{"$f":"IF(LOADS!$AC202=\"BUS\",IF(LOADS!$AE202=F$1,1,0),0)","v":0},{"$f":"IF(LOADS!$AC202=\"BUS\",IF(LOADS!$AE202=G$1,1,0),0)","v":0},{"$f":"IF(LOADS!$AC202=\"BUS\",IF(LOADS!$AE202=H$1,1,0),0)","v":0},{"$f":"IF(LOADS!$AC202=\"BUS\",IF(LOADS!$AE202=I$1,1,0),0)","v":0},0,{"$f":"LOADS!AM202","v":0}]
[{"$f":"IF(ISBLANK(LOADS!A203),\"\",LOADS!A203)","v":{"$error":"#REF!"}},{"$f":"IF(ISBLANK(LOADS!B203),\"\",LOADS!B203)","v":""},{"$f":"IF(LOADS!$AC203=\"BUS\",IF(LOADS!$AE203=C$1,1,0),0)","v":0},{"$f":"IF(LOADS!$AC203=\"BUS\",IF(LOADS!$AE203=D$1,1,0),0)","v":0},{"$f":"IF(LOADS!$AC203=\"BUS\",IF(LOADS!$AE203=E$1,1,0),0)","v":0},{"$f":"IF(LOADS!$AC203=\"BUS\",IF(LOADS!$AE203=F$1,1,0),0)","v":0},{"$f":"IF(LOADS!$AC203=\"BUS\",IF(LOADS!$AE203=G$1,1,0),0)","v":0},{"$f":"IF(LOADS!$AC203=\"BUS\",IF(LOADS!$AE203=H$1,1,0),0)","v":0},{"$f":"IF(LOADS!$AC203=\"BUS\",IF(LOADS!$AE203=I$1,1,0),0)","v":0},0,{"$f":"LOADS!AM203","v":0}]
[{"$f":"IF(ISBLANK(LOADS!A204),\"\",LOADS!A204)","v":{"$error":"#REF!"}},{"$f":"IF(ISBLANK(LOADS!B204),\"\",LOADS!B204)","v":""},{"$f":"IF(LOADS!$AC204=\"BUS\",IF(LOADS!$AE204=C$1,1,0),0)","v":0},{"$f":"IF(LOADS!$AC204=\"BUS\",IF(LOADS!$AE204=D$1,1,0),0)","v":0},{"$f":"IF(LOADS!$AC204=\"BUS\",IF(LOADS!$AE204=E$1,1,0),0)","v":0},{"$f":"IF(LOADS!$AC204=\"BUS\",IF(LOADS!$AE204=F$1,1,0),0)","v":0},{"$f":"IF(LOADS!$AC204=\"BUS\",IF(LOADS!$AE204=G$1,1,0),0)","v":0},{"$f":"IF(LOADS!$AC204=\"BUS\",IF(LOADS!$AE204=H$1,1,0),0)","v":0},{"$f":"IF(LOADS!$AC204=\"BUS\",IF(LOADS!$AE204=I$1,1,0),0)","v":0},0,{"$f":"LOADS!AM204","v":0}]
[{"$f":"IF(ISBLANK(LOADS!A205),\"\",LOADS!A205)","v":{"$error":"#REF!"}},{"$f":"IF(ISBLANK(LOADS!B205),\"\",LOADS!B205)","v":""},{"$f":"IF(LOADS!$AC205=\"BUS\",IF(LOADS!$AE205=C$1,1,0),0)","v":0},{"$f":"IF(LOADS!$AC205=\"BUS\",IF(LOADS!$AE205=D$1,1,0),0)","v":0},{"$f":"IF(LOADS!$AC205=\"BUS\",IF(LOADS!$AE205=E$1,1,0),0)","v":0},{"$f":"IF(LOADS!$AC205=\"BUS\",IF(LOADS!$AE205=F$1,1,0),0)","v":0},{"$f":"IF(LOADS!$AC205=\"BUS\",IF(LOADS!$AE205=G$1,1,0),0)","v":0},{"$f":"IF(LOADS!$AC205=\"BUS\",IF(LOADS!$AE205=H$1,1,0),0)","v":0},{"$f":"IF(LOADS!$AC205=\"BUS\",IF(LOADS!$AE205=I$1,1,0),0)","v":0},0,{"$f":"LOADS!AM205","v":0}]
[{"$f":"IF(ISBLANK(LOADS!A206),\"\",LOADS!A206)","v":{"$error":"#REF!"}},{"$f":"IF(ISBLANK(LOADS!B206),\"\",LOADS!B206)","v":""},{"$f":"IF(LOADS!$AC206=\"BUS\",IF(LOADS!$AE206=C$1,1,0),0)","v":0},{"$f":"IF(LOADS!$AC206=\"BUS\",IF(LOADS!$AE206=D$1,1,0),0)","v":0},{"$f":"IF(LOADS!$AC206=\"BUS\",IF(LOADS!$AE206=E$1,1,0),0)","v":0},{"$f":"IF(LOADS!$AC206=\"BUS\",IF(LOADS!$AE206=F$1,1,0),0)","v":0},{"$f":"IF(LOADS!$AC206=\"BUS\",IF(LOADS!$AE206=G$1,1,0),0)","v":0},{"$f":"IF(LOADS!$AC206=\"BUS\",IF(LOADS!$AE206=H$1,1,0),0)","v":0},{"$f":"IF(LOADS!$AC206=\"BUS\",IF(LOADS!$AE206=I$1,1,0),0)","v":0},0,{"$f":"LOADS!AM206","v":0}]
[{"$f":"IF(ISBLANK(LOADS!A207),\"\",LOADS!A207)","v":{"$error":"#REF!"}},{"$f":"IF(ISBLANK(LOADS!B207),\"\",LOADS!B207)","v":""},{"$f":"IF(LOADS!$AC207=\"BUS\",IF(LOADS!$AE207=C$1,1,0),0)","v":0},{"$f":"IF(LOADS!$AC207=\"BUS\",IF(LOADS!$AE207=D$1,1,0),0)","v":0},{"$f":"IF(LOADS!$AC207=\"BUS\",IF(LOADS!$AE207=E$1,1,0),0)","v":0},{"$f":"IF(LOADS!$AC207=\"BUS\",IF(LOADS!$AE207=F$1,1,0),0)","v":0},{"$f":"IF(LOADS!$AC207=\"BUS\",IF(LOADS!$AE207=G$1,1,0),0)","v":0},{"$f":"IF(LOADS!$AC207=\"BUS\",IF(LOADS!$AE207=H$1,1,0),0)","v":0},{"$f":"IF(LOADS!$AC207=\"BUS\",IF(LOADS!$AE207=I$1,1,0),0)","v":0},0,{"$f":"LOADS!AM207","v":0}]
[{"$f":"IF(ISBLANK(LOADS!A208),\"\",LOADS!A208)","v":{"$error":"#REF!"}},{"$f":"IF(ISBLANK(LOADS!B208),\"\",LOADS!B208)","v":""},{"$f":"IF(LOADS!$AC208=\"BUS\",IF(LOADS!$AE208=C$1,1,0),0)","v":0},{"$f":"IF(LOADS!$AC208=\"BUS\",IF(LOADS!$AE208=D$1,1,0),0)","v":0},{"$f":"IF(LOADS!$AC208=\"BUS\",IF(LOADS!$AE208=E$1,1,0),0)","v":0},{"$f":"IF(LOADS!$AC208=\"BUS\",IF(LOADS!$AE208=F$1,1,0),0)","v":0},{"$f":"IF(LOADS!$AC208=\"BUS\",IF(LOADS!$AE208=G$1,1,0),0)","v":0},{"$f":"IF(LOADS!$AC208=\"BUS\",IF(LOADS!$AE208=H$1,1,0),0)","v":0},{"$f":"IF(LOADS!$AC208=\"BUS\",IF(LOADS!$AE208=I$1,1,0),0)","v":0},0,{"$f":"LOADS!AM208","v":0}]
[{"$f":"IF(ISBLANK(LOADS!A209),\"\",LOADS!A209)","v":{"$error":"#REF!"}},{"$f":"IF(ISBLANK(LOADS!B209),\"\",LOADS!B209)","v":""},{"$f":"IF(LOADS!$AC209=\"BUS\",IF(LOADS!$AE209=C$1,1,0),0)","v":0},{"$f":"IF(LOADS!$AC209=\"BUS\",IF(LOADS!$AE209=D$1,1,0),0)","v":0},{"$f":"IF(LOADS!$AC209=\"BUS\",IF(LOADS!$AE209=E$1,1,0),0)","v":0},{"$f":"IF(LOADS!$AC209=\"BUS\",IF(LOADS!$AE209=F$1,1,0),0)","v":0},{"$f":"IF(LOADS!$AC209=\"BUS\",IF(LOADS!$AE209=G$1,1,0),0)","v":0},{"$f":"IF(LOADS!$AC209=\"BUS\",IF(LOADS!$AE209=H$1,1,0),0)","v":0},{"$f":"IF(LOADS!$AC209=\"BUS\",IF(LOADS!$AE209=I$1,1,0),0)","v":0},0,{"$f":"LOADS!AM209","v":0}]
[{"$f":"IF(ISBLANK(LOADS!A210),\"\",LOADS!A210)","v":{"$error":"#REF!"}},{"$f":"IF(ISBLANK(LOADS!B210),\"\",LOADS!B210)","v":""},{"$f":"IF(LOADS!$AC210=\"BUS\",IF(LOADS!$AE210=C$1,1,0),0)","v":0},{"$f":"IF(LOADS!$AC210=\"BUS\",IF(LOADS!$AE210=D$1,1,0),0)","v":0},{"$f":"IF(LOADS!$AC210=\"BUS\",IF(LOADS!$AE210=E$1,1,0),0)","v":0},{"$f":"IF(LOADS!$AC210=\"BUS\",IF(LOADS!$AE210=F$1,1,0),0)","v":0},{"$f":"IF(LOADS!$AC210=\"BUS\",IF(LOADS!$AE210=G$1,1,0),0)","v":0},{"$f":"IF(LOADS!$AC210=\"BUS\",IF(LOADS!$AE210=H$1,1,0),0)","v":0},{"$f":"IF(LOADS!$AC210=\"BUS\",IF(LOADS!$AE210=I$1,1,0),0)","v":0},0,{"$f":"LOADS!AM210","v":0}]
[{"$f":"IF(ISBLANK(LOADS!A211),\"\",LOADS!A211)","v":{"$error":"#REF!"}},{"$f":"IF(ISBLANK(LOADS!B211),\"\",LOADS!B211)","v":""},{"$f":"IF(LOADS!$AC211=\"BUS\",IF(LOADS!$AE211=C$1,1,0),0)","v":0},{"$f":"IF(LOADS!$AC211=\"BUS\",IF(LOADS!$AE211=D$1,1,0),0)","v":0},{"$f":"IF(LOADS!$AC211=\"BUS\",IF(LOADS!$AE211=E$1,1,0),0)","v":0},{"$f":"IF(LOADS!$AC211=\"BUS\",IF(LOADS!$AE211=F$1,1,0),0)","v":0},{"$f":"IF(LOADS!$AC211=\"BUS\",IF(LOADS!$AE211=G$1,1,0),0)","v":0},{"$f":"IF(LOADS!$AC211=\"BUS\",IF(LOADS!$AE211=H$1,1,0),0)","v":0},{"$f":"IF(LOADS!$AC211=\"BUS\",IF(LOADS!$AE211=I$1,1,0),0)","v":0},0,{"$f":"LOADS!AM211","v":0}]
[{"$f":"IF(ISBLANK(LOADS!A212),\"\",LOADS!A212)","v":{"$error":"#REF!"}},{"$f":"IF(ISBLANK(LOADS!B212),\"\",LOADS!B212)","v":""},{"$f":"IF(LOADS!$AC212=\"BUS\",IF(LOADS!$AE212=C$1,1,0),0)","v":0},{"$f":"IF(LOADS!$AC212=\"BUS\",IF(LOADS!$AE212=D$1,1,0),0)","v":0},{"$f":"IF(LOADS!$AC212=\"BUS\",IF(LOADS!$AE212=E$1,1,0),0)","v":0},{"$f":"IF(LOADS!$AC212=\"BUS\",IF(LOADS!$AE212=F$1,1,0),0)","v":0},{"$f":"IF(LOADS!$AC212=\"BUS\",IF(LOADS!$AE212=G$1,1,0),0)","v":0},{"$f":"IF(LOADS!$AC212=\"BUS\",IF(LOADS!$AE212=H$1,1,0),0)","v":0},{"$f":"IF(LOADS!$AC212=\"BUS\",IF(LOADS!$AE212=I$1,1,0),0)","v":0},0,{"$f":"LOADS!AM212","v":0}]
[{"$f":"IF(ISBLANK(LOADS!A213),\"\",LOADS!A213)","v":{"$error":"#REF!"}},{"$f":"IF(ISBLANK(LOADS!B213),\"\",LOADS!B213)","v":""},{"$f":"IF(LOADS!$AC213=\"BUS\",IF(LOADS!$AE213=C$1,1,0),0)","v":0},{"$f":"IF(LOADS!$AC213=\"BUS\",IF(LOADS!$AE213=D$1,1,0),0)","v":0},{"$f":"IF(LOADS!$AC213=\"BUS\",IF(LOADS!$AE213=E$1,1,0),0)","v":0},{"$f":"IF(LOADS!$AC213=\"BUS\",IF(LOADS!$AE213=F$1,1,0),0)","v":0},{"$f":"IF(LOADS!$AC213=\"BUS\",IF(LOADS!$AE213=G$1,1,0),0)","v":0},{"$f":"IF(LOADS!$AC213=\"BUS\",IF(LOADS!$AE213=H$1,1,0),0)","v":0},{"$f":"IF(LOADS!$AC213=\"BUS\",IF(LOADS!$AE213=I$1,1,0),0)","v":0},0,{"$f":"LOADS!AM213","v":0}]
[{"$f":"IF(ISBLANK(LOADS!A214),\"\",LOADS!A214)","v":{"$error":"#REF!"}},{"$f":"IF(ISBLANK(LOADS!B214),\"\",LOADS!B214)","v":""},{"$f":"IF(LOADS!$AC214=\"BUS\",IF(LOADS!$AE214=C$1,1,0),0)","v":0},{"$f":"IF(LOADS!$AC214=\"BUS\",IF(LOADS!$AE214=D$1,1,0),0)","v":0},{"$f":"IF(LOADS!$AC214=\"BUS\",IF(LOADS!$AE214=E$1,1,0),0)","v":0},{"$f":"IF(LOADS!$AC214=\"BUS\",IF(LOADS!$AE214=F$1,1,0),0)","v":0},{"$f":"IF(LOADS!$AC214=\"BUS\",IF(LOADS!$AE214=G$1,1,0),0)","v":0},{"$f":"IF(LOADS!$AC214=\"BUS\",IF(LOADS!$AE214=H$1,1,0),0)","v":0},{"$f":"IF(LOADS!$AC214=\"BUS\",IF(LOADS!$AE214=I$1,1,0),0)","v":0},0,{"$f":"LOADS!AM214","v":0}]
[{"$f":"IF(ISBLANK(LOADS!A215),\"\",LOADS!A215)","v":{"$error":"#REF!"}},{"$f":"IF(ISBLANK(LOADS!B215),\"\",LOADS!B215)","v":""},{"$f":"IF(LOADS!$AC215=\"BUS\",IF(LOADS!$AE215=C$1,1,0),0)","v":0},{"$f":"IF(LOADS!$AC215=\"BUS\",IF(LOADS!$AE215=D$1,1,0),0)","v":0},{"$f":"IF(LOADS!$AC215=\"BUS\",IF(LOADS!$AE215=E$1,1,0),0)","v":0},{"$f":"IF(LOADS!$AC215=\"BUS\",IF(LOADS!$AE215=F$1,1,0),0)","v":0},{"$f":"IF(LOADS!$AC215=\"BUS\",IF(LOADS!$AE215=G$1,1,0),0)","v":0},{"$f":"IF(LOADS!$AC215=\"BUS\",IF(LOADS!$AE215=H$1,1,0),0)","v":0},{"$f":"IF(LOADS!$AC215=\"BUS\",IF(LOADS!$AE215=I$1,1,0),0)","v":0},0,{"$f":"LOADS!AM215","v":0}]
[{"$f":"IF(ISBLANK(LOADS!A216),\"\",LOADS!A216)","v":{"$error":"#REF!"}},{"$f":"IF(ISBLANK(LOADS!B216),\"\",LOADS!B216)","v":""},{"$f":"IF(LOADS!$AC216=\"BUS\",IF(LOADS!$AE216=C$1,1,0),0)","v":0},{"$f":"IF(LOADS!$AC216=\"BUS\",IF(LOADS!$AE216=D$1,1,0),0)","v":0},{"$f":"IF(LOADS!$AC216=\"BUS\",IF(LOADS!$AE216=E$1,1,0),0)","v":0},{"$f":"IF(LOADS!$AC216=\"BUS\",IF(LOADS!$AE216=F$1,1,0),0)","v":0},{"$f":"IF(LOADS!$AC216=\"BUS\",IF(LOADS!$AE216=G$1,1,0),0)","v":0},{"$f":"IF(LOADS!$AC216=\"BUS\",IF(LOADS!$AE216=H$1,1,0),0)","v":0},{"$f":"IF(LOADS!$AC216=\"BUS\",IF(LOADS!$AE216=I$1,1,0),0)","v":0},0,{"$f":"LOADS!AM216","v":0}]
[{"$f":"IF(ISBLANK(LOADS!A217),\"\",LOADS!A217)","v":{"$error":"#REF!"}},{"$f":"IF(ISBLANK(LOADS!B217),\"\",LOADS!B217)","v":""},{"$f":"IF(LOADS!$AC217=\"BUS\",IF(LOADS!$AE217=C$1,1,0),0)","v":0},{"$f":"IF(LOADS!$AC217=\"BUS\",IF(LOADS!$AE217=D$1,1,0),0)","v":0},{"$f":"IF(LOADS!$AC217=\"BUS\",IF(LOADS!$AE217=E$1,1,0),0)","v":0},{"$f":"IF(LOADS!$AC217=\"BUS\",IF(LOADS!$AE217=F$1,1,0),0)","v":0},{"$f":"IF(LOADS!$AC217=\"BUS\",IF(LOADS!$AE217=G$1,1,0),0)","v":0},{"$f":"IF(LOADS!$AC217=\"BUS\",IF(LOADS!$AE217=H$1,1,0),0)","v":0},{"$f":"IF(LOADS!$AC217=\"BUS\",IF(LOADS!$AE217=I$1,1,0),0)","v":0},0,{"$f":"LOADS!AM217","v":0}]
[{"$f":"IF(ISBLANK(LOADS!A218),\"\",LOADS!A218)","v":{"$error":"#REF!"}},{"$f":"IF(ISBLANK(LOADS!B218),\"\",LOADS!B218)","v":""},{"$f":"IF(LOADS!$AC218=\"BUS\",IF(LOADS!$AE218=C$1,1,0),0)","v":0},{"$f":"IF(LOADS!$AC218=\"BUS\",IF(LOADS!$AE218=D$1,1,0),0)","v":0},{"$f":"IF(LOADS!$AC218=\"BUS\",IF(LOADS!$AE218=E$1,1,0),0)","v":0},{"$f":"IF(LOADS!$AC218=\"BUS\",IF(LOADS!$AE218=F$1,1,0),0)","v":0},{"$f":"IF(LOADS!$AC218=\"BUS\",IF(LOADS!$AE218=G$1,1,0),0)","v":0},{"$f":"IF(LOADS!$AC218=\"BUS\",IF(LOADS!$AE218=H$1,1,0),0)","v":0},{"$f":"IF(LOADS!$AC218=\"BUS\",IF(LOADS!$AE218=I$1,1,0),0)","v":0},0,{"$f":"LOADS!AM218","v":0}]
[{"$f":"IF(ISBLANK(LOADS!A219),\"\",LOADS!A219)","v":{"$error":"#REF!"}},{"$f":"IF(ISBLANK(LOADS!B219),\"\",LOADS!B219)","v":""},{"$f":"IF(LOADS!$AC219=\"BUS\",IF(LOADS!$AE219=C$1,1,0),0)","v":0},{"$f":"IF(LOADS!$AC219=\"BUS\",IF(LOADS!$AE219=D$1,1,0),0)","v":0},{"$f":"IF(LOADS!$AC219=\"BUS\",IF(LOADS!$AE219=E$1,1,0),0)","v":0},{"$f":"IF(LOADS!$AC219=\"BUS\",IF(LOADS!$AE219=F$1,1,0),0)","v":0},{"$f":"IF(LOADS!$AC219=\"BUS\",IF(LOADS!$AE219=G$1,1,0),0)","v":0},{"$f":"IF(LOADS!$AC219=\"BUS\",IF(LOADS!$AE219=H$1,1,0),0)","v":0},{"$f":"IF(LOADS!$AC219=\"BUS\",IF(LOADS!$AE219=I$1,1,0),0)","v":0},0,{"$f":"LOADS!AM219","v":0}]
[{"$f":"IF(ISBLANK(LOADS!A220),\"\",LOADS!A220)","v":{"$error":"#REF!"}},{"$f":"IF(ISBLANK(LOADS!B220),\"\",LOADS!B220)","v":""},{"$f":"IF(LOADS!$AC220=\"BUS\",IF(LOADS!$AE220=C$1,1,0),0)","v":0},{"$f":"IF(LOADS!$AC220=\"BUS\",IF(LOADS!$AE220=D$1,1,0),0)","v":0},{"$f":"IF(LOADS!$AC220=\"BUS\",IF(LOADS!$AE220=E$1,1,0),0)","v":0},{"$f":"IF(LOADS!$AC220=\"BUS\",IF(LOADS!$AE220=F$1,1,0),0)","v":0},{"$f":"IF(LOADS!$AC220=\"BUS\",IF(LOADS!$AE220=G$1,1,0),0)","v":0},{"$f":"IF(LOADS!$AC220=\"BUS\",IF(LOADS!$AE220=H$1,1,0),0)","v":0},{"$f":"IF(LOADS!$AC220=\"BUS\",IF(LOADS!$AE220=I$1,1,0),0)","v":0},0,{"$f":"LOADS!AM220","v":0}]
[{"$f":"IF(ISBLANK(LOADS!A221),\"\",LOADS!A221)","v":{"$error":"#REF!"}},{"$f":"IF(ISBLANK(LOADS!B221),\"\",LOADS!B221)","v":""},{"$f":"IF(LOADS!$AC221=\"BUS\",IF(LOADS!$AE221=C$1,1,0),0)","v":0},{"$f":"IF(LOADS!$AC221=\"BUS\",IF(LOADS!$AE221=D$1,1,0),0)","v":0},{"$f":"IF(LOADS!$AC221=\"BUS\",IF(LOADS!$AE221=E$1,1,0),0)","v":0},{"$f":"IF(LOADS!$AC221=\"BUS\",IF(LOADS!$AE221=F$1,1,0),0)","v":0},{"$f":"IF(LOADS!$AC221=\"BUS\",IF(LOADS!$AE221=G$1,1,0),0)","v":0},{"$f":"IF(LOADS!$AC221=\"BUS\",IF(LOADS!$AE221=H$1,1,0),0)","v":0},{"$f":"IF(LOADS!$AC221=\"BUS\",IF(LOADS!$AE221=I$1,1,0),0)","v":0},0,{"$f":"LOADS!AM221","v":0}]
[{"$f":"IF(ISBLANK(LOADS!A222),\"\",LOADS!A222)","v":{"$error":"#REF!"}},{"$f":"IF(ISBLANK(LOADS!B222),\"\",LOADS!B222)","v":""},{"$f":"IF(LOADS!$AC222=\"BUS\",IF(LOADS!$AE222=C$1,1,0),0)","v":0},{"$f":"IF(LOADS!$AC222=\"BUS\",IF(LOADS!$AE222=D$1,1,0),0)","v":0},{"$f":"IF(LOADS!$AC222=\"BUS\",IF(LOADS!$AE222=E$1,1,0),0)","v":0},{"$f":"IF(LOADS!$AC222=\"BUS\",IF(LOADS!$AE222=F$1,1,0),0)","v":0},{"$f":"IF(LOADS!$AC222=\"BUS\",IF(LOADS!$AE222=G$1,1,0),0)","v":0},{"$f":"IF(LOADS!$AC222=\"BUS\",IF(LOADS!$AE222=H$1,1,0),0)","v":0},{"$f":"IF(LOADS!$AC222=\"BUS\",IF(LOADS!$AE222=I$1,1,0),0)","v":0},0,{"$f":"LOADS!AM222","v":0}]
[{"$f":"IF(ISBLANK(LOADS!A223),\"\",LOADS!A223)","v":{"$error":"#REF!"}},{"$f":"IF(ISBLANK(LOADS!B223),\"\",LOADS!B223)","v":""},{"$f":"IF(LOADS!$AC223=\"BUS\",IF(LOADS!$AE223=C$1,1,0),0)","v":0},{"$f":"IF(LOADS!$AC223=\"BUS\",IF(LOADS!$AE223=D$1,1,0),0)","v":0},{"$f":"IF(LOADS!$AC223=\"BUS\",IF(LOADS!$AE223=E$1,1,0),0)","v":0},{"$f":"IF(LOADS!$AC223=\"BUS\",IF(LOADS!$AE223=F$1,1,0),0)","v":0},{"$f":"IF(LOADS!$AC223=\"BUS\",IF(LOADS!$AE223=G$1,1,0),0)","v":0},{"$f":"IF(LOADS!$AC223=\"BUS\",IF(LOADS!$AE223=H$1,1,0),0)","v":0},{"$f":"IF(LOADS!$AC223=\"BUS\",IF(LOADS!$AE223=I$1,1,0),0)","v":0},0,{"$f":"LOADS!AM223","v":0}]
[{"$f":"IF(ISBLANK(LOADS!A224),\"\",LOADS!A224)","v":{"$error":"#REF!"}},{"$f":"IF(ISBLANK(LOADS!B224),\"\",LOADS!B224)","v":""},{"$f":"IF(LOADS!$AC224=\"BUS\",IF(LOADS!$AE224=C$1,1,0),0)","v":0},{"$f":"IF(LOADS!$AC224=\"BUS\",IF(LOADS!$AE224=D$1,1,0),0)","v":0},{"$f":"IF(LOADS!$AC224=\"BUS\",IF(LOADS!$AE224=E$1,1,0),0)","v":0},{"$f":"IF(LOADS!$AC224=\"BUS\",IF(LOADS!$AE224=F$1,1,0),0)","v":0},{"$f":"IF(LOADS!$AC224=\"BUS\",IF(LOADS!$AE224=G$1,1,0),0)","v":0},{"$f":"IF(LOADS!$AC224=\"BUS\",IF(LOADS!$AE224=H$1,1,0),0)","v":0},{"$f":"IF(LOADS!$AC224=\"BUS\",IF(LOADS!$AE224=I$1,1,0),0)","v":0},0,{"$f":"LOADS!AM224","v":0}]
[{"$f":"IF(ISBLANK(LOADS!A225),\"\",LOADS!A225)","v":{"$error":"#REF!"}},{"$f":"IF(ISBLANK(LOADS!B225),\"\",LOADS!B225)","v":""},{"$f":"IF(LOADS!$AC225=\"BUS\",IF(LOADS!$AE225=C$1,1,0),0)","v":0},{"$f":"IF(LOADS!$AC225=\"BUS\",IF(LOADS!$AE225=D$1,1,0),0)","v":0},{"$f":"IF(LOADS!$AC225=\"BUS\",IF(LOADS!$AE225=E$1,1,0),0)","v":0},{"$f":"IF(LOADS!$AC225=\"BUS\",IF(LOADS!$AE225=F$1,1,0),0)","v":0},{"$f":"IF(LOADS!$AC225=\"BUS\",IF(LOADS!$AE225=G$1,1,0),0)","v":0},{"$f":"IF(LOADS!$AC225=\"BUS\",IF(LOADS!$AE225=H$1,1,0),0)","v":0},{"$f":"IF(LOADS!$AC225=\"BUS\",IF(LOADS!$AE225=I$1,1,0),0)","v":0},0,{"$f":"LOADS!AM225","v":0}]
[{"$f":"IF(ISBLANK(LOADS!A226),\"\",LOADS!A226)","v":{"$error":"#REF!"}},{"$f":"IF(ISBLANK(LOADS!B226),\"\",LOADS!B226)","v":""},{"$f":"IF(LOADS!$AC226=\"BUS\",IF(LOADS!$AE226=C$1,1,0),0)","v":0},{"$f":"IF(LOADS!$AC226=\"BUS\",IF(LOADS!$AE226=D$1,1,0),0)","v":0},{"$f":"IF(LOADS!$AC226=\"BUS\",IF(LOADS!$AE226=E$1,1,0),0)","v":0},{"$f":"IF(LOADS!$AC226=\"BUS\",IF(LOADS!$AE226=F$1,1,0),0)","v":0},{"$f":"IF(LOADS!$AC226=\"BUS\",IF(LOADS!$AE226=G$1,1,0),0)","v":0},{"$f":"IF(LOADS!$AC226=\"BUS\",IF(LOADS!$AE226=H$1,1,0),0)","v":0},{"$f":"IF(LOADS!$AC226=\"BUS\",IF(LOADS!$AE226=I$1,1,0),0)","v":0},0,{"$f":"LOADS!AM226","v":0}]
[{"$f":"IF(ISBLANK(LOADS!A227),\"\",LOADS!A227)","v":{"$error":"#REF!"}},{"$f":"IF(ISBLANK(LOADS!B227),\"\",LOADS!B227)","v":""},{"$f":"IF(LOADS!$AC227=\"BUS\",IF(LOADS!$AE227=C$1,1,0),0)","v":0},{"$f":"IF(LOADS!$AC227=\"BUS\",IF(LOADS!$AE227=D$1,1,0),0)","v":0},{"$f":"IF(LOADS!$AC227=\"BUS\",IF(LOADS!$AE227=E$1,1,0),0)","v":0},{"$f":"IF(LOADS!$AC227=\"BUS\",IF(LOADS!$AE227=F$1,1,0),0)","v":0},{"$f":"IF(LOADS!$AC227=\"BUS\",IF(LOADS!$AE227=G$1,1,0),0)","v":0},{"$f":"IF(LOADS!$AC227=\"BUS\",IF(LOADS!$AE227=H$1,1,0),0)","v":0},{"$f":"IF(LOADS!$AC227=\"BUS\",IF(LOADS!$AE227=I$1,1,0),0)","v":0},0,{"$f":"LOADS!AM227","v":0}]
[{"$f":"IF(ISBLANK(LOADS!A228),\"\",LOADS!A228)","v":{"$error":"#REF!"}},{"$f":"IF(ISBLANK(LOADS!B228),\"\",LOADS!B228)","v":""},{"$f":"IF(LOADS!$AC228=\"BUS\",IF(LOADS!$AE228=C$1,1,0),0)","v":0},{"$f":"IF(LOADS!$AC228=\"BUS\",IF(LOADS!$AE228=D$1,1,0),0)","v":0},{"$f":"IF(LOADS!$AC228=\"BUS\",IF(LOADS!$AE228=E$1,1,0),0)","v":0},{"$f":"IF(LOADS!$AC228=\"BUS\",IF(LOADS!$AE228=F$1,1,0),0)","v":0},{"$f":"IF(LOADS!$AC228=\"BUS\",IF(LOADS!$AE228=G$1,1,0),0)","v":0},{"$f":"IF(LOADS!$AC228=\"BUS\",IF(LOADS!$AE228=H$1,1,0),0)","v":0},{"$f":"IF(LOADS!$AC228=\"BUS\",IF(LOADS!$AE228=I$1,1,0),0)","v":0},0,{"$f":"LOADS!AM228","v":0}]
[{"$f":"IF(ISBLANK(LOADS!A229),\"\",LOADS!A229)","v":{"$error":"#REF!"}},{"$f":"IF(ISBLANK(LOADS!B229),\"\",LOADS!B229)","v":""},{"$f":"IF(LOADS!$AC229=\"BUS\",IF(LOADS!$AE229=C$1,1,0),0)","v":0},{"$f":"IF(LOADS!$AC229=\"BUS\",IF(LOADS!$AE229=D$1,1,0),0)","v":0},{"$f":"IF(LOADS!$AC229=\"BUS\",IF(LOADS!$AE229=E$1,1,0),0)","v":0},{"$f":"IF(LOADS!$AC229=\"BUS\",IF(LOADS!$AE229=F$1,1,0),0)","v":0},{"$f":"IF(LOADS!$AC229=\"BUS\",IF(LOADS!$AE229=G$1,1,0),0)","v":0},{"$f":"IF(LOADS!$AC229=\"BUS\",IF(LOADS!$AE229=H$1,1,0),0)","v":0},{"$f":"IF(LOADS!$AC229=\"BUS\",IF(LOADS!$AE229=I$1,1,0),0)","v":0},0,{"$f":"LOADS!AM229","v":0}]
[{"$f":"IF(ISBLANK(LOADS!A230),\"\",LOADS!A230)","v":{"$error":"#REF!"}},{"$f":"IF(ISBLANK(LOADS!B230),\"\",LOADS!B230)","v":""},{"$f":"IF(LOADS!$AC230=\"BUS\",IF(LOADS!$AE230=C$1,1,0),0)","v":0},{"$f":"IF(LOADS!$AC230=\"BUS\",IF(LOADS!$AE230=D$1,1,0),0)","v":0},{"$f":"IF(LOADS!$AC230=\"BUS\",IF(LOADS!$AE230=E$1,1,0),0)","v":0},{"$f":"IF(LOADS!$AC230=\"BUS\",IF(LOADS!$AE230=F$1,1,0),0)","v":0},{"$f":"IF(LOADS!$AC230=\"BUS\",IF(LOADS!$AE230=G$1,1,0),0)","v":0},{"$f":"IF(LOADS!$AC230=\"BUS\",IF(LOADS!$AE230=H$1,1,0),0)","v":0},{"$f":"IF(LOADS!$AC230=\"BUS\",IF(LOADS!$AE230=I$1,1,0),0)","v":0},0,{"$f":"LOADS!AM230","v":0}]
[{"$f":"IF(ISBLANK(LOADS!A231),\"\",LOADS!A231)","v":{"$error":"#REF!"}},{"$f":"IF(ISBLANK(LOADS!B231),\"\",LOADS!B231)","v":""},{"$f":"IF(LOADS!$AC231=\"BUS\",IF(LOADS!$AE231=C$1,1,0),0)","v":0},{"$f":"IF(LOADS!$AC231=\"BUS\",IF(LOADS!$AE231=D$1,1,0),0)","v":0},{"$f":"IF(LOADS!$AC231=\"BUS\",IF(LOADS!$AE231=E$1,1,0),0)","v":0},{"$f":"IF(LOADS!$AC231=\"BUS\",IF(LOADS!$AE231=F$1,1,0),0)","v":0},{"$f":"IF(LOADS!$AC231=\"BUS\",IF(LOADS!$AE231=G$1,1,0),0)","v":0},{"$f":"IF(LOADS!$AC231=\"BUS\",IF(LOADS!$AE231=H$1,1,0),0)","v":0},{"$f":"IF(LOADS!$AC231=\"BUS\",IF(LOADS!$AE231=I$1,1,0),0)","v":0},0,{"$f":"LOADS!AM231","v":0}]
[{"$f":"IF(ISBLANK(LOADS!A232),\"\",LOADS!A232)","v":{"$error":"#REF!"}},{"$f":"IF(ISBLANK(LOADS!B232),\"\",LOADS!B232)","v":""},{"$f":"IF(LOADS!$AC232=\"BUS\",IF(LOADS!$AE232=C$1,1,0),0)","v":0},{"$f":"IF(LOADS!$AC232=\"BUS\",IF(LOADS!$AE232=D$1,1,0),0)","v":0},{"$f":"IF(LOADS!$AC232=\"BUS\",IF(LOADS!$AE232=E$1,1,0),0)","v":0},{"$f":"IF(LOADS!$AC232=\"BUS\",IF(LOADS!$AE232=F$1,1,0),0)","v":0},{"$f":"IF(LOADS!$AC232=\"BUS\",IF(LOADS!$AE232=G$1,1,0),0)","v":0},{"$f":"IF(LOADS!$AC232=\"BUS\",IF(LOADS!$AE232=H$1,1,0),0)","v":0},{"$f":"IF(LOADS!$AC232=\"BUS\",IF(LOADS!$AE232=I$1,1,0),0)","v":0},0,{"$f":"LOADS!AM232","v":0}]
[{"$f":"IF(ISBLANK(LOADS!A233),\"\",LOADS!A233)","v":{"$error":"#REF!"}},{"$f":"IF(ISBLANK(LOADS!B233),\"\",LOADS!B233)","v":""},{"$f":"IF(LOADS!$AC233=\"BUS\",IF(LOADS!$AE233=C$1,1,0),0)","v":0},{"$f":"IF(LOADS!$AC233=\"BUS\",IF(LOADS!$AE233=D$1,1,0),0)","v":0},{"$f":"IF(LOADS!$AC233=\"BUS\",IF(LOADS!$AE233=E$1,1,0),0)","v":0},{"$f":"IF(LOADS!$AC233=\"BUS\",IF(LOADS!$AE233=F$1,1,0),0)","v":0},{"$f":"IF(LOADS!$AC233=\"BUS\",IF(LOADS!$AE233=G$1,1,0),0)","v":0},{"$f":"IF(LOADS!$AC233=\"BUS\",IF(LOADS!$AE233=H$1,1,0),0)","v":0},{"$f":"IF(LOADS!$AC233=\"BUS\",IF(LOADS!$AE233=I$1,1,0),0)","v":0},0,{"$f":"LOADS!AM233","v":0}]
[{"$f":"IF(ISBLANK(LOADS!A234),\"\",LOADS!A234)","v":{"$error":"#REF!"}},{"$f":"IF(ISBLANK(LOADS!B234),\"\",LOADS!B234)","v":""},{"$f":"IF(LOADS!$AC234=\"BUS\",IF(LOADS!$AE234=C$1,1,0),0)","v":0},{"$f":"IF(LOADS!$AC234=\"BUS\",IF(LOADS!$AE234=D$1,1,0),0)","v":0},{"$f":"IF(LOADS!$AC234=\"BUS\",IF(LOADS!$AE234=E$1,1,0),0)","v":0},{"$f":"IF(LOADS!$AC234=\"BUS\",IF(LOADS!$AE234=F$1,1,0),0)","v":0},{"$f":"IF(LOADS!$AC234=\"BUS\",IF(LOADS!$AE234=G$1,1,0),0)","v":0},{"$f":"IF(LOADS!$AC234=\"BUS\",IF(LOADS!$AE234=H$1,1,0),0)","v":0},{"$f":"IF(LOADS!$AC234=\"BUS\",IF(LOADS!$AE234=I$1,1,0),0)","v":0},0,{"$f":"LOADS!AM234","v":0}]
[{"$f":"IF(ISBLANK(LOADS!A235),\"\",LOADS!A235)","v":{"$error":"#REF!"}},{"$f":"IF(ISBLANK(LOADS!B235),\"\",LOADS!B235)","v":""},{"$f":"IF(LOADS!$AC235=\"BUS\",IF(LOADS!$AE235=C$1,1,0),0)","v":0},{"$f":"IF(LOADS!$AC235=\"BUS\",IF(LOADS!$AE235=D$1,1,0),0)","v":0},{"$f":"IF(LOADS!$AC235=\"BUS\",IF(LOADS!$AE235=E$1,1,0),0)","v":0},{"$f":"IF(LOADS!$AC235=\"BUS\",IF(LOADS!$AE235=F$1,1,0),0)","v":0},{"$f":"IF(LOADS!$AC235=\"BUS\",IF(LOADS!$AE235=G$1,1,0),0)","v":0},{"$f":"IF(LOADS!$AC235=\"BUS\",IF(LOADS!$AE235=H$1,1,0),0)","v":0},{"$f":"IF(LOADS!$AC235=\"BUS\",IF(LOADS!$AE235=I$1,1,0),0)","v":0},0,{"$f":"LOADS!AM235","v":0}]
[{"$f":"IF(ISBLANK(LOADS!A236),\"\",LOADS!A236)","v":{"$error":"#REF!"}},{"$f":"IF(ISBLANK(LOADS!B236),\"\",LOADS!B236)","v":""},{"$f":"IF(LOADS!$AC236=\"BUS\",IF(LOADS!$AE236=C$1,1,0),0)","v":0},{"$f":"IF(LOADS!$AC236=\"BUS\",IF(LOADS!$AE236=D$1,1,0),0)","v":0},{"$f":"IF(LOADS!$AC236=\"BUS\",IF(LOADS!$AE236=E$1,1,0),0)","v":0},{"$f":"IF(LOADS!$AC236=\"BUS\",IF(LOADS!$AE236=F$1,1,0),0)","v":0},{"$f":"IF(LOADS!$AC236=\"BUS\",IF(LOADS!$AE236=G$1,1,0),0)","v":0},{"$f":"IF(LOADS!$AC236=\"BUS\",IF(LOADS!$AE236=H$1,1,0),0)","v":0},{"$f":"IF(LOADS!$AC236=\"BUS\",IF(LOADS!$AE236=I$1,1,0),0)","v":0},0,{"$f":"LOADS!AM236","v":0}]
[{"$f":"IF(ISBLANK(LOADS!A237),\"\",LOADS!A237)","v":{"$error":"#REF!"}},{"$f":"IF(ISBLANK(LOADS!B237),\"\",LOADS!B237)","v":""},{"$f":"IF(LOADS!$AC237=\"BUS\",IF(LOADS!$AE237=C$1,1,0),0)","v":0},{"$f":"IF(LOADS!$AC237=\"BUS\",IF(LOADS!$AE237=D$1,1,0),0)","v":0},{"$f":"IF(LOADS!$AC237=\"BUS\",IF(LOADS!$AE237=E$1,1,0),0)","v":0},{"$f":"IF(LOADS!$AC237=\"BUS\",IF(LOADS!$AE237=F$1,1,0),0)","v":0},{"$f":"IF(LOADS!$AC237=\"BUS\",IF(LOADS!$AE237=G$1,1,0),0)","v":0},{"$f":"IF(LOADS!$AC237=\"BUS\",IF(LOADS!$AE237=H$1,1,0),0)","v":0},{"$f":"IF(LOADS!$AC237=\"BUS\",IF(LOADS!$AE237=I$1,1,0),0)","v":0},0,{"$f":"LOADS!AM237","v":0}]
[{"$f":"IF(ISBLANK(LOADS!A238),\"\",LOADS!A238)","v":{"$error":"#REF!"}},{"$f":"IF(ISBLANK(LOADS!B238),\"\",LOADS!B238)","v":""},{"$f":"IF(LOADS!$AC238=\"BUS\",IF(LOADS!$AE238=C$1,1,0),0)","v":0},{"$f":"IF(LOADS!$AC238=\"BUS\",IF(LOADS!$AE238=D$1,1,0),0)","v":0},{"$f":"IF(LOADS!$AC238=\"BUS\",IF(LOADS!$AE238=E$1,1,0),0)","v":0},{"$f":"IF(LOADS!$AC238=\"BUS\",IF(LOADS!$AE238=F$1,1,0),0)","v":0},{"$f":"IF(LOADS!$AC238=\"BUS\",IF(LOADS!$AE238=G$1,1,0),0)","v":0},{"$f":"IF(LOADS!$AC238=\"BUS\",IF(LOADS!$AE238=H$1,1,0),0)","v":0},{"$f":"IF(LOADS!$AC238=\"BUS\",IF(LOADS!$AE238=I$1,1,0),0)","v":0},0,{"$f":"LOADS!AM238","v":0}]
[{"$f":"IF(ISBLANK(LOADS!A239),\"\",LOADS!A239)","v":{"$error":"#REF!"}},{"$f":"IF(ISBLANK(LOADS!B239),\"\",LOADS!B239)","v":""},{"$f":"IF(LOADS!$AC239=\"BUS\",IF(LOADS!$AE239=C$1,1,0),0)","v":0},{"$f":"IF(LOADS!$AC239=\"BUS\",IF(LOADS!$AE239=D$1,1,0),0)","v":0},{"$f":"IF(LOADS!$AC239=\"BUS\",IF(LOADS!$AE239=E$1,1,0),0)","v":0},{"$f":"IF(LOADS!$AC239=\"BUS\",IF(LOADS!$AE239=F$1,1,0),0)","v":0},{"$f":"IF(LOADS!$AC239=\"BUS\",IF(LOADS!$AE239=G$1,1,0),0)","v":0},{"$f":"IF(LOADS!$AC239=\"BUS\",IF(LOADS!$AE239=H$1,1,0),0)","v":0},{"$f":"IF(LOADS!$AC239=\"BUS\",IF(LOADS!$AE239=I$1,1,0),0)","v":0},0,{"$f":"LOADS!AM239","v":0}]
[{"$f":"IF(ISBLANK(LOADS!A240),\"\",LOADS!A240)","v":{"$error":"#REF!"}},{"$f":"IF(ISBLANK(LOADS!B240),\"\",LOADS!B240)","v":""},{"$f":"IF(LOADS!$AC240=\"BUS\",IF(LOADS!$AE240=C$1,1,0),0)","v":0},{"$f":"IF(LOADS!$AC240=\"BUS\",IF(LOADS!$AE240=D$1,1,0),0)","v":0},{"$f":"IF(LOADS!$AC240=\"BUS\",IF(LOADS!$AE240=E$1,1,0),0)","v":0},{"$f":"IF(LOADS!$AC240=\"BUS\",IF(LOADS!$AE240=F$1,1,0),0)","v":0},{"$f":"IF(LOADS!$AC240=\"BUS\",IF(LOADS!$AE240=G$1,1,0),0)","v":0},{"$f":"IF(LOADS!$AC240=\"BUS\",IF(LOADS!$AE240=H$1,1,0),0)","v":0},{"$f":"IF(LOADS!$AC240=\"BUS\",IF(LOADS!$AE240=I$1,1,0),0)","v":0},0,{"$f":"LOADS!AM240","v":0}]
[{"$f":"IF(ISBLANK(LOADS!A241),\"\",LOADS!A241)","v":{"$error":"#REF!"}},{"$f":"IF(ISBLANK(LOADS!B241),\"\",LOADS!B241)","v":""},{"$f":"IF(LOADS!$AC241=\"BUS\",IF(LOADS!$AE241=C$1,1,0),0)","v":0},{"$f":"IF(LOADS!$AC241=\"BUS\",IF(LOADS!$AE241=D$1,1,0),0)","v":0},{"$f":"IF(LOADS!$AC241=\"BUS\",IF(LOADS!$AE241=E$1,1,0),0)","v":0},{"$f":"IF(LOADS!$AC241=\"BUS\",IF(LOADS!$AE241=F$1,1,0),0)","v":0},{"$f":"IF(LOADS!$AC241=\"BUS\",IF(LOADS!$AE241=G$1,1,0),0)","v":0},{"$f":"IF(LOADS!$AC241=\"BUS\",IF(LOADS!$AE241=H$1,1,0),0)","v":0},{"$f":"IF(LOADS!$AC241=\"BUS\",IF(LOADS!$AE241=I$1,1,0),0)","v":0},0,{"$f":"LOADS!AM241","v":0}]
[{"$f":"IF(ISBLANK(LOADS!A242),\"\",LOADS!A242)","v":{"$error":"#REF!"}},{"$f":"IF(ISBLANK(LOADS!B242),\"\",LOADS!B242)","v":""},{"$f":"IF(LOADS!$AC242=\"BUS\",IF(LOADS!$AE242=C$1,1,0),0)","v":0},{"$f":"IF(LOADS!$AC242=\"BUS\",IF(LOADS!$AE242=D$1,1,0),0)","v":0},{"$f":"IF(LOADS!$AC242=\"BUS\",IF(LOADS!$AE242=E$1,1,0),0)","v":0},{"$f":"IF(LOADS!$AC242=\"BUS\",IF(LOADS!$AE242=F$1,1,0),0)","v":0},{"$f":"IF(LOADS!$AC242=\"BUS\",IF(LOADS!$AE242=G$1,1,0),0)","v":0},{"$f":"IF(LOADS!$AC242=\"BUS\",IF(LOADS!$AE242=H$1,1,0),0)","v":0},{"$f":"IF(LOADS!$AC242=\"BUS\",IF(LOADS!$AE242=I$1,1,0),0)","v":0},0,{"$f":"LOADS!AM242","v":0}]
[{"$f":"IF(ISBLANK(LOADS!A243),\"\",LOADS!A243)","v":{"$error":"#REF!"}},{"$f":"IF(ISBLANK(LOADS!B243),\"\",LOADS!B243)","v":""},{"$f":"IF(LOADS!$AC243=\"BUS\",IF(LOADS!$AE243=C$1,1,0),0)","v":0},{"$f":"IF(LOADS!$AC243=\"BUS\",IF(LOADS!$AE243=D$1,1,0),0)","v":0},{"$f":"IF(LOADS!$AC243=\"BUS\",IF(LOADS!$AE243=E$1,1,0),0)","v":0},{"$f":"IF(LOADS!$AC243=\"BUS\",IF(LOADS!$AE243=F$1,1,0),0)","v":0},{"$f":"IF(LOADS!$AC243=\"BUS\",IF(LOADS!$AE243=G$1,1,0),0)","v":0},{"$f":"IF(LOADS!$AC243=\"BUS\",IF(LOADS!$AE243=H$1,1,0),0)","v":0},{"$f":"IF(LOADS!$AC243=\"BUS\",IF(LOADS!$AE243=I$1,1,0),0)","v":0},0,{"$f":"LOADS!AM243","v":0}]
[{"$f":"IF(ISBLANK(LOADS!A244),\"\",LOADS!A244)","v":{"$error":"#REF!"}},{"$f":"IF(ISBLANK(LOADS!B244),\"\",LOADS!B244)","v":""},{"$f":"IF(LOADS!$AC244=\"BUS\",IF(LOADS!$AE244=C$1,1,0),0)","v":0},{"$f":"IF(LOADS!$AC244=\"BUS\",IF(LOADS!$AE244=D$1,1,0),0)","v":0},{"$f":"IF(LOADS!$AC244=\"BUS\",IF(LOADS!$AE244=E$1,1,0),0)","v":0},{"$f":"IF(LOADS!$AC244=\"BUS\",IF(LOADS!$AE244=F$1,1,0),0)","v":0},{"$f":"IF(LOADS!$AC244=\"BUS\",IF(LOADS!$AE244=G$1,1,0),0)","v":0},{"$f":"IF(LOADS!$AC244=\"BUS\",IF(LOADS!$AE244=H$1,1,0),0)","v":0},{"$f":"IF(LOADS!$AC244=\"BUS\",IF(LOADS!$AE244=I$1,1,0),0)","v":0},0,{"$f":"LOADS!AM244","v":0}]
[{"$f":"IF(ISBLANK(LOADS!A245),\"\",LOADS!A245)","v":{"$error":"#REF!"}},{"$f":"IF(ISBLANK(LOADS!B245),\"\",LOADS!B245)","v":""},{"$f":"IF(LOADS!$AC245=\"BUS\",IF(LOADS!$AE245=C$1,1,0),0)","v":0},{"$f":"IF(LOADS!$AC245=\"BUS\",IF(LOADS!$AE245=D$1,1,0),0)","v":0},{"$f":"IF(LOADS!$AC245=\"BUS\",IF(LOADS!$AE245=E$1,1,0),0)","v":0},{"$f":"IF(LOADS!$AC245=\"BUS\",IF(LOADS!$AE245=F$1,1,0),0)","v":0},{"$f":"IF(LOADS!$AC245=\"BUS\",IF(LOADS!$AE245=G$1,1,0),0)","v":0},{"$f":"IF(LOADS!$AC245=\"BUS\",IF(LOADS!$AE245=H$1,1,0),0)","v":0},{"$f":"IF(LOADS!$AC245=\"BUS\",IF(LOADS!$AE245=I$1,1,0),0)","v":0},0,{"$f":"LOADS!AM245","v":0}]
[{"$f":"IF(ISBLANK(LOADS!A246),\"\",LOADS!A246)","v":{"$error":"#REF!"}},{"$f":"IF(ISBLANK(LOADS!B246),\"\",LOADS!B246)","v":""},{"$f":"IF(LOADS!$AC246=\"BUS\",IF(LOADS!$AE246=C$1,1,0),0)","v":0},{"$f":"IF(LOADS!$AC246=\"BUS\",IF(LOADS!$AE246=D$1,1,0),0)","v":0},{"$f":"IF(LOADS!$AC246=\"BUS\",IF(LOADS!$AE246=E$1,1,0),0)","v":0},{"$f":"IF(LOADS!$AC246=\"BUS\",IF(LOADS!$AE246=F$1,1,0),0)","v":0},{"$f":"IF(LOADS!$AC246=\"BUS\",IF(LOADS!$AE246=G$1,1,0),0)","v":0},{"$f":"IF(LOADS!$AC246=\"BUS\",IF(LOADS!$AE246=H$1,1,0),0)","v":0},{"$f":"IF(LOADS!$AC246=\"BUS\",IF(LOADS!$AE246=I$1,1,0),0)","v":0},0,{"$f":"LOADS!AM246","v":0}]
[{"$f":"IF(ISBLANK(LOADS!A247),\"\",LOADS!A247)","v":{"$error":"#REF!"}},{"$f":"IF(ISBLANK(LOADS!B247),\"\",LOADS!B247)","v":""},{"$f":"IF(LOADS!$AC247=\"BUS\",IF(LOADS!$AE247=C$1,1,0),0)","v":0},{"$f":"IF(LOADS!$AC247=\"BUS\",IF(LOADS!$AE247=D$1,1,0),0)","v":0},{"$f":"IF(LOADS!$AC247=\"BUS\",IF(LOADS!$AE247=E$1,1,0),0)","v":0},{"$f":"IF(LOADS!$AC247=\"BUS\",IF(LOADS!$AE247=F$1,1,0),0)","v":0},{"$f":"IF(LOADS!$AC247=\"BUS\",IF(LOADS!$AE247=G$1,1,0),0)","v":0},{"$f":"IF(LOADS!$AC247=\"BUS\",IF(LOADS!$AE247=H$1,1,0),0)","v":0},{"$f":"IF(LOADS!$AC247=\"BUS\",IF(LOADS!$AE247=I$1,1,0),0)","v":0},0,{"$f":"LOADS!AM247","v":0}]
[{"$f":"IF(ISBLANK(LOADS!A248),\"\",LOADS!A248)","v":{"$error":"#REF!"}},{"$f":"IF(ISBLANK(LOADS!B248),\"\",LOADS!B248)","v":""},{"$f":"IF(LOADS!$AC248=\"BUS\",IF(LOADS!$AE248=C$1,1,0),0)","v":0},{"$f":"IF(LOADS!$AC248=\"BUS\",IF(LOADS!$AE248=D$1,1,0),0)","v":0},{"$f":"IF(LOADS!$AC248=\"BUS\",IF(LOADS!$AE248=E$1,1,0),0)","v":0},{"$f":"IF(LOADS!$AC248=\"BUS\",IF(LOADS!$AE248=F$1,1,0),0)","v":0},{"$f":"IF(LOADS!$AC248=\"BUS\",IF(LOADS!$AE248=G$1,1,0),0)","v":0},{"$f":"IF(LOADS!$AC248=\"BUS\",IF(LOADS!$AE248=H$1,1,0),0)","v":0},{"$f":"IF(LOADS!$AC248=\"BUS\",IF(LOADS!$AE248=I$1,1,0),0)","v":0},0,{"$f":"LOADS!AM248","v":0}]
[{"$f":"IF(ISBLANK(LOADS!A249),\"\",LOADS!A249)","v":{"$error":"#REF!"}},{"$f":"IF(ISBLANK(LOADS!B249),\"\",LOADS!B249)","v":""},{"$f":"IF(LOADS!$AC249=\"BUS\",IF(LOADS!$AE249=C$1,1,0),0)","v":0},{"$f":"IF(LOADS!$AC249=\"BUS\",IF(LOADS!$AE249=D$1,1,0),0)","v":0},{"$f":"IF(LOADS!$AC249=\"BUS\",IF(LOADS!$AE249=E$1,1,0),0)","v":0},{"$f":"IF(LOADS!$AC249=\"BUS\",IF(LOADS!$AE249=F$1,1,0),0)","v":0},{"$f":"IF(LOADS!$AC249=\"BUS\",IF(LOADS!$AE249=G$1,1,0),0)","v":0},{"$f":"IF(LOADS!$AC249=\"BUS\",IF(LOADS!$AE249=H$1,1,0),0)","v":0},{"$f":"IF(LOADS!$AC249=\"BUS\",IF(LOADS!$AE249=I$1,1,0),0)","v":0},0,{"$f":"LOADS!AM249","v":0}]
[{"$f":"IF(ISBLANK(LOADS!A250),\"\",LOADS!A250)","v":{"$error":"#REF!"}},{"$f":"IF(ISBLANK(LOADS!B250),\"\",LOADS!B250)","v":""},{"$f":"IF(LOADS!$AC250=\"BUS\",IF(LOADS!$AE250=C$1,1,0),0)","v":0},{"$f":"IF(LOADS!$AC250=\"BUS\",IF(LOADS!$AE250=D$1,1,0),0)","v":0},{"$f":"IF(LOADS!$AC250=\"BUS\",IF(LOADS!$AE250=E$1,1,0),0)","v":0},{"$f":"IF(LOADS!$AC250=\"BUS\",IF(LOADS!$AE250=F$1,1,0),0)","v":0},{"$f":"IF(LOADS!$AC250=\"BUS\",IF(LOADS!$AE250=G$1,1,0),0)","v":0},{"$f":"IF(LOADS!$AC250=\"BUS\",IF(LOADS!$AE250=H$1,1,0),0)","v":0},{"$f":"IF(LOADS!$AC250=\"BUS\",IF(LOADS!$AE250=I$1,1,0),0)","v":0},0,{"$f":"LOADS!AM250","v":0}]
[{"$f":"IF(ISBLANK(LOADS!A251),\"\",LOADS!A251)","v":{"$error":"#REF!"}},{"$f":"IF(ISBLANK(LOADS!B251),\"\",LOADS!B251)","v":""},{"$f":"IF(LOADS!$AC251=\"BUS\",IF(LOADS!$AE251=C$1,1,0),0)","v":0},{"$f":"IF(LOADS!$AC251=\"BUS\",IF(LOADS!$AE251=D$1,1,0),0)","v":0},{"$f":"IF(LOADS!$AC251=\"BUS\",IF(LOADS!$AE251=E$1,1,0),0)","v":0},{"$f":"IF(LOADS!$AC251=\"BUS\",IF(LOADS!$AE251=F$1,1,0),0)","v":0},{"$f":"IF(LOADS!$AC251=\"BUS\",IF(LOADS!$AE251=G$1,1,0),0)","v":0},{"$f":"IF(LOADS!$AC251=\"BUS\",IF(LOADS!$AE251=H$1,1,0),0)","v":0},{"$f":"IF(LOADS!$AC251=\"BUS\",IF(LOADS!$AE251=I$1,1,0),0)","v":0},0,{"$f":"LOADS!AM251","v":0}]
[{"$f":"IF(ISBLANK(LOADS!A252),\"\",LOADS!A252)","v":{"$error":"#REF!"}},{"$f":"IF(ISBLANK(LOADS!B252),\"\",LOADS!B252)","v":""},{"$f":"IF(LOADS!$AC252=\"BUS\",IF(LOADS!$AE252=C$1,1,0),0)","v":0},{"$f":"IF(LOADS!$AC252=\"BUS\",IF(LOADS!$AE252=D$1,1,0),0)","v":0},{"$f":"IF(LOADS!$AC252=\"BUS\",IF(LOADS!$AE252=E$1,1,0),0)","v":0},{"$f":"IF(LOADS!$AC252=\"BUS\",IF(LOADS!$AE252=F$1,1,0),0)","v":0},{"$f":"IF(LOADS!$AC252=\"BUS\",IF(LOADS!$AE252=G$1,1,0),0)","v":0},{"$f":"IF(LOADS!$AC252=\"BUS\",IF(LOADS!$AE252=H$1,1,0),0)","v":0},{"$f":"IF(LOADS!$AC252=\"BUS\",IF(LOADS!$AE252=I$1,1,0),0)","v":0},0,{"$f":"LOADS!AM252","v":0}]
[{"$f":"IF(ISBLANK(LOADS!A253),\"\",LOADS!A253)","v":{"$error":"#REF!"}},{"$f":"IF(ISBLANK(LOADS!B253),\"\",LOADS!B253)","v":""},{"$f":"IF(LOADS!$AC253=\"BUS\",IF(LOADS!$AE253=C$1,1,0),0)","v":0},{"$f":"IF(LOADS!$AC253=\"BUS\",IF(LOADS!$AE253=D$1,1,0),0)","v":0},{"$f":"IF(LOADS!$AC253=\"BUS\",IF(LOADS!$AE253=E$1,1,0),0)","v":0},{"$f":"IF(LOADS!$AC253=\"BUS\",IF(LOADS!$AE253=F$1,1,0),0)","v":0},{"$f":"IF(LOADS!$AC253=\"BUS\",IF(LOADS!$AE253=G$1,1,0),0)","v":0},{"$f":"IF(LOADS!$AC253=\"BUS\",IF(LOADS!$AE253=H$1,1,0),0)","v":0},{"$f":"IF(LOADS!$AC253=\"BUS\",IF(LOADS!$AE253=I$1,1,0),0)","v":0},0,{"$f":"LOADS!AM253","v":0}]
[{"$f":"IF(ISBLANK(LOADS!A254),\"\",LOADS!A254)","v":{"$error":"#REF!"}},{"$f":"IF(ISBLANK(LOADS!B254),\"\",LOADS!B254)","v":""},{"$f":"IF(LOADS!$AC254=\"BUS\",IF(LOADS!$AE254=C$1,1,0),0)","v":0},{"$f":"IF(LOADS!$AC254=\"BUS\",IF(LOADS!$AE254=D$1,1,0),0)","v":0},{"$f":"IF(LOADS!$AC254=\"BUS\",IF(LOADS!$AE254=E$1,1,0),0)","v":0},{"$f":"IF(LOADS!$AC254=\"BUS\",IF(LOADS!$AE254=F$1,1,0),0)","v":0},{"$f":"IF(LOADS!$AC254=\"BUS\",IF(LOADS!$AE254=G$1,1,0),0)","v":0},{"$f":"IF(LOADS!$AC254=\"BUS\",IF(LOADS!$AE254=H$1,1,0),0)","v":0},{"$f":"IF(LOADS!$AC254=\"BUS\",IF(LOADS!$AE254=I$1,1,0),0)","v":0},0,{"$f":"LOADS!AM254","v":0}]
[{"$f":"IF(ISBLANK(LOADS!A255),\"\",LOADS!A255)","v":{"$error":"#REF!"}},{"$f":"IF(ISBLANK(LOADS!B255),\"\",LOADS!B255)","v":""},{"$f":"IF(LOADS!$AC255=\"BUS\",IF(LOADS!$AE255=C$1,1,0),0)","v":0},{"$f":"IF(LOADS!$AC255=\"BUS\",IF(LOADS!$AE255=D$1,1,0),0)","v":0},{"$f":"IF(LOADS!$AC255=\"BUS\",IF(LOADS!$AE255=E$1,1,0),0)","v":0},{"$f":"IF(LOADS!$AC255=\"BUS\",IF(LOADS!$AE255=F$1,1,0),0)","v":0},{"$f":"IF(LOADS!$AC255=\"BUS\",IF(LOADS!$AE255=G$1,1,0),0)","v":0},{"$f":"IF(LOADS!$AC255=\"BUS\",IF(LOADS!$AE255=H$1,1,0),0)","v":0},{"$f":"IF(LOADS!$AC255=\"BUS\",IF(LOADS!$AE255=I$1,1,0),0)","v":0},0,{"$f":"LOADS!AM255","v":0}]
[{"$f":"IF(ISBLANK(LOADS!A256),\"\",LOADS!A256)","v":{"$error":"#REF!"}},{"$f":"IF(ISBLANK(LOADS!B256),\"\",LOADS!B256)","v":""},{"$f":"IF(LOADS!$AC256=\"BUS\",IF(LOADS!$AE256=C$1,1,0),0)","v":0},{"$f":"IF(LOADS!$AC256=\"BUS\",IF(LOADS!$AE256=D$1,1,0),0)","v":0},{"$f":"IF(LOADS!$AC256=\"BUS\",IF(LOADS!$AE256=E$1,1,0),0)","v":0},{"$f":"IF(LOADS!$AC256=\"BUS\",IF(LOADS!$AE256=F$1,1,0),0)","v":0},{"$f":"IF(LOADS!$AC256=\"BUS\",IF(LOADS!$AE256=G$1,1,0),0)","v":0},{"$f":"IF(LOADS!$AC256=\"BUS\",IF(LOADS!$AE256=H$1,1,0),0)","v":0},{"$f":"IF(LOADS!$AC256=\"BUS\",IF(LOADS!$AE256=I$1,1,0),0)","v":0},0,{"$f":"LOADS!AM256","v":0}]
[{"$f":"IF(ISBLANK(LOADS!A257),\"\",LOADS!A257)","v":{"$error":"#REF!"}},{"$f":"IF(ISBLANK(LOADS!B257),\"\",LOADS!B257)","v":""},{"$f":"IF(LOADS!$AC257=\"BUS\",IF(LOADS!$AE257=C$1,1,0),0)","v":0},{"$f":"IF(LOADS!$AC257=\"BUS\",IF(LOADS!$AE257=D$1,1,0),0)","v":0},{"$f":"IF(LOADS!$AC257=\"BUS\",IF(LOADS!$AE257=E$1,1,0),0)","v":0},{"$f":"IF(LOADS!$AC257=\"BUS\",IF(LOADS!$AE257=F$1,1,0),0)","v":0},{"$f":"IF(LOADS!$AC257=\"BUS\",IF(LOADS!$AE257=G$1,1,0),0)","v":0},{"$f":"IF(LOADS!$AC257=\"BUS\",IF(LOADS!$AE257=H$1,1,0),0)","v":0},{"$f":"IF(LOADS!$AC257=\"BUS\",IF(LOADS!$AE257=I$1,1,0),0)","v":0},0,{"$f":"LOADS!AM257","v":0}]
[{"$f":"IF(ISBLANK(LOADS!A258),\"\",LOADS!A258)","v":{"$error":"#REF!"}},{"$f":"IF(ISBLANK(LOADS!B258),\"\",LOADS!B258)","v":""},{"$f":"IF(LOADS!$AC258=\"BUS\",IF(LOADS!$AE258=C$1,1,0),0)","v":0},{"$f":"IF(LOADS!$AC258=\"BUS\",IF(LOADS!$AE258=D$1,1,0),0)","v":0},{"$f":"IF(LOADS!$AC258=\"BUS\",IF(LOADS!$AE258=E$1,1,0),0)","v":0},{"$f":"IF(LOADS!$AC258=\"BUS\",IF(LOADS!$AE258=F$1,1,0),0)","v":0},{"$f":"IF(LOADS!$AC258=\"BUS\",IF(LOADS!$AE258=G$1,1,0),0)","v":0},{"$f":"IF(LOADS!$AC258=\"BUS\",IF(LOADS!$AE258=H$1,1,0),0)","v":0},{"$f":"IF(LOADS!$AC258=\"BUS\",IF(LOADS!$AE258=I$1,1,0),0)","v":0},{"$f":"SUM(C261:I261)","v":0},{"$f":"LOADS!AM258","v":0}]
[{"$f":"IF(ISBLANK(LOADS!A259),\"\",LOADS!A259)","v":{"$error":"#REF!"}},{"$f":"IF(ISBLANK(LOADS!B259),\"\",LOADS!B259)","v":""},{"$f":"IF(LOADS!$AC259=\"BUS\",IF(LOADS!$AE259=C$1,1,0),0)","v":0},{"$f":"IF(LOADS!$AC259=\"BUS\",IF(LOADS!$AE259=D$1,1,0),0)","v":0},{"$f":"IF(LOADS!$AC259=\"BUS\",IF(LOADS!$AE259=E$1,1,0),0)","v":0},{"$f":"IF(LOADS!$AC259=\"BUS\",IF(LOADS!$AE259=F$1,1,0),0)","v":0},{"$f":"IF(LOADS!$AC259=\"BUS\",IF(LOADS!$AE259=G$1,1,0),0)","v":0},{"$f":"IF(LOADS!$AC259=\"BUS\",IF(LOADS!$AE259=H$1,1,0),0)","v":0},{"$f":"IF(LOADS!$AC259=\"BUS\",IF(LOADS!$AE259=I$1,1,0),0)","v":0},0,{"$f":"LOADS!AM259","v":0}]
[{"$f":"IF(ISBLANK(LOADS!A260),\"\",LOADS!A260)","v":{"$error":"#REF!"}},{"$f":"IF(ISBLANK(LOADS!B260),\"\",LOADS!B260)","v":""},{"$f":"IF(LOADS!$AC260=\"BUS\",IF(LOADS!$AE260=C$1,1,0),0)","v":0},{"$f":"IF(LOADS!$AC260=\"BUS\",IF(LOADS!$AE260=D$1,1,0),0)","v":0},{"$f":"IF(LOADS!$AC260=\"BUS\",IF(LOADS!$AE260=E$1,1,0),0)","v":0},{"$f":"IF(LOADS!$AC260=\"BUS\",IF(LOADS!$AE260=F$1,1,0),0)","v":0},{"$f":"IF(LOADS!$AC260=\"BUS\",IF(LOADS!$AE260=G$1,1,0),0)","v":0},{"$f":"IF(LOADS!$AC260=\"BUS\",IF(LOADS!$AE260=H$1,1,0),0)","v":0},{"$f":"IF(LOADS!$AC260=\"BUS\",IF(LOADS!$AE260=I$1,1,0),0)","v":0},0,{"$f":"LOADS!AM260","v":0}]
[{"$f":"IF(ISBLANK(LOADS!A261),\"\",LOADS!A261)","v":{"$error":"#REF!"}},{"$f":"IF(ISBLANK(LOADS!B261),\"\",LOADS!B261)","v":""},{"$f":"IF(LOADS!$AC261=\"BUS\",IF(LOADS!$AE261=C$1,1,0),0)","v":0},{"$f":"IF(LOADS!$AC261=\"BUS\",IF(LOADS!$AE261=D$1,1,0),0)","v":0},{"$f":"IF(LOADS!$AC261=\"BUS\",IF(LOADS!$AE261=E$1,1,0),0)","v":0},{"$f":"IF(LOADS!$AC261=\"BUS\",IF(LOADS!$AE261=F$1,1,0),0)","v":0},{"$f":"IF(LOADS!$AC261=\"BUS\",IF(LOADS!$AE261=G$1,1,0),0)","v":0},{"$f":"IF(LOADS!$AC261=\"BUS\",IF(LOADS!$AE261=H$1,1,0),0)","v":0},{"$f":"IF(LOADS!$AC261=\"BUS\",IF(LOADS!$AE261=I$1,1,0),0)","v":0},0,{"$f":"LOADS!AM261","v":0}]
[{"$f":"IF(ISBLANK(LOADS!A262),\"\",LOADS!A262)","v":{"$error":"#REF!"}},{"$f":"IF(ISBLANK(LOADS!B262),\"\",LOADS!B262)","v":""},{"$f":"IF(LOADS!$AC262=\"BUS\",IF(LOADS!$AE262=C$1,1,0),0)","v":0},{"$f":"IF(LOADS!$AC262=\"BUS\",IF(LOADS!$AE262=D$1,1,0),0)","v":0},{"$f":"IF(LOADS!$AC262=\"BUS\",IF(LOADS!$AE262=E$1,1,0),0)","v":0},{"$f":"IF(LOADS!$AC262=\"BUS\",IF(LOADS!$AE262=F$1,1,0),0)","v":0},{"$f":"IF(LOADS!$AC262=\"BUS\",IF(LOADS!$AE262=G$1,1,0),0)","v":0},{"$f":"IF(LOADS!$AC262=\"BUS\",IF(LOADS!$AE262=H$1,1,0),0)","v":0},{"$f":"IF(LOADS!$AC262=\"BUS\",IF(LOADS!$AE262=I$1,1,0),0)","v":0},0,{"$f":"LOADS!AM262","v":0}]
[{"$f":"IF(ISBLANK(LOADS!A263),\"\",LOADS!A263)","v":{"$error":"#REF!"}},{"$f":"IF(ISBLANK(LOADS!B263),\"\",LOADS!B263)","v":""},{"$f":"IF(LOADS!$AC263=\"BUS\",IF(LOADS!$AE263=C$1,1,0),0)","v":0},{"$f":"IF(LOADS!$AC263=\"BUS\",IF(LOADS!$AE263=D$1,1,0),0)","v":0},{"$f":"IF(LOADS!$AC263=\"BUS\",IF(LOADS!$AE263=E$1,1,0),0)","v":0},{"$f":"IF(LOADS!$AC263=\"BUS\",IF(LOADS!$AE263=F$1,1,0),0)","v":0},{"$f":"IF(LOADS!$AC263=\"BUS\",IF(LOADS!$AE263=G$1,1,0),0)","v":0},{"$f":"IF(LOADS!$AC263=\"BUS\",IF(LOADS!$AE263=H$1,1,0),0)","v":0},{"$f":"IF(LOADS!$AC263=\"BUS\",IF(LOADS!$AE263=I$1,1,0),0)","v":0},0,{"$f":"LOADS!AM263","v":0}]
[{"$f":"IF(ISBLANK(LOADS!A264),\"\",LOADS!A264)","v":{"$error":"#REF!"}},{"$f":"IF(ISBLANK(LOADS!B264),\"\",LOADS!B264)","v":""},{"$f":"IF(LOADS!$AC264=\"BUS\",IF(LOADS!$AE264=C$1,1,0),0)","v":0},{"$f":"IF(LOADS!$AC264=\"BUS\",IF(LOADS!$AE264=D$1,1,0),0)","v":0},{"$f":"IF(LOADS!$AC264=\"BUS\",IF(LOADS!$AE264=E$1,1,0),0)","v":0},{"$f":"IF(LOADS!$AC264=\"BUS\",IF(LOADS!$AE264=F$1,1,0),0)","v":0},{"$f":"IF(LOADS!$AC264=\"BUS\",IF(LOADS!$AE264=G$1,1,0),0)","v":0},{"$f":"IF(LOADS!$AC264=\"BUS\",IF(LOADS!$AE264=H$1,1,0),0)","v":0},{"$f":"IF(LOADS!$AC264=\"BUS\",IF(LOADS!$AE264=I$1,1,0),0)","v":0},0,{"$f":"LOADS!AM264","v":0}]
[{"$f":"IF(ISBLANK(LOADS!A265),\"\",LOADS!A265)","v":{"$error":"#REF!"}},{"$f":"IF(ISBLANK(LOADS!B265),\"\",LOADS!B265)","v":""},{"$f":"IF(LOADS!$AC265=\"BUS\",IF(LOADS!$AE265=C$1,1,0),0)","v":0},{"$f":"IF(LOADS!$AC265=\"BUS\",IF(LOADS!$AE265=D$1,1,0),0)","v":0},{"$f":"IF(LOADS!$AC265=\"BUS\",IF(LOADS!$AE265=E$1,1,0),0)","v":0},{"$f":"IF(LOADS!$AC265=\"BUS\",IF(LOADS!$AE265=F$1,1,0),0)","v":0},{"$f":"IF(LOADS!$AC265=\"BUS\",IF(LOADS!$AE265=G$1,1,0),0)","v":0},{"$f":"IF(LOADS!$AC265=\"BUS\",IF(LOADS!$AE265=H$1,1,0),0)","v":0},{"$f":"IF(LOADS!$AC265=\"BUS\",IF(LOADS!$AE265=I$1,1,0),0)","v":0},0,{"$f":"LOADS!AM265","v":0}]
[{"$f":"IF(ISBLANK(LOADS!A266),\"\",LOADS!A266)","v":{"$error":"#REF!"}},{"$f":"IF(ISBLANK(LOADS!B266),\"\",LOADS!B266)","v":""},{"$f":"IF(LOADS!$AC266=\"BUS\",IF(LOADS!$AE266=C$1,1,0),0)","v":0},{"$f":"IF(LOADS!$AC266=\"BUS\",IF(LOADS!$AE266=D$1,1,0),0)","v":0},{"$f":"IF(LOADS!$AC266=\"BUS\",IF(LOADS!$AE266=E$1,1,0),0)","v":0},{"$f":"IF(LOADS!$AC266=\"BUS\",IF(LOADS!$AE266=F$1,1,0),0)","v":0},{"$f":"IF(LOADS!$AC266=\"BUS\",IF(LOADS!$AE266=G$1,1,0),0)","v":0},{"$f":"IF(LOADS!$AC266=\"BUS\",IF(LOADS!$AE266=H$1,1,0),0)","v":0},{"$f":"IF(LOADS!$AC266=\"BUS\",IF(LOADS!$AE266=I$1,1,0),0)","v":0},0,{"$f":"LOADS!AM266","v":0}]
[{"$f":"IF(ISBLANK(LOADS!A267),\"\",LOADS!A267)","v":{"$error":"#REF!"}},{"$f":"IF(ISBLANK(LOADS!B267),\"\",LOADS!B267)","v":""},{"$f":"IF(LOADS!$AC267=\"BUS\",IF(LOADS!$AE267=C$1,1,0),0)","v":0},{"$f":"IF(LOADS!$AC267=\"BUS\",IF(LOADS!$AE267=D$1,1,0),0)","v":0},{"$f":"IF(LOADS!$AC267=\"BUS\",IF(LOADS!$AE267=E$1,1,0),0)","v":0},{"$f":"IF(LOADS!$AC267=\"BUS\",IF(LOADS!$AE267=F$1,1,0),0)","v":0},{"$f":"IF(LOADS!$AC267=\"BUS\",IF(LOADS!$AE267=G$1,1,0),0)","v":0},{"$f":"IF(LOADS!$AC267=\"BUS\",IF(LOADS!$AE267=H$1,1,0),0)","v":0},{"$f":"IF(LOADS!$AC267=\"BUS\",IF(LOADS!$AE267=I$1,1,0),0)","v":0},0,{"$f":"LOADS!AM267","v":0}]
[{"$f":"IF(ISBLANK(LOADS!A268),\"\",LOADS!A268)","v":{"$error":"#REF!"}},{"$f":"IF(ISBLANK(LOADS!B268),\"\",LOADS!B268)","v":""},{"$f":"IF(LOADS!$AC268=\"BUS\",IF(LOADS!$AE268=C$1,1,0),0)","v":0},{"$f":"IF(LOADS!$AC268=\"BUS\",IF(LOADS!$AE268=D$1,1,0),0)","v":0},{"$f":"IF(LOADS!$AC268=\"BUS\",IF(LOADS!$AE268=E$1,1,0),0)","v":0},{"$f":"IF(LOADS!$AC268=\"BUS\",IF(LOADS!$AE268=F$1,1,0),0)","v":0},{"$f":"IF(LOADS!$AC268=\"BUS\",IF(LOADS!$AE268=G$1,1,0),0)","v":0},{"$f":"IF(LOADS!$AC268=\"BUS\",IF(LOADS!$AE268=H$1,1,0),0)","v":0},{"$f":"IF(LOADS!$AC268=\"BUS\",IF(LOADS!$AE268=I$1,1,0),0)","v":0},0,{"$f":"LOADS!AM268","v":0}]
[{"$f":"IF(ISBLANK(LOADS!A269),\"\",LOADS!A269)","v":{"$error":"#REF!"}},{"$f":"IF(ISBLANK(LOADS!B269),\"\",LOADS!B269)","v":""},{"$f":"IF(LOADS!$AC269=\"BUS\",IF(LOADS!$AE269=C$1,1,0),0)","v":0},{"$f":"IF(LOADS!$AC269=\"BUS\",IF(LOADS!$AE269=D$1,1,0),0)","v":0},{"$f":"IF(LOADS!$AC269=\"BUS\",IF(LOADS!$AE269=E$1,1,0),0)","v":0},{"$f":"IF(LOADS!$AC269=\"BUS\",IF(LOADS!$AE269=F$1,1,0),0)","v":0},{"$f":"IF(LOADS!$AC269=\"BUS\",IF(LOADS!$AE269=G$1,1,0),0)","v":0},{"$f":"IF(LOADS!$AC269=\"BUS\",IF(LOADS!$AE269=H$1,1,0),0)","v":0},{"$f":"IF(LOADS!$AC269=\"BUS\",IF(LOADS!$AE269=I$1,1,0),0)","v":0},0,{"$f":"LOADS!AM269","v":0}]
[{"$f":"IF(ISBLANK(LOADS!A270),\"\",LOADS!A270)","v":{"$error":"#REF!"}},{"$f":"IF(ISBLANK(LOADS!B270),\"\",LOADS!B270)","v":""},{"$f":"IF(LOADS!$AC270=\"BUS\",IF(LOADS!$AE270=C$1,1,0),0)","v":0},{"$f":"IF(LOADS!$AC270=\"BUS\",IF(LOADS!$AE270=D$1,1,0),0)","v":0},{"$f":"IF(LOADS!$AC270=\"BUS\",IF(LOADS!$AE270=E$1,1,0),0)","v":0},{"$f":"IF(LOADS!$AC270=\"BUS\",IF(LOADS!$AE270=F$1,1,0),0)","v":0},{"$f":"IF(LOADS!$AC270=\"BUS\",IF(LOADS!$AE270=G$1,1,0),0)","v":0},{"$f":"IF(LOADS!$AC270=\"BUS\",IF(LOADS!$AE270=H$1,1,0),0)","v":0},{"$f":"IF(LOADS!$AC270=\"BUS\",IF(LOADS!$AE270=I$1,1,0),0)","v":0},0,{"$f":"LOADS!AM270","v":0}]
[{"$f":"IF(ISBLANK(LOADS!A271),\"\",LOADS!A271)","v":{"$error":"#REF!"}},{"$f":"IF(ISBLANK(LOADS!B271),\"\",LOADS!B271)","v":""},{"$f":"IF(LOADS!$AC271=\"BUS\",IF(LOADS!$AE271=C$1,1,0),0)","v":0},{"$f":"IF(LOADS!$AC271=\"BUS\",IF(LOADS!$AE271=D$1,1,0),0)","v":0},{"$f":"IF(LOADS!$AC271=\"BUS\",IF(LOADS!$AE271=E$1,1,0),0)","v":0},{"$f":"IF(LOADS!$AC271=\"BUS\",IF(LOADS!$AE271=F$1,1,0),0)","v":0},{"$f":"IF(LOADS!$AC271=\"BUS\",IF(LOADS!$AE271=G$1,1,0),0)","v":0},{"$f":"IF(LOADS!$AC271=\"BUS\",IF(LOADS!$AE271=H$1,1,0),0)","v":0},{"$f":"IF(LOADS!$AC271=\"BUS\",IF(LOADS!$AE271=I$1,1,0),0)","v":0},0,{"$f":"LOADS!AM271","v":0}]
[{"$f":"IF(ISBLANK(LOADS!A272),\"\",LOADS!A272)","v":{"$error":"#REF!"}},{"$f":"IF(ISBLANK(LOADS!B272),\"\",LOADS!B272)","v":""},{"$f":"IF(LOADS!$AC272=\"BUS\",IF(LOADS!$AE272=C$1,1,0),0)","v":0},{"$f":"IF(LOADS!$AC272=\"BUS\",IF(LOADS!$AE272=D$1,1,0),0)","v":0},{"$f":"IF(LOADS!$AC272=\"BUS\",IF(LOADS!$AE272=E$1,1,0),0)","v":0},{"$f":"IF(LOADS!$AC272=\"BUS\",IF(LOADS!$AE272=F$1,1,0),0)","v":0},{"$f":"IF(LOADS!$AC272=\"BUS\",IF(LOADS!$AE272=G$1,1,0),0)","v":0},{"$f":"IF(LOADS!$AC272=\"BUS\",IF(LOADS!$AE272=H$1,1,0),0)","v":0},{"$f":"IF(LOADS!$AC272=\"BUS\",IF(LOADS!$AE272=I$1,1,0),0)","v":0},0,{"$f":"LOADS!AM272","v":0}]
[{"$f":"IF(ISBLANK(LOADS!A273),\"\",LOADS!A273)","v":{"$error":"#REF!"}},{"$f":"IF(ISBLANK(LOADS!B273),\"\",LOADS!B273)","v":""},{"$f":"IF(LOADS!$AC273=\"BUS\",IF(LOADS!$AE273=C$1,1,0),0)","v":0},{"$f":"IF(LOADS!$AC273=\"BUS\",IF(LOADS!$AE273=D$1,1,0),0)","v":0},{"$f":"IF(LOADS!$AC273=\"BUS\",IF(LOADS!$AE273=E$1,1,0),0)","v":0},{"$f":"IF(LOADS!$AC273=\"BUS\",IF(LOADS!$AE273=F$1,1,0),0)","v":0},{"$f":"IF(LOADS!$AC273=\"BUS\",IF(LOADS!$AE273=G$1,1,0),0)","v":0},{"$f":"IF(LOADS!$AC273=\"BUS\",IF(LOADS!$AE273=H$1,1,0),0)","v":0},{"$f":"IF(LOADS!$AC273=\"BUS\",IF(LOADS!$AE273=I$1,1,0),0)","v":0},0,{"$f":"LOADS!AM273","v":0}]
[{"$f":"IF(ISBLANK(LOADS!A274),\"\",LOADS!A274)","v":{"$error":"#REF!"}},{"$f":"IF(ISBLANK(LOADS!B274),\"\",LOADS!B274)","v":""},{"$f":"IF(LOADS!$AC274=\"BUS\",IF(LOADS!$AE274=C$1,1,0),0)","v":0},{"$f":"IF(LOADS!$AC274=\"BUS\",IF(LOADS!$AE274=D$1,1,0),0)","v":0},{"$f":"IF(LOADS!$AC274=\"BUS\",IF(LOADS!$AE274=E$1,1,0),0)","v":0},{"$f":"IF(LOADS!$AC274=\"BUS\",IF(LOADS!$AE274=F$1,1,0),0)","v":0},{"$f":"IF(LOADS!$AC274=\"BUS\",IF(LOADS!$AE274=G$1,1,0),0)","v":0},{"$f":"IF(LOADS!$AC274=\"BUS\",IF(LOADS!$AE274=H$1,1,0),0)","v":0},{"$f":"IF(LOADS!$AC274=\"BUS\",IF(LOADS!$AE274=I$1,1,0),0)","v":0},0,{"$f":"LOADS!AM274","v":0}]
[{"$f":"IF(ISBLANK(LOADS!A275),\"\",LOADS!A275)","v":{"$error":"#REF!"}},{"$f":"IF(ISBLANK(LOADS!B275),\"\",LOADS!B275)","v":""},{"$f":"IF(LOADS!$AC275=\"BUS\",IF(LOADS!$AE275=C$1,1,0),0)","v":0},{"$f":"IF(LOADS!$AC275=\"BUS\",IF(LOADS!$AE275=D$1,1,0),0)","v":0},{"$f":"IF(LOADS!$AC275=\"BUS\",IF(LOADS!$AE275=E$1,1,0),0)","v":0},{"$f":"IF(LOADS!$AC275=\"BUS\",IF(LOADS!$AE275=F$1,1,0),0)","v":0},{"$f":"IF(LOADS!$AC275=\"BUS\",IF(LOADS!$AE275=G$1,1,0),0)","v":0},{"$f":"IF(LOADS!$AC275=\"BUS\",IF(LOADS!$AE275=H$1,1,0),0)","v":0},{"$f":"IF(LOADS!$AC275=\"BUS\",IF(LOADS!$AE275=I$1,1,0),0)","v":0},0,{"$f":"LOADS!AM275","v":0}]
[{"$f":"IF(ISBLANK(LOADS!A276),\"\",LOADS!A276)","v":{"$error":"#REF!"}},{"$f":"IF(ISBLANK(LOADS!B276),\"\",LOADS!B276)","v":""},{"$f":"IF(LOADS!$AC276=\"BUS\",IF(LOADS!$AE276=C$1,1,0),0)","v":0},{"$f":"IF(LOADS!$AC276=\"BUS\",IF(LOADS!$AE276=D$1,1,0),0)","v":0},{"$f":"IF(LOADS!$AC276=\"BUS\",IF(LOADS!$AE276=E$1,1,0),0)","v":0},{"$f":"IF(LOADS!$AC276=\"BUS\",IF(LOADS!$AE276=F$1,1,0),0)","v":0},{"$f":"IF(LOADS!$AC276=\"BUS\",IF(LOADS!$AE276=G$1,1,0),0)","v":0},{"$f":"IF(LOADS!$AC276=\"BUS\",IF(LOADS!$AE276=H$1,1,0),0)","v":0},{"$f":"IF(LOADS!$AC276=\"BUS\",IF(LOADS!$AE276=I$1,1,0),0)","v":0},0,{"$f":"LOADS!AM276","v":0}]
[{"$f":"IF(ISBLANK(LOADS!A277),\"\",LOADS!A277)","v":{"$error":"#REF!"}},{"$f":"IF(ISBLANK(LOADS!B277),\"\",LOADS!B277)","v":""},{"$f":"IF(LOADS!$AC277=\"BUS\",IF(LOADS!$AE277=C$1,1,0),0)","v":0},{"$f":"IF(LOADS!$AC277=\"BUS\",IF(LOADS!$AE277=D$1,1,0),0)","v":0},{"$f":"IF(LOADS!$AC277=\"BUS\",IF(LOADS!$AE277=E$1,1,0),0)","v":0},{"$f":"IF(LOADS!$AC277=\"BUS\",IF(LOADS!$AE277=F$1,1,0),0)","v":0},{"$f":"IF(LOADS!$AC277=\"BUS\",IF(LOADS!$AE277=G$1,1,0),0)","v":0},{"$f":"IF(LOADS!$AC277=\"BUS\",IF(LOADS!$AE277=H$1,1,0),0)","v":0},{"$f":"IF(LOADS!$AC277=\"BUS\",IF(LOADS!$AE277=I$1,1,0),0)","v":0},0,{"$f":"LOADS!AM277","v":0}]
[{"$f":"IF(ISBLANK(LOADS!A278),\"\",LOADS!A278)","v":{"$error":"#REF!"}},{"$f":"IF(ISBLANK(LOADS!B278),\"\",LOADS!B278)","v":""},{"$f":"IF(LOADS!$AC278=\"BUS\",IF(LOADS!$AE278=C$1,1,0),0)","v":0},{"$f":"IF(LOADS!$AC278=\"BUS\",IF(LOADS!$AE278=D$1,1,0),0)","v":0},{"$f":"IF(LOADS!$AC278=\"BUS\",IF(LOADS!$AE278=E$1,1,0),0)","v":0},{"$f":"IF(LOADS!$AC278=\"BUS\",IF(LOADS!$AE278=F$1,1,0),0)","v":0},{"$f":"IF(LOADS!$AC278=\"BUS\",IF(LOADS!$AE278=G$1,1,0),0)","v":0},{"$f":"IF(LOADS!$AC278=\"BUS\",IF(LOADS!$AE278=H$1,1,0),0)","v":0},{"$f":"IF(LOADS!$AC278=\"BUS\",IF(LOADS!$AE278=I$1,1,0),0)","v":0},0,{"$f":"LOADS!AM278","v":0}]
[{"$f":"IF(ISBLANK(LOADS!A279),\"\",LOADS!A279)","v":{"$error":"#REF!"}},{"$f":"IF(ISBLANK(LOADS!B279),\"\",LOADS!B279)","v":""},{"$f":"IF(LOADS!$AC279=\"BUS\",IF(LOADS!$AE279=C$1,1,0),0)","v":0},{"$f":"IF(LOADS!$AC279=\"BUS\",IF(LOADS!$AE279=D$1,1,0),0)","v":0},{"$f":"IF(LOADS!$AC279=\"BUS\",IF(LOADS!$AE279=E$1,1,0),0)","v":0},{"$f":"IF(LOADS!$AC279=\"BUS\",IF(LOADS!$AE279=F$1,1,0),0)","v":0},{"$f":"IF(LOADS!$AC279=\"BUS\",IF(LOADS!$AE279=G$1,1,0),0)","v":0},{"$f":"IF(LOADS!$AC279=\"BUS\",IF(LOADS!$AE279=H$1,1,0),0)","v":0},{"$f":"IF(LOADS!$AC279=\"BUS\",IF(LOADS!$AE279=I$1,1,0),0)","v":0},0,{"$f":"LOADS!AM279","v":0}]
[{"$f":"IF(ISBLANK(LOADS!A280),\"\",LOADS!A280)","v":{"$error":"#REF!"}},{"$f":"IF(ISBLANK(LOADS!B280),\"\",LOADS!B280)","v":""},{"$f":"IF(LOADS!$AC280=\"BUS\",IF(LOADS!$AE280=C$1,1,0),0)","v":0},{"$f":"IF(LOADS!$AC280=\"BUS\",IF(LOADS!$AE280=D$1,1,0),0)","v":0},{"$f":"IF(LOADS!$AC280=\"BUS\",IF(LOADS!$AE280=E$1,1,0),0)","v":0},{"$f":"IF(LOADS!$AC280=\"BUS\",IF(LOADS!$AE280=F$1,1,0),0)","v":0},{"$f":"IF(LOADS!$AC280=\"BUS\",IF(LOADS!$AE280=G$1,1,0),0)","v":0},{"$f":"IF(LOADS!$AC280=\"BUS\",IF(LOADS!$AE280=H$1,1,0),0)","v":0},{"$f":"IF(LOADS!$AC280=\"BUS\",IF(LOADS!$AE280=I$1,1,0),0)","v":0},0,{"$f":"LOADS!AM280","v":0}]
[{"$f":"IF(ISBLANK(LOADS!A281),\"\",LOADS!A281)","v":{"$error":"#REF!"}},{"$f":"IF(ISBLANK(LOADS!B281),\"\",LOADS!B281)","v":""},{"$f":"IF(LOADS!$AC281=\"BUS\",IF(LOADS!$AE281=C$1,1,0),0)","v":0},{"$f":"IF(LOADS!$AC281=\"BUS\",IF(LOADS!$AE281=D$1,1,0),0)","v":0},{"$f":"IF(LOADS!$AC281=\"BUS\",IF(LOADS!$AE281=E$1,1,0),0)","v":0},{"$f":"IF(LOADS!$AC281=\"BUS\",IF(LOADS!$AE281=F$1,1,0),0)","v":0},{"$f":"IF(LOADS!$AC281=\"BUS\",IF(LOADS!$AE281=G$1,1,0),0)","v":0},{"$f":"IF(LOADS!$AC281=\"BUS\",IF(LOADS!$AE281=H$1,1,0),0)","v":0},{"$f":"IF(LOADS!$AC281=\"BUS\",IF(LOADS!$AE281=I$1,1,0),0)","v":0},0,{"$f":"LOADS!AM281","v":0}]
[{"$f":"IF(ISBLANK(LOADS!A282),\"\",LOADS!A282)","v":{"$error":"#REF!"}},{"$f":"IF(ISBLANK(LOADS!B282),\"\",LOADS!B282)","v":""},{"$f":"IF(LOADS!$AC282=\"BUS\",IF(LOADS!$AE282=C$1,1,0),0)","v":0},{"$f":"IF(LOADS!$AC282=\"BUS\",IF(LOADS!$AE282=D$1,1,0),0)","v":0},{"$f":"IF(LOADS!$AC282=\"BUS\",IF(LOADS!$AE282=E$1,1,0),0)","v":0},{"$f":"IF(LOADS!$AC282=\"BUS\",IF(LOADS!$AE282=F$1,1,0),0)","v":0},{"$f":"IF(LOADS!$AC282=\"BUS\",IF(LOADS!$AE282=G$1,1,0),0)","v":0},{"$f":"IF(LOADS!$AC282=\"BUS\",IF(LOADS!$AE282=H$1,1,0),0)","v":0},{"$f":"IF(LOADS!$AC282=\"BUS\",IF(LOADS!$AE282=I$1,1,0),0)","v":0},0,{"$f":"LOADS!AM282","v":0}]
[{"$f":"IF(ISBLANK(LOADS!A283),\"\",LOADS!A283)","v":{"$error":"#REF!"}},{"$f":"IF(ISBLANK(LOADS!B283),\"\",LOADS!B283)","v":""},{"$f":"IF(LOADS!$AC283=\"BUS\",IF(LOADS!$AE283=C$1,1,0),0)","v":0},{"$f":"IF(LOADS!$AC283=\"BUS\",IF(LOADS!$AE283=D$1,1,0),0)","v":0},{"$f":"IF(LOADS!$AC283=\"BUS\",IF(LOADS!$AE283=E$1,1,0),0)","v":0},{"$f":"IF(LOADS!$AC283=\"BUS\",IF(LOADS!$AE283=F$1,1,0),0)","v":0},{"$f":"IF(LOADS!$AC283=\"BUS\",IF(LOADS!$AE283=G$1,1,0),0)","v":0},{"$f":"IF(LOADS!$AC283=\"BUS\",IF(LOADS!$AE283=H$1,1,0),0)","v":0},{"$f":"IF(LOADS!$AC283=\"BUS\",IF(LOADS!$AE283=I$1,1,0),0)","v":0},0,{"$f":"LOADS!AM283","v":0}]
[{"$f":"IF(ISBLANK(LOADS!A284),\"\",LOADS!A284)","v":{"$error":"#REF!"}},{"$f":"IF(ISBLANK(LOADS!B284),\"\",LOADS!B284)","v":""},{"$f":"IF(LOADS!$AC284=\"BUS\",IF(LOADS!$AE284=C$1,1,0),0)","v":0},{"$f":"IF(LOADS!$AC284=\"BUS\",IF(LOADS!$AE284=D$1,1,0),0)","v":0},{"$f":"IF(LOADS!$AC284=\"BUS\",IF(LOADS!$AE284=E$1,1,0),0)","v":0},{"$f":"IF(LOADS!$AC284=\"BUS\",IF(LOADS!$AE284=F$1,1,0),0)","v":0},{"$f":"IF(LOADS!$AC284=\"BUS\",IF(LOADS!$AE284=G$1,1,0),0)","v":0},{"$f":"IF(LOADS!$AC284=\"BUS\",IF(LOADS!$AE284=H$1,1,0),0)","v":0},{"$f":"IF(LOADS!$AC284=\"BUS\",IF(LOADS!$AE284=I$1,1,0),0)","v":0},0,{"$f":"LOADS!AM284","v":0}]
[{"$f":"IF(ISBLANK(LOADS!A285),\"\",LOADS!A285)","v":{"$error":"#REF!"}},{"$f":"IF(ISBLANK(LOADS!B285),\"\",LOADS!B285)","v":""},{"$f":"IF(LOADS!$AC285=\"BUS\",IF(LOADS!$AE285=C$1,1,0),0)","v":0},{"$f":"IF(LOADS!$AC285=\"BUS\",IF(LOADS!$AE285=D$1,1,0),0)","v":0},{"$f":"IF(LOADS!$AC285=\"BUS\",IF(LOADS!$AE285=E$1,1,0),0)","v":0},{"$f":"IF(LOADS!$AC285=\"BUS\",IF(LOADS!$AE285=F$1,1,0),0)","v":0},{"$f":"IF(LOADS!$AC285=\"BUS\",IF(LOADS!$AE285=G$1,1,0),0)","v":0},{"$f":"IF(LOADS!$AC285=\"BUS\",IF(LOADS!$AE285=H$1,1,0),0)","v":0},{"$f":"IF(LOADS!$AC285=\"BUS\",IF(LOADS!$AE285=I$1,1,0),0)","v":0},0,{"$f":"LOADS!AM285","v":0}]
[{"$f":"IF(ISBLANK(LOADS!A286),\"\",LOADS!A286)","v":{"$error":"#REF!"}},{"$f":"IF(ISBLANK(LOADS!B286),\"\",LOADS!B286)","v":""},{"$f":"IF(LOADS!$AC286=\"BUS\",IF(LOADS!$AE286=C$1,1,0),0)","v":0},{"$f":"IF(LOADS!$AC286=\"BUS\",IF(LOADS!$AE286=D$1,1,0),0)","v":0},{"$f":"IF(LOADS!$AC286=\"BUS\",IF(LOADS!$AE286=E$1,1,0),0)","v":0},{"$f":"IF(LOADS!$AC286=\"BUS\",IF(LOADS!$AE286=F$1,1,0),0)","v":0},{"$f":"IF(LOADS!$AC286=\"BUS\",IF(LOADS!$AE286=G$1,1,0),0)","v":0},{"$f":"IF(LOADS!$AC286=\"BUS\",IF(LOADS!$AE286=H$1,1,0),0)","v":0},{"$f":"IF(LOADS!$AC286=\"BUS\",IF(LOADS!$AE286=I$1,1,0),0)","v":0},0,{"$f":"LOADS!AM286","v":0}]
[{"$f":"IF(ISBLANK(LOADS!A287),\"\",LOADS!A287)","v":{"$error":"#REF!"}},{"$f":"IF(ISBLANK(LOADS!B287),\"\",LOADS!B287)","v":""},{"$f":"IF(LOADS!$AC287=\"BUS\",IF(LOADS!$AE287=C$1,1,0),0)","v":0},{"$f":"IF(LOADS!$AC287=\"BUS\",IF(LOADS!$AE287=D$1,1,0),0)","v":0},{"$f":"IF(LOADS!$AC287=\"BUS\",IF(LOADS!$AE287=E$1,1,0),0)","v":0},{"$f":"IF(LOADS!$AC287=\"BUS\",IF(LOADS!$AE287=F$1,1,0),0)","v":0},{"$f":"IF(LOADS!$AC287=\"BUS\",IF(LOADS!$AE287=G$1,1,0),0)","v":0},{"$f":"IF(LOADS!$AC287=\"BUS\",IF(LOADS!$AE287=H$1,1,0),0)","v":0},{"$f":"IF(LOADS!$AC287=\"BUS\",IF(LOADS!$AE287=I$1,1,0),0)","v":0},0,{"$f":"LOADS!AM287","v":0}]
[{"$f":"IF(ISBLANK(LOADS!A288),\"\",LOADS!A288)","v":{"$error":"#REF!"}},{"$f":"IF(ISBLANK(LOADS!B288),\"\",LOADS!B288)","v":""},{"$f":"IF(LOADS!$AC288=\"BUS\",IF(LOADS!$AE288=C$1,1,0),0)","v":0},{"$f":"IF(LOADS!$AC288=\"BUS\",IF(LOADS!$AE288=D$1,1,0),0)","v":0},{"$f":"IF(LOADS!$AC288=\"BUS\",IF(LOADS!$AE288=E$1,1,0),0)","v":0},{"$f":"IF(LOADS!$AC288=\"BUS\",IF(LOADS!$AE288=F$1,1,0),0)","v":0},{"$f":"IF(LOADS!$AC288=\"BUS\",IF(LOADS!$AE288=G$1,1,0),0)","v":0},{"$f":"IF(LOADS!$AC288=\"BUS\",IF(LOADS!$AE288=H$1,1,0),0)","v":0},{"$f":"IF(LOADS!$AC288=\"BUS\",IF(LOADS!$AE288=I$1,1,0),0)","v":0},0,{"$f":"LOADS!AM288","v":0}]
[{"$f":"IF(ISBLANK(LOADS!A289),\"\",LOADS!A289)","v":{"$error":"#REF!"}},{"$f":"IF(ISBLANK(LOADS!B289),\"\",LOADS!B289)","v":""},{"$f":"IF(LOADS!$AC289=\"BUS\",IF(LOADS!$AE289=C$1,1,0),0)","v":0},{"$f":"IF(LOADS!$AC289=\"BUS\",IF(LOADS!$AE289=D$1,1,0),0)","v":0},{"$f":"IF(LOADS!$AC289=\"BUS\",IF(LOADS!$AE289=E$1,1,0),0)","v":0},{"$f":"IF(LOADS!$AC289=\"BUS\",IF(LOADS!$AE289=F$1,1,0),0)","v":0},{"$f":"IF(LOADS!$AC289=\"BUS\",IF(LOADS!$AE289=G$1,1,0),0)","v":0},{"$f":"IF(LOADS!$AC289=\"BUS\",IF(LOADS!$AE289=H$1,1,0),0)","v":0},{"$f":"IF(LOADS!$AC289=\"BUS\",IF(LOADS!$AE289=I$1,1,0),0)","v":0},0,{"$f":"LOADS!AM289","v":0}]
[{"$f":"IF(ISBLANK(LOADS!A290),\"\",LOADS!A290)","v":{"$error":"#REF!"}},{"$f":"IF(ISBLANK(LOADS!B290),\"\",LOADS!B290)","v":""},{"$f":"IF(LOADS!$AC290=\"BUS\",IF(LOADS!$AE290=C$1,1,0),0)","v":0},{"$f":"IF(LOADS!$AC290=\"BUS\",IF(LOADS!$AE290=D$1,1,0),0)","v":0},{"$f":"IF(LOADS!$AC290=\"BUS\",IF(LOADS!$AE290=E$1,1,0),0)","v":0},{"$f":"IF(LOADS!$AC290=\"BUS\",IF(LOADS!$AE290=F$1,1,0),0)","v":0},{"$f":"IF(LOADS!$AC290=\"BUS\",IF(LOADS!$AE290=G$1,1,0),0)","v":0},{"$f":"IF(LOADS!$AC290=\"BUS\",IF(LOADS!$AE290=H$1,1,0),0)","v":0},{"$f":"IF(LOADS!$AC290=\"BUS\",IF(LOADS!$AE290=I$1,1,0),0)","v":0},0,{"$f":"LOADS!AM290","v":0}]
[{"$f":"IF(ISBLANK(LOADS!A291),\"\",LOADS!A291)","v":{"$error":"#REF!"}},{"$f":"IF(ISBLANK(LOADS!B291),\"\",LOADS!B291)","v":""},{"$f":"IF(LOADS!$AC291=\"BUS\",IF(LOADS!$AE291=C$1,1,0),0)","v":0},{"$f":"IF(LOADS!$AC291=\"BUS\",IF(LOADS!$AE291=D$1,1,0),0)","v":0},{"$f":"IF(LOADS!$AC291=\"BUS\",IF(LOADS!$AE291=E$1,1,0),0)","v":0},{"$f":"IF(LOADS!$AC291=\"BUS\",IF(LOADS!$AE291=F$1,1,0),0)","v":0},{"$f":"IF(LOADS!$AC291=\"BUS\",IF(LOADS!$AE291=G$1,1,0),0)","v":0},{"$f":"IF(LOADS!$AC291=\"BUS\",IF(LOADS!$AE291=H$1,1,0),0)","v":0},{"$f":"IF(LOADS!$AC291=\"BUS\",IF(LOADS!$AE291=I$1,1,0),0)","v":0},0,{"$f":"LOADS!AM291","v":0}]
[{"$f":"IF(ISBLANK(LOADS!A292),\"\",LOADS!A292)","v":{"$error":"#REF!"}},{"$f":"IF(ISBLANK(LOADS!B292),\"\",LOADS!B292)","v":""},{"$f":"IF(LOADS!$AC292=\"BUS\",IF(LOADS!$AE292=C$1,1,0),0)","v":0},{"$f":"IF(LOADS!$AC292=\"BUS\",IF(LOADS!$AE292=D$1,1,0),0)","v":0},{"$f":"IF(LOADS!$AC292=\"BUS\",IF(LOADS!$AE292=E$1,1,0),0)","v":0},{"$f":"IF(LOADS!$AC292=\"BUS\",IF(LOADS!$AE292=F$1,1,0),0)","v":0},{"$f":"IF(LOADS!$AC292=\"BUS\",IF(LOADS!$AE292=G$1,1,0),0)","v":0},{"$f":"IF(LOADS!$AC292=\"BUS\",IF(LOADS!$AE292=H$1,1,0),0)","v":0},{"$f":"IF(LOADS!$AC292=\"BUS\",IF(LOADS!$AE292=I$1,1,0),0)","v":0},0,{"$f":"LOADS!AM292","v":0}]
[{"$f":"IF(ISBLANK(LOADS!A293),\"\",LOADS!A293)","v":{"$error":"#REF!"}},{"$f":"IF(ISBLANK(LOADS!B293),\"\",LOADS!B293)","v":""},{"$f":"IF(LOADS!$AC293=\"BUS\",IF(LOADS!$AE293=C$1,1,0),0)","v":0},{"$f":"IF(LOADS!$AC293=\"BUS\",IF(LOADS!$AE293=D$1,1,0),0)","v":0},{"$f":"IF(LOADS!$AC293=\"BUS\",IF(LOADS!$AE293=E$1,1,0),0)","v":0},{"$f":"IF(LOADS!$AC293=\"BUS\",IF(LOADS!$AE293=F$1,1,0),0)","v":0},{"$f":"IF(LOADS!$AC293=\"BUS\",IF(LOADS!$AE293=G$1,1,0),0)","v":0},{"$f":"IF(LOADS!$AC293=\"BUS\",IF(LOADS!$AE293=H$1,1,0),0)","v":0},{"$f":"IF(LOADS!$AC293=\"BUS\",IF(LOADS!$AE293=I$1,1,0),0)","v":0},0,{"$f":"LOADS!AM293","v":0}]
[{"$f":"IF(ISBLANK(LOADS!A294),\"\",LOADS!A294)","v":{"$error":"#REF!"}},{"$f":"IF(ISBLANK(LOADS!B294),\"\",LOADS!B294)","v":""},{"$f":"IF(LOADS!$AC294=\"BUS\",IF(LOADS!$AE294=C$1,1,0),0)","v":0},{"$f":"IF(LOADS!$AC294=\"BUS\",IF(LOADS!$AE294=D$1,1,0),0)","v":0},{"$f":"IF(LOADS!$AC294=\"BUS\",IF(LOADS!$AE294=E$1,1,0),0)","v":0},{"$f":"IF(LOADS!$AC294=\"BUS\",IF(LOADS!$AE294=F$1,1,0),0)","v":0},{"$f":"IF(LOADS!$AC294=\"BUS\",IF(LOADS!$AE294=G$1,1,0),0)","v":0},{"$f":"IF(LOADS!$AC294=\"BUS\",IF(LOADS!$AE294=H$1,1,0),0)","v":0},{"$f":"IF(LOADS!$AC294=\"BUS\",IF(LOADS!$AE294=I$1,1,0),0)","v":0},0,{"$f":"LOADS!AM294","v":0}]
[{"$f":"IF(ISBLANK(LOADS!A295),\"\",LOADS!A295)","v":{"$error":"#REF!"}},{"$f":"IF(ISBLANK(LOADS!B295),\"\",LOADS!B295)","v":""},{"$f":"IF(LOADS!$AC295=\"BUS\",IF(LOADS!$AE295=C$1,1,0),0)","v":0},{"$f":"IF(LOADS!$AC295=\"BUS\",IF(LOADS!$AE295=D$1,1,0),0)","v":0},{"$f":"IF(LOADS!$AC295=\"BUS\",IF(LOADS!$AE295=E$1,1,0),0)","v":0},{"$f":"IF(LOADS!$AC295=\"BUS\",IF(LOADS!$AE295=F$1,1,0),0)","v":0},{"$f":"IF(LOADS!$AC295=\"BUS\",IF(LOADS!$AE295=G$1,1,0),0)","v":0},{"$f":"IF(LOADS!$AC295=\"BUS\",IF(LOADS!$AE295=H$1,1,0),0)","v":0},{"$f":"IF(LOADS!$AC295=\"BUS\",IF(LOADS!$AE295=I$1,1,0),0)","v":0},0,{"$f":"LOADS!AM295","v":0}]
[{"$f":"IF(ISBLANK(LOADS!A296),\"\",LOADS!A296)","v":{"$error":"#REF!"}},{"$f":"IF(ISBLANK(LOADS!B296),\"\",LOADS!B296)","v":""},{"$f":"IF(LOADS!$AC296=\"BUS\",IF(LOADS!$AE296=C$1,1,0),0)","v":0},{"$f":"IF(LOADS!$AC296=\"BUS\",IF(LOADS!$AE296=D$1,1,0),0)","v":0},{"$f":"IF(LOADS!$AC296=\"BUS\",IF(LOADS!$AE296=E$1,1,0),0)","v":0},{"$f":"IF(LOADS!$AC296=\"BUS\",IF(LOADS!$AE296=F$1,1,0),0)","v":0},{"$f":"IF(LOADS!$AC296=\"BUS\",IF(LOADS!$AE296=G$1,1,0),0)","v":0},{"$f":"IF(LOADS!$AC296=\"BUS\",IF(LOADS!$AE296=H$1,1,0),0)","v":0},{"$f":"IF(LOADS!$AC296=\"BUS\",IF(LOADS!$AE296=I$1,1,0),0)","v":0},0,{"$f":"LOADS!AM296","v":0}]
[{"$f":"IF(ISBLANK(LOADS!A297),\"\",LOADS!A297)","v":{"$error":"#REF!"}},{"$f":"IF(ISBLANK(LOADS!B297),\"\",LOADS!B297)","v":""},{"$f":"IF(LOADS!$AC297=\"BUS\",IF(LOADS!$AE297=C$1,1,0),0)","v":0},{"$f":"IF(LOADS!$AC297=\"BUS\",IF(LOADS!$AE297=D$1,1,0),0)","v":0},{"$f":"IF(LOADS!$AC297=\"BUS\",IF(LOADS!$AE297=E$1,1,0),0)","v":0},{"$f":"IF(LOADS!$AC297=\"BUS\",IF(LOADS!$AE297=F$1,1,0),0)","v":0},{"$f":"IF(LOADS!$AC297=\"BUS\",IF(LOADS!$AE297=G$1,1,0),0)","v":0},{"$f":"IF(LOADS!$AC297=\"BUS\",IF(LOADS!$AE297=H$1,1,0),0)","v":0},{"$f":"IF(LOADS!$AC297=\"BUS\",IF(LOADS!$AE297=I$1,1,0),0)","v":0},0,{"$f":"LOADS!AM297","v":0}]
[{"$f":"IF(ISBLANK(LOADS!A298),\"\",LOADS!A298)","v":{"$error":"#REF!"}},{"$f":"IF(ISBLANK(LOADS!B298),\"\",LOADS!B298)","v":""},{"$f":"IF(LOADS!$AC298=\"BUS\",IF(LOADS!$AE298=C$1,1,0),0)","v":0},{"$f":"IF(LOADS!$AC298=\"BUS\",IF(LOADS!$AE298=D$1,1,0),0)","v":0},{"$f":"IF(LOADS!$AC298=\"BUS\",IF(LOADS!$AE298=E$1,1,0),0)","v":0},{"$f":"IF(LOADS!$AC298=\"BUS\",IF(LOADS!$AE298=F$1,1,0),0)","v":0},{"$f":"IF(LOADS!$AC298=\"BUS\",IF(LOADS!$AE298=G$1,1,0),0)","v":0},{"$f":"IF(LOADS!$AC298=\"BUS\",IF(LOADS!$AE298=H$1,1,0),0)","v":0},{"$f":"IF(LOADS!$AC298=\"BUS\",IF(LOADS!$AE298=I$1,1,0),0)","v":0},0,{"$f":"LOADS!AM298","v":0}]
[{"$f":"IF(ISBLANK(LOADS!A299),\"\",LOADS!A299)","v":{"$error":"#REF!"}},{"$f":"IF(ISBLANK(LOADS!B299),\"\",LOADS!B299)","v":""},{"$f":"IF(LOADS!$AC299=\"BUS\",IF(LOADS!$AE299=C$1,1,0),0)","v":0},{"$f":"IF(LOADS!$AC299=\"BUS\",IF(LOADS!$AE299=D$1,1,0),0)","v":0},{"$f":"IF(LOADS!$AC299=\"BUS\",IF(LOADS!$AE299=E$1,1,0),0)","v":0},{"$f":"IF(LOADS!$AC299=\"BUS\",IF(LOADS!$AE299=F$1,1,0),0)","v":0},{"$f":"IF(LOADS!$AC299=\"BUS\",IF(LOADS!$AE299=G$1,1,0),0)","v":0},{"$f":"IF(LOADS!$AC299=\"BUS\",IF(LOADS!$AE299=H$1,1,0),0)","v":0},{"$f":"IF(LOADS!$AC299=\"BUS\",IF(LOADS!$AE299=I$1,1,0),0)","v":0},0,{"$f":"LOADS!AM299","v":0}]
[{"$f":"IF(ISBLANK(LOADS!A300),\"\",LOADS!A300)","v":{"$error":"#REF!"}},{"$f":"IF(ISBLANK(LOADS!B300),\"\",LOADS!B300)","v":""},{"$f":"IF(LOADS!$AC300=\"BUS\",IF(LOADS!$AE300=C$1,1,0),0)","v":0},{"$f":"IF(LOADS!$AC300=\"BUS\",IF(LOADS!$AE300=D$1,1,0),0)","v":0},{"$f":"IF(LOADS!$AC300=\"BUS\",IF(LOADS!$AE300=E$1,1,0),0)","v":0},{"$f":"IF(LOADS!$AC300=\"BUS\",IF(LOADS!$AE300=F$1,1,0),0)","v":0},{"$f":"IF(LOADS!$AC300=\"BUS\",IF(LOADS!$AE300=G$1,1,0),0)","v":0},{"$f":"IF(LOADS!$AC300=\"BUS\",IF(LOADS!$AE300=H$1,1,0),0)","v":0},{"$f":"IF(LOADS!$AC300=\"BUS\",IF(LOADS!$AE300=I$1,1,0),0)","v":0},0,{"$f":"LOADS!AM300","v":0}]
[{"$f":"IF(ISBLANK(LOADS!A301),\"\",LOADS!A301)","v":{"$error":"#REF!"}},{"$f":"IF(ISBLANK(LOADS!B301),\"\",LOADS!B301)","v":""},{"$f":"IF(LOADS!$AC301=\"BUS\",IF(LOADS!$AE301=C$1,1,0),0)","v":0},{"$f":"IF(LOADS!$AC301=\"BUS\",IF(LOADS!$AE301=D$1,1,0),0)","v":0},{"$f":"IF(LOADS!$AC301=\"BUS\",IF(LOADS!$AE301=E$1,1,0),0)","v":0},{"$f":"IF(LOADS!$AC301=\"BUS\",IF(LOADS!$AE301=F$1,1,0),0)","v":0},{"$f":"IF(LOADS!$AC301=\"BUS\",IF(LOADS!$AE301=G$1,1,0),0)","v":0},{"$f":"IF(LOADS!$AC301=\"BUS\",IF(LOADS!$AE301=H$1,1,0),0)","v":0},{"$f":"IF(LOADS!$AC301=\"BUS\",IF(LOADS!$AE301=I$1,1,0),0)","v":0},0,{"$f":"LOADS!AM301","v":0}]
[{"$f":"IF(ISBLANK(LOADS!A302),\"\",LOADS!A302)","v":{"$error":"#REF!"}},{"$f":"IF(ISBLANK(LOADS!B302),\"\",LOADS!B302)","v":""},{"$f":"IF(LOADS!$AC302=\"BUS\",IF(LOADS!$AE302=C$1,1,0),0)","v":0},{"$f":"IF(LOADS!$AC302=\"BUS\",IF(LOADS!$AE302=D$1,1,0),0)","v":0},{"$f":"IF(LOADS!$AC302=\"BUS\",IF(LOADS!$AE302=E$1,1,0),0)","v":0},{"$f":"IF(LOADS!$AC302=\"BUS\",IF(LOADS!$AE302=F$1,1,0),0)","v":0},{"$f":"IF(LOADS!$AC302=\"BUS\",IF(LOADS!$AE302=G$1,1,0),0)","v":0},{"$f":"IF(LOADS!$AC302=\"BUS\",IF(LOADS!$AE302=H$1,1,0),0)","v":0},{"$f":"IF(LOADS!$AC302=\"BUS\",IF(LOADS!$AE302=I$1,1,0),0)","v":0},0,{"$f":"LOADS!AM302","v":0}]
[{"$f":"IF(ISBLANK(LOADS!A303),\"\",LOADS!A303)","v":{"$error":"#REF!"}},{"$f":"IF(ISBLANK(LOADS!B303),\"\",LOADS!B303)","v":""},{"$f":"IF(LOADS!$AC303=\"BUS\",IF(LOADS!$AE303=C$1,1,0),0)","v":0},{"$f":"IF(LOADS!$AC303=\"BUS\",IF(LOADS!$AE303=D$1,1,0),0)","v":0},{"$f":"IF(LOADS!$AC303=\"BUS\",IF(LOADS!$AE303=E$1,1,0),0)","v":0},{"$f":"IF(LOADS!$AC303=\"BUS\",IF(LOADS!$AE303=F$1,1,0),0)","v":0},{"$f":"IF(LOADS!$AC303=\"BUS\",IF(LOADS!$AE303=G$1,1,0),0)","v":0},{"$f":"IF(LOADS!$AC303=\"BUS\",IF(LOADS!$AE303=H$1,1,0),0)","v":0},{"$f":"IF(LOADS!$AC303=\"BUS\",IF(LOADS!$AE303=I$1,1,0),0)","v":0},0,{"$f":"LOADS!AM303","v":0}]
[{"$f":"IF(ISBLANK(LOADS!A304),\"\",LOADS!A304)","v":{"$error":"#REF!"}},{"$f":"IF(ISBLANK(LOADS!B304),\"\",LOADS!B304)","v":""},{"$f":"IF(LOADS!$AC304=\"BUS\",IF(LOADS!$AE304=C$1,1,0),0)","v":0},{"$f":"IF(LOADS!$AC304=\"BUS\",IF(LOADS!$AE304=D$1,1,0),0)","v":0},{"$f":"IF(LOADS!$AC304=\"BUS\",IF(LOADS!$AE304=E$1,1,0),0)","v":0},{"$f":"IF(LOADS!$AC304=\"BUS\",IF(LOADS!$AE304=F$1,1,0),0)","v":0},{"$f":"IF(LOADS!$AC304=\"BUS\",IF(LOADS!$AE304=G$1,1,0),0)","v":0},{"$f":"IF(LOADS!$AC304=\"BUS\",IF(LOADS!$AE304=H$1,1,0),0)","v":0},{"$f":"IF(LOADS!$AC304=\"BUS\",IF(LOADS!$AE304=I$1,1,0),0)","v":0},0,{"$f":"LOADS!AM304","v":0}]
[{"$f":"IF(ISBLANK(LOADS!A305),\"\",LOADS!A305)","v":{"$error":"#REF!"}},{"$f":"IF(ISBLANK(LOADS!B305),\"\",LOADS!B305)","v":""},{"$f":"IF(LOADS!$AC305=\"BUS\",IF(LOADS!$AE305=C$1,1,0),0)","v":0},{"$f":"IF(LOADS!$AC305=\"BUS\",IF(LOADS!$AE305=D$1,1,0),0)","v":0},{"$f":"IF(LOADS!$AC305=\"BUS\",IF(LOADS!$AE305=E$1,1,0),0)","v":0},{"$f":"IF(LOADS!$AC305=\"BUS\",IF(LOADS!$AE305=F$1,1,0),0)","v":0},{"$f":"IF(LOADS!$AC305=\"BUS\",IF(LOADS!$AE305=G$1,1,0),0)","v":0},{"$f":"IF(LOADS!$AC305=\"BUS\",IF(LOADS!$AE305=H$1,1,0),0)","v":0},{"$f":"IF(LOADS!$AC305=\"BUS\",IF(LOADS!$AE305=I$1,1,0),0)","v":0},0,{"$f":"LOADS!AM305","v":0}]
[{"$f":"IF(ISBLANK(LOADS!A306),\"\",LOADS!A306)","v":{"$error":"#REF!"}},{"$f":"IF(ISBLANK(LOADS!B306),\"\",LOADS!B306)","v":""},{"$f":"IF(LOADS!$AC306=\"BUS\",IF(LOADS!$AE306=C$1,1,0),0)","v":0},{"$f":"IF(LOADS!$AC306=\"BUS\",IF(LOADS!$AE306=D$1,1,0),0)","v":0},{"$f":"IF(LOADS!$AC306=\"BUS\",IF(LOADS!$AE306=E$1,1,0),0)","v":0},{"$f":"IF(LOADS!$AC306=\"BUS\",IF(LOADS!$AE306=F$1,1,0),0)","v":0},{"$f":"IF(LOADS!$AC306=\"BUS\",IF(LOADS!$AE306=G$1,1,0),0)","v":0},{"$f":"IF(LOADS!$AC306=\"BUS\",IF(LOADS!$AE306=H$1,1,0),0)","v":0},{"$f":"IF(LOADS!$AC306=\"BUS\",IF(LOADS!$AE306=I$1,1,0),0)","v":0},0,{"$f":"LOADS!AM306","v":0}]
[{"$f":"IF(ISBLANK(LOADS!A307),\"\",LOADS!A307)","v":{"$error":"#REF!"}},{"$f":"IF(ISBLANK(LOADS!B307),\"\",LOADS!B307)","v":""},{"$f":"IF(LOADS!$AC307=\"BUS\",IF(LOADS!$AE307=C$1,1,0),0)","v":0},{"$f":"IF(LOADS!$AC307=\"BUS\",IF(LOADS!$AE307=D$1,1,0),0)","v":0},{"$f":"IF(LOADS!$AC307=\"BUS\",IF(LOADS!$AE307=E$1,1,0),0)","v":0},{"$f":"IF(LOADS!$AC307=\"BUS\",IF(LOADS!$AE307=F$1,1,0),0)","v":0},{"$f":"IF(LOADS!$AC307=\"BUS\",IF(LOADS!$AE307=G$1,1,0),0)","v":0},{"$f":"IF(LOADS!$AC307=\"BUS\",IF(LOADS!$AE307=H$1,1,0),0)","v":0},{"$f":"IF(LOADS!$AC307=\"BUS\",IF(LOADS!$AE307=I$1,1,0),0)","v":0},0,{"$f":"LOADS!AM307","v":0}]
[{"$f":"IF(ISBLANK(LOADS!A308),\"\",LOADS!A308)","v":{"$error":"#REF!"}},{"$f":"IF(ISBLANK(LOADS!B308),\"\",LOADS!B308)","v":""},{"$f":"IF(LOADS!$AC308=\"BUS\",IF(LOADS!$AE308=C$1,1,0),0)","v":0},{"$f":"IF(LOADS!$AC308=\"BUS\",IF(LOADS!$AE308=D$1,1,0),0)","v":0},{"$f":"IF(LOADS!$AC308=\"BUS\",IF(LOADS!$AE308=E$1,1,0),0)","v":0},{"$f":"IF(LOADS!$AC308=\"BUS\",IF(LOADS!$AE308=F$1,1,0),0)","v":0},{"$f":"IF(LOADS!$AC308=\"BUS\",IF(LOADS!$AE308=G$1,1,0),0)","v":0},{"$f":"IF(LOADS!$AC308=\"BUS\",IF(LOADS!$AE308=H$1,1,0),0)","v":0},{"$f":"IF(LOADS!$AC308=\"BUS\",IF(LOADS!$AE308=I$1,1,0),0)","v":0},0,{"$f":"LOADS!AM308","v":0}]
[{"$f":"IF(ISBLANK(LOADS!A309),\"\",LOADS!A309)","v":{"$error":"#REF!"}},{"$f":"IF(ISBLANK(LOADS!B309),\"\",LOADS!B309)","v":""},{"$f":"IF(LOADS!$AC309=\"BUS\",IF(LOADS!$AE309=C$1,1,0),0)","v":0},{"$f":"IF(LOADS!$AC309=\"BUS\",IF(LOADS!$AE309=D$1,1,0),0)","v":0},{"$f":"IF(LOADS!$AC309=\"BUS\",IF(LOADS!$AE309=E$1,1,0),0)","v":0},{"$f":"IF(LOADS!$AC309=\"BUS\",IF(LOADS!$AE309=F$1,1,0),0)","v":0},{"$f":"IF(LOADS!$AC309=\"BUS\",IF(LOADS!$AE309=G$1,1,0),0)","v":0},{"$f":"IF(LOADS!$AC309=\"BUS\",IF(LOADS!$AE309=H$1,1,0),0)","v":0},{"$f":"IF(LOADS!$AC309=\"BUS\",IF(LOADS!$AE309=I$1,1,0),0)","v":0},0,{"$f":"LOADS!AM309","v":0}]
[{"$f":"IF(ISBLANK(LOADS!A310),\"\",LOADS!A310)","v":{"$error":"#REF!"}},{"$f":"IF(ISBLANK(LOADS!B310),\"\",LOADS!B310)","v":""},{"$f":"IF(LOADS!$AC310=\"BUS\",IF(LOADS!$AE310=C$1,1,0),0)","v":0},{"$f":"IF(LOADS!$AC310=\"BUS\",IF(LOADS!$AE310=D$1,1,0),0)","v":0},{"$f":"IF(LOADS!$AC310=\"BUS\",IF(LOADS!$AE310=E$1,1,0),0)","v":0},{"$f":"IF(LOADS!$AC310=\"BUS\",IF(LOADS!$AE310=F$1,1,0),0)","v":0},{"$f":"IF(LOADS!$AC310=\"BUS\",IF(LOADS!$AE310=G$1,1,0),0)","v":0},{"$f":"IF(LOADS!$AC310=\"BUS\",IF(LOADS!$AE310=H$1,1,0),0)","v":0},{"$f":"IF(LOADS!$AC310=\"BUS\",IF(LOADS!$AE310=I$1,1,0),0)","v":0},0,{"$f":"LOADS!AM310","v":0}]
[{"$f":"IF(ISBLANK(LOADS!A311),\"\",LOADS!A311)","v":{"$error":"#REF!"}},{"$f":"IF(ISBLANK(LOADS!B311),\"\",LOADS!B311)","v":""},{"$f":"IF(LOADS!$AC311=\"BUS\",IF(LOADS!$AE311=C$1,1,0),0)","v":0},{"$f":"IF(LOADS!$AC311=\"BUS\",IF(LOADS!$AE311=D$1,1,0),0)","v":0},{"$f":"IF(LOADS!$AC311=\"BUS\",IF(LOADS!$AE311=E$1,1,0),0)","v":0},{"$f":"IF(LOADS!$AC311=\"BUS\",IF(LOADS!$AE311=F$1,1,0),0)","v":0},{"$f":"IF(LOADS!$AC311=\"BUS\",IF(LOADS!$AE311=G$1,1,0),0)","v":0},{"$f":"IF(LOADS!$AC311=\"BUS\",IF(LOADS!$AE311=H$1,1,0),0)","v":0},{"$f":"IF(LOADS!$AC311=\"BUS\",IF(LOADS!$AE311=I$1,1,0),0)","v":0},0,{"$f":"LOADS!AM311","v":0}]
[{"$f":"IF(ISBLANK(LOADS!A312),\"\",LOADS!A312)","v":{"$error":"#REF!"}},{"$f":"IF(ISBLANK(LOADS!B312),\"\",LOADS!B312)","v":""},{"$f":"IF(LOADS!$AC312=\"BUS\",IF(LOADS!$AE312=C$1,1,0),0)","v":0},{"$f":"IF(LOADS!$AC312=\"BUS\",IF(LOADS!$AE312=D$1,1,0),0)","v":0},{"$f":"IF(LOADS!$AC312=\"BUS\",IF(LOADS!$AE312=E$1,1,0),0)","v":0},{"$f":"IF(LOADS!$AC312=\"BUS\",IF(LOADS!$AE312=F$1,1,0),0)","v":0},{"$f":"IF(LOADS!$AC312=\"BUS\",IF(LOADS!$AE312=G$1,1,0),0)","v":0},{"$f":"IF(LOADS!$AC312=\"BUS\",IF(LOADS!$AE312=H$1,1,0),0)","v":0},{"$f":"IF(LOADS!$AC312=\"BUS\",IF(LOADS!$AE312=I$1,1,0),0)","v":0},0,{"$f":"LOADS!AM312","v":0}]
[{"$f":"IF(ISBLANK(LOADS!A313),\"\",LOADS!A313)","v":{"$error":"#REF!"}},{"$f":"IF(ISBLANK(LOADS!B313),\"\",LOADS!B313)","v":""},{"$f":"IF(LOADS!$AC313=\"BUS\",IF(LOADS!$AE313=C$1,1,0),0)","v":0},{"$f":"IF(LOADS!$AC313=\"BUS\",IF(LOADS!$AE313=D$1,1,0),0)","v":0},{"$f":"IF(LOADS!$AC313=\"BUS\",IF(LOADS!$AE313=E$1,1,0),0)","v":0},{"$f":"IF(LOADS!$AC313=\"BUS\",IF(LOADS!$AE313=F$1,1,0),0)","v":0},{"$f":"IF(LOADS!$AC313=\"BUS\",IF(LOADS!$AE313=G$1,1,0),0)","v":0},{"$f":"IF(LOADS!$AC313=\"BUS\",IF(LOADS!$AE313=H$1,1,0),0)","v":0},{"$f":"IF(LOADS!$AC313=\"BUS\",IF(LOADS!$AE313=I$1,1,0),0)","v":0},0,{"$f":"LOADS!AM313","v":0}]
[{"$f":"IF(ISBLANK(LOADS!A314),\"\",LOADS!A314)","v":{"$error":"#REF!"}},{"$f":"IF(ISBLANK(LOADS!B314),\"\",LOADS!B314)","v":""},{"$f":"IF(LOADS!$AC314=\"BUS\",IF(LOADS!$AE314=C$1,1,0),0)","v":0},{"$f":"IF(LOADS!$AC314=\"BUS\",IF(LOADS!$AE314=D$1,1,0),0)","v":0},{"$f":"IF(LOADS!$AC314=\"BUS\",IF(LOADS!$AE314=E$1,1,0),0)","v":0},{"$f":"IF(LOADS!$AC314=\"BUS\",IF(LOADS!$AE314=F$1,1,0),0)","v":0},{"$f":"IF(LOADS!$AC314=\"BUS\",IF(LOADS!$AE314=G$1,1,0),0)","v":0},{"$f":"IF(LOADS!$AC314=\"BUS\",IF(LOADS!$AE314=H$1,1,0),0)","v":0},{"$f":"IF(LOADS!$AC314=\"BUS\",IF(LOADS!$AE314=I$1,1,0),0)","v":0},0,{"$f":"LOADS!AM314","v":0}]
[{"$f":"IF(ISBLANK(LOADS!A315),\"\",LOADS!A315)","v":{"$error":"#REF!"}},{"$f":"IF(ISBLANK(LOADS!B315),\"\",LOADS!B315)","v":""},{"$f":"IF(LOADS!$AC315=\"BUS\",IF(LOADS!$AE315=C$1,1,0),0)","v":0},{"$f":"IF(LOADS!$AC315=\"BUS\",IF(LOADS!$AE315=D$1,1,0),0)","v":0},{"$f":"IF(LOADS!$AC315=\"BUS\",IF(LOADS!$AE315=E$1,1,0),0)","v":0},{"$f":"IF(LOADS!$AC315=\"BUS\",IF(LOADS!$AE315=F$1,1,0),0)","v":0},{"$f":"IF(LOADS!$AC315=\"BUS\",IF(LOADS!$AE315=G$1,1,0),0)","v":0},{"$f":"IF(LOADS!$AC315=\"BUS\",IF(LOADS!$AE315=H$1,1,0),0)","v":0},{"$f":"IF(LOADS!$AC315=\"BUS\",IF(LOADS!$AE315=I$1,1,0),0)","v":0},0,{"$f":"LOADS!AM315","v":0}]
[{"$f":"IF(ISBLANK(LOADS!A316),\"\",LOADS!A316)","v":{"$error":"#REF!"}},{"$f":"IF(ISBLANK(LOADS!B316),\"\",LOADS!B316)","v":""},{"$f":"IF(LOADS!$AC316=\"BUS\",IF(LOADS!$AE316=C$1,1,0),0)","v":0},{"$f":"IF(LOADS!$AC316=\"BUS\",IF(LOADS!$AE316=D$1,1,0),0)","v":0},{"$f":"IF(LOADS!$AC316=\"BUS\",IF(LOADS!$AE316=E$1,1,0),0)","v":0},{"$f":"IF(LOADS!$AC316=\"BUS\",IF(LOADS!$AE316=F$1,1,0),0)","v":0},{"$f":"IF(LOADS!$AC316=\"BUS\",IF(LOADS!$AE316=G$1,1,0),0)","v":0},{"$f":"IF(LOADS!$AC316=\"BUS\",IF(LOADS!$AE316=H$1,1,0),0)","v":0},{"$f":"IF(LOADS!$AC316=\"BUS\",IF(LOADS!$AE316=I$1,1,0),0)","v":0},0,{"$f":"LOADS!AM316","v":0}]
[{"$f":"IF(ISBLANK(LOADS!A317),\"\",LOADS!A317)","v":{"$error":"#REF!"}},{"$f":"IF(ISBLANK(LOADS!B317),\"\",LOADS!B317)","v":""},{"$f":"IF(LOADS!$AC317=\"BUS\",IF(LOADS!$AE317=C$1,1,0),0)","v":0},{"$f":"IF(LOADS!$AC317=\"BUS\",IF(LOADS!$AE317=D$1,1,0),0)","v":0},{"$f":"IF(LOADS!$AC317=\"BUS\",IF(LOADS!$AE317=E$1,1,0),0)","v":0},{"$f":"IF(LOADS!$AC317=\"BUS\",IF(LOADS!$AE317=F$1,1,0),0)","v":0},{"$f":"IF(LOADS!$AC317=\"BUS\",IF(LOADS!$AE317=G$1,1,0),0)","v":0},{"$f":"IF(LOADS!$AC317=\"BUS\",IF(LOADS!$AE317=H$1,1,0),0)","v":0},{"$f":"IF(LOADS!$AC317=\"BUS\",IF(LOADS!$AE317=I$1,1,0),0)","v":0},0,{"$f":"LOADS!AM317","v":0}]
[{"$f":"IF(ISBLANK(LOADS!A318),\"\",LOADS!A318)","v":{"$error":"#REF!"}},{"$f":"IF(ISBLANK(LOADS!B318),\"\",LOADS!B318)","v":""},{"$f":"IF(LOADS!$AC318=\"BUS\",IF(LOADS!$AE318=C$1,1,0),0)","v":0},{"$f":"IF(LOADS!$AC318=\"BUS\",IF(LOADS!$AE318=D$1,1,0),0)","v":0},{"$f":"IF(LOADS!$AC318=\"BUS\",IF(LOADS!$AE318=E$1,1,0),0)","v":0},{"$f":"IF(LOADS!$AC318=\"BUS\",IF(LOADS!$AE318=F$1,1,0),0)","v":0},{"$f":"IF(LOADS!$AC318=\"BUS\",IF(LOADS!$AE318=G$1,1,0),0)","v":0},{"$f":"IF(LOADS!$AC318=\"BUS\",IF(LOADS!$AE318=H$1,1,0),0)","v":0},{"$f":"IF(LOADS!$AC318=\"BUS\",IF(LOADS!$AE318=I$1,1,0),0)","v":0},0,{"$f":"LOADS!AM318","v":0}]
[{"$f":"IF(ISBLANK(LOADS!A319),\"\",LOADS!A319)","v":{"$error":"#REF!"}},{"$f":"IF(ISBLANK(LOADS!B319),\"\",LOADS!B319)","v":""},{"$f":"IF(LOADS!$AC319=\"BUS\",IF(LOADS!$AE319=C$1,1,0),0)","v":0},{"$f":"IF(LOADS!$AC319=\"BUS\",IF(LOADS!$AE319=D$1,1,0),0)","v":0},{"$f":"IF(LOADS!$AC319=\"BUS\",IF(LOADS!$AE319=E$1,1,0),0)","v":0},{"$f":"IF(LOADS!$AC319=\"BUS\",IF(LOADS!$AE319=F$1,1,0),0)","v":0},{"$f":"IF(LOADS!$AC319=\"BUS\",IF(LOADS!$AE319=G$1,1,0),0)","v":0},{"$f":"IF(LOADS!$AC319=\"BUS\",IF(LOADS!$AE319=H$1,1,0),0)","v":0},{"$f":"IF(LOADS!$AC319=\"BUS\",IF(LOADS!$AE319=I$1,1,0),0)","v":0},0,{"$f":"LOADS!AM319","v":0}]
[{"$f":"IF(ISBLANK(LOADS!A320),\"\",LOADS!A320)","v":{"$error":"#REF!"}},{"$f":"IF(ISBLANK(LOADS!B320),\"\",LOADS!B320)","v":""},{"$f":"IF(LOADS!$AC320=\"BUS\",IF(LOADS!$AE320=C$1,1,0),0)","v":0},{"$f":"IF(LOADS!$AC320=\"BUS\",IF(LOADS!$AE320=D$1,1,0),0)","v":0},{"$f":"IF(LOADS!$AC320=\"BUS\",IF(LOADS!$AE320=E$1,1,0),0)","v":0},{"$f":"IF(LOADS!$AC320=\"BUS\",IF(LOADS!$AE320=F$1,1,0),0)","v":0},{"$f":"IF(LOADS!$AC320=\"BUS\",IF(LOADS!$AE320=G$1,1,0),0)","v":0},{"$f":"IF(LOADS!$AC320=\"BUS\",IF(LOADS!$AE320=H$1,1,0),0)","v":0},{"$f":"IF(LOADS!$AC320=\"BUS\",IF(LOADS!$AE320=I$1,1,0),0)","v":0},0,{"$f":"LOADS!AM320","v":0}]
[{"$f":"IF(ISBLANK(LOADS!A321),\"\",LOADS!A321)","v":{"$error":"#REF!"}},{"$f":"IF(ISBLANK(LOADS!B321),\"\",LOADS!B321)","v":""},{"$f":"IF(LOADS!$AC321=\"BUS\",IF(LOADS!$AE321=C$1,1,0),0)","v":0},{"$f":"IF(LOADS!$AC321=\"BUS\",IF(LOADS!$AE321=D$1,1,0),0)","v":0},{"$f":"IF(LOADS!$AC321=\"BUS\",IF(LOADS!$AE321=E$1,1,0),0)","v":0},{"$f":"IF(LOADS!$AC321=\"BUS\",IF(LOADS!$AE321=F$1,1,0),0)","v":0},{"$f":"IF(LOADS!$AC321=\"BUS\",IF(LOADS!$AE321=G$1,1,0),0)","v":0},{"$f":"IF(LOADS!$AC321=\"BUS\",IF(LOADS!$AE321=H$1,1,0),0)","v":0},{"$f":"IF(LOADS!$AC321=\"BUS\",IF(LOADS!$AE321=I$1,1,0),0)","v":0},0,{"$f":"LOADS!AM321","v":0}]
[{"$f":"IF(ISBLANK(LOADS!A322),\"\",LOADS!A322)","v":{"$error":"#REF!"}},{"$f":"IF(ISBLANK(LOADS!B322),\"\",LOADS!B322)","v":""},{"$f":"IF(LOADS!$AC322=\"BUS\",IF(LOADS!$AE322=C$1,1,0),0)","v":0},{"$f":"IF(LOADS!$AC322=\"BUS\",IF(LOADS!$AE322=D$1,1,0),0)","v":0},{"$f":"IF(LOADS!$AC322=\"BUS\",IF(LOADS!$AE322=E$1,1,0),0)","v":0},{"$f":"IF(LOADS!$AC322=\"BUS\",IF(LOADS!$AE322=F$1,1,0),0)","v":0},{"$f":"IF(LOADS!$AC322=\"BUS\",IF(LOADS!$AE322=G$1,1,0),0)","v":0},{"$f":"IF(LOADS!$AC322=\"BUS\",IF(LOADS!$AE322=H$1,1,0),0)","v":0},{"$f":"IF(LOADS!$AC322=\"BUS\",IF(LOADS!$AE322=I$1,1,0),0)","v":0},{"$f":"SUM(C325:I325)","v":0},{"$f":"LOADS!AM322","v":0}]
[{"$f":"IF(ISBLANK(LOADS!A323),\"\",LOADS!A323)","v":{"$error":"#REF!"}},{"$f":"IF(ISBLANK(LOADS!B323),\"\",LOADS!B323)","v":""},{"$f":"IF(LOADS!$AC323=\"BUS\",IF(LOADS!$AE323=C$1,1,0),0)","v":0},{"$f":"IF(LOADS!$AC323=\"BUS\",IF(LOADS!$AE323=D$1,1,0),0)","v":0},{"$f":"IF(LOADS!$AC323=\"BUS\",IF(LOADS!$AE323=E$1,1,0),0)","v":0},{"$f":"IF(LOADS!$AC323=\"BUS\",IF(LOADS!$AE323=F$1,1,0),0)","v":0},{"$f":"IF(LOADS!$AC323=\"BUS\",IF(LOADS!$AE323=G$1,1,0),0)","v":0},{"$f":"IF(LOADS!$AC323=\"BUS\",IF(LOADS!$AE323=H$1,1,0),0)","v":0},{"$f":"IF(LOADS!$AC323=\"BUS\",IF(LOADS!$AE323=I$1,1,0),0)","v":0},0,{"$f":"LOADS!AM323","v":0}]
[{"$f":"IF(ISBLANK(LOADS!A324),\"\",LOADS!A324)","v":{"$error":"#REF!"}},{"$f":"IF(ISBLANK(LOADS!B324),\"\",LOADS!B324)","v":""},{"$f":"IF(LOADS!$AC324=\"BUS\",IF(LOADS!$AE324=C$1,1,0),0)","v":0},{"$f":"IF(LOADS!$AC324=\"BUS\",IF(LOADS!$AE324=D$1,1,0),0)","v":0},{"$f":"IF(LOADS!$AC324=\"BUS\",IF(LOADS!$AE324=E$1,1,0),0)","v":0},{"$f":"IF(LOADS!$AC324=\"BUS\",IF(LOADS!$AE324=F$1,1,0),0)","v":0},{"$f":"IF(LOADS!$AC324=\"BUS\",IF(LOADS!$AE324=G$1,1,0),0)","v":0},{"$f":"IF(LOADS!$AC324=\"BUS\",IF(LOADS!$AE324=H$1,1,0),0)","v":0},{"$f":"IF(LOADS!$AC324=\"BUS\",IF(LOADS!$AE324=I$1,1,0),0)","v":0},0,{"$f":"LOADS!AM324","v":0}]
[{"$f":"IF(ISBLANK(LOADS!A325),\"\",LOADS!A325)","v":{"$error":"#REF!"}},{"$f":"IF(ISBLANK(LOADS!B325),\"\",LOADS!B325)","v":""},{"$f":"IF(LOADS!$AC325=\"BUS\",IF(LOADS!$AE325=C$1,1,0),0)","v":0},{"$f":"IF(LOADS!$AC325=\"BUS\",IF(LOADS!$AE325=D$1,1,0),0)","v":0},{"$f":"IF(LOADS!$AC325=\"BUS\",IF(LOADS!$AE325=E$1,1,0),0)","v":0},{"$f":"IF(LOADS!$AC325=\"BUS\",IF(LOADS!$AE325=F$1,1,0),0)","v":0},{"$f":"IF(LOADS!$AC325=\"BUS\",IF(LOADS!$AE325=G$1,1,0),0)","v":0},{"$f":"IF(LOADS!$AC325=\"BUS\",IF(LOADS!$AE325=H$1,1,0),0)","v":0},{"$f":"IF(LOADS!$AC325=\"BUS\",IF(LOADS!$AE325=I$1,1,0),0)","v":0},0,{"$f":"LOADS!AM325","v":0}]
[{"$f":"IF(ISBLANK(LOADS!A326),\"\",LOADS!A326)","v":{"$error":"#REF!"}},{"$f":"IF(ISBLANK(LOADS!B326),\"\",LOADS!B326)","v":""},{"$f":"IF(LOADS!$AC326=\"BUS\",IF(LOADS!$AE326=C$1,1,0),0)","v":0},{"$f":"IF(LOADS!$AC326=\"BUS\",IF(LOADS!$AE326=D$1,1,0),0)","v":0},{"$f":"IF(LOADS!$AC326=\"BUS\",IF(LOADS!$AE326=E$1,1,0),0)","v":0},{"$f":"IF(LOADS!$AC326=\"BUS\",IF(LOADS!$AE326=F$1,1,0),0)","v":0},{"$f":"IF(LOADS!$AC326=\"BUS\",IF(LOADS!$AE326=G$1,1,0),0)","v":0},{"$f":"IF(LOADS!$AC326=\"BUS\",IF(LOADS!$AE326=H$1,1,0),0)","v":0},{"$f":"IF(LOADS!$AC326=\"BUS\",IF(LOADS!$AE326=I$1,1,0),0)","v":0},0,{"$f":"LOADS!AM326","v":0}]
[{"$f":"IF(ISBLANK(LOADS!A327),\"\",LOADS!A327)","v":{"$error":"#REF!"}},{"$f":"IF(ISBLANK(LOADS!B327),\"\",LOADS!B327)","v":""},{"$f":"IF(LOADS!$AC327=\"BUS\",IF(LOADS!$AE327=C$1,1,0),0)","v":0},{"$f":"IF(LOADS!$AC327=\"BUS\",IF(LOADS!$AE327=D$1,1,0),0)","v":0},{"$f":"IF(LOADS!$AC327=\"BUS\",IF(LOADS!$AE327=E$1,1,0),0)","v":0},{"$f":"IF(LOADS!$AC327=\"BUS\",IF(LOADS!$AE327=F$1,1,0),0)","v":0},{"$f":"IF(LOADS!$AC327=\"BUS\",IF(LOADS!$AE327=G$1,1,0),0)","v":0},{"$f":"IF(LOADS!$AC327=\"BUS\",IF(LOADS!$AE327=H$1,1,0),0)","v":0},{"$f":"IF(LOADS!$AC327=\"BUS\",IF(LOADS!$AE327=I$1,1,0),0)","v":0},0,{"$f":"LOADS!AM327","v":0}]
[{"$f":"IF(ISBLANK(LOADS!A328),\"\",LOADS!A328)","v":{"$error":"#REF!"}},{"$f":"IF(ISBLANK(LOADS!B328),\"\",LOADS!B328)","v":""},{"$f":"IF(LOADS!$AC328=\"BUS\",IF(LOADS!$AE328=C$1,1,0),0)","v":0},{"$f":"IF(LOADS!$AC328=\"BUS\",IF(LOADS!$AE328=D$1,1,0),0)","v":0},{"$f":"IF(LOADS!$AC328=\"BUS\",IF(LOADS!$AE328=E$1,1,0),0)","v":0},{"$f":"IF(LOADS!$AC328=\"BUS\",IF(LOADS!$AE328=F$1,1,0),0)","v":0},{"$f":"IF(LOADS!$AC328=\"BUS\",IF(LOADS!$AE328=G$1,1,0),0)","v":0},{"$f":"IF(LOADS!$AC328=\"BUS\",IF(LOADS!$AE328=H$1,1,0),0)","v":0},{"$f":"IF(LOADS!$AC328=\"BUS\",IF(LOADS!$AE328=I$1,1,0),0)","v":0},0,{"$f":"LOADS!AM328","v":0}]
[{"$f":"IF(ISBLANK(LOADS!A329),\"\",LOADS!A329)","v":{"$error":"#REF!"}},{"$f":"IF(ISBLANK(LOADS!B329),\"\",LOADS!B329)","v":""},{"$f":"IF(LOADS!$AC329=\"BUS\",IF(LOADS!$AE329=C$1,1,0),0)","v":0},{"$f":"IF(LOADS!$AC329=\"BUS\",IF(LOADS!$AE329=D$1,1,0),0)","v":0},{"$f":"IF(LOADS!$AC329=\"BUS\",IF(LOADS!$AE329=E$1,1,0),0)","v":0},{"$f":"IF(LOADS!$AC329=\"BUS\",IF(LOADS!$AE329=F$1,1,0),0)","v":0},{"$f":"IF(LOADS!$AC329=\"BUS\",IF(LOADS!$AE329=G$1,1,0),0)","v":0},{"$f":"IF(LOADS!$AC329=\"BUS\",IF(LOADS!$AE329=H$1,1,0),0)","v":0},{"$f":"IF(LOADS!$AC329=\"BUS\",IF(LOADS!$AE329=I$1,1,0),0)","v":0},0,{"$f":"LOADS!AM329","v":0}]
[{"$f":"IF(ISBLANK(LOADS!A330),\"\",LOADS!A330)","v":{"$error":"#REF!"}},{"$f":"IF(ISBLANK(LOADS!B330),\"\",LOADS!B330)","v":""},{"$f":"IF(LOADS!$AC330=\"BUS\",IF(LOADS!$AE330=C$1,1,0),0)","v":0},{"$f":"IF(LOADS!$AC330=\"BUS\",IF(LOADS!$AE330=D$1,1,0),0)","v":0},{"$f":"IF(LOADS!$AC330=\"BUS\",IF(LOADS!$AE330=E$1,1,0),0)","v":0},{"$f":"IF(LOADS!$AC330=\"BUS\",IF(LOADS!$AE330=F$1,1,0),0)","v":0},{"$f":"IF(LOADS!$AC330=\"BUS\",IF(LOADS!$AE330=G$1,1,0),0)","v":0},{"$f":"IF(LOADS!$AC330=\"BUS\",IF(LOADS!$AE330=H$1,1,0),0)","v":0},{"$f":"IF(LOADS!$AC330=\"BUS\",IF(LOADS!$AE330=I$1,1,0),0)","v":0},0,{"$f":"LOADS!AM330","v":0}]
[{"$f":"IF(ISBLANK(LOADS!A331),\"\",LOADS!A331)","v":{"$error":"#REF!"}},{"$f":"IF(ISBLANK(LOADS!B331),\"\",LOADS!B331)","v":""},{"$f":"IF(LOADS!$AC331=\"BUS\",IF(LOADS!$AE331=C$1,1,0),0)","v":0},{"$f":"IF(LOADS!$AC331=\"BUS\",IF(LOADS!$AE331=D$1,1,0),0)","v":0},{"$f":"IF(LOADS!$AC331=\"BUS\",IF(LOADS!$AE331=E$1,1,0),0)","v":0},{"$f":"IF(LOADS!$AC331=\"BUS\",IF(LOADS!$AE331=F$1,1,0),0)","v":0},{"$f":"IF(LOADS!$AC331=\"BUS\",IF(LOADS!$AE331=G$1,1,0),0)","v":0},{"$f":"IF(LOADS!$AC331=\"BUS\",IF(LOADS!$AE331=H$1,1,0),0)","v":0},{"$f":"IF(LOADS!$AC331=\"BUS\",IF(LOADS!$AE331=I$1,1,0),0)","v":0},0,{"$f":"LOADS!AM331","v":0}]
[{"$f":"IF(ISBLANK(LOADS!A332),\"\",LOADS!A332)","v":{"$error":"#REF!"}},{"$f":"IF(ISBLANK(LOADS!B332),\"\",LOADS!B332)","v":""},{"$f":"IF(LOADS!$AC332=\"BUS\",IF(LOADS!$AE332=C$1,1,0),0)","v":0},{"$f":"IF(LOADS!$AC332=\"BUS\",IF(LOADS!$AE332=D$1,1,0),0)","v":0},{"$f":"IF(LOADS!$AC332=\"BUS\",IF(LOADS!$AE332=E$1,1,0),0)","v":0},{"$f":"IF(LOADS!$AC332=\"BUS\",IF(LOADS!$AE332=F$1,1,0),0)","v":0},{"$f":"IF(LOADS!$AC332=\"BUS\",IF(LOADS!$AE332=G$1,1,0),0)","v":0},{"$f":"IF(LOADS!$AC332=\"BUS\",IF(LOADS!$AE332=H$1,1,0),0)","v":0},{"$f":"IF(LOADS!$AC332=\"BUS\",IF(LOADS!$AE332=I$1,1,0),0)","v":0},0,{"$f":"LOADS!AM332","v":0}]
[{"$f":"IF(ISBLANK(LOADS!A333),\"\",LOADS!A333)","v":{"$error":"#REF!"}},{"$f":"IF(ISBLANK(LOADS!B333),\"\",LOADS!B333)","v":""},{"$f":"IF(LOADS!$AC333=\"BUS\",IF(LOADS!$AE333=C$1,1,0),0)","v":0},{"$f":"IF(LOADS!$AC333=\"BUS\",IF(LOADS!$AE333=D$1,1,0),0)","v":0},{"$f":"IF(LOADS!$AC333=\"BUS\",IF(LOADS!$AE333=E$1,1,0),0)","v":0},{"$f":"IF(LOADS!$AC333=\"BUS\",IF(LOADS!$AE333=F$1,1,0),0)","v":0},{"$f":"IF(LOADS!$AC333=\"BUS\",IF(LOADS!$AE333=G$1,1,0),0)","v":0},{"$f":"IF(LOADS!$AC333=\"BUS\",IF(LOADS!$AE333=H$1,1,0),0)","v":0},{"$f":"IF(LOADS!$AC333=\"BUS\",IF(LOADS!$AE333=I$1,1,0),0)","v":0},0,{"$f":"LOADS!AM333","v":0}]
[{"$f":"IF(ISBLANK(LOADS!A334),\"\",LOADS!A334)","v":{"$error":"#REF!"}},{"$f":"IF(ISBLANK(LOADS!B334),\"\",LOADS!B334)","v":""},{"$f":"IF(LOADS!$AC334=\"BUS\",IF(LOADS!$AE334=C$1,1,0),0)","v":0},{"$f":"IF(LOADS!$AC334=\"BUS\",IF(LOADS!$AE334=D$1,1,0),0)","v":0},{"$f":"IF(LOADS!$AC334=\"BUS\",IF(LOADS!$AE334=E$1,1,0),0)","v":0},{"$f":"IF(LOADS!$AC334=\"BUS\",IF(LOADS!$AE334=F$1,1,0),0)","v":0},{"$f":"IF(LOADS!$AC334=\"BUS\",IF(LOADS!$AE334=G$1,1,0),0)","v":0},{"$f":"IF(LOADS!$AC334=\"BUS\",IF(LOADS!$AE334=H$1,1,0),0)","v":0},{"$f":"IF(LOADS!$AC334=\"BUS\",IF(LOADS!$AE334=I$1,1,0),0)","v":0},0,{"$f":"LOADS!AM334","v":0}]
[{"$f":"IF(ISBLANK(LOADS!A335),\"\",LOADS!A335)","v":{"$error":"#REF!"}},{"$f":"IF(ISBLANK(LOADS!B335),\"\",LOADS!B335)","v":""},{"$f":"IF(LOADS!$AC335=\"BUS\",IF(LOADS!$AE335=C$1,1,0),0)","v":0},{"$f":"IF(LOADS!$AC335=\"BUS\",IF(LOADS!$AE335=D$1,1,0),0)","v":0},{"$f":"IF(LOADS!$AC335=\"BUS\",IF(LOADS!$AE335=E$1,1,0),0)","v":0},{"$f":"IF(LOADS!$AC335=\"BUS\",IF(LOADS!$AE335=F$1,1,0),0)","v":0},{"$f":"IF(LOADS!$AC335=\"BUS\",IF(LOADS!$AE335=G$1,1,0),0)","v":0},{"$f":"IF(LOADS!$AC335=\"BUS\",IF(LOADS!$AE335=H$1,1,0),0)","v":0},{"$f":"IF(LOADS!$AC335=\"BUS\",IF(LOADS!$AE335=I$1,1,0),0)","v":0},0,{"$f":"LOADS!AM335","v":0}]
[{"$f":"IF(ISBLANK(LOADS!A336),\"\",LOADS!A336)","v":{"$error":"#REF!"}},{"$f":"IF(ISBLANK(LOADS!B336),\"\",LOADS!B336)","v":""},{"$f":"IF(LOADS!$AC336=\"BUS\",IF(LOADS!$AE336=C$1,1,0),0)","v":0},{"$f":"IF(LOADS!$AC336=\"BUS\",IF(LOADS!$AE336=D$1,1,0),0)","v":0},{"$f":"IF(LOADS!$AC336=\"BUS\",IF(LOADS!$AE336=E$1,1,0),0)","v":0},{"$f":"IF(LOADS!$AC336=\"BUS\",IF(LOADS!$AE336=F$1,1,0),0)","v":0},{"$f":"IF(LOADS!$AC336=\"BUS\",IF(LOADS!$AE336=G$1,1,0),0)","v":0},{"$f":"IF(LOADS!$AC336=\"BUS\",IF(LOADS!$AE336=H$1,1,0),0)","v":0},{"$f":"IF(LOADS!$AC336=\"BUS\",IF(LOADS!$AE336=I$1,1,0),0)","v":0},0,{"$f":"LOADS!AM336","v":0}]
[{"$f":"IF(ISBLANK(LOADS!A337),\"\",LOADS!A337)","v":{"$error":"#REF!"}},{"$f":"IF(ISBLANK(LOADS!B337),\"\",LOADS!B337)","v":""},{"$f":"IF(LOADS!$AC337=\"BUS\",IF(LOADS!$AE337=C$1,1,0),0)","v":0},{"$f":"IF(LOADS!$AC337=\"BUS\",IF(LOADS!$AE337=D$1,1,0),0)","v":0},{"$f":"IF(LOADS!$AC337=\"BUS\",IF(LOADS!$AE337=E$1,1,0),0)","v":0},{"$f":"IF(LOADS!$AC337=\"BUS\",IF(LOADS!$AE337=F$1,1,0),0)","v":0},{"$f":"IF(LOADS!$AC337=\"BUS\",IF(LOADS!$AE337=G$1,1,0),0)","v":0},{"$f":"IF(LOADS!$AC337=\"BUS\",IF(LOADS!$AE337=H$1,1,0),0)","v":0},{"$f":"IF(LOADS!$AC337=\"BUS\",IF(LOADS!$AE337=I$1,1,0),0)","v":0},0,{"$f":"LOADS!AM337","v":0}]
[{"$f":"IF(ISBLANK(LOADS!A338),\"\",LOADS!A338)","v":{"$error":"#REF!"}},{"$f":"IF(ISBLANK(LOADS!B338),\"\",LOADS!B338)","v":""},{"$f":"IF(LOADS!$AC338=\"BUS\",IF(LOADS!$AE338=C$1,1,0),0)","v":0},{"$f":"IF(LOADS!$AC338=\"BUS\",IF(LOADS!$AE338=D$1,1,0),0)","v":0},{"$f":"IF(LOADS!$AC338=\"BUS\",IF(LOADS!$AE338=E$1,1,0),0)","v":0},{"$f":"IF(LOADS!$AC338=\"BUS\",IF(LOADS!$AE338=F$1,1,0),0)","v":0},{"$f":"IF(LOADS!$AC338=\"BUS\",IF(LOADS!$AE338=G$1,1,0),0)","v":0},{"$f":"IF(LOADS!$AC338=\"BUS\",IF(LOADS!$AE338=H$1,1,0),0)","v":0},{"$f":"IF(LOADS!$AC338=\"BUS\",IF(LOADS!$AE338=I$1,1,0),0)","v":0},0,{"$f":"LOADS!AM338","v":0}]
[{"$f":"IF(ISBLANK(LOADS!A339),\"\",LOADS!A339)","v":{"$error":"#REF!"}},{"$f":"IF(ISBLANK(LOADS!B339),\"\",LOADS!B339)","v":""},{"$f":"IF(LOADS!$AC339=\"BUS\",IF(LOADS!$AE339=C$1,1,0),0)","v":0},{"$f":"IF(LOADS!$AC339=\"BUS\",IF(LOADS!$AE339=D$1,1,0),0)","v":0},{"$f":"IF(LOADS!$AC339=\"BUS\",IF(LOADS!$AE339=E$1,1,0),0)","v":0},{"$f":"IF(LOADS!$AC339=\"BUS\",IF(LOADS!$AE339=F$1,1,0),0)","v":0},{"$f":"IF(LOADS!$AC339=\"BUS\",IF(LOADS!$AE339=G$1,1,0),0)","v":0},{"$f":"IF(LOADS!$AC339=\"BUS\",IF(LOADS!$AE339=H$1,1,0),0)","v":0},{"$f":"IF(LOADS!$AC339=\"BUS\",IF(LOADS!$AE339=I$1,1,0),0)","v":0},0,{"$f":"LOADS!AM339","v":0}]
[{"$f":"IF(ISBLANK(LOADS!A340),\"\",LOADS!A340)","v":{"$error":"#REF!"}},{"$f":"IF(ISBLANK(LOADS!B340),\"\",LOADS!B340)","v":""},{"$f":"IF(LOADS!$AC340=\"BUS\",IF(LOADS!$AE340=C$1,1,0),0)","v":0},{"$f":"IF(LOADS!$AC340=\"BUS\",IF(LOADS!$AE340=D$1,1,0),0)","v":0},{"$f":"IF(LOADS!$AC340=\"BUS\",IF(LOADS!$AE340=E$1,1,0),0)","v":0},{"$f":"IF(LOADS!$AC340=\"BUS\",IF(LOADS!$AE340=F$1,1,0),0)","v":0},{"$f":"IF(LOADS!$AC340=\"BUS\",IF(LOADS!$AE340=G$1,1,0),0)","v":0},{"$f":"IF(LOADS!$AC340=\"BUS\",IF(LOADS!$AE340=H$1,1,0),0)","v":0},{"$f":"IF(LOADS!$AC340=\"BUS\",IF(LOADS!$AE340=I$1,1,0),0)","v":0},0,{"$f":"LOADS!AM340","v":0}]
[{"$f":"IF(ISBLANK(LOADS!A341),\"\",LOADS!A341)","v":{"$error":"#REF!"}},{"$f":"IF(ISBLANK(LOADS!B341),\"\",LOADS!B341)","v":""},{"$f":"IF(LOADS!$AC341=\"BUS\",IF(LOADS!$AE341=C$1,1,0),0)","v":0},{"$f":"IF(LOADS!$AC341=\"BUS\",IF(LOADS!$AE341=D$1,1,0),0)","v":0},{"$f":"IF(LOADS!$AC341=\"BUS\",IF(LOADS!$AE341=E$1,1,0),0)","v":0},{"$f":"IF(LOADS!$AC341=\"BUS\",IF(LOADS!$AE341=F$1,1,0),0)","v":0},{"$f":"IF(LOADS!$AC341=\"BUS\",IF(LOADS!$AE341=G$1,1,0),0)","v":0},{"$f":"IF(LOADS!$AC341=\"BUS\",IF(LOADS!$AE341=H$1,1,0),0)","v":0},{"$f":"IF(LOADS!$AC341=\"BUS\",IF(LOADS!$AE341=I$1,1,0),0)","v":0},0,{"$f":"LOADS!AM341","v":0}]
[{"$f":"IF(ISBLANK(LOADS!A342),\"\",LOADS!A342)","v":{"$error":"#REF!"}},{"$f":"IF(ISBLANK(LOADS!B342),\"\",LOADS!B342)","v":""},{"$f":"IF(LOADS!$AC342=\"BUS\",IF(LOADS!$AE342=C$1,1,0),0)","v":0},{"$f":"IF(LOADS!$AC342=\"BUS\",IF(LOADS!$AE342=D$1,1,0),0)","v":0},{"$f":"IF(LOADS!$AC342=\"BUS\",IF(LOADS!$AE342=E$1,1,0),0)","v":0},{"$f":"IF(LOADS!$AC342=\"BUS\",IF(LOADS!$AE342=F$1,1,0),0)","v":0},{"$f":"IF(LOADS!$AC342=\"BUS\",IF(LOADS!$AE342=G$1,1,0),0)","v":0},{"$f":"IF(LOADS!$AC342=\"BUS\",IF(LOADS!$AE342=H$1,1,0),0)","v":0},{"$f":"IF(LOADS!$AC342=\"BUS\",IF(LOADS!$AE342=I$1,1,0),0)","v":0},0,{"$f":"LOADS!AM342","v":0}]
[{"$f":"IF(ISBLANK(LOADS!A343),\"\",LOADS!A343)","v":{"$error":"#REF!"}},{"$f":"IF(ISBLANK(LOADS!B343),\"\",LOADS!B343)","v":""},{"$f":"IF(LOADS!$AC343=\"BUS\",IF(LOADS!$AE343=C$1,1,0),0)","v":0},{"$f":"IF(LOADS!$AC343=\"BUS\",IF(LOADS!$AE343=D$1,1,0),0)","v":0},{"$f":"IF(LOADS!$AC343=\"BUS\",IF(LOADS!$AE343=E$1,1,0),0)","v":0},{"$f":"IF(LOADS!$AC343=\"BUS\",IF(LOADS!$AE343=F$1,1,0),0)","v":0},{"$f":"IF(LOADS!$AC343=\"BUS\",IF(LOADS!$AE343=G$1,1,0),0)","v":0},{"$f":"IF(LOADS!$AC343=\"BUS\",IF(LOADS!$AE343=H$1,1,0),0)","v":0},{"$f":"IF(LOADS!$AC343=\"BUS\",IF(LOADS!$AE343=I$1,1,0),0)","v":0},0,{"$f":"LOADS!AM343","v":0}]
[{"$f":"IF(ISBLANK(LOADS!A344),\"\",LOADS!A344)","v":{"$error":"#REF!"}},{"$f":"IF(ISBLANK(LOADS!B344),\"\",LOADS!B344)","v":""},{"$f":"IF(LOADS!$AC344=\"BUS\",IF(LOADS!$AE344=C$1,1,0),0)","v":0},{"$f":"IF(LOADS!$AC344=\"BUS\",IF(LOADS!$AE344=D$1,1,0),0)","v":0},{"$f":"IF(LOADS!$AC344=\"BUS\",IF(LOADS!$AE344=E$1,1,0),0)","v":0},{"$f":"IF(LOADS!$AC344=\"BUS\",IF(LOADS!$AE344=F$1,1,0),0)","v":0},{"$f":"IF(LOADS!$AC344=\"BUS\",IF(LOADS!$AE344=G$1,1,0),0)","v":0},{"$f":"IF(LOADS!$AC344=\"BUS\",IF(LOADS!$AE344=H$1,1,0),0)","v":0},{"$f":"IF(LOADS!$AC344=\"BUS\",IF(LOADS!$AE344=I$1,1,0),0)","v":0},0,{"$f":"LOADS!AM344","v":0}]
[{"$f":"IF(ISBLANK(LOADS!A345),\"\",LOADS!A345)","v":{"$error":"#REF!"}},{"$f":"IF(ISBLANK(LOADS!B345),\"\",LOADS!B345)","v":""},{"$f":"IF(LOADS!$AC345=\"BUS\",IF(LOADS!$AE345=C$1,1,0),0)","v":0},{"$f":"IF(LOADS!$AC345=\"BUS\",IF(LOADS!$AE345=D$1,1,0),0)","v":0},{"$f":"IF(LOADS!$AC345=\"BUS\",IF(LOADS!$AE345=E$1,1,0),0)","v":0},{"$f":"IF(LOADS!$AC345=\"BUS\",IF(LOADS!$AE345=F$1,1,0),0)","v":0},{"$f":"IF(LOADS!$AC345=\"BUS\",IF(LOADS!$AE345=G$1,1,0),0)","v":0},{"$f":"IF(LOADS!$AC345=\"BUS\",IF(LOADS!$AE345=H$1,1,0),0)","v":0},{"$f":"IF(LOADS!$AC345=\"BUS\",IF(LOADS!$AE345=I$1,1,0),0)","v":0},0,{"$f":"LOADS!AM345","v":0}]
[{"$f":"IF(ISBLANK(LOADS!A346),\"\",LOADS!A346)","v":{"$error":"#REF!"}},{"$f":"IF(ISBLANK(LOADS!B346),\"\",LOADS!B346)","v":""},{"$f":"IF(LOADS!$AC346=\"BUS\",IF(LOADS!$AE346=C$1,1,0),0)","v":0},{"$f":"IF(LOADS!$AC346=\"BUS\",IF(LOADS!$AE346=D$1,1,0),0)","v":0},{"$f":"IF(LOADS!$AC346=\"BUS\",IF(LOADS!$AE346=E$1,1,0),0)","v":0},{"$f":"IF(LOADS!$AC346=\"BUS\",IF(LOADS!$AE346=F$1,1,0),0)","v":0},{"$f":"IF(LOADS!$AC346=\"BUS\",IF(LOADS!$AE346=G$1,1,0),0)","v":0},{"$f":"IF(LOADS!$AC346=\"BUS\",IF(LOADS!$AE346=H$1,1,0),0)","v":0},{"$f":"IF(LOADS!$AC346=\"BUS\",IF(LOADS!$AE346=I$1,1,0),0)","v":0},0,{"$f":"LOADS!AM346","v":0}]
[{"$f":"IF(ISBLANK(LOADS!A347),\"\",LOADS!A347)","v":{"$error":"#REF!"}},{"$f":"IF(ISBLANK(LOADS!B347),\"\",LOADS!B347)","v":""},{"$f":"IF(LOADS!$AC347=\"BUS\",IF(LOADS!$AE347=C$1,1,0),0)","v":0},{"$f":"IF(LOADS!$AC347=\"BUS\",IF(LOADS!$AE347=D$1,1,0),0)","v":0},{"$f":"IF(LOADS!$AC347=\"BUS\",IF(LOADS!$AE347=E$1,1,0),0)","v":0},{"$f":"IF(LOADS!$AC347=\"BUS\",IF(LOADS!$AE347=F$1,1,0),0)","v":0},{"$f":"IF(LOADS!$AC347=\"BUS\",IF(LOADS!$AE347=G$1,1,0),0)","v":0},{"$f":"IF(LOADS!$AC347=\"BUS\",IF(LOADS!$AE347=H$1,1,0),0)","v":0},{"$f":"IF(LOADS!$AC347=\"BUS\",IF(LOADS!$AE347=I$1,1,0),0)","v":0},0,{"$f":"LOADS!AM347","v":0}]
[{"$f":"IF(ISBLANK(LOADS!A348),\"\",LOADS!A348)","v":{"$error":"#REF!"}},{"$f":"IF(ISBLANK(LOADS!B348),\"\",LOADS!B348)","v":""},{"$f":"IF(LOADS!$AC348=\"BUS\",IF(LOADS!$AE348=C$1,1,0),0)","v":0},{"$f":"IF(LOADS!$AC348=\"BUS\",IF(LOADS!$AE348=D$1,1,0),0)","v":0},{"$f":"IF(LOADS!$AC348=\"BUS\",IF(LOADS!$AE348=E$1,1,0),0)","v":0},{"$f":"IF(LOADS!$AC348=\"BUS\",IF(LOADS!$AE348=F$1,1,0),0)","v":0},{"$f":"IF(LOADS!$AC348=\"BUS\",IF(LOADS!$AE348=G$1,1,0),0)","v":0},{"$f":"IF(LOADS!$AC348=\"BUS\",IF(LOADS!$AE348=H$1,1,0),0)","v":0},{"$f":"IF(LOADS!$AC348=\"BUS\",IF(LOADS!$AE348=I$1,1,0),0)","v":0},0,{"$f":"LOADS!AM348","v":0}]
[{"$f":"IF(ISBLANK(LOADS!A349),\"\",LOADS!A349)","v":{"$error":"#REF!"}},{"$f":"IF(ISBLANK(LOADS!B349),\"\",LOADS!B349)","v":""},{"$f":"IF(LOADS!$AC349=\"BUS\",IF(LOADS!$AE349=C$1,1,0),0)","v":0},{"$f":"IF(LOADS!$AC349=\"BUS\",IF(LOADS!$AE349=D$1,1,0),0)","v":0},{"$f":"IF(LOADS!$AC349=\"BUS\",IF(LOADS!$AE349=E$1,1,0),0)","v":0},{"$f":"IF(LOADS!$AC349=\"BUS\",IF(LOADS!$AE349=F$1,1,0),0)","v":0},{"$f":"IF(LOADS!$AC349=\"BUS\",IF(LOADS!$AE349=G$1,1,0),0)","v":0},{"$f":"IF(LOADS!$AC349=\"BUS\",IF(LOADS!$AE349=H$1,1,0),0)","v":0},{"$f":"IF(LOADS!$AC349=\"BUS\",IF(LOADS!$AE349=I$1,1,0),0)","v":0},0,{"$f":"LOADS!AM349","v":0}]
[{"$f":"IF(ISBLANK(LOADS!A350),\"\",LOADS!A350)","v":{"$error":"#REF!"}},{"$f":"IF(ISBLANK(LOADS!B350),\"\",LOADS!B350)","v":""},{"$f":"IF(LOADS!$AC350=\"BUS\",IF(LOADS!$AE350=C$1,1,0),0)","v":0},{"$f":"IF(LOADS!$AC350=\"BUS\",IF(LOADS!$AE350=D$1,1,0),0)","v":0},{"$f":"IF(LOADS!$AC350=\"BUS\",IF(LOADS!$AE350=E$1,1,0),0)","v":0},{"$f":"IF(LOADS!$AC350=\"BUS\",IF(LOADS!$AE350=F$1,1,0),0)","v":0},{"$f":"IF(LOADS!$AC350=\"BUS\",IF(LOADS!$AE350=G$1,1,0),0)","v":0},{"$f":"IF(LOADS!$AC350=\"BUS\",IF(LOADS!$AE350=H$1,1,0),0)","v":0},{"$f":"IF(LOADS!$AC350=\"BUS\",IF(LOADS!$AE350=I$1,1,0),0)","v":0},0,{"$f":"LOADS!AM350","v":0}]
[{"$f":"IF(ISBLANK(LOADS!A351),\"\",LOADS!A351)","v":{"$error":"#REF!"}},{"$f":"IF(ISBLANK(LOADS!B351),\"\",LOADS!B351)","v":""},{"$f":"IF(LOADS!$AC351=\"BUS\",IF(LOADS!$AE351=C$1,1,0),0)","v":0},{"$f":"IF(LOADS!$AC351=\"BUS\",IF(LOADS!$AE351=D$1,1,0),0)","v":0},{"$f":"IF(LOADS!$AC351=\"BUS\",IF(LOADS!$AE351=E$1,1,0),0)","v":0},{"$f":"IF(LOADS!$AC351=\"BUS\",IF(LOADS!$AE351=F$1,1,0),0)","v":0},{"$f":"IF(LOADS!$AC351=\"BUS\",IF(LOADS!$AE351=G$1,1,0),0)","v":0},{"$f":"IF(LOADS!$AC351=\"BUS\",IF(LOADS!$AE351=H$1,1,0),0)","v":0},{"$f":"IF(LOADS!$AC351=\"BUS\",IF(LOADS!$AE351=I$1,1,0),0)","v":0},0,{"$f":"LOADS!AM351","v":0}]
[{"$f":"IF(ISBLANK(LOADS!A352),\"\",LOADS!A352)","v":{"$error":"#REF!"}},{"$f":"IF(ISBLANK(LOADS!B352),\"\",LOADS!B352)","v":""},{"$f":"IF(LOADS!$AC352=\"BUS\",IF(LOADS!$AE352=C$1,1,0),0)","v":0},{"$f":"IF(LOADS!$AC352=\"BUS\",IF(LOADS!$AE352=D$1,1,0),0)","v":0},{"$f":"IF(LOADS!$AC352=\"BUS\",IF(LOADS!$AE352=E$1,1,0),0)","v":0},{"$f":"IF(LOADS!$AC352=\"BUS\",IF(LOADS!$AE352=F$1,1,0),0)","v":0},{"$f":"IF(LOADS!$AC352=\"BUS\",IF(LOADS!$AE352=G$1,1,0),0)","v":0},{"$f":"IF(LOADS!$AC352=\"BUS\",IF(LOADS!$AE352=H$1,1,0),0)","v":0},{"$f":"IF(LOADS!$AC352=\"BUS\",IF(LOADS!$AE352=I$1,1,0),0)","v":0},0,{"$f":"LOADS!AM352","v":0}]
[{"$f":"IF(ISBLANK(LOADS!A353),\"\",LOADS!A353)","v":{"$error":"#REF!"}},{"$f":"IF(ISBLANK(LOADS!B353),\"\",LOADS!B353)","v":""},{"$f":"IF(LOADS!$AC353=\"BUS\",IF(LOADS!$AE353=C$1,1,0),0)","v":0},{"$f":"IF(LOADS!$AC353=\"BUS\",IF(LOADS!$AE353=D$1,1,0),0)","v":0},{"$f":"IF(LOADS!$AC353=\"BUS\",IF(LOADS!$AE353=E$1,1,0),0)","v":0},{"$f":"IF(LOADS!$AC353=\"BUS\",IF(LOADS!$AE353=F$1,1,0),0)","v":0},{"$f":"IF(LOADS!$AC353=\"BUS\",IF(LOADS!$AE353=G$1,1,0),0)","v":0},{"$f":"IF(LOADS!$AC353=\"BUS\",IF(LOADS!$AE353=H$1,1,0),0)","v":0},{"$f":"IF(LOADS!$AC353=\"BUS\",IF(LOADS!$AE353=I$1,1,0),0)","v":0},0,{"$f":"LOADS!AM353","v":0}]
[{"$f":"IF(ISBLANK(LOADS!A354),\"\",LOADS!A354)","v":{"$error":"#REF!"}},{"$f":"IF(ISBLANK(LOADS!B354),\"\",LOADS!B354)","v":""},{"$f":"IF(LOADS!$AC354=\"BUS\",IF(LOADS!$AE354=C$1,1,0),0)","v":0},{"$f":"IF(LOADS!$AC354=\"BUS\",IF(LOADS!$AE354=D$1,1,0),0)","v":0},{"$f":"IF(LOADS!$AC354=\"BUS\",IF(LOADS!$AE354=E$1,1,0),0)","v":0},{"$f":"IF(LOADS!$AC354=\"BUS\",IF(LOADS!$AE354=F$1,1,0),0)","v":0},{"$f":"IF(LOADS!$AC354=\"BUS\",IF(LOADS!$AE354=G$1,1,0),0)","v":0},{"$f":"IF(LOADS!$AC354=\"BUS\",IF(LOADS!$AE354=H$1,1,0),0)","v":0},{"$f":"IF(LOADS!$AC354=\"BUS\",IF(LOADS!$AE354=I$1,1,0),0)","v":0},0,{"$f":"LOADS!AM354","v":0}]
[{"$f":"IF(ISBLANK(LOADS!A355),\"\",LOADS!A355)","v":{"$error":"#REF!"}},{"$f":"IF(ISBLANK(LOADS!B355),\"\",LOADS!B355)","v":""},{"$f":"IF(LOADS!$AC355=\"BUS\",IF(LOADS!$AE355=C$1,1,0),0)","v":0},{"$f":"IF(LOADS!$AC355=\"BUS\",IF(LOADS!$AE355=D$1,1,0),0)","v":0},{"$f":"IF(LOADS!$AC355=\"BUS\",IF(LOADS!$AE355=E$1,1,0),0)","v":0},{"$f":"IF(LOADS!$AC355=\"BUS\",IF(LOADS!$AE355=F$1,1,0),0)","v":0},{"$f":"IF(LOADS!$AC355=\"BUS\",IF(LOADS!$AE355=G$1,1,0),0)","v":0},{"$f":"IF(LOADS!$AC355=\"BUS\",IF(LOADS!$AE355=H$1,1,0),0)","v":0},{"$f":"IF(LOADS!$AC355=\"BUS\",IF(LOADS!$AE355=I$1,1,0),0)","v":0},0,{"$f":"LOADS!AM355","v":0}]
[{"$f":"IF(ISBLANK(LOADS!A356),\"\",LOADS!A356)","v":{"$error":"#REF!"}},{"$f":"IF(ISBLANK(LOADS!B356),\"\",LOADS!B356)","v":""},{"$f":"IF(LOADS!$AC356=\"BUS\",IF(LOADS!$AE356=C$1,1,0),0)","v":0},{"$f":"IF(LOADS!$AC356=\"BUS\",IF(LOADS!$AE356=D$1,1,0),0)","v":0},{"$f":"IF(LOADS!$AC356=\"BUS\",IF(LOADS!$AE356=E$1,1,0),0)","v":0},{"$f":"IF(LOADS!$AC356=\"BUS\",IF(LOADS!$AE356=F$1,1,0),0)","v":0},{"$f":"IF(LOADS!$AC356=\"BUS\",IF(LOADS!$AE356=G$1,1,0),0)","v":0},{"$f":"IF(LOADS!$AC356=\"BUS\",IF(LOADS!$AE356=H$1,1,0),0)","v":0},{"$f":"IF(LOADS!$AC356=\"BUS\",IF(LOADS!$AE356=I$1,1,0),0)","v":0},0,{"$f":"LOADS!AM356","v":0}]
[{"$f":"IF(ISBLANK(LOADS!A357),\"\",LOADS!A357)","v":{"$error":"#REF!"}},{"$f":"IF(ISBLANK(LOADS!B357),\"\",LOADS!B357)","v":""},{"$f":"IF(LOADS!$AC357=\"BUS\",IF(LOADS!$AE357=C$1,1,0),0)","v":0},{"$f":"IF(LOADS!$AC357=\"BUS\",IF(LOADS!$AE357=D$1,1,0),0)","v":0},{"$f":"IF(LOADS!$AC357=\"BUS\",IF(LOADS!$AE357=E$1,1,0),0)","v":0},{"$f":"IF(LOADS!$AC357=\"BUS\",IF(LOADS!$AE357=F$1,1,0),0)","v":0},{"$f":"IF(LOADS!$AC357=\"BUS\",IF(LOADS!$AE357=G$1,1,0),0)","v":0},{"$f":"IF(LOADS!$AC357=\"BUS\",IF(LOADS!$AE357=H$1,1,0),0)","v":0},{"$f":"IF(LOADS!$AC357=\"BUS\",IF(LOADS!$AE357=I$1,1,0),0)","v":0},0,{"$f":"LOADS!AM357","v":0}]
[{"$f":"IF(ISBLANK(LOADS!A358),\"\",LOADS!A358)","v":{"$error":"#REF!"}},{"$f":"IF(ISBLANK(LOADS!B358),\"\",LOADS!B358)","v":""},{"$f":"IF(LOADS!$AC358=\"BUS\",IF(LOADS!$AE358=C$1,1,0),0)","v":0},{"$f":"IF(LOADS!$AC358=\"BUS\",IF(LOADS!$AE358=D$1,1,0),0)","v":0},{"$f":"IF(LOADS!$AC358=\"BUS\",IF(LOADS!$AE358=E$1,1,0),0)","v":0},{"$f":"IF(LOADS!$AC358=\"BUS\",IF(LOADS!$AE358=F$1,1,0),0)","v":0},{"$f":"IF(LOADS!$AC358=\"BUS\",IF(LOADS!$AE358=G$1,1,0),0)","v":0},{"$f":"IF(LOADS!$AC358=\"BUS\",IF(LOADS!$AE358=H$1,1,0),0)","v":0},{"$f":"IF(LOADS!$AC358=\"BUS\",IF(LOADS!$AE358=I$1,1,0),0)","v":0},0,{"$f":"LOADS!AM358","v":0}]
[{"$f":"IF(ISBLANK(LOADS!A359),\"\",LOADS!A359)","v":{"$error":"#REF!"}},{"$f":"IF(ISBLANK(LOADS!B359),\"\",LOADS!B359)","v":""},{"$f":"IF(LOADS!$AC359=\"BUS\",IF(LOADS!$AE359=C$1,1,0),0)","v":0},{"$f":"IF(LOADS!$AC359=\"BUS\",IF(LOADS!$AE359=D$1,1,0),0)","v":0},{"$f":"IF(LOADS!$AC359=\"BUS\",IF(LOADS!$AE359=E$1,1,0),0)","v":0},{"$f":"IF(LOADS!$AC359=\"BUS\",IF(LOADS!$AE359=F$1,1,0),0)","v":0},{"$f":"IF(LOADS!$AC359=\"BUS\",IF(LOADS!$AE359=G$1,1,0),0)","v":0},{"$f":"IF(LOADS!$AC359=\"BUS\",IF(LOADS!$AE359=H$1,1,0),0)","v":0},{"$f":"IF(LOADS!$AC359=\"BUS\",IF(LOADS!$AE359=I$1,1,0),0)","v":0},0,{"$f":"LOADS!AM359","v":0}]
[{"$f":"IF(ISBLANK(LOADS!A360),\"\",LOADS!A360)","v":{"$error":"#REF!"}},{"$f":"IF(ISBLANK(LOADS!B360),\"\",LOADS!B360)","v":""},{"$f":"IF(LOADS!$AC360=\"BUS\",IF(LOADS!$AE360=C$1,1,0),0)","v":0},{"$f":"IF(LOADS!$AC360=\"BUS\",IF(LOADS!$AE360=D$1,1,0),0)","v":0},{"$f":"IF(LOADS!$AC360=\"BUS\",IF(LOADS!$AE360=E$1,1,0),0)","v":0},{"$f":"IF(LOADS!$AC360=\"BUS\",IF(LOADS!$AE360=F$1,1,0),0)","v":0},{"$f":"IF(LOADS!$AC360=\"BUS\",IF(LOADS!$AE360=G$1,1,0),0)","v":0},{"$f":"IF(LOADS!$AC360=\"BUS\",IF(LOADS!$AE360=H$1,1,0),0)","v":0},{"$f":"IF(LOADS!$AC360=\"BUS\",IF(LOADS!$AE360=I$1,1,0),0)","v":0},0,{"$f":"LOADS!AM360","v":0}]
[{"$f":"IF(ISBLANK(LOADS!A361),\"\",LOADS!A361)","v":{"$error":"#REF!"}},{"$f":"IF(ISBLANK(LOADS!B361),\"\",LOADS!B361)","v":""},{"$f":"IF(LOADS!$AC361=\"BUS\",IF(LOADS!$AE361=C$1,1,0),0)","v":0},{"$f":"IF(LOADS!$AC361=\"BUS\",IF(LOADS!$AE361=D$1,1,0),0)","v":0},{"$f":"IF(LOADS!$AC361=\"BUS\",IF(LOADS!$AE361=E$1,1,0),0)","v":0},{"$f":"IF(LOADS!$AC361=\"BUS\",IF(LOADS!$AE361=F$1,1,0),0)","v":0},{"$f":"IF(LOADS!$AC361=\"BUS\",IF(LOADS!$AE361=G$1,1,0),0)","v":0},{"$f":"IF(LOADS!$AC361=\"BUS\",IF(LOADS!$AE361=H$1,1,0),0)","v":0},{"$f":"IF(LOADS!$AC361=\"BUS\",IF(LOADS!$AE361=I$1,1,0),0)","v":0},0,{"$f":"LOADS!AM361","v":0}]
[{"$f":"IF(ISBLANK(LOADS!A362),\"\",LOADS!A362)","v":{"$error":"#REF!"}},{"$f":"IF(ISBLANK(LOADS!B362),\"\",LOADS!B362)","v":""},{"$f":"IF(LOADS!$AC362=\"BUS\",IF(LOADS!$AE362=C$1,1,0),0)","v":0},{"$f":"IF(LOADS!$AC362=\"BUS\",IF(LOADS!$AE362=D$1,1,0),0)","v":0},{"$f":"IF(LOADS!$AC362=\"BUS\",IF(LOADS!$AE362=E$1,1,0),0)","v":0},{"$f":"IF(LOADS!$AC362=\"BUS\",IF(LOADS!$AE362=F$1,1,0),0)","v":0},{"$f":"IF(LOADS!$AC362=\"BUS\",IF(LOADS!$AE362=G$1,1,0),0)","v":0},{"$f":"IF(LOADS!$AC362=\"BUS\",IF(LOADS!$AE362=H$1,1,0),0)","v":0},{"$f":"IF(LOADS!$AC362=\"BUS\",IF(LOADS!$AE362=I$1,1,0),0)","v":0},0,{"$f":"LOADS!AM362","v":0}]
[{"$f":"IF(ISBLANK(LOADS!A363),\"\",LOADS!A363)","v":{"$error":"#REF!"}},{"$f":"IF(ISBLANK(LOADS!B363),\"\",LOADS!B363)","v":""},{"$f":"IF(LOADS!$AC363=\"BUS\",IF(LOADS!$AE363=C$1,1,0),0)","v":0},{"$f":"IF(LOADS!$AC363=\"BUS\",IF(LOADS!$AE363=D$1,1,0),0)","v":0},{"$f":"IF(LOADS!$AC363=\"BUS\",IF(LOADS!$AE363=E$1,1,0),0)","v":0},{"$f":"IF(LOADS!$AC363=\"BUS\",IF(LOADS!$AE363=F$1,1,0),0)","v":0},{"$f":"IF(LOADS!$AC363=\"BUS\",IF(LOADS!$AE363=G$1,1,0),0)","v":0},{"$f":"IF(LOADS!$AC363=\"BUS\",IF(LOADS!$AE363=H$1,1,0),0)","v":0},{"$f":"IF(LOADS!$AC363=\"BUS\",IF(LOADS!$AE363=I$1,1,0),0)","v":0},0,{"$f":"LOADS!AM363","v":0}]
[{"$f":"IF(ISBLANK(LOADS!A364),\"\",LOADS!A364)","v":{"$error":"#REF!"}},{"$f":"IF(ISBLANK(LOADS!B364),\"\",LOADS!B364)","v":""},{"$f":"IF(LOADS!$AC364=\"BUS\",IF(LOADS!$AE364=C$1,1,0),0)","v":0},{"$f":"IF(LOADS!$AC364=\"BUS\",IF(LOADS!$AE364=D$1,1,0),0)","v":0},{"$f":"IF(LOADS!$AC364=\"BUS\",IF(LOADS!$AE364=E$1,1,0),0)","v":0},{"$f":"IF(LOADS!$AC364=\"BUS\",IF(LOADS!$AE364=F$1,1,0),0)","v":0},{"$f":"IF(LOADS!$AC364=\"BUS\",IF(LOADS!$AE364=G$1,1,0),0)","v":0},{"$f":"IF(LOADS!$AC364=\"BUS\",IF(LOADS!$AE364=H$1,1,0),0)","v":0},{"$f":"IF(LOADS!$AC364=\"BUS\",IF(LOADS!$AE364=I$1,1,0),0)","v":0},0,{"$f":"LOADS!AM364","v":0}]
[{"$f":"IF(ISBLANK(LOADS!A365),\"\",LOADS!A365)","v":{"$error":"#REF!"}},{"$f":"IF(ISBLANK(LOADS!B365),\"\",LOADS!B365)","v":""},{"$f":"IF(LOADS!$AC365=\"BUS\",IF(LOADS!$AE365=C$1,1,0),0)","v":0},{"$f":"IF(LOADS!$AC365=\"BUS\",IF(LOADS!$AE365=D$1,1,0),0)","v":0},{"$f":"IF(LOADS!$AC365=\"BUS\",IF(LOADS!$AE365=E$1,1,0),0)","v":0},{"$f":"IF(LOADS!$AC365=\"BUS\",IF(LOADS!$AE365=F$1,1,0),0)","v":0},{"$f":"IF(LOADS!$AC365=\"BUS\",IF(LOADS!$AE365=G$1,1,0),0)","v":0},{"$f":"IF(LOADS!$AC365=\"BUS\",IF(LOADS!$AE365=H$1,1,0),0)","v":0},{"$f":"IF(LOADS!$AC365=\"BUS\",IF(LOADS!$AE365=I$1,1,0),0)","v":0},0,{"$f":"LOADS!AM365","v":0}]
[{"$f":"IF(ISBLANK(LOADS!A366),\"\",LOADS!A366)","v":{"$error":"#REF!"}},{"$f":"IF(ISBLANK(LOADS!B366),\"\",LOADS!B366)","v":""},{"$f":"IF(LOADS!$AC366=\"BUS\",IF(LOADS!$AE366=C$1,1,0),0)","v":0},{"$f":"IF(LOADS!$AC366=\"BUS\",IF(LOADS!$AE366=D$1,1,0),0)","v":0},{"$f":"IF(LOADS!$AC366=\"BUS\",IF(LOADS!$AE366=E$1,1,0),0)","v":0},{"$f":"IF(LOADS!$AC366=\"BUS\",IF(LOADS!$AE366=F$1,1,0),0)","v":0},{"$f":"IF(LOADS!$AC366=\"BUS\",IF(LOADS!$AE366=G$1,1,0),0)","v":0},{"$f":"IF(LOADS!$AC366=\"BUS\",IF(LOADS!$AE366=H$1,1,0),0)","v":0},{"$f":"IF(LOADS!$AC366=\"BUS\",IF(LOADS!$AE366=I$1,1,0),0)","v":0},0,{"$f":"LOADS!AM366","v":0}]
[{"$f":"IF(ISBLANK(LOADS!A367),\"\",LOADS!A367)","v":{"$error":"#REF!"}},{"$f":"IF(ISBLANK(LOADS!B367),\"\",LOADS!B367)","v":""},{"$f":"IF(LOADS!$AC367=\"BUS\",IF(LOADS!$AE367=C$1,1,0),0)","v":0},{"$f":"IF(LOADS!$AC367=\"BUS\",IF(LOADS!$AE367=D$1,1,0),0)","v":0},{"$f":"IF(LOADS!$AC367=\"BUS\",IF(LOADS!$AE367=E$1,1,0),0)","v":0},{"$f":"IF(LOADS!$AC367=\"BUS\",IF(LOADS!$AE367=F$1,1,0),0)","v":0},{"$f":"IF(LOADS!$AC367=\"BUS\",IF(LOADS!$AE367=G$1,1,0),0)","v":0},{"$f":"IF(LOADS!$AC367=\"BUS\",IF(LOADS!$AE367=H$1,1,0),0)","v":0},{"$f":"IF(LOADS!$AC367=\"BUS\",IF(LOADS!$AE367=I$1,1,0),0)","v":0},0,{"$f":"LOADS!AM367","v":0}]
[{"$f":"IF(ISBLANK(LOADS!A368),\"\",LOADS!A368)","v":{"$error":"#REF!"}},{"$f":"IF(ISBLANK(LOADS!B368),\"\",LOADS!B368)","v":""},{"$f":"IF(LOADS!$AC368=\"BUS\",IF(LOADS!$AE368=C$1,1,0),0)","v":0},{"$f":"IF(LOADS!$AC368=\"BUS\",IF(LOADS!$AE368=D$1,1,0),0)","v":0},{"$f":"IF(LOADS!$AC368=\"BUS\",IF(LOADS!$AE368=E$1,1,0),0)","v":0},{"$f":"IF(LOADS!$AC368=\"BUS\",IF(LOADS!$AE368=F$1,1,0),0)","v":0},{"$f":"IF(LOADS!$AC368=\"BUS\",IF(LOADS!$AE368=G$1,1,0),0)","v":0},{"$f":"IF(LOADS!$AC368=\"BUS\",IF(LOADS!$AE368=H$1,1,0),0)","v":0},{"$f":"IF(LOADS!$AC368=\"BUS\",IF(LOADS!$AE368=I$1,1,0),0)","v":0},0,{"$f":"LOADS!AM368","v":0}]
[{"$f":"IF(ISBLANK(LOADS!A369),\"\",LOADS!A369)","v":{"$error":"#REF!"}},{"$f":"IF(ISBLANK(LOADS!B369),\"\",LOADS!B369)","v":""},{"$f":"IF(LOADS!$AC369=\"BUS\",IF(LOADS!$AE369=C$1,1,0),0)","v":0},{"$f":"IF(LOADS!$AC369=\"BUS\",IF(LOADS!$AE369=D$1,1,0),0)","v":0},{"$f":"IF(LOADS!$AC369=\"BUS\",IF(LOADS!$AE369=E$1,1,0),0)","v":0},{"$f":"IF(LOADS!$AC369=\"BUS\",IF(LOADS!$AE369=F$1,1,0),0)","v":0},{"$f":"IF(LOADS!$AC369=\"BUS\",IF(LOADS!$AE369=G$1,1,0),0)","v":0},{"$f":"IF(LOADS!$AC369=\"BUS\",IF(LOADS!$AE369=H$1,1,0),0)","v":0},{"$f":"IF(LOADS!$AC369=\"BUS\",IF(LOADS!$AE369=I$1,1,0),0)","v":0},0,{"$f":"LOADS!AM369","v":0}]
[{"$f":"IF(ISBLANK(LOADS!A370),\"\",LOADS!A370)","v":{"$error":"#REF!"}},{"$f":"IF(ISBLANK(LOADS!B370),\"\",LOADS!B370)","v":""},{"$f":"IF(LOADS!$AC370=\"BUS\",IF(LOADS!$AE370=C$1,1,0),0)","v":0},{"$f":"IF(LOADS!$AC370=\"BUS\",IF(LOADS!$AE370=D$1,1,0),0)","v":0},{"$f":"IF(LOADS!$AC370=\"BUS\",IF(LOADS!$AE370=E$1,1,0),0)","v":0},{"$f":"IF(LOADS!$AC370=\"BUS\",IF(LOADS!$AE370=F$1,1,0),0)","v":0},{"$f":"IF(LOADS!$AC370=\"BUS\",IF(LOADS!$AE370=G$1,1,0),0)","v":0},{"$f":"IF(LOADS!$AC370=\"BUS\",IF(LOADS!$AE370=H$1,1,0),0)","v":0},{"$f":"IF(LOADS!$AC370=\"BUS\",IF(LOADS!$AE370=I$1,1,0),0)","v":0},0,{"$f":"LOADS!AM370","v":0}]
[{"$f":"IF(ISBLANK(LOADS!A371),\"\",LOADS!A371)","v":{"$error":"#REF!"}},{"$f":"IF(ISBLANK(LOADS!B371),\"\",LOADS!B371)","v":""},{"$f":"IF(LOADS!$AC371=\"BUS\",IF(LOADS!$AE371=C$1,1,0),0)","v":0},{"$f":"IF(LOADS!$AC371=\"BUS\",IF(LOADS!$AE371=D$1,1,0),0)","v":0},{"$f":"IF(LOADS!$AC371=\"BUS\",IF(LOADS!$AE371=E$1,1,0),0)","v":0},{"$f":"IF(LOADS!$AC371=\"BUS\",IF(LOADS!$AE371=F$1,1,0),0)","v":0},{"$f":"IF(LOADS!$AC371=\"BUS\",IF(LOADS!$AE371=G$1,1,0),0)","v":0},{"$f":"IF(LOADS!$AC371=\"BUS\",IF(LOADS!$AE371=H$1,1,0),0)","v":0},{"$f":"IF(LOADS!$AC371=\"BUS\",IF(LOADS!$AE371=I$1,1,0),0)","v":0},0,{"$f":"LOADS!AM371","v":0}]
[{"$f":"IF(ISBLANK(LOADS!A372),\"\",LOADS!A372)","v":{"$error":"#REF!"}},{"$f":"IF(ISBLANK(LOADS!B372),\"\",LOADS!B372)","v":""},{"$f":"IF(LOADS!$AC372=\"BUS\",IF(LOADS!$AE372=C$1,1,0),0)","v":0},{"$f":"IF(LOADS!$AC372=\"BUS\",IF(LOADS!$AE372=D$1,1,0),0)","v":0},{"$f":"IF(LOADS!$AC372=\"BUS\",IF(LOADS!$AE372=E$1,1,0),0)","v":0},{"$f":"IF(LOADS!$AC372=\"BUS\",IF(LOADS!$AE372=F$1,1,0),0)","v":0},{"$f":"IF(LOADS!$AC372=\"BUS\",IF(LOADS!$AE372=G$1,1,0),0)","v":0},{"$f":"IF(LOADS!$AC372=\"BUS\",IF(LOADS!$AE372=H$1,1,0),0)","v":0},{"$f":"IF(LOADS!$AC372=\"BUS\",IF(LOADS!$AE372=I$1,1,0),0)","v":0},0,{"$f":"LOADS!AM372","v":0}]
[{"$f":"IF(ISBLANK(LOADS!A373),\"\",LOADS!A373)","v":{"$error":"#REF!"}},{"$f":"IF(ISBLANK(LOADS!B373),\"\",LOADS!B373)","v":""},{"$f":"IF(LOADS!$AC373=\"BUS\",IF(LOADS!$AE373=C$1,1,0),0)","v":0},{"$f":"IF(LOADS!$AC373=\"BUS\",IF(LOADS!$AE373=D$1,1,0),0)","v":0},{"$f":"IF(LOADS!$AC373=\"BUS\",IF(LOADS!$AE373=E$1,1,0),0)","v":0},{"$f":"IF(LOADS!$AC373=\"BUS\",IF(LOADS!$AE373=F$1,1,0),0)","v":0},{"$f":"IF(LOADS!$AC373=\"BUS\",IF(LOADS!$AE373=G$1,1,0),0)","v":0},{"$f":"IF(LOADS!$AC373=\"BUS\",IF(LOADS!$AE373=H$1,1,0),0)","v":0},{"$f":"IF(LOADS!$AC373=\"BUS\",IF(LOADS!$AE373=I$1,1,0),0)","v":0},0,{"$f":"LOADS!AM373","v":0}]
[{"$f":"IF(ISBLANK(LOADS!A374),\"\",LOADS!A374)","v":{"$error":"#REF!"}},{"$f":"IF(ISBLANK(LOADS!B374),\"\",LOADS!B374)","v":""},{"$f":"IF(LOADS!$AC374=\"BUS\",IF(LOADS!$AE374=C$1,1,0),0)","v":0},{"$f":"IF(LOADS!$AC374=\"BUS\",IF(LOADS!$AE374=D$1,1,0),0)","v":0},{"$f":"IF(LOADS!$AC374=\"BUS\",IF(LOADS!$AE374=E$1,1,0),0)","v":0},{"$f":"IF(LOADS!$AC374=\"BUS\",IF(LOADS!$AE374=F$1,1,0),0)","v":0},{"$f":"IF(LOADS!$AC374=\"BUS\",IF(LOADS!$AE374=G$1,1,0),0)","v":0},{"$f":"IF(LOADS!$AC374=\"BUS\",IF(LOADS!$AE374=H$1,1,0),0)","v":0},{"$f":"IF(LOADS!$AC374=\"BUS\",IF(LOADS!$AE374=I$1,1,0),0)","v":0},0,{"$f":"LOADS!AM374","v":0}]
[{"$f":"IF(ISBLANK(LOADS!A375),\"\",LOADS!A375)","v":{"$error":"#REF!"}},{"$f":"IF(ISBLANK(LOADS!B375),\"\",LOADS!B375)","v":""},{"$f":"IF(LOADS!$AC375=\"BUS\",IF(LOADS!$AE375=C$1,1,0),0)","v":0},{"$f":"IF(LOADS!$AC375=\"BUS\",IF(LOADS!$AE375=D$1,1,0),0)","v":0},{"$f":"IF(LOADS!$AC375=\"BUS\",IF(LOADS!$AE375=E$1,1,0),0)","v":0},{"$f":"IF(LOADS!$AC375=\"BUS\",IF(LOADS!$AE375=F$1,1,0),0)","v":0},{"$f":"IF(LOADS!$AC375=\"BUS\",IF(LOADS!$AE375=G$1,1,0),0)","v":0},{"$f":"IF(LOADS!$AC375=\"BUS\",IF(LOADS!$AE375=H$1,1,0),0)","v":0},{"$f":"IF(LOADS!$AC375=\"BUS\",IF(LOADS!$AE375=I$1,1,0),0)","v":0},0,{"$f":"LOADS!AM375","v":0}]
[{"$f":"IF(ISBLANK(LOADS!A376),\"\",LOADS!A376)","v":{"$error":"#REF!"}},{"$f":"IF(ISBLANK(LOADS!B376),\"\",LOADS!B376)","v":""},{"$f":"IF(LOADS!$AC376=\"BUS\",IF(LOADS!$AE376=C$1,1,0),0)","v":0},{"$f":"IF(LOADS!$AC376=\"BUS\",IF(LOADS!$AE376=D$1,1,0),0)","v":0},{"$f":"IF(LOADS!$AC376=\"BUS\",IF(LOADS!$AE376=E$1,1,0),0)","v":0},{"$f":"IF(LOADS!$AC376=\"BUS\",IF(LOADS!$AE376=F$1,1,0),0)","v":0},{"$f":"IF(LOADS!$AC376=\"BUS\",IF(LOADS!$AE376=G$1,1,0),0)","v":0},{"$f":"IF(LOADS!$AC376=\"BUS\",IF(LOADS!$AE376=H$1,1,0),0)","v":0},{"$f":"IF(LOADS!$AC376=\"BUS\",IF(LOADS!$AE376=I$1,1,0),0)","v":0},0,{"$f":"LOADS!AM376","v":0}]
[{"$f":"IF(ISBLANK(LOADS!A377),\"\",LOADS!A377)","v":{"$error":"#REF!"}},{"$f":"IF(ISBLANK(LOADS!B377),\"\",LOADS!B377)","v":""},{"$f":"IF(LOADS!$AC377=\"BUS\",IF(LOADS!$AE377=C$1,1,0),0)","v":0},{"$f":"IF(LOADS!$AC377=\"BUS\",IF(LOADS!$AE377=D$1,1,0),0)","v":0},{"$f":"IF(LOADS!$AC377=\"BUS\",IF(LOADS!$AE377=E$1,1,0),0)","v":0},{"$f":"IF(LOADS!$AC377=\"BUS\",IF(LOADS!$AE377=F$1,1,0),0)","v":0},{"$f":"IF(LOADS!$AC377=\"BUS\",IF(LOADS!$AE377=G$1,1,0),0)","v":0},{"$f":"IF(LOADS!$AC377=\"BUS\",IF(LOADS!$AE377=H$1,1,0),0)","v":0},{"$f":"IF(LOADS!$AC377=\"BUS\",IF(LOADS!$AE377=I$1,1,0),0)","v":0},0,{"$f":"LOADS!AM377","v":0}]
[{"$f":"IF(ISBLANK(LOADS!A378),\"\",LOADS!A378)","v":{"$error":"#REF!"}},{"$f":"IF(ISBLANK(LOADS!B378),\"\",LOADS!B378)","v":""},{"$f":"IF(LOADS!$AC378=\"BUS\",IF(LOADS!$AE378=C$1,1,0),0)","v":0},{"$f":"IF(LOADS!$AC378=\"BUS\",IF(LOADS!$AE378=D$1,1,0),0)","v":0},{"$f":"IF(LOADS!$AC378=\"BUS\",IF(LOADS!$AE378=E$1,1,0),0)","v":0},{"$f":"IF(LOADS!$AC378=\"BUS\",IF(LOADS!$AE378=F$1,1,0),0)","v":0},{"$f":"IF(LOADS!$AC378=\"BUS\",IF(LOADS!$AE378=G$1,1,0),0)","v":0},{"$f":"IF(LOADS!$AC378=\"BUS\",IF(LOADS!$AE378=H$1,1,0),0)","v":0},{"$f":"IF(LOADS!$AC378=\"BUS\",IF(LOADS!$AE378=I$1,1,0),0)","v":0},0,{"$f":"LOADS!AM378","v":0}]
[{"$f":"IF(ISBLANK(LOADS!A379),\"\",LOADS!A379)","v":{"$error":"#REF!"}},{"$f":"IF(ISBLANK(LOADS!B379),\"\",LOADS!B379)","v":""},{"$f":"IF(LOADS!$AC379=\"BUS\",IF(LOADS!$AE379=C$1,1,0),0)","v":0},{"$f":"IF(LOADS!$AC379=\"BUS\",IF(LOADS!$AE379=D$1,1,0),0)","v":0},{"$f":"IF(LOADS!$AC379=\"BUS\",IF(LOADS!$AE379=E$1,1,0),0)","v":0},{"$f":"IF(LOADS!$AC379=\"BUS\",IF(LOADS!$AE379=F$1,1,0),0)","v":0},{"$f":"IF(LOADS!$AC379=\"BUS\",IF(LOADS!$AE379=G$1,1,0),0)","v":0},{"$f":"IF(LOADS!$AC379=\"BUS\",IF(LOADS!$AE379=H$1,1,0),0)","v":0},{"$f":"IF(LOADS!$AC379=\"BUS\",IF(LOADS!$AE379=I$1,1,0),0)","v":0},0,{"$f":"LOADS!AM379","v":0}]
[{"$f":"IF(ISBLANK(LOADS!A380),\"\",LOADS!A380)","v":{"$error":"#REF!"}},{"$f":"IF(ISBLANK(LOADS!B380),\"\",LOADS!B380)","v":""},{"$f":"IF(LOADS!$AC380=\"BUS\",IF(LOADS!$AE380=C$1,1,0),0)","v":0},{"$f":"IF(LOADS!$AC380=\"BUS\",IF(LOADS!$AE380=D$1,1,0),0)","v":0},{"$f":"IF(LOADS!$AC380=\"BUS\",IF(LOADS!$AE380=E$1,1,0),0)","v":0},{"$f":"IF(LOADS!$AC380=\"BUS\",IF(LOADS!$AE380=F$1,1,0),0)","v":0},{"$f":"IF(LOADS!$AC380=\"BUS\",IF(LOADS!$AE380=G$1,1,0),0)","v":0},{"$f":"IF(LOADS!$AC380=\"BUS\",IF(LOADS!$AE380=H$1,1,0),0)","v":0},{"$f":"IF(LOADS!$AC380=\"BUS\",IF(LOADS!$AE380=I$1,1,0),0)","v":0},0,{"$f":"LOADS!AM380","v":0}]
[{"$f":"IF(ISBLANK(LOADS!A381),\"\",LOADS!A381)","v":{"$error":"#REF!"}},{"$f":"IF(ISBLANK(LOADS!B381),\"\",LOADS!B381)","v":""},{"$f":"IF(LOADS!$AC381=\"BUS\",IF(LOADS!$AE381=C$1,1,0),0)","v":0},{"$f":"IF(LOADS!$AC381=\"BUS\",IF(LOADS!$AE381=D$1,1,0),0)","v":0},{"$f":"IF(LOADS!$AC381=\"BUS\",IF(LOADS!$AE381=E$1,1,0),0)","v":0},{"$f":"IF(LOADS!$AC381=\"BUS\",IF(LOADS!$AE381=F$1,1,0),0)","v":0},{"$f":"IF(LOADS!$AC381=\"BUS\",IF(LOADS!$AE381=G$1,1,0),0)","v":0},{"$f":"IF(LOADS!$AC381=\"BUS\",IF(LOADS!$AE381=H$1,1,0),0)","v":0},{"$f":"IF(LOADS!$AC381=\"BUS\",IF(LOADS!$AE381=I$1,1,0),0)","v":0},0,{"$f":"LOADS!AM381","v":0}]
[{"$f":"IF(ISBLANK(LOADS!A382),\"\",LOADS!A382)","v":{"$error":"#REF!"}},{"$f":"IF(ISBLANK(LOADS!B382),\"\",LOADS!B382)","v":""},{"$f":"IF(LOADS!$AC382=\"BUS\",IF(LOADS!$AE382=C$1,1,0),0)","v":0},{"$f":"IF(LOADS!$AC382=\"BUS\",IF(LOADS!$AE382=D$1,1,0),0)","v":0},{"$f":"IF(LOADS!$AC382=\"BUS\",IF(LOADS!$AE382=E$1,1,0),0)","v":0},{"$f":"IF(LOADS!$AC382=\"BUS\",IF(LOADS!$AE382=F$1,1,0),0)","v":0},{"$f":"IF(LOADS!$AC382=\"BUS\",IF(LOADS!$AE382=G$1,1,0),0)","v":0},{"$f":"IF(LOADS!$AC382=\"BUS\",IF(LOADS!$AE382=H$1,1,0),0)","v":0},{"$f":"IF(LOADS!$AC382=\"BUS\",IF(LOADS!$AE382=I$1,1,0),0)","v":0},0,{"$f":"LOADS!AM382","v":0}]
[{"$f":"IF(ISBLANK(LOADS!A383),\"\",LOADS!A383)","v":{"$error":"#REF!"}},{"$f":"IF(ISBLANK(LOADS!B383),\"\",LOADS!B383)","v":""},{"$f":"IF(LOADS!$AC383=\"BUS\",IF(LOADS!$AE383=C$1,1,0),0)","v":0},{"$f":"IF(LOADS!$AC383=\"BUS\",IF(LOADS!$AE383=D$1,1,0),0)","v":0},{"$f":"IF(LOADS!$AC383=\"BUS\",IF(LOADS!$AE383=E$1,1,0),0)","v":0},{"$f":"IF(LOADS!$AC383=\"BUS\",IF(LOADS!$AE383=F$1,1,0),0)","v":0},{"$f":"IF(LOADS!$AC383=\"BUS\",IF(LOADS!$AE383=G$1,1,0),0)","v":0},{"$f":"IF(LOADS!$AC383=\"BUS\",IF(LOADS!$AE383=H$1,1,0),0)","v":0},{"$f":"IF(LOADS!$AC383=\"BUS\",IF(LOADS!$AE383=I$1,1,0),0)","v":0},0,{"$f":"LOADS!AM383","v":0}]
[{"$f":"IF(ISBLANK(LOADS!A384),\"\",LOADS!A384)","v":{"$error":"#REF!"}},{"$f":"IF(ISBLANK(LOADS!B384),\"\",LOADS!B384)","v":""},{"$f":"IF(LOADS!$AC384=\"BUS\",IF(LOADS!$AE384=C$1,1,0),0)","v":0},{"$f":"IF(LOADS!$AC384=\"BUS\",IF(LOADS!$AE384=D$1,1,0),0)","v":0},{"$f":"IF(LOADS!$AC384=\"BUS\",IF(LOADS!$AE384=E$1,1,0),0)","v":0},{"$f":"IF(LOADS!$AC384=\"BUS\",IF(LOADS!$AE384=F$1,1,0),0)","v":0},{"$f":"IF(LOADS!$AC384=\"BUS\",IF(LOADS!$AE384=G$1,1,0),0)","v":0},{"$f":"IF(LOADS!$AC384=\"BUS\",IF(LOADS!$AE384=H$1,1,0),0)","v":0},{"$f":"IF(LOADS!$AC384=\"BUS\",IF(LOADS!$AE384=I$1,1,0),0)","v":0},0,{"$f":"LOADS!AM384","v":0}]
[{"$f":"IF(ISBLANK(LOADS!A385),\"\",LOADS!A385)","v":{"$error":"#REF!"}},{"$f":"IF(ISBLANK(LOADS!B385),\"\",LOADS!B385)","v":""},{"$f":"IF(LOADS!$AC385=\"BUS\",IF(LOADS!$AE385=C$1,1,0),0)","v":0},{"$f":"IF(LOADS!$AC385=\"BUS\",IF(LOADS!$AE385=D$1,1,0),0)","v":0},{"$f":"IF(LOADS!$AC385=\"BUS\",IF(LOADS!$AE385=E$1,1,0),0)","v":0},{"$f":"IF(LOADS!$AC385=\"BUS\",IF(LOADS!$AE385=F$1,1,0),0)","v":0},{"$f":"IF(LOADS!$AC385=\"BUS\",IF(LOADS!$AE385=G$1,1,0),0)","v":0},{"$f":"IF(LOADS!$AC385=\"BUS\",IF(LOADS!$AE385=H$1,1,0),0)","v":0},{"$f":"IF(LOADS!$AC385=\"BUS\",IF(LOADS!$AE385=I$1,1,0),0)","v":0},0,{"$f":"LOADS!AM385","v":0}]
[{"$f":"IF(ISBLANK(LOADS!A386),\"\",LOADS!A386)","v":{"$error":"#REF!"}},{"$f":"IF(ISBLANK(LOADS!B386),\"\",LOADS!B386)","v":""},{"$f":"IF(LOADS!$AC386=\"BUS\",IF(LOADS!$AE386=C$1,1,0),0)","v":0},{"$f":"IF(LOADS!$AC386=\"BUS\",IF(LOADS!$AE386=D$1,1,0),0)","v":0},{"$f":"IF(LOADS!$AC386=\"BUS\",IF(LOADS!$AE386=E$1,1,0),0)","v":0},{"$f":"IF(LOADS!$AC386=\"BUS\",IF(LOADS!$AE386=F$1,1,0),0)","v":0},{"$f":"IF(LOADS!$AC386=\"BUS\",IF(LOADS!$AE386=G$1,1,0),0)","v":0},{"$f":"IF(LOADS!$AC386=\"BUS\",IF(LOADS!$AE386=H$1,1,0),0)","v":0},{"$f":"IF(LOADS!$AC386=\"BUS\",IF(LOADS!$AE386=I$1,1,0),0)","v":0},{"$f":"SUM(C389:I389)","v":0},{"$f":"LOADS!AM386","v":0}]
[{"$f":"IF(ISBLANK(LOADS!A387),\"\",LOADS!A387)","v":{"$error":"#REF!"}},{"$f":"IF(ISBLANK(LOADS!B387),\"\",LOADS!B387)","v":""},{"$f":"IF(LOADS!$AC387=\"BUS\",IF(LOADS!$AE387=C$1,1,0),0)","v":0},{"$f":"IF(LOADS!$AC387=\"BUS\",IF(LOADS!$AE387=D$1,1,0),0)","v":0},{"$f":"IF(LOADS!$AC387=\"BUS\",IF(LOADS!$AE387=E$1,1,0),0)","v":0},{"$f":"IF(LOADS!$AC387=\"BUS\",IF(LOADS!$AE387=F$1,1,0),0)","v":0},{"$f":"IF(LOADS!$AC387=\"BUS\",IF(LOADS!$AE387=G$1,1,0),0)","v":0},{"$f":"IF(LOADS!$AC387=\"BUS\",IF(LOADS!$AE387=H$1,1,0),0)","v":0},{"$f":"IF(LOADS!$AC387=\"BUS\",IF(LOADS!$AE387=I$1,1,0),0)","v":0},0,{"$f":"LOADS!AM387","v":0}]
[{"$f":"IF(ISBLANK(LOADS!A388),\"\",LOADS!A388)","v":{"$error":"#REF!"}},{"$f":"IF(ISBLANK(LOADS!B388),\"\",LOADS!B388)","v":""},{"$f":"IF(LOADS!$AC388=\"BUS\",IF(LOADS!$AE388=C$1,1,0),0)","v":0},{"$f":"IF(LOADS!$AC388=\"BUS\",IF(LOADS!$AE388=D$1,1,0),0)","v":0},{"$f":"IF(LOADS!$AC388=\"BUS\",IF(LOADS!$AE388=E$1,1,0),0)","v":0},{"$f":"IF(LOADS!$AC388=\"BUS\",IF(LOADS!$AE388=F$1,1,0),0)","v":0},{"$f":"IF(LOADS!$AC388=\"BUS\",IF(LOADS!$AE388=G$1,1,0),0)","v":0},{"$f":"IF(LOADS!$AC388=\"BUS\",IF(LOADS!$AE388=H$1,1,0),0)","v":0},{"$f":"IF(LOADS!$AC388=\"BUS\",IF(LOADS!$AE388=I$1,1,0),0)","v":0},0,{"$f":"LOADS!AM388","v":0}]
[{"$f":"IF(ISBLANK(LOADS!A389),\"\",LOADS!A389)","v":{"$error":"#REF!"}},{"$f":"IF(ISBLANK(LOADS!B389),\"\",LOADS!B389)","v":""},{"$f":"IF(LOADS!$AC389=\"BUS\",IF(LOADS!$AE389=C$1,1,0),0)","v":0},{"$f":"IF(LOADS!$AC389=\"BUS\",IF(LOADS!$AE389=D$1,1,0),0)","v":0},{"$f":"IF(LOADS!$AC389=\"BUS\",IF(LOADS!$AE389=E$1,1,0),0)","v":0},{"$f":"IF(LOADS!$AC389=\"BUS\",IF(LOADS!$AE389=F$1,1,0),0)","v":0},{"$f":"IF(LOADS!$AC389=\"BUS\",IF(LOADS!$AE389=G$1,1,0),0)","v":0},{"$f":"IF(LOADS!$AC389=\"BUS\",IF(LOADS!$AE389=H$1,1,0),0)","v":0},{"$f":"IF(LOADS!$AC389=\"BUS\",IF(LOADS!$AE389=I$1,1,0),0)","v":0},0,{"$f":"LOADS!AM389","v":0}]
[{"$f":"IF(ISBLANK(LOADS!A390),\"\",LOADS!A390)","v":{"$error":"#REF!"}},{"$f":"IF(ISBLANK(LOADS!B390),\"\",LOADS!B390)","v":""},{"$f":"IF(LOADS!$AC390=\"BUS\",IF(LOADS!$AE390=C$1,1,0),0)","v":0},{"$f":"IF(LOADS!$AC390=\"BUS\",IF(LOADS!$AE390=D$1,1,0),0)","v":0},{"$f":"IF(LOADS!$AC390=\"BUS\",IF(LOADS!$AE390=E$1,1,0),0)","v":0},{"$f":"IF(LOADS!$AC390=\"BUS\",IF(LOADS!$AE390=F$1,1,0),0)","v":0},{"$f":"IF(LOADS!$AC390=\"BUS\",IF(LOADS!$AE390=G$1,1,0),0)","v":0},{"$f":"IF(LOADS!$AC390=\"BUS\",IF(LOADS!$AE390=H$1,1,0),0)","v":0},{"$f":"IF(LOADS!$AC390=\"BUS\",IF(LOADS!$AE390=I$1,1,0),0)","v":0},0,{"$f":"LOADS!AM390","v":0}]
[{"$f":"IF(ISBLANK(LOADS!A391),\"\",LOADS!A391)","v":{"$error":"#REF!"}},{"$f":"IF(ISBLANK(LOADS!B391),\"\",LOADS!B391)","v":""},{"$f":"IF(LOADS!$AC391=\"BUS\",IF(LOADS!$AE391=C$1,1,0),0)","v":0},{"$f":"IF(LOADS!$AC391=\"BUS\",IF(LOADS!$AE391=D$1,1,0),0)","v":0},{"$f":"IF(LOADS!$AC391=\"BUS\",IF(LOADS!$AE391=E$1,1,0),0)","v":0},{"$f":"IF(LOADS!$AC391=\"BUS\",IF(LOADS!$AE391=F$1,1,0),0)","v":0},{"$f":"IF(LOADS!$AC391=\"BUS\",IF(LOADS!$AE391=G$1,1,0),0)","v":0},{"$f":"IF(LOADS!$AC391=\"BUS\",IF(LOADS!$AE391=H$1,1,0),0)","v":0},{"$f":"IF(LOADS!$AC391=\"BUS\",IF(LOADS!$AE391=I$1,1,0),0)","v":0},0,{"$f":"LOADS!AM391","v":0}]
[{"$f":"IF(ISBLANK(LOADS!A392),\"\",LOADS!A392)","v":{"$error":"#REF!"}},{"$f":"IF(ISBLANK(LOADS!B392),\"\",LOADS!B392)","v":""},{"$f":"IF(LOADS!$AC392=\"BUS\",IF(LOADS!$AE392=C$1,1,0),0)","v":0},{"$f":"IF(LOADS!$AC392=\"BUS\",IF(LOADS!$AE392=D$1,1,0),0)","v":0},{"$f":"IF(LOADS!$AC392=\"BUS\",IF(LOADS!$AE392=E$1,1,0),0)","v":0},{"$f":"IF(LOADS!$AC392=\"BUS\",IF(LOADS!$AE392=F$1,1,0),0)","v":0},{"$f":"IF(LOADS!$AC392=\"BUS\",IF(LOADS!$AE392=G$1,1,0),0)","v":0},{"$f":"IF(LOADS!$AC392=\"BUS\",IF(LOADS!$AE392=H$1,1,0),0)","v":0},{"$f":"IF(LOADS!$AC392=\"BUS\",IF(LOADS!$AE392=I$1,1,0),0)","v":0},0,{"$f":"LOADS!AM392","v":0}]
[{"$f":"IF(ISBLANK(LOADS!A393),\"\",LOADS!A393)","v":{"$error":"#REF!"}},{"$f":"IF(ISBLANK(LOADS!B393),\"\",LOADS!B393)","v":""},{"$f":"IF(LOADS!$AC393=\"BUS\",IF(LOADS!$AE393=C$1,1,0),0)","v":0},{"$f":"IF(LOADS!$AC393=\"BUS\",IF(LOADS!$AE393=D$1,1,0),0)","v":0},{"$f":"IF(LOADS!$AC393=\"BUS\",IF(LOADS!$AE393=E$1,1,0),0)","v":0},{"$f":"IF(LOADS!$AC393=\"BUS\",IF(LOADS!$AE393=F$1,1,0),0)","v":0},{"$f":"IF(LOADS!$AC393=\"BUS\",IF(LOADS!$AE393=G$1,1,0),0)","v":0},{"$f":"IF(LOADS!$AC393=\"BUS\",IF(LOADS!$AE393=H$1,1,0),0)","v":0},{"$f":"IF(LOADS!$AC393=\"BUS\",IF(LOADS!$AE393=I$1,1,0),0)","v":0},0,{"$f":"LOADS!AM393","v":0}]
[{"$f":"IF(ISBLANK(LOADS!A394),\"\",LOADS!A394)","v":{"$error":"#REF!"}},{"$f":"IF(ISBLANK(LOADS!B394),\"\",LOADS!B394)","v":""},{"$f":"IF(LOADS!$AC394=\"BUS\",IF(LOADS!$AE394=C$1,1,0),0)","v":0},{"$f":"IF(LOADS!$AC394=\"BUS\",IF(LOADS!$AE394=D$1,1,0),0)","v":0},{"$f":"IF(LOADS!$AC394=\"BUS\",IF(LOADS!$AE394=E$1,1,0),0)","v":0},{"$f":"IF(LOADS!$AC394=\"BUS\",IF(LOADS!$AE394=F$1,1,0),0)","v":0},{"$f":"IF(LOADS!$AC394=\"BUS\",IF(LOADS!$AE394=G$1,1,0),0)","v":0},{"$f":"IF(LOADS!$AC394=\"BUS\",IF(LOADS!$AE394=H$1,1,0),0)","v":0},{"$f":"IF(LOADS!$AC394=\"BUS\",IF(LOADS!$AE394=I$1,1,0),0)","v":0},0,{"$f":"LOADS!AM394","v":0}]
[{"$f":"IF(ISBLANK(LOADS!A395),\"\",LOADS!A395)","v":{"$error":"#REF!"}},{"$f":"IF(ISBLANK(LOADS!B395),\"\",LOADS!B395)","v":""},{"$f":"IF(LOADS!$AC395=\"BUS\",IF(LOADS!$AE395=C$1,1,0),0)","v":0},{"$f":"IF(LOADS!$AC395=\"BUS\",IF(LOADS!$AE395=D$1,1,0),0)","v":0},{"$f":"IF(LOADS!$AC395=\"BUS\",IF(LOADS!$AE395=E$1,1,0),0)","v":0},{"$f":"IF(LOADS!$AC395=\"BUS\",IF(LOADS!$AE395=F$1,1,0),0)","v":0},{"$f":"IF(LOADS!$AC395=\"BUS\",IF(LOADS!$AE395=G$1,1,0),0)","v":0},{"$f":"IF(LOADS!$AC395=\"BUS\",IF(LOADS!$AE395=H$1,1,0),0)","v":0},{"$f":"IF(LOADS!$AC395=\"BUS\",IF(LOADS!$AE395=I$1,1,0),0)","v":0},0,{"$f":"LOADS!AM395","v":0}]
[{"$f":"IF(ISBLANK(LOADS!A396),\"\",LOADS!A396)","v":{"$error":"#REF!"}},{"$f":"IF(ISBLANK(LOADS!B396),\"\",LOADS!B396)","v":""},{"$f":"IF(LOADS!$AC396=\"BUS\",IF(LOADS!$AE396=C$1,1,0),0)","v":0},{"$f":"IF(LOADS!$AC396=\"BUS\",IF(LOADS!$AE396=D$1,1,0),0)","v":0},{"$f":"IF(LOADS!$AC396=\"BUS\",IF(LOADS!$AE396=E$1,1,0),0)","v":0},{"$f":"IF(LOADS!$AC396=\"BUS\",IF(LOADS!$AE396=F$1,1,0),0)","v":0},{"$f":"IF(LOADS!$AC396=\"BUS\",IF(LOADS!$AE396=G$1,1,0),0)","v":0},{"$f":"IF(LOADS!$AC396=\"BUS\",IF(LOADS!$AE396=H$1,1,0),0)","v":0},{"$f":"IF(LOADS!$AC396=\"BUS\",IF(LOADS!$AE396=I$1,1,0),0)","v":0},0,{"$f":"LOADS!AM396","v":0}]
[{"$f":"IF(ISBLANK(LOADS!A397),\"\",LOADS!A397)","v":{"$error":"#REF!"}},{"$f":"IF(ISBLANK(LOADS!B397),\"\",LOADS!B397)","v":""},{"$f":"IF(LOADS!$AC397=\"BUS\",IF(LOADS!$AE397=C$1,1,0),0)","v":0},{"$f":"IF(LOADS!$AC397=\"BUS\",IF(LOADS!$AE397=D$1,1,0),0)","v":0},{"$f":"IF(LOADS!$AC397=\"BUS\",IF(LOADS!$AE397=E$1,1,0),0)","v":0},{"$f":"IF(LOADS!$AC397=\"BUS\",IF(LOADS!$AE397=F$1,1,0),0)","v":0},{"$f":"IF(LOADS!$AC397=\"BUS\",IF(LOADS!$AE397=G$1,1,0),0)","v":0},{"$f":"IF(LOADS!$AC397=\"BUS\",IF(LOADS!$AE397=H$1,1,0),0)","v":0},{"$f":"IF(LOADS!$AC397=\"BUS\",IF(LOADS!$AE397=I$1,1,0),0)","v":0},0,{"$f":"LOADS!AM397","v":0}]
[{"$f":"IF(ISBLANK(LOADS!A398),\"\",LOADS!A398)","v":{"$error":"#REF!"}},{"$f":"IF(ISBLANK(LOADS!B398),\"\",LOADS!B398)","v":""},{"$f":"IF(LOADS!$AC398=\"BUS\",IF(LOADS!$AE398=C$1,1,0),0)","v":0},{"$f":"IF(LOADS!$AC398=\"BUS\",IF(LOADS!$AE398=D$1,1,0),0)","v":0},{"$f":"IF(LOADS!$AC398=\"BUS\",IF(LOADS!$AE398=E$1,1,0),0)","v":0},{"$f":"IF(LOADS!$AC398=\"BUS\",IF(LOADS!$AE398=F$1,1,0),0)","v":0},{"$f":"IF(LOADS!$AC398=\"BUS\",IF(LOADS!$AE398=G$1,1,0),0)","v":0},{"$f":"IF(LOADS!$AC398=\"BUS\",IF(LOADS!$AE398=H$1,1,0),0)","v":0},{"$f":"IF(LOADS!$AC398=\"BUS\",IF(LOADS!$AE398=I$1,1,0),0)","v":0},0,{"$f":"LOADS!AM398","v":0}]
[{"$f":"IF(ISBLANK(LOADS!A399),\"\",LOADS!A399)","v":{"$error":"#REF!"}},{"$f":"IF(ISBLANK(LOADS!B399),\"\",LOADS!B399)","v":""},{"$f":"IF(LOADS!$AC399=\"BUS\",IF(LOADS!$AE399=C$1,1,0),0)","v":0},{"$f":"IF(LOADS!$AC399=\"BUS\",IF(LOADS!$AE399=D$1,1,0),0)","v":0},{"$f":"IF(LOADS!$AC399=\"BUS\",IF(LOADS!$AE399=E$1,1,0),0)","v":0},{"$f":"IF(LOADS!$AC399=\"BUS\",IF(LOADS!$AE399=F$1,1,0),0)","v":0},{"$f":"IF(LOADS!$AC399=\"BUS\",IF(LOADS!$AE399=G$1,1,0),0)","v":0},{"$f":"IF(LOADS!$AC399=\"BUS\",IF(LOADS!$AE399=H$1,1,0),0)","v":0},{"$f":"IF(LOADS!$AC399=\"BUS\",IF(LOADS!$AE399=I$1,1,0),0)","v":0},0,{"$f":"LOADS!AM399","v":0}]
[{"$f":"IF(ISBLANK(LOADS!A400),\"\",LOADS!A400)","v":{"$error":"#REF!"}},{"$f":"IF(ISBLANK(LOADS!B400),\"\",LOADS!B400)","v":""},{"$f":"IF(LOADS!$AC400=\"BUS\",IF(LOADS!$AE400=C$1,1,0),0)","v":0},{"$f":"IF(LOADS!$AC400=\"BUS\",IF(LOADS!$AE400=D$1,1,0),0)","v":0},{"$f":"IF(LOADS!$AC400=\"BUS\",IF(LOADS!$AE400=E$1,1,0),0)","v":0},{"$f":"IF(LOADS!$AC400=\"BUS\",IF(LOADS!$AE400=F$1,1,0),0)","v":0},{"$f":"IF(LOADS!$AC400=\"BUS\",IF(LOADS!$AE400=G$1,1,0),0)","v":0},{"$f":"IF(LOADS!$AC400=\"BUS\",IF(LOADS!$AE400=H$1,1,0),0)","v":0},{"$f":"IF(LOADS!$AC400=\"BUS\",IF(LOADS!$AE400=I$1,1,0),0)","v":0},0,{"$f":"LOADS!AM400","v":0}]
[{"$f":"IF(ISBLANK(LOADS!A401),\"\",LOADS!A401)","v":{"$error":"#REF!"}},{"$f":"IF(ISBLANK(LOADS!B401),\"\",LOADS!B401)","v":""},{"$f":"IF(LOADS!$AC401=\"BUS\",IF(LOADS!$AE401=C$1,1,0),0)","v":0},{"$f":"IF(LOADS!$AC401=\"BUS\",IF(LOADS!$AE401=D$1,1,0),0)","v":0},{"$f":"IF(LOADS!$AC401=\"BUS\",IF(LOADS!$AE401=E$1,1,0),0)","v":0},{"$f":"IF(LOADS!$AC401=\"BUS\",IF(LOADS!$AE401=F$1,1,0),0)","v":0},{"$f":"IF(LOADS!$AC401=\"BUS\",IF(LOADS!$AE401=G$1,1,0),0)","v":0},{"$f":"IF(LOADS!$AC401=\"BUS\",IF(LOADS!$AE401=H$1,1,0),0)","v":0},{"$f":"IF(LOADS!$AC401=\"BUS\",IF(LOADS!$AE401=I$1,1,0),0)","v":0},0,{"$f":"LOADS!AM401","v":0}]
[{"$f":"IF(ISBLANK(LOADS!A402),\"\",LOADS!A402)","v":{"$error":"#REF!"}},{"$f":"IF(ISBLANK(LOADS!B402),\"\",LOADS!B402)","v":""},{"$f":"IF(LOADS!$AC402=\"BUS\",IF(LOADS!$AE402=C$1,1,0),0)","v":0},{"$f":"IF(LOADS!$AC402=\"BUS\",IF(LOADS!$AE402=D$1,1,0),0)","v":0},{"$f":"IF(LOADS!$AC402=\"BUS\",IF(LOADS!$AE402=E$1,1,0),0)","v":0},{"$f":"IF(LOADS!$AC402=\"BUS\",IF(LOADS!$AE402=F$1,1,0),0)","v":0},{"$f":"IF(LOADS!$AC402=\"BUS\",IF(LOADS!$AE402=G$1,1,0),0)","v":0},{"$f":"IF(LOADS!$AC402=\"BUS\",IF(LOADS!$AE402=H$1,1,0),0)","v":0},{"$f":"IF(LOADS!$AC402=\"BUS\",IF(LOADS!$AE402=I$1,1,0),0)","v":0},0,{"$f":"LOADS!AM402","v":0}]
[{"$f":"IF(ISBLANK(LOADS!A403),\"\",LOADS!A403)","v":{"$error":"#REF!"}},{"$f":"IF(ISBLANK(LOADS!B403),\"\",LOADS!B403)","v":""},{"$f":"IF(LOADS!$AC403=\"BUS\",IF(LOADS!$AE403=C$1,1,0),0)","v":0},{"$f":"IF(LOADS!$AC403=\"BUS\",IF(LOADS!$AE403=D$1,1,0),0)","v":0},{"$f":"IF(LOADS!$AC403=\"BUS\",IF(LOADS!$AE403=E$1,1,0),0)","v":0},{"$f":"IF(LOADS!$AC403=\"BUS\",IF(LOADS!$AE403=F$1,1,0),0)","v":0},{"$f":"IF(LOADS!$AC403=\"BUS\",IF(LOADS!$AE403=G$1,1,0),0)","v":0},{"$f":"IF(LOADS!$AC403=\"BUS\",IF(LOADS!$AE403=H$1,1,0),0)","v":0},{"$f":"IF(LOADS!$AC403=\"BUS\",IF(LOADS!$AE403=I$1,1,0),0)","v":0},0,{"$f":"LOADS!AM403","v":0}]
[{"$f":"IF(ISBLANK(LOADS!A404),\"\",LOADS!A404)","v":{"$error":"#REF!"}},{"$f":"IF(ISBLANK(LOADS!B404),\"\",LOADS!B404)","v":""},{"$f":"IF(LOADS!$AC404=\"BUS\",IF(LOADS!$AE404=C$1,1,0),0)","v":0},{"$f":"IF(LOADS!$AC404=\"BUS\",IF(LOADS!$AE404=D$1,1,0),0)","v":0},{"$f":"IF(LOADS!$AC404=\"BUS\",IF(LOADS!$AE404=E$1,1,0),0)","v":0},{"$f":"IF(LOADS!$AC404=\"BUS\",IF(LOADS!$AE404=F$1,1,0),0)","v":0},{"$f":"IF(LOADS!$AC404=\"BUS\",IF(LOADS!$AE404=G$1,1,0),0)","v":0},{"$f":"IF(LOADS!$AC404=\"BUS\",IF(LOADS!$AE404=H$1,1,0),0)","v":0},{"$f":"IF(LOADS!$AC404=\"BUS\",IF(LOADS!$AE404=I$1,1,0),0)","v":0},0,{"$f":"LOADS!AM404","v":0}]
[{"$f":"IF(ISBLANK(LOADS!A405),\"\",LOADS!A405)","v":{"$error":"#REF!"}},{"$f":"IF(ISBLANK(LOADS!B405),\"\",LOADS!B405)","v":""},{"$f":"IF(LOADS!$AC405=\"BUS\",IF(LOADS!$AE405=C$1,1,0),0)","v":0},{"$f":"IF(LOADS!$AC405=\"BUS\",IF(LOADS!$AE405=D$1,1,0),0)","v":0},{"$f":"IF(LOADS!$AC405=\"BUS\",IF(LOADS!$AE405=E$1,1,0),0)","v":0},{"$f":"IF(LOADS!$AC405=\"BUS\",IF(LOADS!$AE405=F$1,1,0),0)","v":0},{"$f":"IF(LOADS!$AC405=\"BUS\",IF(LOADS!$AE405=G$1,1,0),0)","v":0},{"$f":"IF(LOADS!$AC405=\"BUS\",IF(LOADS!$AE405=H$1,1,0),0)","v":0},{"$f":"IF(LOADS!$AC405=\"BUS\",IF(LOADS!$AE405=I$1,1,0),0)","v":0},0,{"$f":"LOADS!AM405","v":0}]
[{"$f":"IF(ISBLANK(LOADS!A406),\"\",LOADS!A406)","v":{"$error":"#REF!"}},{"$f":"IF(ISBLANK(LOADS!B406),\"\",LOADS!B406)","v":""},{"$f":"IF(LOADS!$AC406=\"BUS\",IF(LOADS!$AE406=C$1,1,0),0)","v":0},{"$f":"IF(LOADS!$AC406=\"BUS\",IF(LOADS!$AE406=D$1,1,0),0)","v":0},{"$f":"IF(LOADS!$AC406=\"BUS\",IF(LOADS!$AE406=E$1,1,0),0)","v":0},{"$f":"IF(LOADS!$AC406=\"BUS\",IF(LOADS!$AE406=F$1,1,0),0)","v":0},{"$f":"IF(LOADS!$AC406=\"BUS\",IF(LOADS!$AE406=G$1,1,0),0)","v":0},{"$f":"IF(LOADS!$AC406=\"BUS\",IF(LOADS!$AE406=H$1,1,0),0)","v":0},{"$f":"IF(LOADS!$AC406=\"BUS\",IF(LOADS!$AE406=I$1,1,0),0)","v":0},0,{"$f":"LOADS!AM406","v":0}]
[{"$f":"IF(ISBLANK(LOADS!A407),\"\",LOADS!A407)","v":{"$error":"#REF!"}},{"$f":"IF(ISBLANK(LOADS!B407),\"\",LOADS!B407)","v":""},{"$f":"IF(LOADS!$AC407=\"BUS\",IF(LOADS!$AE407=C$1,1,0),0)","v":0},{"$f":"IF(LOADS!$AC407=\"BUS\",IF(LOADS!$AE407=D$1,1,0),0)","v":0},{"$f":"IF(LOADS!$AC407=\"BUS\",IF(LOADS!$AE407=E$1,1,0),0)","v":0},{"$f":"IF(LOADS!$AC407=\"BUS\",IF(LOADS!$AE407=F$1,1,0),0)","v":0},{"$f":"IF(LOADS!$AC407=\"BUS\",IF(LOADS!$AE407=G$1,1,0),0)","v":0},{"$f":"IF(LOADS!$AC407=\"BUS\",IF(LOADS!$AE407=H$1,1,0),0)","v":0},{"$f":"IF(LOADS!$AC407=\"BUS\",IF(LOADS!$AE407=I$1,1,0),0)","v":0},0,{"$f":"LOADS!AM407","v":0}]
[{"$f":"IF(ISBLANK(LOADS!A408),\"\",LOADS!A408)","v":{"$error":"#REF!"}},{"$f":"IF(ISBLANK(LOADS!B408),\"\",LOADS!B408)","v":""},{"$f":"IF(LOADS!$AC408=\"BUS\",IF(LOADS!$AE408=C$1,1,0),0)","v":0},{"$f":"IF(LOADS!$AC408=\"BUS\",IF(LOADS!$AE408=D$1,1,0),0)","v":0},{"$f":"IF(LOADS!$AC408=\"BUS\",IF(LOADS!$AE408=E$1,1,0),0)","v":0},{"$f":"IF(LOADS!$AC408=\"BUS\",IF(LOADS!$AE408=F$1,1,0),0)","v":0},{"$f":"IF(LOADS!$AC408=\"BUS\",IF(LOADS!$AE408=G$1,1,0),0)","v":0},{"$f":"IF(LOADS!$AC408=\"BUS\",IF(LOADS!$AE408=H$1,1,0),0)","v":0},{"$f":"IF(LOADS!$AC408=\"BUS\",IF(LOADS!$AE408=I$1,1,0),0)","v":0},0,{"$f":"LOADS!AM408","v":0}]
[{"$f":"IF(ISBLANK(LOADS!A409),\"\",LOADS!A409)","v":{"$error":"#REF!"}},{"$f":"IF(ISBLANK(LOADS!B409),\"\",LOADS!B409)","v":""},{"$f":"IF(LOADS!$AC409=\"BUS\",IF(LOADS!$AE409=C$1,1,0),0)","v":0},{"$f":"IF(LOADS!$AC409=\"BUS\",IF(LOADS!$AE409=D$1,1,0),0)","v":0},{"$f":"IF(LOADS!$AC409=\"BUS\",IF(LOADS!$AE409=E$1,1,0),0)","v":0},{"$f":"IF(LOADS!$AC409=\"BUS\",IF(LOADS!$AE409=F$1,1,0),0)","v":0},{"$f":"IF(LOADS!$AC409=\"BUS\",IF(LOADS!$AE409=G$1,1,0),0)","v":0},{"$f":"IF(LOADS!$AC409=\"BUS\",IF(LOADS!$AE409=H$1,1,0),0)","v":0},{"$f":"IF(LOADS!$AC409=\"BUS\",IF(LOADS!$AE409=I$1,1,0),0)","v":0},0,{"$f":"LOADS!AM409","v":0}]
[{"$f":"IF(ISBLANK(LOADS!A410),\"\",LOADS!A410)","v":{"$error":"#REF!"}},{"$f":"IF(ISBLANK(LOADS!B410),\"\",LOADS!B410)","v":""},{"$f":"IF(LOADS!$AC410=\"BUS\",IF(LOADS!$AE410=C$1,1,0),0)","v":0},{"$f":"IF(LOADS!$AC410=\"BUS\",IF(LOADS!$AE410=D$1,1,0),0)","v":0},{"$f":"IF(LOADS!$AC410=\"BUS\",IF(LOADS!$AE410=E$1,1,0),0)","v":0},{"$f":"IF(LOADS!$AC410=\"BUS\",IF(LOADS!$AE410=F$1,1,0),0)","v":0},{"$f":"IF(LOADS!$AC410=\"BUS\",IF(LOADS!$AE410=G$1,1,0),0)","v":0},{"$f":"IF(LOADS!$AC410=\"BUS\",IF(LOADS!$AE410=H$1,1,0),0)","v":0},{"$f":"IF(LOADS!$AC410=\"BUS\",IF(LOADS!$AE410=I$1,1,0),0)","v":0},0,{"$f":"LOADS!AM410","v":0}]
[{"$f":"IF(ISBLANK(LOADS!A411),\"\",LOADS!A411)","v":{"$error":"#REF!"}},{"$f":"IF(ISBLANK(LOADS!B411),\"\",LOADS!B411)","v":""},{"$f":"IF(LOADS!$AC411=\"BUS\",IF(LOADS!$AE411=C$1,1,0),0)","v":0},{"$f":"IF(LOADS!$AC411=\"BUS\",IF(LOADS!$AE411=D$1,1,0),0)","v":0},{"$f":"IF(LOADS!$AC411=\"BUS\",IF(LOADS!$AE411=E$1,1,0),0)","v":0},{"$f":"IF(LOADS!$AC411=\"BUS\",IF(LOADS!$AE411=F$1,1,0),0)","v":0},{"$f":"IF(LOADS!$AC411=\"BUS\",IF(LOADS!$AE411=G$1,1,0),0)","v":0},{"$f":"IF(LOADS!$AC411=\"BUS\",IF(LOADS!$AE411=H$1,1,0),0)","v":0},{"$f":"IF(LOADS!$AC411=\"BUS\",IF(LOADS!$AE411=I$1,1,0),0)","v":0},0,{"$f":"LOADS!AM411","v":0}]
[{"$f":"IF(ISBLANK(LOADS!A412),\"\",LOADS!A412)","v":{"$error":"#REF!"}},{"$f":"IF(ISBLANK(LOADS!B412),\"\",LOADS!B412)","v":""},{"$f":"IF(LOADS!$AC412=\"BUS\",IF(LOADS!$AE412=C$1,1,0),0)","v":0},{"$f":"IF(LOADS!$AC412=\"BUS\",IF(LOADS!$AE412=D$1,1,0),0)","v":0},{"$f":"IF(LOADS!$AC412=\"BUS\",IF(LOADS!$AE412=E$1,1,0),0)","v":0},{"$f":"IF(LOADS!$AC412=\"BUS\",IF(LOADS!$AE412=F$1,1,0),0)","v":0},{"$f":"IF(LOADS!$AC412=\"BUS\",IF(LOADS!$AE412=G$1,1,0),0)","v":0},{"$f":"IF(LOADS!$AC412=\"BUS\",IF(LOADS!$AE412=H$1,1,0),0)","v":0},{"$f":"IF(LOADS!$AC412=\"BUS\",IF(LOADS!$AE412=I$1,1,0),0)","v":0},0,{"$f":"LOADS!AM412","v":0}]
[{"$f":"IF(ISBLANK(LOADS!A413),\"\",LOADS!A413)","v":{"$error":"#REF!"}},{"$f":"IF(ISBLANK(LOADS!B413),\"\",LOADS!B413)","v":""},{"$f":"IF(LOADS!$AC413=\"BUS\",IF(LOADS!$AE413=C$1,1,0),0)","v":0},{"$f":"IF(LOADS!$AC413=\"BUS\",IF(LOADS!$AE413=D$1,1,0),0)","v":0},{"$f":"IF(LOADS!$AC413=\"BUS\",IF(LOADS!$AE413=E$1,1,0),0)","v":0},{"$f":"IF(LOADS!$AC413=\"BUS\",IF(LOADS!$AE413=F$1,1,0),0)","v":0},{"$f":"IF(LOADS!$AC413=\"BUS\",IF(LOADS!$AE413=G$1,1,0),0)","v":0},{"$f":"IF(LOADS!$AC413=\"BUS\",IF(LOADS!$AE413=H$1,1,0),0)","v":0},{"$f":"IF(LOADS!$AC413=\"BUS\",IF(LOADS!$AE413=I$1,1,0),0)","v":0},0,{"$f":"LOADS!AM413","v":0}]
[{"$f":"IF(ISBLANK(LOADS!A414),\"\",LOADS!A414)","v":{"$error":"#REF!"}},{"$f":"IF(ISBLANK(LOADS!B414),\"\",LOADS!B414)","v":""},{"$f":"IF(LOADS!$AC414=\"BUS\",IF(LOADS!$AE414=C$1,1,0),0)","v":0},{"$f":"IF(LOADS!$AC414=\"BUS\",IF(LOADS!$AE414=D$1,1,0),0)","v":0},{"$f":"IF(LOADS!$AC414=\"BUS\",IF(LOADS!$AE414=E$1,1,0),0)","v":0},{"$f":"IF(LOADS!$AC414=\"BUS\",IF(LOADS!$AE414=F$1,1,0),0)","v":0},{"$f":"IF(LOADS!$AC414=\"BUS\",IF(LOADS!$AE414=G$1,1,0),0)","v":0},{"$f":"IF(LOADS!$AC414=\"BUS\",IF(LOADS!$AE414=H$1,1,0),0)","v":0},{"$f":"IF(LOADS!$AC414=\"BUS\",IF(LOADS!$AE414=I$1,1,0),0)","v":0},0,{"$f":"LOADS!AM414","v":0}]
[{"$f":"IF(ISBLANK(LOADS!A415),\"\",LOADS!A415)","v":{"$error":"#REF!"}},{"$f":"IF(ISBLANK(LOADS!B415),\"\",LOADS!B415)","v":""},{"$f":"IF(LOADS!$AC415=\"BUS\",IF(LOADS!$AE415=C$1,1,0),0)","v":0},{"$f":"IF(LOADS!$AC415=\"BUS\",IF(LOADS!$AE415=D$1,1,0),0)","v":0},{"$f":"IF(LOADS!$AC415=\"BUS\",IF(LOADS!$AE415=E$1,1,0),0)","v":0},{"$f":"IF(LOADS!$AC415=\"BUS\",IF(LOADS!$AE415=F$1,1,0),0)","v":0},{"$f":"IF(LOADS!$AC415=\"BUS\",IF(LOADS!$AE415=G$1,1,0),0)","v":0},{"$f":"IF(LOADS!$AC415=\"BUS\",IF(LOADS!$AE415=H$1,1,0),0)","v":0},{"$f":"IF(LOADS!$AC415=\"BUS\",IF(LOADS!$AE415=I$1,1,0),0)","v":0},0,{"$f":"LOADS!AM415","v":0}]
[{"$f":"IF(ISBLANK(LOADS!A416),\"\",LOADS!A416)","v":{"$error":"#REF!"}},{"$f":"IF(ISBLANK(LOADS!B416),\"\",LOADS!B416)","v":""},{"$f":"IF(LOADS!$AC416=\"BUS\",IF(LOADS!$AE416=C$1,1,0),0)","v":0},{"$f":"IF(LOADS!$AC416=\"BUS\",IF(LOADS!$AE416=D$1,1,0),0)","v":0},{"$f":"IF(LOADS!$AC416=\"BUS\",IF(LOADS!$AE416=E$1,1,0),0)","v":0},{"$f":"IF(LOADS!$AC416=\"BUS\",IF(LOADS!$AE416=F$1,1,0),0)","v":0},{"$f":"IF(LOADS!$AC416=\"BUS\",IF(LOADS!$AE416=G$1,1,0),0)","v":0},{"$f":"IF(LOADS!$AC416=\"BUS\",IF(LOADS!$AE416=H$1,1,0),0)","v":0},{"$f":"IF(LOADS!$AC416=\"BUS\",IF(LOADS!$AE416=I$1,1,0),0)","v":0},0,{"$f":"LOADS!AM416","v":0}]
[{"$f":"IF(ISBLANK(LOADS!A417),\"\",LOADS!A417)","v":{"$error":"#REF!"}},{"$f":"IF(ISBLANK(LOADS!B417),\"\",LOADS!B417)","v":""},{"$f":"IF(LOADS!$AC417=\"BUS\",IF(LOADS!$AE417=C$1,1,0),0)","v":0},{"$f":"IF(LOADS!$AC417=\"BUS\",IF(LOADS!$AE417=D$1,1,0),0)","v":0},{"$f":"IF(LOADS!$AC417=\"BUS\",IF(LOADS!$AE417=E$1,1,0),0)","v":0},{"$f":"IF(LOADS!$AC417=\"BUS\",IF(LOADS!$AE417=F$1,1,0),0)","v":0},{"$f":"IF(LOADS!$AC417=\"BUS\",IF(LOADS!$AE417=G$1,1,0),0)","v":0},{"$f":"IF(LOADS!$AC417=\"BUS\",IF(LOADS!$AE417=H$1,1,0),0)","v":0},{"$f":"IF(LOADS!$AC417=\"BUS\",IF(LOADS!$AE417=I$1,1,0),0)","v":0},0,{"$f":"LOADS!AM417","v":0}]
[{"$f":"IF(ISBLANK(LOADS!A418),\"\",LOADS!A418)","v":{"$error":"#REF!"}},{"$f":"IF(ISBLANK(LOADS!B418),\"\",LOADS!B418)","v":""},{"$f":"IF(LOADS!$AC418=\"BUS\",IF(LOADS!$AE418=C$1,1,0),0)","v":0},{"$f":"IF(LOADS!$AC418=\"BUS\",IF(LOADS!$AE418=D$1,1,0),0)","v":0},{"$f":"IF(LOADS!$AC418=\"BUS\",IF(LOADS!$AE418=E$1,1,0),0)","v":0},{"$f":"IF(LOADS!$AC418=\"BUS\",IF(LOADS!$AE418=F$1,1,0),0)","v":0},{"$f":"IF(LOADS!$AC418=\"BUS\",IF(LOADS!$AE418=G$1,1,0),0)","v":0},{"$f":"IF(LOADS!$AC418=\"BUS\",IF(LOADS!$AE418=H$1,1,0),0)","v":0},{"$f":"IF(LOADS!$AC418=\"BUS\",IF(LOADS!$AE418=I$1,1,0),0)","v":0},0,{"$f":"LOADS!AM418","v":0}]
[{"$f":"IF(ISBLANK(LOADS!A419),\"\",LOADS!A419)","v":{"$error":"#REF!"}},{"$f":"IF(ISBLANK(LOADS!B419),\"\",LOADS!B419)","v":""},{"$f":"IF(LOADS!$AC419=\"BUS\",IF(LOADS!$AE419=C$1,1,0),0)","v":0},{"$f":"IF(LOADS!$AC419=\"BUS\",IF(LOADS!$AE419=D$1,1,0),0)","v":0},{"$f":"IF(LOADS!$AC419=\"BUS\",IF(LOADS!$AE419=E$1,1,0),0)","v":0},{"$f":"IF(LOADS!$AC419=\"BUS\",IF(LOADS!$AE419=F$1,1,0),0)","v":0},{"$f":"IF(LOADS!$AC419=\"BUS\",IF(LOADS!$AE419=G$1,1,0),0)","v":0},{"$f":"IF(LOADS!$AC419=\"BUS\",IF(LOADS!$AE419=H$1,1,0),0)","v":0},{"$f":"IF(LOADS!$AC419=\"BUS\",IF(LOADS!$AE419=I$1,1,0),0)","v":0},0,{"$f":"LOADS!AM419","v":0}]
[{"$f":"IF(ISBLANK(LOADS!A420),\"\",LOADS!A420)","v":{"$error":"#REF!"}},{"$f":"IF(ISBLANK(LOADS!B420),\"\",LOADS!B420)","v":""},{"$f":"IF(LOADS!$AC420=\"BUS\",IF(LOADS!$AE420=C$1,1,0),0)","v":0},{"$f":"IF(LOADS!$AC420=\"BUS\",IF(LOADS!$AE420=D$1,1,0),0)","v":0},{"$f":"IF(LOADS!$AC420=\"BUS\",IF(LOADS!$AE420=E$1,1,0),0)","v":0},{"$f":"IF(LOADS!$AC420=\"BUS\",IF(LOADS!$AE420=F$1,1,0),0)","v":0},{"$f":"IF(LOADS!$AC420=\"BUS\",IF(LOADS!$AE420=G$1,1,0),0)","v":0},{"$f":"IF(LOADS!$AC420=\"BUS\",IF(LOADS!$AE420=H$1,1,0),0)","v":0},{"$f":"IF(LOADS!$AC420=\"BUS\",IF(LOADS!$AE420=I$1,1,0),0)","v":0},0,{"$f":"LOADS!AM420","v":0}]
[{"$f":"IF(ISBLANK(LOADS!A421),\"\",LOADS!A421)","v":{"$error":"#REF!"}},{"$f":"IF(ISBLANK(LOADS!B421),\"\",LOADS!B421)","v":""},{"$f":"IF(LOADS!$AC421=\"BUS\",IF(LOADS!$AE421=C$1,1,0),0)","v":0},{"$f":"IF(LOADS!$AC421=\"BUS\",IF(LOADS!$AE421=D$1,1,0),0)","v":0},{"$f":"IF(LOADS!$AC421=\"BUS\",IF(LOADS!$AE421=E$1,1,0),0)","v":0},{"$f":"IF(LOADS!$AC421=\"BUS\",IF(LOADS!$AE421=F$1,1,0),0)","v":0},{"$f":"IF(LOADS!$AC421=\"BUS\",IF(LOADS!$AE421=G$1,1,0),0)","v":0},{"$f":"IF(LOADS!$AC421=\"BUS\",IF(LOADS!$AE421=H$1,1,0),0)","v":0},{"$f":"IF(LOADS!$AC421=\"BUS\",IF(LOADS!$AE421=I$1,1,0),0)","v":0},0,{"$f":"LOADS!AM421","v":0}]
[{"$f":"IF(ISBLANK(LOADS!A422),\"\",LOADS!A422)","v":{"$error":"#REF!"}},{"$f":"IF(ISBLANK(LOADS!B422),\"\",LOADS!B422)","v":""},{"$f":"IF(LOADS!$AC422=\"BUS\",IF(LOADS!$AE422=C$1,1,0),0)","v":0},{"$f":"IF(LOADS!$AC422=\"BUS\",IF(LOADS!$AE422=D$1,1,0),0)","v":0},{"$f":"IF(LOADS!$AC422=\"BUS\",IF(LOADS!$AE422=E$1,1,0),0)","v":0},{"$f":"IF(LOADS!$AC422=\"BUS\",IF(LOADS!$AE422=F$1,1,0),0)","v":0},{"$f":"IF(LOADS!$AC422=\"BUS\",IF(LOADS!$AE422=G$1,1,0),0)","v":0},{"$f":"IF(LOADS!$AC422=\"BUS\",IF(LOADS!$AE422=H$1,1,0),0)","v":0},{"$f":"IF(LOADS!$AC422=\"BUS\",IF(LOADS!$AE422=I$1,1,0),0)","v":0},0,{"$f":"LOADS!AM422","v":0}]
[{"$f":"IF(ISBLANK(LOADS!A423),\"\",LOADS!A423)","v":{"$error":"#REF!"}},{"$f":"IF(ISBLANK(LOADS!B423),\"\",LOADS!B423)","v":""},{"$f":"IF(LOADS!$AC423=\"BUS\",IF(LOADS!$AE423=C$1,1,0),0)","v":0},{"$f":"IF(LOADS!$AC423=\"BUS\",IF(LOADS!$AE423=D$1,1,0),0)","v":0},{"$f":"IF(LOADS!$AC423=\"BUS\",IF(LOADS!$AE423=E$1,1,0),0)","v":0},{"$f":"IF(LOADS!$AC423=\"BUS\",IF(LOADS!$AE423=F$1,1,0),0)","v":0},{"$f":"IF(LOADS!$AC423=\"BUS\",IF(LOADS!$AE423=G$1,1,0),0)","v":0},{"$f":"IF(LOADS!$AC423=\"BUS\",IF(LOADS!$AE423=H$1,1,0),0)","v":0},{"$f":"IF(LOADS!$AC423=\"BUS\",IF(LOADS!$AE423=I$1,1,0),0)","v":0},0,{"$f":"LOADS!AM423","v":0}]
[{"$f":"IF(ISBLANK(LOADS!A424),\"\",LOADS!A424)","v":{"$error":"#REF!"}},{"$f":"IF(ISBLANK(LOADS!B424),\"\",LOADS!B424)","v":""},{"$f":"IF(LOADS!$AC424=\"BUS\",IF(LOADS!$AE424=C$1,1,0),0)","v":0},{"$f":"IF(LOADS!$AC424=\"BUS\",IF(LOADS!$AE424=D$1,1,0),0)","v":0},{"$f":"IF(LOADS!$AC424=\"BUS\",IF(LOADS!$AE424=E$1,1,0),0)","v":0},{"$f":"IF(LOADS!$AC424=\"BUS\",IF(LOADS!$AE424=F$1,1,0),0)","v":0},{"$f":"IF(LOADS!$AC424=\"BUS\",IF(LOADS!$AE424=G$1,1,0),0)","v":0},{"$f":"IF(LOADS!$AC424=\"BUS\",IF(LOADS!$AE424=H$1,1,0),0)","v":0},{"$f":"IF(LOADS!$AC424=\"BUS\",IF(LOADS!$AE424=I$1,1,0),0)","v":0},0,{"$f":"LOADS!AM424","v":0}]
[{"$f":"IF(ISBLANK(LOADS!A425),\"\",LOADS!A425)","v":{"$error":"#REF!"}},{"$f":"IF(ISBLANK(LOADS!B425),\"\",LOADS!B425)","v":""},{"$f":"IF(LOADS!$AC425=\"BUS\",IF(LOADS!$AE425=C$1,1,0),0)","v":0},{"$f":"IF(LOADS!$AC425=\"BUS\",IF(LOADS!$AE425=D$1,1,0),0)","v":0},{"$f":"IF(LOADS!$AC425=\"BUS\",IF(LOADS!$AE425=E$1,1,0),0)","v":0},{"$f":"IF(LOADS!$AC425=\"BUS\",IF(LOADS!$AE425=F$1,1,0),0)","v":0},{"$f":"IF(LOADS!$AC425=\"BUS\",IF(LOADS!$AE425=G$1,1,0),0)","v":0},{"$f":"IF(LOADS!$AC425=\"BUS\",IF(LOADS!$AE425=H$1,1,0),0)","v":0},{"$f":"IF(LOADS!$AC425=\"BUS\",IF(LOADS!$AE425=I$1,1,0),0)","v":0},0,{"$f":"LOADS!AM425","v":0}]
[{"$f":"IF(ISBLANK(LOADS!A426),\"\",LOADS!A426)","v":{"$error":"#REF!"}},{"$f":"IF(ISBLANK(LOADS!B426),\"\",LOADS!B426)","v":""},{"$f":"IF(LOADS!$AC426=\"BUS\",IF(LOADS!$AE426=C$1,1,0),0)","v":0},{"$f":"IF(LOADS!$AC426=\"BUS\",IF(LOADS!$AE426=D$1,1,0),0)","v":0},{"$f":"IF(LOADS!$AC426=\"BUS\",IF(LOADS!$AE426=E$1,1,0),0)","v":0},{"$f":"IF(LOADS!$AC426=\"BUS\",IF(LOADS!$AE426=F$1,1,0),0)","v":0},{"$f":"IF(LOADS!$AC426=\"BUS\",IF(LOADS!$AE426=G$1,1,0),0)","v":0},{"$f":"IF(LOADS!$AC426=\"BUS\",IF(LOADS!$AE426=H$1,1,0),0)","v":0},{"$f":"IF(LOADS!$AC426=\"BUS\",IF(LOADS!$AE426=I$1,1,0),0)","v":0},0,{"$f":"LOADS!AM426","v":0}]
[{"$f":"IF(ISBLANK(LOADS!A427),\"\",LOADS!A427)","v":{"$error":"#REF!"}},{"$f":"IF(ISBLANK(LOADS!B427),\"\",LOADS!B427)","v":""},{"$f":"IF(LOADS!$AC427=\"BUS\",IF(LOADS!$AE427=C$1,1,0),0)","v":0},{"$f":"IF(LOADS!$AC427=\"BUS\",IF(LOADS!$AE427=D$1,1,0),0)","v":0},{"$f":"IF(LOADS!$AC427=\"BUS\",IF(LOADS!$AE427=E$1,1,0),0)","v":0},{"$f":"IF(LOADS!$AC427=\"BUS\",IF(LOADS!$AE427=F$1,1,0),0)","v":0},{"$f":"IF(LOADS!$AC427=\"BUS\",IF(LOADS!$AE427=G$1,1,0),0)","v":0},{"$f":"IF(LOADS!$AC427=\"BUS\",IF(LOADS!$AE427=H$1,1,0),0)","v":0},{"$f":"IF(LOADS!$AC427=\"BUS\",IF(LOADS!$AE427=I$1,1,0),0)","v":0},0,{"$f":"LOADS!AM427","v":0}]
[{"$f":"IF(ISBLANK(LOADS!A428),\"\",LOADS!A428)","v":{"$error":"#REF!"}},{"$f":"IF(ISBLANK(LOADS!B428),\"\",LOADS!B428)","v":""},{"$f":"IF(LOADS!$AC428=\"BUS\",IF(LOADS!$AE428=C$1,1,0),0)","v":0},{"$f":"IF(LOADS!$AC428=\"BUS\",IF(LOADS!$AE428=D$1,1,0),0)","v":0},{"$f":"IF(LOADS!$AC428=\"BUS\",IF(LOADS!$AE428=E$1,1,0),0)","v":0},{"$f":"IF(LOADS!$AC428=\"BUS\",IF(LOADS!$AE428=F$1,1,0),0)","v":0},{"$f":"IF(LOADS!$AC428=\"BUS\",IF(LOADS!$AE428=G$1,1,0),0)","v":0},{"$f":"IF(LOADS!$AC428=\"BUS\",IF(LOADS!$AE428=H$1,1,0),0)","v":0},{"$f":"IF(LOADS!$AC428=\"BUS\",IF(LOADS!$AE428=I$1,1,0),0)","v":0},0,{"$f":"LOADS!AM428","v":0}]
[{"$f":"IF(ISBLANK(LOADS!A429),\"\",LOADS!A429)","v":{"$error":"#REF!"}},{"$f":"IF(ISBLANK(LOADS!B429),\"\",LOADS!B429)","v":""},{"$f":"IF(LOADS!$AC429=\"BUS\",IF(LOADS!$AE429=C$1,1,0),0)","v":0},{"$f":"IF(LOADS!$AC429=\"BUS\",IF(LOADS!$AE429=D$1,1,0),0)","v":0},{"$f":"IF(LOADS!$AC429=\"BUS\",IF(LOADS!$AE429=E$1,1,0),0)","v":0},{"$f":"IF(LOADS!$AC429=\"BUS\",IF(LOADS!$AE429=F$1,1,0),0)","v":0},{"$f":"IF(LOADS!$AC429=\"BUS\",IF(LOADS!$AE429=G$1,1,0),0)","v":0},{"$f":"IF(LOADS!$AC429=\"BUS\",IF(LOADS!$AE429=H$1,1,0),0)","v":0},{"$f":"IF(LOADS!$AC429=\"BUS\",IF(LOADS!$AE429=I$1,1,0),0)","v":0},0,{"$f":"LOADS!AM429","v":0}]
[{"$f":"IF(ISBLANK(LOADS!A430),\"\",LOADS!A430)","v":{"$error":"#REF!"}},{"$f":"IF(ISBLANK(LOADS!B430),\"\",LOADS!B430)","v":""},{"$f":"IF(LOADS!$AC430=\"BUS\",IF(LOADS!$AE430=C$1,1,0),0)","v":0},{"$f":"IF(LOADS!$AC430=\"BUS\",IF(LOADS!$AE430=D$1,1,0),0)","v":0},{"$f":"IF(LOADS!$AC430=\"BUS\",IF(LOADS!$AE430=E$1,1,0),0)","v":0},{"$f":"IF(LOADS!$AC430=\"BUS\",IF(LOADS!$AE430=F$1,1,0),0)","v":0},{"$f":"IF(LOADS!$AC430=\"BUS\",IF(LOADS!$AE430=G$1,1,0),0)","v":0},{"$f":"IF(LOADS!$AC430=\"BUS\",IF(LOADS!$AE430=H$1,1,0),0)","v":0},{"$f":"IF(LOADS!$AC430=\"BUS\",IF(LOADS!$AE430=I$1,1,0),0)","v":0},0,{"$f":"LOADS!AM430","v":0}]
[{"$f":"IF(ISBLANK(LOADS!A431),\"\",LOADS!A431)","v":{"$error":"#REF!"}},{"$f":"IF(ISBLANK(LOADS!B431),\"\",LOADS!B431)","v":""},{"$f":"IF(LOADS!$AC431=\"BUS\",IF(LOADS!$AE431=C$1,1,0),0)","v":0},{"$f":"IF(LOADS!$AC431=\"BUS\",IF(LOADS!$AE431=D$1,1,0),0)","v":0},{"$f":"IF(LOADS!$AC431=\"BUS\",IF(LOADS!$AE431=E$1,1,0),0)","v":0},{"$f":"IF(LOADS!$AC431=\"BUS\",IF(LOADS!$AE431=F$1,1,0),0)","v":0},{"$f":"IF(LOADS!$AC431=\"BUS\",IF(LOADS!$AE431=G$1,1,0),0)","v":0},{"$f":"IF(LOADS!$AC431=\"BUS\",IF(LOADS!$AE431=H$1,1,0),0)","v":0},{"$f":"IF(LOADS!$AC431=\"BUS\",IF(LOADS!$AE431=I$1,1,0),0)","v":0},0,{"$f":"LOADS!AM431","v":0}]
[{"$f":"IF(ISBLANK(LOADS!A432),\"\",LOADS!A432)","v":{"$error":"#REF!"}},{"$f":"IF(ISBLANK(LOADS!B432),\"\",LOADS!B432)","v":""},{"$f":"IF(LOADS!$AC432=\"BUS\",IF(LOADS!$AE432=C$1,1,0),0)","v":0},{"$f":"IF(LOADS!$AC432=\"BUS\",IF(LOADS!$AE432=D$1,1,0),0)","v":0},{"$f":"IF(LOADS!$AC432=\"BUS\",IF(LOADS!$AE432=E$1,1,0),0)","v":0},{"$f":"IF(LOADS!$AC432=\"BUS\",IF(LOADS!$AE432=F$1,1,0),0)","v":0},{"$f":"IF(LOADS!$AC432=\"BUS\",IF(LOADS!$AE432=G$1,1,0),0)","v":0},{"$f":"IF(LOADS!$AC432=\"BUS\",IF(LOADS!$AE432=H$1,1,0),0)","v":0},{"$f":"IF(LOADS!$AC432=\"BUS\",IF(LOADS!$AE432=I$1,1,0),0)","v":0},0,{"$f":"LOADS!AM432","v":0}]
[{"$f":"IF(ISBLANK(LOADS!A433),\"\",LOADS!A433)","v":{"$error":"#REF!"}},{"$f":"IF(ISBLANK(LOADS!B433),\"\",LOADS!B433)","v":""},{"$f":"IF(LOADS!$AC433=\"BUS\",IF(LOADS!$AE433=C$1,1,0),0)","v":0},{"$f":"IF(LOADS!$AC433=\"BUS\",IF(LOADS!$AE433=D$1,1,0),0)","v":0},{"$f":"IF(LOADS!$AC433=\"BUS\",IF(LOADS!$AE433=E$1,1,0),0)","v":0},{"$f":"IF(LOADS!$AC433=\"BUS\",IF(LOADS!$AE433=F$1,1,0),0)","v":0},{"$f":"IF(LOADS!$AC433=\"BUS\",IF(LOADS!$AE433=G$1,1,0),0)","v":0},{"$f":"IF(LOADS!$AC433=\"BUS\",IF(LOADS!$AE433=H$1,1,0),0)","v":0},{"$f":"IF(LOADS!$AC433=\"BUS\",IF(LOADS!$AE433=I$1,1,0),0)","v":0},0,{"$f":"LOADS!AM433","v":0}]
[{"$f":"IF(ISBLANK(LOADS!A434),\"\",LOADS!A434)","v":{"$error":"#REF!"}},{"$f":"IF(ISBLANK(LOADS!B434),\"\",LOADS!B434)","v":""},{"$f":"IF(LOADS!$AC434=\"BUS\",IF(LOADS!$AE434=C$1,1,0),0)","v":0},{"$f":"IF(LOADS!$AC434=\"BUS\",IF(LOADS!$AE434=D$1,1,0),0)","v":0},{"$f":"IF(LOADS!$AC434=\"BUS\",IF(LOADS!$AE434=E$1,1,0),0)","v":0},{"$f":"IF(LOADS!$AC434=\"BUS\",IF(LOADS!$AE434=F$1,1,0),0)","v":0},{"$f":"IF(LOADS!$AC434=\"BUS\",IF(LOADS!$AE434=G$1,1,0),0)","v":0},{"$f":"IF(LOADS!$AC434=\"BUS\",IF(LOADS!$AE434=H$1,1,0),0)","v":0},{"$f":"IF(LOADS!$AC434=\"BUS\",IF(LOADS!$AE434=I$1,1,0),0)","v":0},0,{"$f":"LOADS!AM434","v":0}]
[{"$f":"IF(ISBLANK(LOADS!A435),\"\",LOADS!A435)","v":{"$error":"#REF!"}},{"$f":"IF(ISBLANK(LOADS!B435),\"\",LOADS!B435)","v":""},{"$f":"IF(LOADS!$AC435=\"BUS\",IF(LOADS!$AE435=C$1,1,0),0)","v":0},{"$f":"IF(LOADS!$AC435=\"BUS\",IF(LOADS!$AE435=D$1,1,0),0)","v":0},{"$f":"IF(LOADS!$AC435=\"BUS\",IF(LOADS!$AE435=E$1,1,0),0)","v":0},{"$f":"IF(LOADS!$AC435=\"BUS\",IF(LOADS!$AE435=F$1,1,0),0)","v":0},{"$f":"IF(LOADS!$AC435=\"BUS\",IF(LOADS!$AE435=G$1,1,0),0)","v":0},{"$f":"IF(LOADS!$AC435=\"BUS\",IF(LOADS!$AE435=H$1,1,0),0)","v":0},{"$f":"IF(LOADS!$AC435=\"BUS\",IF(LOADS!$AE435=I$1,1,0),0)","v":0},0,{"$f":"LOADS!AM435","v":0}]
[{"$f":"IF(ISBLANK(LOADS!A436),\"\",LOADS!A436)","v":{"$error":"#REF!"}},{"$f":"IF(ISBLANK(LOADS!B436),\"\",LOADS!B436)","v":""},{"$f":"IF(LOADS!$AC436=\"BUS\",IF(LOADS!$AE436=C$1,1,0),0)","v":0},{"$f":"IF(LOADS!$AC436=\"BUS\",IF(LOADS!$AE436=D$1,1,0),0)","v":0},{"$f":"IF(LOADS!$AC436=\"BUS\",IF(LOADS!$AE436=E$1,1,0),0)","v":0},{"$f":"IF(LOADS!$AC436=\"BUS\",IF(LOADS!$AE436=F$1,1,0),0)","v":0},{"$f":"IF(LOADS!$AC436=\"BUS\",IF(LOADS!$AE436=G$1,1,0),0)","v":0},{"$f":"IF(LOADS!$AC436=\"BUS\",IF(LOADS!$AE436=H$1,1,0),0)","v":0},{"$f":"IF(LOADS!$AC436=\"BUS\",IF(LOADS!$AE436=I$1,1,0),0)","v":0},0,{"$f":"LOADS!AM436","v":0}]
[{"$f":"IF(ISBLANK(LOADS!A437),\"\",LOADS!A437)","v":{"$error":"#REF!"}},{"$f":"IF(ISBLANK(LOADS!B437),\"\",LOADS!B437)","v":""},{"$f":"IF(LOADS!$AC437=\"BUS\",IF(LOADS!$AE437=C$1,1,0),0)","v":0},{"$f":"IF(LOADS!$AC437=\"BUS\",IF(LOADS!$AE437=D$1,1,0),0)","v":0},{"$f":"IF(LOADS!$AC437=\"BUS\",IF(LOADS!$AE437=E$1,1,0),0)","v":0},{"$f":"IF(LOADS!$AC437=\"BUS\",IF(LOADS!$AE437=F$1,1,0),0)","v":0},{"$f":"IF(LOADS!$AC437=\"BUS\",IF(LOADS!$AE437=G$1,1,0),0)","v":0},{"$f":"IF(LOADS!$AC437=\"BUS\",IF(LOADS!$AE437=H$1,1,0),0)","v":0},{"$f":"IF(LOADS!$AC437=\"BUS\",IF(LOADS!$AE437=I$1,1,0),0)","v":0},0,{"$f":"LOADS!AM437","v":0}]
[{"$f":"IF(ISBLANK(LOADS!A438),\"\",LOADS!A438)","v":{"$error":"#REF!"}},{"$f":"IF(ISBLANK(LOADS!B438),\"\",LOADS!B438)","v":""},{"$f":"IF(LOADS!$AC438=\"BUS\",IF(LOADS!$AE438=C$1,1,0),0)","v":0},{"$f":"IF(LOADS!$AC438=\"BUS\",IF(LOADS!$AE438=D$1,1,0),0)","v":0},{"$f":"IF(LOADS!$AC438=\"BUS\",IF(LOADS!$AE438=E$1,1,0),0)","v":0},{"$f":"IF(LOADS!$AC438=\"BUS\",IF(LOADS!$AE438=F$1,1,0),0)","v":0},{"$f":"IF(LOADS!$AC438=\"BUS\",IF(LOADS!$AE438=G$1,1,0),0)","v":0},{"$f":"IF(LOADS!$AC438=\"BUS\",IF(LOADS!$AE438=H$1,1,0),0)","v":0},{"$f":"IF(LOADS!$AC438=\"BUS\",IF(LOADS!$AE438=I$1,1,0),0)","v":0},0,{"$f":"LOADS!AM438","v":0}]
[{"$f":"IF(ISBLANK(LOADS!A439),\"\",LOADS!A439)","v":{"$error":"#REF!"}},{"$f":"IF(ISBLANK(LOADS!B439),\"\",LOADS!B439)","v":""},{"$f":"IF(LOADS!$AC439=\"BUS\",IF(LOADS!$AE439=C$1,1,0),0)","v":0},{"$f":"IF(LOADS!$AC439=\"BUS\",IF(LOADS!$AE439=D$1,1,0),0)","v":0},{"$f":"IF(LOADS!$AC439=\"BUS\",IF(LOADS!$AE439=E$1,1,0),0)","v":0},{"$f":"IF(LOADS!$AC439=\"BUS\",IF(LOADS!$AE439=F$1,1,0),0)","v":0},{"$f":"IF(LOADS!$AC439=\"BUS\",IF(LOADS!$AE439=G$1,1,0),0)","v":0},{"$f":"IF(LOADS!$AC439=\"BUS\",IF(LOADS!$AE439=H$1,1,0),0)","v":0},{"$f":"IF(LOADS!$AC439=\"BUS\",IF(LOADS!$AE439=I$1,1,0),0)","v":0},0,{"$f":"LOADS!AM439","v":0}]
[{"$f":"IF(ISBLANK(LOADS!A440),\"\",LOADS!A440)","v":{"$error":"#REF!"}},{"$f":"IF(ISBLANK(LOADS!B440),\"\",LOADS!B440)","v":""},{"$f":"IF(LOADS!$AC440=\"BUS\",IF(LOADS!$AE440=C$1,1,0),0)","v":0},{"$f":"IF(LOADS!$AC440=\"BUS\",IF(LOADS!$AE440=D$1,1,0),0)","v":0},{"$f":"IF(LOADS!$AC440=\"BUS\",IF(LOADS!$AE440=E$1,1,0),0)","v":0},{"$f":"IF(LOADS!$AC440=\"BUS\",IF(LOADS!$AE440=F$1,1,0),0)","v":0},{"$f":"IF(LOADS!$AC440=\"BUS\",IF(LOADS!$AE440=G$1,1,0),0)","v":0},{"$f":"IF(LOADS!$AC440=\"BUS\",IF(LOADS!$AE440=H$1,1,0),0)","v":0},{"$f":"IF(LOADS!$AC440=\"BUS\",IF(LOADS!$AE440=I$1,1,0),0)","v":0},0,{"$f":"LOADS!AM440","v":0}]
[{"$f":"IF(ISBLANK(LOADS!A441),\"\",LOADS!A441)","v":{"$error":"#REF!"}},{"$f":"IF(ISBLANK(LOADS!B441),\"\",LOADS!B441)","v":""},{"$f":"IF(LOADS!$AC441=\"BUS\",IF(LOADS!$AE441=C$1,1,0),0)","v":0},{"$f":"IF(LOADS!$AC441=\"BUS\",IF(LOADS!$AE441=D$1,1,0),0)","v":0},{"$f":"IF(LOADS!$AC441=\"BUS\",IF(LOADS!$AE441=E$1,1,0),0)","v":0},{"$f":"IF(LOADS!$AC441=\"BUS\",IF(LOADS!$AE441=F$1,1,0),0)","v":0},{"$f":"IF(LOADS!$AC441=\"BUS\",IF(LOADS!$AE441=G$1,1,0),0)","v":0},{"$f":"IF(LOADS!$AC441=\"BUS\",IF(LOADS!$AE441=H$1,1,0),0)","v":0},{"$f":"IF(LOADS!$AC441=\"BUS\",IF(LOADS!$AE441=I$1,1,0),0)","v":0},0,{"$f":"LOADS!AM441","v":0}]
[{"$f":"IF(ISBLANK(LOADS!A442),\"\",LOADS!A442)","v":{"$error":"#REF!"}},{"$f":"IF(ISBLANK(LOADS!B442),\"\",LOADS!B442)","v":""},{"$f":"IF(LOADS!$AC442=\"BUS\",IF(LOADS!$AE442=C$1,1,0),0)","v":0},{"$f":"IF(LOADS!$AC442=\"BUS\",IF(LOADS!$AE442=D$1,1,0),0)","v":0},{"$f":"IF(LOADS!$AC442=\"BUS\",IF(LOADS!$AE442=E$1,1,0),0)","v":0},{"$f":"IF(LOADS!$AC442=\"BUS\",IF(LOADS!$AE442=F$1,1,0),0)","v":0},{"$f":"IF(LOADS!$AC442=\"BUS\",IF(LOADS!$AE442=G$1,1,0),0)","v":0},{"$f":"IF(LOADS!$AC442=\"BUS\",IF(LOADS!$AE442=H$1,1,0),0)","v":0},{"$f":"IF(LOADS!$AC442=\"BUS\",IF(LOADS!$AE442=I$1,1,0),0)","v":0},0,{"$f":"LOADS!AM442","v":0}]
[{"$f":"IF(ISBLANK(LOADS!A443),\"\",LOADS!A443)","v":{"$error":"#REF!"}},{"$f":"IF(ISBLANK(LOADS!B443),\"\",LOADS!B443)","v":""},{"$f":"IF(LOADS!$AC443=\"BUS\",IF(LOADS!$AE443=C$1,1,0),0)","v":0},{"$f":"IF(LOADS!$AC443=\"BUS\",IF(LOADS!$AE443=D$1,1,0),0)","v":0},{"$f":"IF(LOADS!$AC443=\"BUS\",IF(LOADS!$AE443=E$1,1,0),0)","v":0},{"$f":"IF(LOADS!$AC443=\"BUS\",IF(LOADS!$AE443=F$1,1,0),0)","v":0},{"$f":"IF(LOADS!$AC443=\"BUS\",IF(LOADS!$AE443=G$1,1,0),0)","v":0},{"$f":"IF(LOADS!$AC443=\"BUS\",IF(LOADS!$AE443=H$1,1,0),0)","v":0},{"$f":"IF(LOADS!$AC443=\"BUS\",IF(LOADS!$AE443=I$1,1,0),0)","v":0},0,{"$f":"LOADS!AM443","v":0}]
[{"$f":"IF(ISBLANK(LOADS!A444),\"\",LOADS!A444)","v":{"$error":"#REF!"}},{"$f":"IF(ISBLANK(LOADS!B444),\"\",LOADS!B444)","v":""},{"$f":"IF(LOADS!$AC444=\"BUS\",IF(LOADS!$AE444=C$1,1,0),0)","v":0},{"$f":"IF(LOADS!$AC444=\"BUS\",IF(LOADS!$AE444=D$1,1,0),0)","v":0},{"$f":"IF(LOADS!$AC444=\"BUS\",IF(LOADS!$AE444=E$1,1,0),0)","v":0},{"$f":"IF(LOADS!$AC444=\"BUS\",IF(LOADS!$AE444=F$1,1,0),0)","v":0},{"$f":"IF(LOADS!$AC444=\"BUS\",IF(LOADS!$AE444=G$1,1,0),0)","v":0},{"$f":"IF(LOADS!$AC444=\"BUS\",IF(LOADS!$AE444=H$1,1,0),0)","v":0},{"$f":"IF(LOADS!$AC444=\"BUS\",IF(LOADS!$AE444=I$1,1,0),0)","v":0},0,{"$f":"LOADS!AM444","v":0}]
[{"$f":"IF(ISBLANK(LOADS!A445),\"\",LOADS!A445)","v":{"$error":"#REF!"}},{"$f":"IF(ISBLANK(LOADS!B445),\"\",LOADS!B445)","v":""},{"$f":"IF(LOADS!$AC445=\"BUS\",IF(LOADS!$AE445=C$1,1,0),0)","v":0},{"$f":"IF(LOADS!$AC445=\"BUS\",IF(LOADS!$AE445=D$1,1,0),0)","v":0},{"$f":"IF(LOADS!$AC445=\"BUS\",IF(LOADS!$AE445=E$1,1,0),0)","v":0},{"$f":"IF(LOADS!$AC445=\"BUS\",IF(LOADS!$AE445=F$1,1,0),0)","v":0},{"$f":"IF(LOADS!$AC445=\"BUS\",IF(LOADS!$AE445=G$1,1,0),0)","v":0},{"$f":"IF(LOADS!$AC445=\"BUS\",IF(LOADS!$AE445=H$1,1,0),0)","v":0},{"$f":"IF(LOADS!$AC445=\"BUS\",IF(LOADS!$AE445=I$1,1,0),0)","v":0},0,{"$f":"LOADS!AM445","v":0}]
[{"$f":"IF(ISBLANK(LOADS!A446),\"\",LOADS!A446)","v":{"$error":"#REF!"}},{"$f":"IF(ISBLANK(LOADS!B446),\"\",LOADS!B446)","v":""},{"$f":"IF(LOADS!$AC446=\"BUS\",IF(LOADS!$AE446=C$1,1,0),0)","v":0},{"$f":"IF(LOADS!$AC446=\"BUS\",IF(LOADS!$AE446=D$1,1,0),0)","v":0},{"$f":"IF(LOADS!$AC446=\"BUS\",IF(LOADS!$AE446=E$1,1,0),0)","v":0},{"$f":"IF(LOADS!$AC446=\"BUS\",IF(LOADS!$AE446=F$1,1,0),0)","v":0},{"$f":"IF(LOADS!$AC446=\"BUS\",IF(LOADS!$AE446=G$1,1,0),0)","v":0},{"$f":"IF(LOADS!$AC446=\"BUS\",IF(LOADS!$AE446=H$1,1,0),0)","v":0},{"$f":"IF(LOADS!$AC446=\"BUS\",IF(LOADS!$AE446=I$1,1,0),0)","v":0},0,{"$f":"LOADS!AM446","v":0}]
[{"$f":"IF(ISBLANK(LOADS!A447),\"\",LOADS!A447)","v":{"$error":"#REF!"}},{"$f":"IF(ISBLANK(LOADS!B447),\"\",LOADS!B447)","v":""},{"$f":"IF(LOADS!$AC447=\"BUS\",IF(LOADS!$AE447=C$1,1,0),0)","v":0},{"$f":"IF(LOADS!$AC447=\"BUS\",IF(LOADS!$AE447=D$1,1,0),0)","v":0},{"$f":"IF(LOADS!$AC447=\"BUS\",IF(LOADS!$AE447=E$1,1,0),0)","v":0},{"$f":"IF(LOADS!$AC447=\"BUS\",IF(LOADS!$AE447=F$1,1,0),0)","v":0},{"$f":"IF(LOADS!$AC447=\"BUS\",IF(LOADS!$AE447=G$1,1,0),0)","v":0},{"$f":"IF(LOADS!$AC447=\"BUS\",IF(LOADS!$AE447=H$1,1,0),0)","v":0},{"$f":"IF(LOADS!$AC447=\"BUS\",IF(LOADS!$AE447=I$1,1,0),0)","v":0},0,{"$f":"LOADS!AM447","v":0}]
[{"$f":"IF(ISBLANK(LOADS!A448),\"\",LOADS!A448)","v":{"$error":"#REF!"}},{"$f":"IF(ISBLANK(LOADS!B448),\"\",LOADS!B448)","v":""},{"$f":"IF(LOADS!$AC448=\"BUS\",IF(LOADS!$AE448=C$1,1,0),0)","v":0},{"$f":"IF(LOADS!$AC448=\"BUS\",IF(LOADS!$AE448=D$1,1,0),0)","v":0},{"$f":"IF(LOADS!$AC448=\"BUS\",IF(LOADS!$AE448=E$1,1,0),0)","v":0},{"$f":"IF(LOADS!$AC448=\"BUS\",IF(LOADS!$AE448=F$1,1,0),0)","v":0},{"$f":"IF(LOADS!$AC448=\"BUS\",IF(LOADS!$AE448=G$1,1,0),0)","v":0},{"$f":"IF(LOADS!$AC448=\"BUS\",IF(LOADS!$AE448=H$1,1,0),0)","v":0},{"$f":"IF(LOADS!$AC448=\"BUS\",IF(LOADS!$AE448=I$1,1,0),0)","v":0},0,{"$f":"LOADS!AM448","v":0}]
[{"$f":"IF(ISBLANK(LOADS!A449),\"\",LOADS!A449)","v":{"$error":"#REF!"}},{"$f":"IF(ISBLANK(LOADS!B449),\"\",LOADS!B449)","v":""},{"$f":"IF(LOADS!$AC449=\"BUS\",IF(LOADS!$AE449=C$1,1,0),0)","v":0},{"$f":"IF(LOADS!$AC449=\"BUS\",IF(LOADS!$AE449=D$1,1,0),0)","v":0},{"$f":"IF(LOADS!$AC449=\"BUS\",IF(LOADS!$AE449=E$1,1,0),0)","v":0},{"$f":"IF(LOADS!$AC449=\"BUS\",IF(LOADS!$AE449=F$1,1,0),0)","v":0},{"$f":"IF(LOADS!$AC449=\"BUS\",IF(LOADS!$AE449=G$1,1,0),0)","v":0},{"$f":"IF(LOADS!$AC449=\"BUS\",IF(LOADS!$AE449=H$1,1,0),0)","v":0},{"$f":"IF(LOADS!$AC449=\"BUS\",IF(LOADS!$AE449=I$1,1,0),0)","v":0},0,{"$f":"LOADS!AM449","v":0}]
[{"$f":"IF(ISBLANK(LOADS!A450),\"\",LOADS!A450)","v":{"$error":"#REF!"}},{"$f":"IF(ISBLANK(LOADS!B450),\"\",LOADS!B450)","v":""},{"$f":"IF(LOADS!$AC450=\"BUS\",IF(LOADS!$AE450=C$1,1,0),0)","v":0},{"$f":"IF(LOADS!$AC450=\"BUS\",IF(LOADS!$AE450=D$1,1,0),0)","v":0},{"$f":"IF(LOADS!$AC450=\"BUS\",IF(LOADS!$AE450=E$1,1,0),0)","v":0},{"$f":"IF(LOADS!$AC450=\"BUS\",IF(LOADS!$AE450=F$1,1,0),0)","v":0},{"$f":"IF(LOADS!$AC450=\"BUS\",IF(LOADS!$AE450=G$1,1,0),0)","v":0},{"$f":"IF(LOADS!$AC450=\"BUS\",IF(LOADS!$AE450=H$1,1,0),0)","v":0},{"$f":"IF(LOADS!$AC450=\"BUS\",IF(LOADS!$AE450=I$1,1,0),0)","v":0},{"$f":"SUM(C453:I453)","v":0},{"$f":"LOADS!AM450","v":0}]
[{"$f":"IF(ISBLANK(LOADS!A451),\"\",LOADS!A451)","v":{"$error":"#REF!"}},{"$f":"IF(ISBLANK(LOADS!B451),\"\",LOADS!B451)","v":""},{"$f":"IF(LOADS!$AC451=\"BUS\",IF(LOADS!$AE451=C$1,1,0),0)","v":0},{"$f":"IF(LOADS!$AC451=\"BUS\",IF(LOADS!$AE451=D$1,1,0),0)","v":0},{"$f":"IF(LOADS!$AC451=\"BUS\",IF(LOADS!$AE451=E$1,1,0),0)","v":0},{"$f":"IF(LOADS!$AC451=\"BUS\",IF(LOADS!$AE451=F$1,1,0),0)","v":0},{"$f":"IF(LOADS!$AC451=\"BUS\",IF(LOADS!$AE451=G$1,1,0),0)","v":0},{"$f":"IF(LOADS!$AC451=\"BUS\",IF(LOADS!$AE451=H$1,1,0),0)","v":0},{"$f":"IF(LOADS!$AC451=\"BUS\",IF(LOADS!$AE451=I$1,1,0),0)","v":0},0,{"$f":"LOADS!AM451","v":0}]
[{"$f":"IF(ISBLANK(LOADS!A452),\"\",LOADS!A452)","v":{"$error":"#REF!"}},{"$f":"IF(ISBLANK(LOADS!B452),\"\",LOADS!B452)","v":""},{"$f":"IF(LOADS!$AC452=\"BUS\",IF(LOADS!$AE452=C$1,1,0),0)","v":0},{"$f":"IF(LOADS!$AC452=\"BUS\",IF(LOADS!$AE452=D$1,1,0),0)","v":0},{"$f":"IF(LOADS!$AC452=\"BUS\",IF(LOADS!$AE452=E$1,1,0),0)","v":0},{"$f":"IF(LOADS!$AC452=\"BUS\",IF(LOADS!$AE452=F$1,1,0),0)","v":0},{"$f":"IF(LOADS!$AC452=\"BUS\",IF(LOADS!$AE452=G$1,1,0),0)","v":0},{"$f":"IF(LOADS!$AC452=\"BUS\",IF(LOADS!$AE452=H$1,1,0),0)","v":0},{"$f":"IF(LOADS!$AC452=\"BUS\",IF(LOADS!$AE452=I$1,1,0),0)","v":0},0,{"$f":"LOADS!AM452","v":0}]
[{"$f":"IF(ISBLANK(LOADS!A453),\"\",LOADS!A453)","v":{"$error":"#REF!"}},{"$f":"IF(ISBLANK(LOADS!B453),\"\",LOADS!B453)","v":""},{"$f":"IF(LOADS!$AC453=\"BUS\",IF(LOADS!$AE453=C$1,1,0),0)","v":0},{"$f":"IF(LOADS!$AC453=\"BUS\",IF(LOADS!$AE453=D$1,1,0),0)","v":0},{"$f":"IF(LOADS!$AC453=\"BUS\",IF(LOADS!$AE453=E$1,1,0),0)","v":0},{"$f":"IF(LOADS!$AC453=\"BUS\",IF(LOADS!$AE453=F$1,1,0),0)","v":0},{"$f":"IF(LOADS!$AC453=\"BUS\",IF(LOADS!$AE453=G$1,1,0),0)","v":0},{"$f":"IF(LOADS!$AC453=\"BUS\",IF(LOADS!$AE453=H$1,1,0),0)","v":0},{"$f":"IF(LOADS!$AC453=\"BUS\",IF(LOADS!$AE453=I$1,1,0),0)","v":0},0,{"$f":"LOADS!AM453","v":0}]
[{"$f":"IF(ISBLANK(LOADS!A454),\"\",LOADS!A454)","v":{"$error":"#REF!"}},{"$f":"IF(ISBLANK(LOADS!B454),\"\",LOADS!B454)","v":""},{"$f":"IF(LOADS!$AC454=\"BUS\",IF(LOADS!$AE454=C$1,1,0),0)","v":0},{"$f":"IF(LOADS!$AC454=\"BUS\",IF(LOADS!$AE454=D$1,1,0),0)","v":0},{"$f":"IF(LOADS!$AC454=\"BUS\",IF(LOADS!$AE454=E$1,1,0),0)","v":0},{"$f":"IF(LOADS!$AC454=\"BUS\",IF(LOADS!$AE454=F$1,1,0),0)","v":0},{"$f":"IF(LOADS!$AC454=\"BUS\",IF(LOADS!$AE454=G$1,1,0),0)","v":0},{"$f":"IF(LOADS!$AC454=\"BUS\",IF(LOADS!$AE454=H$1,1,0),0)","v":0},{"$f":"IF(LOADS!$AC454=\"BUS\",IF(LOADS!$AE454=I$1,1,0),0)","v":0},0,{"$f":"LOADS!AM454","v":0}]
[{"$f":"IF(ISBLANK(LOADS!A455),\"\",LOADS!A455)","v":{"$error":"#REF!"}},{"$f":"IF(ISBLANK(LOADS!B455),\"\",LOADS!B455)","v":""},{"$f":"IF(LOADS!$AC455=\"BUS\",IF(LOADS!$AE455=C$1,1,0),0)","v":0},{"$f":"IF(LOADS!$AC455=\"BUS\",IF(LOADS!$AE455=D$1,1,0),0)","v":0},{"$f":"IF(LOADS!$AC455=\"BUS\",IF(LOADS!$AE455=E$1,1,0),0)","v":0},{"$f":"IF(LOADS!$AC455=\"BUS\",IF(LOADS!$AE455=F$1,1,0),0)","v":0},{"$f":"IF(LOADS!$AC455=\"BUS\",IF(LOADS!$AE455=G$1,1,0),0)","v":0},{"$f":"IF(LOADS!$AC455=\"BUS\",IF(LOADS!$AE455=H$1,1,0),0)","v":0},{"$f":"IF(LOADS!$AC455=\"BUS\",IF(LOADS!$AE455=I$1,1,0),0)","v":0},0,{"$f":"LOADS!AM455","v":0}]
[{"$f":"IF(ISBLANK(LOADS!A456),\"\",LOADS!A456)","v":{"$error":"#REF!"}},{"$f":"IF(ISBLANK(LOADS!B456),\"\",LOADS!B456)","v":""},{"$f":"IF(LOADS!$AC456=\"BUS\",IF(LOADS!$AE456=C$1,1,0),0)","v":0},{"$f":"IF(LOADS!$AC456=\"BUS\",IF(LOADS!$AE456=D$1,1,0),0)","v":0},{"$f":"IF(LOADS!$AC456=\"BUS\",IF(LOADS!$AE456=E$1,1,0),0)","v":0},{"$f":"IF(LOADS!$AC456=\"BUS\",IF(LOADS!$AE456=F$1,1,0),0)","v":0},{"$f":"IF(LOADS!$AC456=\"BUS\",IF(LOADS!$AE456=G$1,1,0),0)","v":0},{"$f":"IF(LOADS!$AC456=\"BUS\",IF(LOADS!$AE456=H$1,1,0),0)","v":0},{"$f":"IF(LOADS!$AC456=\"BUS\",IF(LOADS!$AE456=I$1,1,0),0)","v":0},0,{"$f":"LOADS!AM456","v":0}]
[{"$f":"IF(ISBLANK(LOADS!A457),\"\",LOADS!A457)","v":{"$error":"#REF!"}},{"$f":"IF(ISBLANK(LOADS!B457),\"\",LOADS!B457)","v":""},{"$f":"IF(LOADS!$AC457=\"BUS\",IF(LOADS!$AE457=C$1,1,0),0)","v":0},{"$f":"IF(LOADS!$AC457=\"BUS\",IF(LOADS!$AE457=D$1,1,0),0)","v":0},{"$f":"IF(LOADS!$AC457=\"BUS\",IF(LOADS!$AE457=E$1,1,0),0)","v":0},{"$f":"IF(LOADS!$AC457=\"BUS\",IF(LOADS!$AE457=F$1,1,0),0)","v":0},{"$f":"IF(LOADS!$AC457=\"BUS\",IF(LOADS!$AE457=G$1,1,0),0)","v":0},{"$f":"IF(LOADS!$AC457=\"BUS\",IF(LOADS!$AE457=H$1,1,0),0)","v":0},{"$f":"IF(LOADS!$AC457=\"BUS\",IF(LOADS!$AE457=I$1,1,0),0)","v":0},0,{"$f":"LOADS!AM457","v":0}]
[{"$f":"IF(ISBLANK(LOADS!A458),\"\",LOADS!A458)","v":{"$error":"#REF!"}},{"$f":"IF(ISBLANK(LOADS!B458),\"\",LOADS!B458)","v":""},{"$f":"IF(LOADS!$AC458=\"BUS\",IF(LOADS!$AE458=C$1,1,0),0)","v":0},{"$f":"IF(LOADS!$AC458=\"BUS\",IF(LOADS!$AE458=D$1,1,0),0)","v":0},{"$f":"IF(LOADS!$AC458=\"BUS\",IF(LOADS!$AE458=E$1,1,0),0)","v":0},{"$f":"IF(LOADS!$AC458=\"BUS\",IF(LOADS!$AE458=F$1,1,0),0)","v":0},{"$f":"IF(LOADS!$AC458=\"BUS\",IF(LOADS!$AE458=G$1,1,0),0)","v":0},{"$f":"IF(LOADS!$AC458=\"BUS\",IF(LOADS!$AE458=H$1,1,0),0)","v":0},{"$f":"IF(LOADS!$AC458=\"BUS\",IF(LOADS!$AE458=I$1,1,0),0)","v":0},0,{"$f":"LOADS!AM458","v":0}]
[{"$f":"IF(ISBLANK(LOADS!A459),\"\",LOADS!A459)","v":{"$error":"#REF!"}},{"$f":"IF(ISBLANK(LOADS!B459),\"\",LOADS!B459)","v":""},{"$f":"IF(LOADS!$AC459=\"BUS\",IF(LOADS!$AE459=C$1,1,0),0)","v":0},{"$f":"IF(LOADS!$AC459=\"BUS\",IF(LOADS!$AE459=D$1,1,0),0)","v":0},{"$f":"IF(LOADS!$AC459=\"BUS\",IF(LOADS!$AE459=E$1,1,0),0)","v":0},{"$f":"IF(LOADS!$AC459=\"BUS\",IF(LOADS!$AE459=F$1,1,0),0)","v":0},{"$f":"IF(LOADS!$AC459=\"BUS\",IF(LOADS!$AE459=G$1,1,0),0)","v":0},{"$f":"IF(LOADS!$AC459=\"BUS\",IF(LOADS!$AE459=H$1,1,0),0)","v":0},{"$f":"IF(LOADS!$AC459=\"BUS\",IF(LOADS!$AE459=I$1,1,0),0)","v":0},0,{"$f":"LOADS!AM459","v":0}]
[{"$f":"IF(ISBLANK(LOADS!A460),\"\",LOADS!A460)","v":{"$error":"#REF!"}},{"$f":"IF(ISBLANK(LOADS!B460),\"\",LOADS!B460)","v":""},{"$f":"IF(LOADS!$AC460=\"BUS\",IF(LOADS!$AE460=C$1,1,0),0)","v":0},{"$f":"IF(LOADS!$AC460=\"BUS\",IF(LOADS!$AE460=D$1,1,0),0)","v":0},{"$f":"IF(LOADS!$AC460=\"BUS\",IF(LOADS!$AE460=E$1,1,0),0)","v":0},{"$f":"IF(LOADS!$AC460=\"BUS\",IF(LOADS!$AE460=F$1,1,0),0)","v":0},{"$f":"IF(LOADS!$AC460=\"BUS\",IF(LOADS!$AE460=G$1,1,0),0)","v":0},{"$f":"IF(LOADS!$AC460=\"BUS\",IF(LOADS!$AE460=H$1,1,0),0)","v":0},{"$f":"IF(LOADS!$AC460=\"BUS\",IF(LOADS!$AE460=I$1,1,0),0)","v":0},0,{"$f":"LOADS!AM460","v":0}]
[{"$f":"IF(ISBLANK(LOADS!A461),\"\",LOADS!A461)","v":{"$error":"#REF!"}},{"$f":"IF(ISBLANK(LOADS!B461),\"\",LOADS!B461)","v":""},{"$f":"IF(LOADS!$AC461=\"BUS\",IF(LOADS!$AE461=C$1,1,0),0)","v":0},{"$f":"IF(LOADS!$AC461=\"BUS\",IF(LOADS!$AE461=D$1,1,0),0)","v":0},{"$f":"IF(LOADS!$AC461=\"BUS\",IF(LOADS!$AE461=E$1,1,0),0)","v":0},{"$f":"IF(LOADS!$AC461=\"BUS\",IF(LOADS!$AE461=F$1,1,0),0)","v":0},{"$f":"IF(LOADS!$AC461=\"BUS\",IF(LOADS!$AE461=G$1,1,0),0)","v":0},{"$f":"IF(LOADS!$AC461=\"BUS\",IF(LOADS!$AE461=H$1,1,0),0)","v":0},{"$f":"IF(LOADS!$AC461=\"BUS\",IF(LOADS!$AE461=I$1,1,0),0)","v":0},0,{"$f":"LOADS!AM461","v":0}]
[{"$f":"IF(ISBLANK(LOADS!A462),\"\",LOADS!A462)","v":{"$error":"#REF!"}},{"$f":"IF(ISBLANK(LOADS!B462),\"\",LOADS!B462)","v":""},{"$f":"IF(LOADS!$AC462=\"BUS\",IF(LOADS!$AE462=C$1,1,0),0)","v":0},{"$f":"IF(LOADS!$AC462=\"BUS\",IF(LOADS!$AE462=D$1,1,0),0)","v":0},{"$f":"IF(LOADS!$AC462=\"BUS\",IF(LOADS!$AE462=E$1,1,0),0)","v":0},{"$f":"IF(LOADS!$AC462=\"BUS\",IF(LOADS!$AE462=F$1,1,0),0)","v":0},{"$f":"IF(LOADS!$AC462=\"BUS\",IF(LOADS!$AE462=G$1,1,0),0)","v":0},{"$f":"IF(LOADS!$AC462=\"BUS\",IF(LOADS!$AE462=H$1,1,0),0)","v":0},{"$f":"IF(LOADS!$AC462=\"BUS\",IF(LOADS!$AE462=I$1,1,0),0)","v":0},0,{"$f":"LOADS!AM462","v":0}]
[{"$f":"IF(ISBLANK(LOADS!A463),\"\",LOADS!A463)","v":{"$error":"#REF!"}},{"$f":"IF(ISBLANK(LOADS!B463),\"\",LOADS!B463)","v":""},{"$f":"IF(LOADS!$AC463=\"BUS\",IF(LOADS!$AE463=C$1,1,0),0)","v":0},{"$f":"IF(LOADS!$AC463=\"BUS\",IF(LOADS!$AE463=D$1,1,0),0)","v":0},{"$f":"IF(LOADS!$AC463=\"BUS\",IF(LOADS!$AE463=E$1,1,0),0)","v":0},{"$f":"IF(LOADS!$AC463=\"BUS\",IF(LOADS!$AE463=F$1,1,0),0)","v":0},{"$f":"IF(LOADS!$AC463=\"BUS\",IF(LOADS!$AE463=G$1,1,0),0)","v":0},{"$f":"IF(LOADS!$AC463=\"BUS\",IF(LOADS!$AE463=H$1,1,0),0)","v":0},{"$f":"IF(LOADS!$AC463=\"BUS\",IF(LOADS!$AE463=I$1,1,0),0)","v":0},0,{"$f":"LOADS!AM463","v":0}]
[{"$f":"IF(ISBLANK(LOADS!A464),\"\",LOADS!A464)","v":{"$error":"#REF!"}},{"$f":"IF(ISBLANK(LOADS!B464),\"\",LOADS!B464)","v":""},{"$f":"IF(LOADS!$AC464=\"BUS\",IF(LOADS!$AE464=C$1,1,0),0)","v":0},{"$f":"IF(LOADS!$AC464=\"BUS\",IF(LOADS!$AE464=D$1,1,0),0)","v":0},{"$f":"IF(LOADS!$AC464=\"BUS\",IF(LOADS!$AE464=E$1,1,0),0)","v":0},{"$f":"IF(LOADS!$AC464=\"BUS\",IF(LOADS!$AE464=F$1,1,0),0)","v":0},{"$f":"IF(LOADS!$AC464=\"BUS\",IF(LOADS!$AE464=G$1,1,0),0)","v":0},{"$f":"IF(LOADS!$AC464=\"BUS\",IF(LOADS!$AE464=H$1,1,0),0)","v":0},{"$f":"IF(LOADS!$AC464=\"BUS\",IF(LOADS!$AE464=I$1,1,0),0)","v":0},0,{"$f":"LOADS!AM464","v":0}]
[{"$f":"IF(ISBLANK(LOADS!A465),\"\",LOADS!A465)","v":{"$error":"#REF!"}},{"$f":"IF(ISBLANK(LOADS!B465),\"\",LOADS!B465)","v":""},{"$f":"IF(LOADS!$AC465=\"BUS\",IF(LOADS!$AE465=C$1,1,0),0)","v":0},{"$f":"IF(LOADS!$AC465=\"BUS\",IF(LOADS!$AE465=D$1,1,0),0)","v":0},{"$f":"IF(LOADS!$AC465=\"BUS\",IF(LOADS!$AE465=E$1,1,0),0)","v":0},{"$f":"IF(LOADS!$AC465=\"BUS\",IF(LOADS!$AE465=F$1,1,0),0)","v":0},{"$f":"IF(LOADS!$AC465=\"BUS\",IF(LOADS!$AE465=G$1,1,0),0)","v":0},{"$f":"IF(LOADS!$AC465=\"BUS\",IF(LOADS!$AE465=H$1,1,0),0)","v":0},{"$f":"IF(LOADS!$AC465=\"BUS\",IF(LOADS!$AE465=I$1,1,0),0)","v":0},0,{"$f":"LOADS!AM465","v":0}]
[{"$f":"IF(ISBLANK(LOADS!A466),\"\",LOADS!A466)","v":{"$error":"#REF!"}},{"$f":"IF(ISBLANK(LOADS!B466),\"\",LOADS!B466)","v":""},{"$f":"IF(LOADS!$AC466=\"BUS\",IF(LOADS!$AE466=C$1,1,0),0)","v":0},{"$f":"IF(LOADS!$AC466=\"BUS\",IF(LOADS!$AE466=D$1,1,0),0)","v":0},{"$f":"IF(LOADS!$AC466=\"BUS\",IF(LOADS!$AE466=E$1,1,0),0)","v":0},{"$f":"IF(LOADS!$AC466=\"BUS\",IF(LOADS!$AE466=F$1,1,0),0)","v":0},{"$f":"IF(LOADS!$AC466=\"BUS\",IF(LOADS!$AE466=G$1,1,0),0)","v":0},{"$f":"IF(LOADS!$AC466=\"BUS\",IF(LOADS!$AE466=H$1,1,0),0)","v":0},{"$f":"IF(LOADS!$AC466=\"BUS\",IF(LOADS!$AE466=I$1,1,0),0)","v":0},0,{"$f":"LOADS!AM466","v":0}]
[{"$f":"IF(ISBLANK(LOADS!A467),\"\",LOADS!A467)","v":{"$error":"#REF!"}},{"$f":"IF(ISBLANK(LOADS!B467),\"\",LOADS!B467)","v":""},{"$f":"IF(LOADS!$AC467=\"BUS\",IF(LOADS!$AE467=C$1,1,0),0)","v":0},{"$f":"IF(LOADS!$AC467=\"BUS\",IF(LOADS!$AE467=D$1,1,0),0)","v":0},{"$f":"IF(LOADS!$AC467=\"BUS\",IF(LOADS!$AE467=E$1,1,0),0)","v":0},{"$f":"IF(LOADS!$AC467=\"BUS\",IF(LOADS!$AE467=F$1,1,0),0)","v":0},{"$f":"IF(LOADS!$AC467=\"BUS\",IF(LOADS!$AE467=G$1,1,0),0)","v":0},{"$f":"IF(LOADS!$AC467=\"BUS\",IF(LOADS!$AE467=H$1,1,0),0)","v":0},{"$f":"IF(LOADS!$AC467=\"BUS\",IF(LOADS!$AE467=I$1,1,0),0)","v":0},0,{"$f":"LOADS!AM467","v":0}]
[{"$f":"IF(ISBLANK(LOADS!A468),\"\",LOADS!A468)","v":{"$error":"#REF!"}},{"$f":"IF(ISBLANK(LOADS!B468),\"\",LOADS!B468)","v":""},{"$f":"IF(LOADS!$AC468=\"BUS\",IF(LOADS!$AE468=C$1,1,0),0)","v":0},{"$f":"IF(LOADS!$AC468=\"BUS\",IF(LOADS!$AE468=D$1,1,0),0)","v":0},{"$f":"IF(LOADS!$AC468=\"BUS\",IF(LOADS!$AE468=E$1,1,0),0)","v":0},{"$f":"IF(LOADS!$AC468=\"BUS\",IF(LOADS!$AE468=F$1,1,0),0)","v":0},{"$f":"IF(LOADS!$AC468=\"BUS\",IF(LOADS!$AE468=G$1,1,0),0)","v":0},{"$f":"IF(LOADS!$AC468=\"BUS\",IF(LOADS!$AE468=H$1,1,0),0)","v":0},{"$f":"IF(LOADS!$AC468=\"BUS\",IF(LOADS!$AE468=I$1,1,0),0)","v":0},0,{"$f":"LOADS!AM468","v":0}]
[{"$f":"IF(ISBLANK(LOADS!A469),\"\",LOADS!A469)","v":{"$error":"#REF!"}},{"$f":"IF(ISBLANK(LOADS!B469),\"\",LOADS!B469)","v":""},{"$f":"IF(LOADS!$AC469=\"BUS\",IF(LOADS!$AE469=C$1,1,0),0)","v":0},{"$f":"IF(LOADS!$AC469=\"BUS\",IF(LOADS!$AE469=D$1,1,0),0)","v":0},{"$f":"IF(LOADS!$AC469=\"BUS\",IF(LOADS!$AE469=E$1,1,0),0)","v":0},{"$f":"IF(LOADS!$AC469=\"BUS\",IF(LOADS!$AE469=F$1,1,0),0)","v":0},{"$f":"IF(LOADS!$AC469=\"BUS\",IF(LOADS!$AE469=G$1,1,0),0)","v":0},{"$f":"IF(LOADS!$AC469=\"BUS\",IF(LOADS!$AE469=H$1,1,0),0)","v":0},{"$f":"IF(LOADS!$AC469=\"BUS\",IF(LOADS!$AE469=I$1,1,0),0)","v":0},0,{"$f":"LOADS!AM469","v":0}]
[{"$f":"IF(ISBLANK(LOADS!A470),\"\",LOADS!A470)","v":{"$error":"#REF!"}},{"$f":"IF(ISBLANK(LOADS!B470),\"\",LOADS!B470)","v":""},{"$f":"IF(LOADS!$AC470=\"BUS\",IF(LOADS!$AE470=C$1,1,0),0)","v":0},{"$f":"IF(LOADS!$AC470=\"BUS\",IF(LOADS!$AE470=D$1,1,0),0)","v":0},{"$f":"IF(LOADS!$AC470=\"BUS\",IF(LOADS!$AE470=E$1,1,0),0)","v":0},{"$f":"IF(LOADS!$AC470=\"BUS\",IF(LOADS!$AE470=F$1,1,0),0)","v":0},{"$f":"IF(LOADS!$AC470=\"BUS\",IF(LOADS!$AE470=G$1,1,0),0)","v":0},{"$f":"IF(LOADS!$AC470=\"BUS\",IF(LOADS!$AE470=H$1,1,0),0)","v":0},{"$f":"IF(LOADS!$AC470=\"BUS\",IF(LOADS!$AE470=I$1,1,0),0)","v":0},0,{"$f":"LOADS!AM470","v":0}]
[{"$f":"IF(ISBLANK(LOADS!A471),\"\",LOADS!A471)","v":{"$error":"#REF!"}},{"$f":"IF(ISBLANK(LOADS!B471),\"\",LOADS!B471)","v":""},{"$f":"IF(LOADS!$AC471=\"BUS\",IF(LOADS!$AE471=C$1,1,0),0)","v":0},{"$f":"IF(LOADS!$AC471=\"BUS\",IF(LOADS!$AE471=D$1,1,0),0)","v":0},{"$f":"IF(LOADS!$AC471=\"BUS\",IF(LOADS!$AE471=E$1,1,0),0)","v":0},{"$f":"IF(LOADS!$AC471=\"BUS\",IF(LOADS!$AE471=F$1,1,0),0)","v":0},{"$f":"IF(LOADS!$AC471=\"BUS\",IF(LOADS!$AE471=G$1,1,0),0)","v":0},{"$f":"IF(LOADS!$AC471=\"BUS\",IF(LOADS!$AE471=H$1,1,0),0)","v":0},{"$f":"IF(LOADS!$AC471=\"BUS\",IF(LOADS!$AE471=I$1,1,0),0)","v":0},0,{"$f":"LOADS!AM471","v":0}]
[{"$f":"IF(ISBLANK(LOADS!A472),\"\",LOADS!A472)","v":{"$error":"#REF!"}},{"$f":"IF(ISBLANK(LOADS!B472),\"\",LOADS!B472)","v":""},{"$f":"IF(LOADS!$AC472=\"BUS\",IF(LOADS!$AE472=C$1,1,0),0)","v":0},{"$f":"IF(LOADS!$AC472=\"BUS\",IF(LOADS!$AE472=D$1,1,0),0)","v":0},{"$f":"IF(LOADS!$AC472=\"BUS\",IF(LOADS!$AE472=E$1,1,0),0)","v":0},{"$f":"IF(LOADS!$AC472=\"BUS\",IF(LOADS!$AE472=F$1,1,0),0)","v":0},{"$f":"IF(LOADS!$AC472=\"BUS\",IF(LOADS!$AE472=G$1,1,0),0)","v":0},{"$f":"IF(LOADS!$AC472=\"BUS\",IF(LOADS!$AE472=H$1,1,0),0)","v":0},{"$f":"IF(LOADS!$AC472=\"BUS\",IF(LOADS!$AE472=I$1,1,0),0)","v":0},0,{"$f":"LOADS!AM472","v":0}]
[{"$f":"IF(ISBLANK(LOADS!A473),\"\",LOADS!A473)","v":{"$error":"#REF!"}},{"$f":"IF(ISBLANK(LOADS!B473),\"\",LOADS!B473)","v":""},{"$f":"IF(LOADS!$AC473=\"BUS\",IF(LOADS!$AE473=C$1,1,0),0)","v":0},{"$f":"IF(LOADS!$AC473=\"BUS\",IF(LOADS!$AE473=D$1,1,0),0)","v":0},{"$f":"IF(LOADS!$AC473=\"BUS\",IF(LOADS!$AE473=E$1,1,0),0)","v":0},{"$f":"IF(LOADS!$AC473=\"BUS\",IF(LOADS!$AE473=F$1,1,0),0)","v":0},{"$f":"IF(LOADS!$AC473=\"BUS\",IF(LOADS!$AE473=G$1,1,0),0)","v":0},{"$f":"IF(LOADS!$AC473=\"BUS\",IF(LOADS!$AE473=H$1,1,0),0)","v":0},{"$f":"IF(LOADS!$AC473=\"BUS\",IF(LOADS!$AE473=I$1,1,0),0)","v":0},0,{"$f":"LOADS!AM473","v":0}]
[{"$f":"IF(ISBLANK(LOADS!A474),\"\",LOADS!A474)","v":{"$error":"#REF!"}},{"$f":"IF(ISBLANK(LOADS!B474),\"\",LOADS!B474)","v":""},{"$f":"IF(LOADS!$AC474=\"BUS\",IF(LOADS!$AE474=C$1,1,0),0)","v":0},{"$f":"IF(LOADS!$AC474=\"BUS\",IF(LOADS!$AE474=D$1,1,0),0)","v":0},{"$f":"IF(LOADS!$AC474=\"BUS\",IF(LOADS!$AE474=E$1,1,0),0)","v":0},{"$f":"IF(LOADS!$AC474=\"BUS\",IF(LOADS!$AE474=F$1,1,0),0)","v":0},{"$f":"IF(LOADS!$AC474=\"BUS\",IF(LOADS!$AE474=G$1,1,0),0)","v":0},{"$f":"IF(LOADS!$AC474=\"BUS\",IF(LOADS!$AE474=H$1,1,0),0)","v":0},{"$f":"IF(LOADS!$AC474=\"BUS\",IF(LOADS!$AE474=I$1,1,0),0)","v":0},0,{"$f":"LOADS!AM474","v":0}]
[{"$f":"IF(ISBLANK(LOADS!A475),\"\",LOADS!A475)","v":{"$error":"#REF!"}},{"$f":"IF(ISBLANK(LOADS!B475),\"\",LOADS!B475)","v":""},{"$f":"IF(LOADS!$AC475=\"BUS\",IF(LOADS!$AE475=C$1,1,0),0)","v":0},{"$f":"IF(LOADS!$AC475=\"BUS\",IF(LOADS!$AE475=D$1,1,0),0)","v":0},{"$f":"IF(LOADS!$AC475=\"BUS\",IF(LOADS!$AE475=E$1,1,0),0)","v":0},{"$f":"IF(LOADS!$AC475=\"BUS\",IF(LOADS!$AE475=F$1,1,0),0)","v":0},{"$f":"IF(LOADS!$AC475=\"BUS\",IF(LOADS!$AE475=G$1,1,0),0)","v":0},{"$f":"IF(LOADS!$AC475=\"BUS\",IF(LOADS!$AE475=H$1,1,0),0)","v":0},{"$f":"IF(LOADS!$AC475=\"BUS\",IF(LOADS!$AE475=I$1,1,0),0)","v":0},0,{"$f":"LOADS!AM475","v":0}]
[{"$f":"IF(ISBLANK(LOADS!A476),\"\",LOADS!A476)","v":{"$error":"#REF!"}},{"$f":"IF(ISBLANK(LOADS!B476),\"\",LOADS!B476)","v":""},{"$f":"IF(LOADS!$AC476=\"BUS\",IF(LOADS!$AE476=C$1,1,0),0)","v":0},{"$f":"IF(LOADS!$AC476=\"BUS\",IF(LOADS!$AE476=D$1,1,0),0)","v":0},{"$f":"IF(LOADS!$AC476=\"BUS\",IF(LOADS!$AE476=E$1,1,0),0)","v":0},{"$f":"IF(LOADS!$AC476=\"BUS\",IF(LOADS!$AE476=F$1,1,0),0)","v":0},{"$f":"IF(LOADS!$AC476=\"BUS\",IF(LOADS!$AE476=G$1,1,0),0)","v":0},{"$f":"IF(LOADS!$AC476=\"BUS\",IF(LOADS!$AE476=H$1,1,0),0)","v":0},{"$f":"IF(LOADS!$AC476=\"BUS\",IF(LOADS!$AE476=I$1,1,0),0)","v":0},0,{"$f":"LOADS!AM476","v":0}]
[{"$f":"IF(ISBLANK(LOADS!A477),\"\",LOADS!A477)","v":{"$error":"#REF!"}},{"$f":"IF(ISBLANK(LOADS!B477),\"\",LOADS!B477)","v":""},{"$f":"IF(LOADS!$AC477=\"BUS\",IF(LOADS!$AE477=C$1,1,0),0)","v":0},{"$f":"IF(LOADS!$AC477=\"BUS\",IF(LOADS!$AE477=D$1,1,0),0)","v":0},{"$f":"IF(LOADS!$AC477=\"BUS\",IF(LOADS!$AE477=E$1,1,0),0)","v":0},{"$f":"IF(LOADS!$AC477=\"BUS\",IF(LOADS!$AE477=F$1,1,0),0)","v":0},{"$f":"IF(LOADS!$AC477=\"BUS\",IF(LOADS!$AE477=G$1,1,0),0)","v":0},{"$f":"IF(LOADS!$AC477=\"BUS\",IF(LOADS!$AE477=H$1,1,0),0)","v":0},{"$f":"IF(LOADS!$AC477=\"BUS\",IF(LOADS!$AE477=I$1,1,0),0)","v":0},0,{"$f":"LOADS!AM477","v":0}]
[{"$f":"IF(ISBLANK(LOADS!A478),\"\",LOADS!A478)","v":{"$error":"#REF!"}},{"$f":"IF(ISBLANK(LOADS!B478),\"\",LOADS!B478)","v":""},{"$f":"IF(LOADS!$AC478=\"BUS\",IF(LOADS!$AE478=C$1,1,0),0)","v":0},{"$f":"IF(LOADS!$AC478=\"BUS\",IF(LOADS!$AE478=D$1,1,0),0)","v":0},{"$f":"IF(LOADS!$AC478=\"BUS\",IF(LOADS!$AE478=E$1,1,0),0)","v":0},{"$f":"IF(LOADS!$AC478=\"BUS\",IF(LOADS!$AE478=F$1,1,0),0)","v":0},{"$f":"IF(LOADS!$AC478=\"BUS\",IF(LOADS!$AE478=G$1,1,0),0)","v":0},{"$f":"IF(LOADS!$AC478=\"BUS\",IF(LOADS!$AE478=H$1,1,0),0)","v":0},{"$f":"IF(LOADS!$AC478=\"BUS\",IF(LOADS!$AE478=I$1,1,0),0)","v":0},0,{"$f":"LOADS!AM478","v":0}]
[{"$f":"IF(ISBLANK(LOADS!A479),\"\",LOADS!A479)","v":{"$error":"#REF!"}},{"$f":"IF(ISBLANK(LOADS!B479),\"\",LOADS!B479)","v":""},{"$f":"IF(LOADS!$AC479=\"BUS\",IF(LOADS!$AE479=C$1,1,0),0)","v":0},{"$f":"IF(LOADS!$AC479=\"BUS\",IF(LOADS!$AE479=D$1,1,0),0)","v":0},{"$f":"IF(LOADS!$AC479=\"BUS\",IF(LOADS!$AE479=E$1,1,0),0)","v":0},{"$f":"IF(LOADS!$AC479=\"BUS\",IF(LOADS!$AE479=F$1,1,0),0)","v":0},{"$f":"IF(LOADS!$AC479=\"BUS\",IF(LOADS!$AE479=G$1,1,0),0)","v":0},{"$f":"IF(LOADS!$AC479=\"BUS\",IF(LOADS!$AE479=H$1,1,0),0)","v":0},{"$f":"IF(LOADS!$AC479=\"BUS\",IF(LOADS!$AE479=I$1,1,0),0)","v":0},0,{"$f":"LOADS!AM479","v":0}]
[{"$f":"IF(ISBLANK(LOADS!A480),\"\",LOADS!A480)","v":{"$error":"#REF!"}},{"$f":"IF(ISBLANK(LOADS!B480),\"\",LOADS!B480)","v":""},{"$f":"IF(LOADS!$AC480=\"BUS\",IF(LOADS!$AE480=C$1,1,0),0)","v":0},{"$f":"IF(LOADS!$AC480=\"BUS\",IF(LOADS!$AE480=D$1,1,0),0)","v":0},{"$f":"IF(LOADS!$AC480=\"BUS\",IF(LOADS!$AE480=E$1,1,0),0)","v":0},{"$f":"IF(LOADS!$AC480=\"BUS\",IF(LOADS!$AE480=F$1,1,0),0)","v":0},{"$f":"IF(LOADS!$AC480=\"BUS\",IF(LOADS!$AE480=G$1,1,0),0)","v":0},{"$f":"IF(LOADS!$AC480=\"BUS\",IF(LOADS!$AE480=H$1,1,0),0)","v":0},{"$f":"IF(LOADS!$AC480=\"BUS\",IF(LOADS!$AE480=I$1,1,0),0)","v":0},0,{"$f":"LOADS!AM480","v":0}]
[{"$f":"IF(ISBLANK(LOADS!A481),\"\",LOADS!A481)","v":{"$error":"#REF!"}},{"$f":"IF(ISBLANK(LOADS!B481),\"\",LOADS!B481)","v":""},{"$f":"IF(LOADS!$AC481=\"BUS\",IF(LOADS!$AE481=C$1,1,0),0)","v":0},{"$f":"IF(LOADS!$AC481=\"BUS\",IF(LOADS!$AE481=D$1,1,0),0)","v":0},{"$f":"IF(LOADS!$AC481=\"BUS\",IF(LOADS!$AE481=E$1,1,0),0)","v":0},{"$f":"IF(LOADS!$AC481=\"BUS\",IF(LOADS!$AE481=F$1,1,0),0)","v":0},{"$f":"IF(LOADS!$AC481=\"BUS\",IF(LOADS!$AE481=G$1,1,0),0)","v":0},{"$f":"IF(LOADS!$AC481=\"BUS\",IF(LOADS!$AE481=H$1,1,0),0)","v":0},{"$f":"IF(LOADS!$AC481=\"BUS\",IF(LOADS!$AE481=I$1,1,0),0)","v":0},0,{"$f":"LOADS!AM481","v":0}]
[{"$f":"IF(ISBLANK(LOADS!A482),\"\",LOADS!A482)","v":{"$error":"#REF!"}},{"$f":"IF(ISBLANK(LOADS!B482),\"\",LOADS!B482)","v":""},{"$f":"IF(LOADS!$AC482=\"BUS\",IF(LOADS!$AE482=C$1,1,0),0)","v":0},{"$f":"IF(LOADS!$AC482=\"BUS\",IF(LOADS!$AE482=D$1,1,0),0)","v":0},{"$f":"IF(LOADS!$AC482=\"BUS\",IF(LOADS!$AE482=E$1,1,0),0)","v":0},{"$f":"IF(LOADS!$AC482=\"BUS\",IF(LOADS!$AE482=F$1,1,0),0)","v":0},{"$f":"IF(LOADS!$AC482=\"BUS\",IF(LOADS!$AE482=G$1,1,0),0)","v":0},{"$f":"IF(LOADS!$AC482=\"BUS\",IF(LOADS!$AE482=H$1,1,0),0)","v":0},{"$f":"IF(LOADS!$AC482=\"BUS\",IF(LOADS!$AE482=I$1,1,0),0)","v":0},0,{"$f":"LOADS!AM482","v":0}]
[{"$f":"IF(ISBLANK(LOADS!A483),\"\",LOADS!A483)","v":{"$error":"#REF!"}},{"$f":"IF(ISBLANK(LOADS!B483),\"\",LOADS!B483)","v":""},{"$f":"IF(LOADS!$AC483=\"BUS\",IF(LOADS!$AE483=C$1,1,0),0)","v":0},{"$f":"IF(LOADS!$AC483=\"BUS\",IF(LOADS!$AE483=D$1,1,0),0)","v":0},{"$f":"IF(LOADS!$AC483=\"BUS\",IF(LOADS!$AE483=E$1,1,0),0)","v":0},{"$f":"IF(LOADS!$AC483=\"BUS\",IF(LOADS!$AE483=F$1,1,0),0)","v":0},{"$f":"IF(LOADS!$AC483=\"BUS\",IF(LOADS!$AE483=G$1,1,0),0)","v":0},{"$f":"IF(LOADS!$AC483=\"BUS\",IF(LOADS!$AE483=H$1,1,0),0)","v":0},{"$f":"IF(LOADS!$AC483=\"BUS\",IF(LOADS!$AE483=I$1,1,0),0)","v":0},0,{"$f":"LOADS!AM483","v":0}]
[{"$f":"IF(ISBLANK(LOADS!A484),\"\",LOADS!A484)","v":{"$error":"#REF!"}},{"$f":"IF(ISBLANK(LOADS!B484),\"\",LOADS!B484)","v":""},{"$f":"IF(LOADS!$AC484=\"BUS\",IF(LOADS!$AE484=C$1,1,0),0)","v":0},{"$f":"IF(LOADS!$AC484=\"BUS\",IF(LOADS!$AE484=D$1,1,0),0)","v":0},{"$f":"IF(LOADS!$AC484=\"BUS\",IF(LOADS!$AE484=E$1,1,0),0)","v":0},{"$f":"IF(LOADS!$AC484=\"BUS\",IF(LOADS!$AE484=F$1,1,0),0)","v":0},{"$f":"IF(LOADS!$AC484=\"BUS\",IF(LOADS!$AE484=G$1,1,0),0)","v":0},{"$f":"IF(LOADS!$AC484=\"BUS\",IF(LOADS!$AE484=H$1,1,0),0)","v":0},{"$f":"IF(LOADS!$AC484=\"BUS\",IF(LOADS!$AE484=I$1,1,0),0)","v":0},0,{"$f":"LOADS!AM484","v":0}]
[{"$f":"IF(ISBLANK(LOADS!A485),\"\",LOADS!A485)","v":{"$error":"#REF!"}},{"$f":"IF(ISBLANK(LOADS!B485),\"\",LOADS!B485)","v":""},{"$f":"IF(LOADS!$AC485=\"BUS\",IF(LOADS!$AE485=C$1,1,0),0)","v":0},{"$f":"IF(LOADS!$AC485=\"BUS\",IF(LOADS!$AE485=D$1,1,0),0)","v":0},{"$f":"IF(LOADS!$AC485=\"BUS\",IF(LOADS!$AE485=E$1,1,0),0)","v":0},{"$f":"IF(LOADS!$AC485=\"BUS\",IF(LOADS!$AE485=F$1,1,0),0)","v":0},{"$f":"IF(LOADS!$AC485=\"BUS\",IF(LOADS!$AE485=G$1,1,0),0)","v":0},{"$f":"IF(LOADS!$AC485=\"BUS\",IF(LOADS!$AE485=H$1,1,0),0)","v":0},{"$f":"IF(LOADS!$AC485=\"BUS\",IF(LOADS!$AE485=I$1,1,0),0)","v":0},0,{"$f":"LOADS!AM485","v":0}]
[{"$f":"IF(ISBLANK(LOADS!A486),\"\",LOADS!A486)","v":{"$error":"#REF!"}},{"$f":"IF(ISBLANK(LOADS!B486),\"\",LOADS!B486)","v":""},{"$f":"IF(LOADS!$AC486=\"BUS\",IF(LOADS!$AE486=C$1,1,0),0)","v":0},{"$f":"IF(LOADS!$AC486=\"BUS\",IF(LOADS!$AE486=D$1,1,0),0)","v":0},{"$f":"IF(LOADS!$AC486=\"BUS\",IF(LOADS!$AE486=E$1,1,0),0)","v":0},{"$f":"IF(LOADS!$AC486=\"BUS\",IF(LOADS!$AE486=F$1,1,0),0)","v":0},{"$f":"IF(LOADS!$AC486=\"BUS\",IF(LOADS!$AE486=G$1,1,0),0)","v":0},{"$f":"IF(LOADS!$AC486=\"BUS\",IF(LOADS!$AE486=H$1,1,0),0)","v":0},{"$f":"IF(LOADS!$AC486=\"BUS\",IF(LOADS!$AE486=I$1,1,0),0)","v":0},0,{"$f":"LOADS!AM486","v":0}]
[{"$f":"IF(ISBLANK(LOADS!A487),\"\",LOADS!A487)","v":{"$error":"#REF!"}},{"$f":"IF(ISBLANK(LOADS!B487),\"\",LOADS!B487)","v":""},{"$f":"IF(LOADS!$AC487=\"BUS\",IF(LOADS!$AE487=C$1,1,0),0)","v":0},{"$f":"IF(LOADS!$AC487=\"BUS\",IF(LOADS!$AE487=D$1,1,0),0)","v":0},{"$f":"IF(LOADS!$AC487=\"BUS\",IF(LOADS!$AE487=E$1,1,0),0)","v":0},{"$f":"IF(LOADS!$AC487=\"BUS\",IF(LOADS!$AE487=F$1,1,0),0)","v":0},{"$f":"IF(LOADS!$AC487=\"BUS\",IF(LOADS!$AE487=G$1,1,0),0)","v":0},{"$f":"IF(LOADS!$AC487=\"BUS\",IF(LOADS!$AE487=H$1,1,0),0)","v":0},{"$f":"IF(LOADS!$AC487=\"BUS\",IF(LOADS!$AE487=I$1,1,0),0)","v":0},0,{"$f":"LOADS!AM487","v":0}]
[{"$f":"IF(ISBLANK(LOADS!A488),\"\",LOADS!A488)","v":{"$error":"#REF!"}},{"$f":"IF(ISBLANK(LOADS!B488),\"\",LOADS!B488)","v":""},{"$f":"IF(LOADS!$AC488=\"BUS\",IF(LOADS!$AE488=C$1,1,0),0)","v":0},{"$f":"IF(LOADS!$AC488=\"BUS\",IF(LOADS!$AE488=D$1,1,0),0)","v":0},{"$f":"IF(LOADS!$AC488=\"BUS\",IF(LOADS!$AE488=E$1,1,0),0)","v":0},{"$f":"IF(LOADS!$AC488=\"BUS\",IF(LOADS!$AE488=F$1,1,0),0)","v":0},{"$f":"IF(LOADS!$AC488=\"BUS\",IF(LOADS!$AE488=G$1,1,0),0)","v":0},{"$f":"IF(LOADS!$AC488=\"BUS\",IF(LOADS!$AE488=H$1,1,0),0)","v":0},{"$f":"IF(LOADS!$AC488=\"BUS\",IF(LOADS!$AE488=I$1,1,0),0)","v":0},0,{"$f":"LOADS!AM488","v":0}]
[{"$f":"IF(ISBLANK(LOADS!A489),\"\",LOADS!A489)","v":{"$error":"#REF!"}},{"$f":"IF(ISBLANK(LOADS!B489),\"\",LOADS!B489)","v":""},{"$f":"IF(LOADS!$AC489=\"BUS\",IF(LOADS!$AE489=C$1,1,0),0)","v":0},{"$f":"IF(LOADS!$AC489=\"BUS\",IF(LOADS!$AE489=D$1,1,0),0)","v":0},{"$f":"IF(LOADS!$AC489=\"BUS\",IF(LOADS!$AE489=E$1,1,0),0)","v":0},{"$f":"IF(LOADS!$AC489=\"BUS\",IF(LOADS!$AE489=F$1,1,0),0)","v":0},{"$f":"IF(LOADS!$AC489=\"BUS\",IF(LOADS!$AE489=G$1,1,0),0)","v":0},{"$f":"IF(LOADS!$AC489=\"BUS\",IF(LOADS!$AE489=H$1,1,0),0)","v":0},{"$f":"IF(LOADS!$AC489=\"BUS\",IF(LOADS!$AE489=I$1,1,0),0)","v":0},0,{"$f":"LOADS!AM489","v":0}]
[{"$f":"IF(ISBLANK(LOADS!A490),\"\",LOADS!A490)","v":{"$error":"#REF!"}},{"$f":"IF(ISBLANK(LOADS!B490),\"\",LOADS!B490)","v":""},{"$f":"IF(LOADS!$AC490=\"BUS\",IF(LOADS!$AE490=C$1,1,0),0)","v":0},{"$f":"IF(LOADS!$AC490=\"BUS\",IF(LOADS!$AE490=D$1,1,0),0)","v":0},{"$f":"IF(LOADS!$AC490=\"BUS\",IF(LOADS!$AE490=E$1,1,0),0)","v":0},{"$f":"IF(LOADS!$AC490=\"BUS\",IF(LOADS!$AE490=F$1,1,0),0)","v":0},{"$f":"IF(LOADS!$AC490=\"BUS\",IF(LOADS!$AE490=G$1,1,0),0)","v":0},{"$f":"IF(LOADS!$AC490=\"BUS\",IF(LOADS!$AE490=H$1,1,0),0)","v":0},{"$f":"IF(LOADS!$AC490=\"BUS\",IF(LOADS!$AE490=I$1,1,0),0)","v":0},0,{"$f":"LOADS!AM490","v":0}]
[{"$f":"IF(ISBLANK(LOADS!A491),\"\",LOADS!A491)","v":{"$error":"#REF!"}},{"$f":"IF(ISBLANK(LOADS!B491),\"\",LOADS!B491)","v":""},{"$f":"IF(LOADS!$AC491=\"BUS\",IF(LOADS!$AE491=C$1,1,0),0)","v":0},{"$f":"IF(LOADS!$AC491=\"BUS\",IF(LOADS!$AE491=D$1,1,0),0)","v":0},{"$f":"IF(LOADS!$AC491=\"BUS\",IF(LOADS!$AE491=E$1,1,0),0)","v":0},{"$f":"IF(LOADS!$AC491=\"BUS\",IF(LOADS!$AE491=F$1,1,0),0)","v":0},{"$f":"IF(LOADS!$AC491=\"BUS\",IF(LOADS!$AE491=G$1,1,0),0)","v":0},{"$f":"IF(LOADS!$AC491=\"BUS\",IF(LOADS!$AE491=H$1,1,0),0)","v":0},{"$f":"IF(LOADS!$AC491=\"BUS\",IF(LOADS!$AE491=I$1,1,0),0)","v":0},0,{"$f":"LOADS!AM491","v":0}]
[{"$f":"IF(ISBLANK(LOADS!A492),\"\",LOADS!A492)","v":{"$error":"#REF!"}},{"$f":"IF(ISBLANK(LOADS!B492),\"\",LOADS!B492)","v":""},{"$f":"IF(LOADS!$AC492=\"BUS\",IF(LOADS!$AE492=C$1,1,0),0)","v":0},{"$f":"IF(LOADS!$AC492=\"BUS\",IF(LOADS!$AE492=D$1,1,0),0)","v":0},{"$f":"IF(LOADS!$AC492=\"BUS\",IF(LOADS!$AE492=E$1,1,0),0)","v":0},{"$f":"IF(LOADS!$AC492=\"BUS\",IF(LOADS!$AE492=F$1,1,0),0)","v":0},{"$f":"IF(LOADS!$AC492=\"BUS\",IF(LOADS!$AE492=G$1,1,0),0)","v":0},{"$f":"IF(LOADS!$AC492=\"BUS\",IF(LOADS!$AE492=H$1,1,0),0)","v":0},{"$f":"IF(LOADS!$AC492=\"BUS\",IF(LOADS!$AE492=I$1,1,0),0)","v":0},0,{"$f":"LOADS!AM492","v":0}]
[{"$f":"IF(ISBLANK(LOADS!A493),\"\",LOADS!A493)","v":{"$error":"#REF!"}},{"$f":"IF(ISBLANK(LOADS!B493),\"\",LOADS!B493)","v":""},{"$f":"IF(LOADS!$AC493=\"BUS\",IF(LOADS!$AE493=C$1,1,0),0)","v":0},{"$f":"IF(LOADS!$AC493=\"BUS\",IF(LOADS!$AE493=D$1,1,0),0)","v":0},{"$f":"IF(LOADS!$AC493=\"BUS\",IF(LOADS!$AE493=E$1,1,0),0)","v":0},{"$f":"IF(LOADS!$AC493=\"BUS\",IF(LOADS!$AE493=F$1,1,0),0)","v":0},{"$f":"IF(LOADS!$AC493=\"BUS\",IF(LOADS!$AE493=G$1,1,0),0)","v":0},{"$f":"IF(LOADS!$AC493=\"BUS\",IF(LOADS!$AE493=H$1,1,0),0)","v":0},{"$f":"IF(LOADS!$AC493=\"BUS\",IF(LOADS!$AE493=I$1,1,0),0)","v":0},0,{"$f":"LOADS!AM493","v":0}]
[{"$f":"IF(ISBLANK(LOADS!A494),\"\",LOADS!A494)","v":{"$error":"#REF!"}},{"$f":"IF(ISBLANK(LOADS!B494),\"\",LOADS!B494)","v":""},{"$f":"IF(LOADS!$AC494=\"BUS\",IF(LOADS!$AE494=C$1,1,0),0)","v":0},{"$f":"IF(LOADS!$AC494=\"BUS\",IF(LOADS!$AE494=D$1,1,0),0)","v":0},{"$f":"IF(LOADS!$AC494=\"BUS\",IF(LOADS!$AE494=E$1,1,0),0)","v":0},{"$f":"IF(LOADS!$AC494=\"BUS\",IF(LOADS!$AE494=F$1,1,0),0)","v":0},{"$f":"IF(LOADS!$AC494=\"BUS\",IF(LOADS!$AE494=G$1,1,0),0)","v":0},{"$f":"IF(LOADS!$AC494=\"BUS\",IF(LOADS!$AE494=H$1,1,0),0)","v":0},{"$f":"IF(LOADS!$AC494=\"BUS\",IF(LOADS!$AE494=I$1,1,0),0)","v":0},0,{"$f":"LOADS!AM494","v":0}]
[{"$f":"IF(ISBLANK(LOADS!A495),\"\",LOADS!A495)","v":{"$error":"#REF!"}},{"$f":"IF(ISBLANK(LOADS!B495),\"\",LOADS!B495)","v":""},{"$f":"IF(LOADS!$AC495=\"BUS\",IF(LOADS!$AE495=C$1,1,0),0)","v":0},{"$f":"IF(LOADS!$AC495=\"BUS\",IF(LOADS!$AE495=D$1,1,0),0)","v":0},{"$f":"IF(LOADS!$AC495=\"BUS\",IF(LOADS!$AE495=E$1,1,0),0)","v":0},{"$f":"IF(LOADS!$AC495=\"BUS\",IF(LOADS!$AE495=F$1,1,0),0)","v":0},{"$f":"IF(LOADS!$AC495=\"BUS\",IF(LOADS!$AE495=G$1,1,0),0)","v":0},{"$f":"IF(LOADS!$AC495=\"BUS\",IF(LOADS!$AE495=H$1,1,0),0)","v":0},{"$f":"IF(LOADS!$AC495=\"BUS\",IF(LOADS!$AE495=I$1,1,0),0)","v":0},0,{"$f":"LOADS!AM495","v":0}]
[{"$f":"IF(ISBLANK(LOADS!A496),\"\",LOADS!A496)","v":{"$error":"#REF!"}},{"$f":"IF(ISBLANK(LOADS!B496),\"\",LOADS!B496)","v":""},{"$f":"IF(LOADS!$AC496=\"BUS\",IF(LOADS!$AE496=C$1,1,0),0)","v":0},{"$f":"IF(LOADS!$AC496=\"BUS\",IF(LOADS!$AE496=D$1,1,0),0)","v":0},{"$f":"IF(LOADS!$AC496=\"BUS\",IF(LOADS!$AE496=E$1,1,0),0)","v":0},{"$f":"IF(LOADS!$AC496=\"BUS\",IF(LOADS!$AE496=F$1,1,0),0)","v":0},{"$f":"IF(LOADS!$AC496=\"BUS\",IF(LOADS!$AE496=G$1,1,0),0)","v":0},{"$f":"IF(LOADS!$AC496=\"BUS\",IF(LOADS!$AE496=H$1,1,0),0)","v":0},{"$f":"IF(LOADS!$AC496=\"BUS\",IF(LOADS!$AE496=I$1,1,0),0)","v":0},0,{"$f":"LOADS!AM496","v":0}]
[{"$f":"IF(ISBLANK(LOADS!A497),\"\",LOADS!A497)","v":{"$error":"#REF!"}},{"$f":"IF(ISBLANK(LOADS!B497),\"\",LOADS!B497)","v":""},{"$f":"IF(LOADS!$AC497=\"BUS\",IF(LOADS!$AE497=C$1,1,0),0)","v":0},{"$f":"IF(LOADS!$AC497=\"BUS\",IF(LOADS!$AE497=D$1,1,0),0)","v":0},{"$f":"IF(LOADS!$AC497=\"BUS\",IF(LOADS!$AE497=E$1,1,0),0)","v":0},{"$f":"IF(LOADS!$AC497=\"BUS\",IF(LOADS!$AE497=F$1,1,0),0)","v":0},{"$f":"IF(LOADS!$AC497=\"BUS\",IF(LOADS!$AE497=G$1,1,0),0)","v":0},{"$f":"IF(LOADS!$AC497=\"BUS\",IF(LOADS!$AE497=H$1,1,0),0)","v":0},{"$f":"IF(LOADS!$AC497=\"BUS\",IF(LOADS!$AE497=I$1,1,0),0)","v":0},0,{"$f":"LOADS!AM497","v":0}]
[{"$f":"IF(ISBLANK(LOADS!A498),\"\",LOADS!A498)","v":{"$error":"#REF!"}},{"$f":"IF(ISBLANK(LOADS!B498),\"\",LOADS!B498)","v":""},{"$f":"IF(LOADS!$AC498=\"BUS\",IF(LOADS!$AE498=C$1,1,0),0)","v":0},{"$f":"IF(LOADS!$AC498=\"BUS\",IF(LOADS!$AE498=D$1,1,0),0)","v":0},{"$f":"IF(LOADS!$AC498=\"BUS\",IF(LOADS!$AE498=E$1,1,0),0)","v":0},{"$f":"IF(LOADS!$AC498=\"BUS\",IF(LOADS!$AE498=F$1,1,0),0)","v":0},{"$f":"IF(LOADS!$AC498=\"BUS\",IF(LOADS!$AE498=G$1,1,0),0)","v":0},{"$f":"IF(LOADS!$AC498=\"BUS\",IF(LOADS!$AE498=H$1,1,0),0)","v":0},{"$f":"IF(LOADS!$AC498=\"BUS\",IF(LOADS!$AE498=I$1,1,0),0)","v":0},0,{"$f":"LOADS!AM498","v":0}]
[{"$f":"IF(ISBLANK(LOADS!A499),\"\",LOADS!A499)","v":{"$error":"#REF!"}},{"$f":"IF(ISBLANK(LOADS!B499),\"\",LOADS!B499)","v":""},{"$f":"IF(LOADS!$AC499=\"BUS\",IF(LOADS!$AE499=C$1,1,0),0)","v":0},{"$f":"IF(LOADS!$AC499=\"BUS\",IF(LOADS!$AE499=D$1,1,0),0)","v":0},{"$f":"IF(LOADS!$AC499=\"BUS\",IF(LOADS!$AE499=E$1,1,0),0)","v":0},{"$f":"IF(LOADS!$AC499=\"BUS\",IF(LOADS!$AE499=F$1,1,0),0)","v":0},{"$f":"IF(LOADS!$AC499=\"BUS\",IF(LOADS!$AE499=G$1,1,0),0)","v":0},{"$f":"IF(LOADS!$AC499=\"BUS\",IF(LOADS!$AE499=H$1,1,0),0)","v":0},{"$f":"IF(LOADS!$AC499=\"BUS\",IF(LOADS!$AE499=I$1,1,0),0)","v":0},0,{"$f":"LOADS!AM499","v":0}]
[{"$f":"IF(ISBLANK(LOADS!A500),\"\",LOADS!A500)","v":{"$error":"#REF!"}},{"$f":"IF(ISBLANK(LOADS!B500),\"\",LOADS!B500)","v":""},{"$f":"IF(LOADS!$AC500=\"BUS\",IF(LOADS!$AE500=C$1,1,0),0)","v":0},{"$f":"IF(LOADS!$AC500=\"BUS\",IF(LOADS!$AE500=D$1,1,0),0)","v":0},{"$f":"IF(LOADS!$AC500=\"BUS\",IF(LOADS!$AE500=E$1,1,0),0)","v":0},{"$f":"IF(LOADS!$AC500=\"BUS\",IF(LOADS!$AE500=F$1,1,0),0)","v":0},{"$f":"IF(LOADS!$AC500=\"BUS\",IF(LOADS!$AE500=G$1,1,0),0)","v":0},{"$f":"IF(LOADS!$AC500=\"BUS\",IF(LOADS!$AE500=H$1,1,0),0)","v":0},{"$f":"IF(LOADS!$AC500=\"BUS\",IF(LOADS!$AE500=I$1,1,0),0)","v":0},0,{"$f":"LOADS!AM500","v":0}]
[{"$f":"IF(ISBLANK(LOADS!A501),\"\",LOADS!A501)","v":{"$error":"#REF!"}},{"$f":"IF(ISBLANK(LOADS!B501),\"\",LOADS!B501)","v":""},{"$f":"IF(LOADS!$AC501=\"BUS\",IF(LOADS!$AE501=C$1,1,0),0)","v":0},{"$f":"IF(LOADS!$AC501=\"BUS\",IF(LOADS!$AE501=D$1,1,0),0)","v":0},{"$f":"IF(LOADS!$AC501=\"BUS\",IF(LOADS!$AE501=E$1,1,0),0)","v":0},{"$f":"IF(LOADS!$AC501=\"BUS\",IF(LOADS!$AE501=F$1,1,0),0)","v":0},{"$f":"IF(LOADS!$AC501=\"BUS\",IF(LOADS!$AE501=G$1,1,0),0)","v":0},{"$f":"IF(LOADS!$AC501=\"BUS\",IF(LOADS!$AE501=H$1,1,0),0)","v":0},{"$f":"IF(LOADS!$AC501=\"BUS\",IF(LOADS!$AE501=I$1,1,0),0)","v":0},0,{"$f":"LOADS!AM501","v":0}]
[{"$f":"IF(ISBLANK(LOADS!A502),\"\",LOADS!A502)","v":{"$error":"#REF!"}},{"$f":"IF(ISBLANK(LOADS!B502),\"\",LOADS!B502)","v":""},{"$f":"IF(LOADS!$AC502=\"BUS\",IF(LOADS!$AE502=C$1,1,0),0)","v":0},{"$f":"IF(LOADS!$AC502=\"BUS\",IF(LOADS!$AE502=D$1,1,0),0)","v":0},{"$f":"IF(LOADS!$AC502=\"BUS\",IF(LOADS!$AE502=E$1,1,0),0)","v":0},{"$f":"IF(LOADS!$AC502=\"BUS\",IF(LOADS!$AE502=F$1,1,0),0)","v":0},{"$f":"IF(LOADS!$AC502=\"BUS\",IF(LOADS!$AE502=G$1,1,0),0)","v":0},{"$f":"IF(LOADS!$AC502=\"BUS\",IF(LOADS!$AE502=H$1,1,0),0)","v":0},{"$f":"IF(LOADS!$AC502=\"BUS\",IF(LOADS!$AE502=I$1,1,0),0)","v":0},0,{"$f":"LOADS!AM502","v":0}]
[{"$f":"IF(ISBLANK(LOADS!A503),\"\",LOADS!A503)","v":{"$error":"#REF!"}},{"$f":"IF(ISBLANK(LOADS!B503),\"\",LOADS!B503)","v":""},{"$f":"IF(LOADS!$AC503=\"BUS\",IF(LOADS!$AE503=C$1,1,0),0)","v":0},{"$f":"IF(LOADS!$AC503=\"BUS\",IF(LOADS!$AE503=D$1,1,0),0)","v":0},{"$f":"IF(LOADS!$AC503=\"BUS\",IF(LOADS!$AE503=E$1,1,0),0)","v":0},{"$f":"IF(LOADS!$AC503=\"BUS\",IF(LOADS!$AE503=F$1,1,0),0)","v":0},{"$f":"IF(LOADS!$AC503=\"BUS\",IF(LOADS!$AE503=G$1,1,0),0)","v":0},{"$f":"IF(LOADS!$AC503=\"BUS\",IF(LOADS!$AE503=H$1,1,0),0)","v":0},{"$f":"IF(LOADS!$AC503=\"BUS\",IF(LOADS!$AE503=I$1,1,0),0)","v":0},0,{"$f":"LOADS!AM503","v":0}]
[{"$f":"IF(ISBLANK(LOADS!A504),\"\",LOADS!A504)","v":{"$error":"#REF!"}},{"$f":"IF(ISBLANK(LOADS!B504),\"\",LOADS!B504)","v":""},{"$f":"IF(LOADS!$AC504=\"BUS\",IF(LOADS!$AE504=C$1,1,0),0)","v":0},{"$f":"IF(LOADS!$AC504=\"BUS\",IF(LOADS!$AE504=D$1,1,0),0)","v":0},{"$f":"IF(LOADS!$AC504=\"BUS\",IF(LOADS!$AE504=E$1,1,0),0)","v":0},{"$f":"IF(LOADS!$AC504=\"BUS\",IF(LOADS!$AE504=F$1,1,0),0)","v":0},{"$f":"IF(LOADS!$AC504=\"BUS\",IF(LOADS!$AE504=G$1,1,0),0)","v":0},{"$f":"IF(LOADS!$AC504=\"BUS\",IF(LOADS!$AE504=H$1,1,0),0)","v":0},{"$f":"IF(LOADS!$AC504=\"BUS\",IF(LOADS!$AE504=I$1,1,0),0)","v":0},0,{"$f":"LOADS!AM504","v":0}]
[{"$f":"IF(ISBLANK(LOADS!A505),\"\",LOADS!A505)","v":{"$error":"#REF!"}},{"$f":"IF(ISBLANK(LOADS!B505),\"\",LOADS!B505)","v":""},{"$f":"IF(LOADS!$AC505=\"BUS\",IF(LOADS!$AE505=C$1,1,0),0)","v":0},{"$f":"IF(LOADS!$AC505=\"BUS\",IF(LOADS!$AE505=D$1,1,0),0)","v":0},{"$f":"IF(LOADS!$AC505=\"BUS\",IF(LOADS!$AE505=E$1,1,0),0)","v":0},{"$f":"IF(LOADS!$AC505=\"BUS\",IF(LOADS!$AE505=F$1,1,0),0)","v":0},{"$f":"IF(LOADS!$AC505=\"BUS\",IF(LOADS!$AE505=G$1,1,0),0)","v":0},{"$f":"IF(LOADS!$AC505=\"BUS\",IF(LOADS!$AE505=H$1,1,0),0)","v":0},{"$f":"IF(LOADS!$AC505=\"BUS\",IF(LOADS!$AE505=I$1,1,0),0)","v":0},0,{"$f":"LOADS!AM505","v":0}]
[{"$f":"IF(ISBLANK(LOADS!A506),\"\",LOADS!A506)","v":{"$error":"#REF!"}},{"$f":"IF(ISBLANK(LOADS!B506),\"\",LOADS!B506)","v":""},{"$f":"IF(LOADS!$AC506=\"BUS\",IF(LOADS!$AE506=C$1,1,0),0)","v":0},{"$f":"IF(LOADS!$AC506=\"BUS\",IF(LOADS!$AE506=D$1,1,0),0)","v":0},{"$f":"IF(LOADS!$AC506=\"BUS\",IF(LOADS!$AE506=E$1,1,0),0)","v":0},{"$f":"IF(LOADS!$AC506=\"BUS\",IF(LOADS!$AE506=F$1,1,0),0)","v":0},{"$f":"IF(LOADS!$AC506=\"BUS\",IF(LOADS!$AE506=G$1,1,0),0)","v":0},{"$f":"IF(LOADS!$AC506=\"BUS\",IF(LOADS!$AE506=H$1,1,0),0)","v":0},{"$f":"IF(LOADS!$AC506=\"BUS\",IF(LOADS!$AE506=I$1,1,0),0)","v":0},0,{"$f":"LOADS!AM506","v":0}]
[{"$f":"IF(ISBLANK(LOADS!A507),\"\",LOADS!A507)","v":{"$error":"#REF!"}},{"$f":"IF(ISBLANK(LOADS!B507),\"\",LOADS!B507)","v":""},{"$f":"IF(LOADS!$AC507=\"BUS\",IF(LOADS!$AE507=C$1,1,0),0)","v":0},{"$f":"IF(LOADS!$AC507=\"BUS\",IF(LOADS!$AE507=D$1,1,0),0)","v":0},{"$f":"IF(LOADS!$AC507=\"BUS\",IF(LOADS!$AE507=E$1,1,0),0)","v":0},{"$f":"IF(LOADS!$AC507=\"BUS\",IF(LOADS!$AE507=F$1,1,0),0)","v":0},{"$f":"IF(LOADS!$AC507=\"BUS\",IF(LOADS!$AE507=G$1,1,0),0)","v":0},{"$f":"IF(LOADS!$AC507=\"BUS\",IF(LOADS!$AE507=H$1,1,0),0)","v":0},{"$f":"IF(LOADS!$AC507=\"BUS\",IF(LOADS!$AE507=I$1,1,0),0)","v":0},0,{"$f":"LOADS!AM507","v":0}]
[{"$f":"IF(ISBLANK(LOADS!A508),\"\",LOADS!A508)","v":{"$error":"#REF!"}},{"$f":"IF(ISBLANK(LOADS!B508),\"\",LOADS!B508)","v":""},{"$f":"IF(LOADS!$AC508=\"BUS\",IF(LOADS!$AE508=C$1,1,0),0)","v":0},{"$f":"IF(LOADS!$AC508=\"BUS\",IF(LOADS!$AE508=D$1,1,0),0)","v":0},{"$f":"IF(LOADS!$AC508=\"BUS\",IF(LOADS!$AE508=E$1,1,0),0)","v":0},{"$f":"IF(LOADS!$AC508=\"BUS\",IF(LOADS!$AE508=F$1,1,0),0)","v":0},{"$f":"IF(LOADS!$AC508=\"BUS\",IF(LOADS!$AE508=G$1,1,0),0)","v":0},{"$f":"IF(LOADS!$AC508=\"BUS\",IF(LOADS!$AE508=H$1,1,0),0)","v":0},{"$f":"IF(LOADS!$AC508=\"BUS\",IF(LOADS!$AE508=I$1,1,0),0)","v":0},0,{"$f":"LOADS!AM508","v":0}]
[{"$f":"IF(ISBLANK(LOADS!A509),\"\",LOADS!A509)","v":{"$error":"#REF!"}},{"$f":"IF(ISBLANK(LOADS!B509),\"\",LOADS!B509)","v":""},{"$f":"IF(LOADS!$AC509=\"BUS\",IF(LOADS!$AE509=C$1,1,0),0)","v":0},{"$f":"IF(LOADS!$AC509=\"BUS\",IF(LOADS!$AE509=D$1,1,0),0)","v":0},{"$f":"IF(LOADS!$AC509=\"BUS\",IF(LOADS!$AE509=E$1,1,0),0)","v":0},{"$f":"IF(LOADS!$AC509=\"BUS\",IF(LOADS!$AE509=F$1,1,0),0)","v":0},{"$f":"IF(LOADS!$AC509=\"BUS\",IF(LOADS!$AE509=G$1,1,0),0)","v":0},{"$f":"IF(LOADS!$AC509=\"BUS\",IF(LOADS!$AE509=H$1,1,0),0)","v":0},{"$f":"IF(LOADS!$AC509=\"BUS\",IF(LOADS!$AE509=I$1,1,0),0)","v":0},0,{"$f":"LOADS!AM509","v":0}]
[{"$f":"IF(ISBLANK(LOADS!A510),\"\",LOADS!A510)","v":{"$error":"#REF!"}},{"$f":"IF(ISBLANK(LOADS!B510),\"\",LOADS!B510)","v":""},{"$f":"IF(LOADS!$AC510=\"BUS\",IF(LOADS!$AE510=C$1,1,0),0)","v":0},{"$f":"IF(LOADS!$AC510=\"BUS\",IF(LOADS!$AE510=D$1,1,0),0)","v":0},{"$f":"IF(LOADS!$AC510=\"BUS\",IF(LOADS!$AE510=E$1,1,0),0)","v":0},{"$f":"IF(LOADS!$AC510=\"BUS\",IF(LOADS!$AE510=F$1,1,0),0)","v":0},{"$f":"IF(LOADS!$AC510=\"BUS\",IF(LOADS!$AE510=G$1,1,0),0)","v":0},{"$f":"IF(LOADS!$AC510=\"BUS\",IF(LOADS!$AE510=H$1,1,0),0)","v":0},{"$f":"IF(LOADS!$AC510=\"BUS\",IF(LOADS!$AE510=I$1,1,0),0)","v":0},0,{"$f":"LOADS!AM510","v":0}]
[{"$f":"IF(ISBLANK(LOADS!A511),\"\",LOADS!A511)","v":{"$error":"#REF!"}},{"$f":"IF(ISBLANK(LOADS!B511),\"\",LOADS!B511)","v":""},{"$f":"IF(LOADS!$AC511=\"BUS\",IF(LOADS!$AE511=C$1,1,0),0)","v":0},{"$f":"IF(LOADS!$AC511=\"BUS\",IF(LOADS!$AE511=D$1,1,0),0)","v":0},{"$f":"IF(LOADS!$AC511=\"BUS\",IF(LOADS!$AE511=E$1,1,0),0)","v":0},{"$f":"IF(LOADS!$AC511=\"BUS\",IF(LOADS!$AE511=F$1,1,0),0)","v":0},{"$f":"IF(LOADS!$AC511=\"BUS\",IF(LOADS!$AE511=G$1,1,0),0)","v":0},{"$f":"IF(LOADS!$AC511=\"BUS\",IF(LOADS!$AE511=H$1,1,0),0)","v":0},{"$f":"IF(LOADS!$AC511=\"BUS\",IF(LOADS!$AE511=I$1,1,0),0)","v":0},0,{"$f":"LOADS!AM511","v":0}]
[{"$f":"IF(ISBLANK(LOADS!A512),\"\",LOADS!A512)","v":{"$error":"#REF!"}},{"$f":"IF(ISBLANK(LOADS!B512),\"\",LOADS!B512)","v":""},{"$f":"IF(LOADS!$AC512=\"BUS\",IF(LOADS!$AE512=C$1,1,0),0)","v":0},{"$f":"IF(LOADS!$AC512=\"BUS\",IF(LOADS!$AE512=D$1,1,0),0)","v":0},{"$f":"IF(LOADS!$AC512=\"BUS\",IF(LOADS!$AE512=E$1,1,0),0)","v":0},{"$f":"IF(LOADS!$AC512=\"BUS\",IF(LOADS!$AE512=F$1,1,0),0)","v":0},{"$f":"IF(LOADS!$AC512=\"BUS\",IF(LOADS!$AE512=G$1,1,0),0)","v":0},{"$f":"IF(LOADS!$AC512=\"BUS\",IF(LOADS!$AE512=H$1,1,0),0)","v":0},{"$f":"IF(LOADS!$AC512=\"BUS\",IF(LOADS!$AE512=I$1,1,0),0)","v":0},0,{"$f":"LOADS!AM512","v":0}]
[{"$f":"IF(ISBLANK(LOADS!A513),\"\",LOADS!A513)","v":{"$error":"#REF!"}},{"$f":"IF(ISBLANK(LOADS!B513),\"\",LOADS!B513)","v":""},{"$f":"IF(LOADS!$AC513=\"BUS\",IF(LOADS!$AE513=C$1,1,0),0)","v":0},{"$f":"IF(LOADS!$AC513=\"BUS\",IF(LOADS!$AE513=D$1,1,0),0)","v":0},{"$f":"IF(LOADS!$AC513=\"BUS\",IF(LOADS!$AE513=E$1,1,0),0)","v":0},{"$f":"IF(LOADS!$AC513=\"BUS\",IF(LOADS!$AE513=F$1,1,0),0)","v":0},{"$f":"IF(LOADS!$AC513=\"BUS\",IF(LOADS!$AE513=G$1,1,0),0)","v":0},{"$f":"IF(LOADS!$AC513=\"BUS\",IF(LOADS!$AE513=H$1,1,0),0)","v":0},{"$f":"IF(LOADS!$AC513=\"BUS\",IF(LOADS!$AE513=I$1,1,0),0)","v":0},0,{"$f":"LOADS!AM513","v":0}]
[{"$f":"IF(ISBLANK(LOADS!A514),\"\",LOADS!A514)","v":{"$error":"#REF!"}},{"$f":"IF(ISBLANK(LOADS!B514),\"\",LOADS!B514)","v":""},{"$f":"IF(LOADS!$AC514=\"BUS\",IF(LOADS!$AE514=C$1,1,0),0)","v":0},{"$f":"IF(LOADS!$AC514=\"BUS\",IF(LOADS!$AE514=D$1,1,0),0)","v":0},{"$f":"IF(LOADS!$AC514=\"BUS\",IF(LOADS!$AE514=E$1,1,0),0)","v":0},{"$f":"IF(LOADS!$AC514=\"BUS\",IF(LOADS!$AE514=F$1,1,0),0)","v":0},{"$f":"IF(LOADS!$AC514=\"BUS\",IF(LOADS!$AE514=G$1,1,0),0)","v":0},{"$f":"IF(LOADS!$AC514=\"BUS\",IF(LOADS!$AE514=H$1,1,0),0)","v":0},{"$f":"IF(LOADS!$AC514=\"BUS\",IF(LOADS!$AE514=I$1,1,0),0)","v":0},{"$f":"SUM(C517:I517)","v":0},{"$f":"LOADS!AM514","v":0}]
[{"$f":"IF(ISBLANK(LOADS!A515),\"\",LOADS!A515)","v":{"$error":"#REF!"}},{"$f":"IF(ISBLANK(LOADS!B515),\"\",LOADS!B515)","v":""},{"$f":"IF(LOADS!$AC515=\"BUS\",IF(LOADS!$AE515=C$1,1,0),0)","v":0},{"$f":"IF(LOADS!$AC515=\"BUS\",IF(LOADS!$AE515=D$1,1,0),0)","v":0},{"$f":"IF(LOADS!$AC515=\"BUS\",IF(LOADS!$AE515=E$1,1,0),0)","v":0},{"$f":"IF(LOADS!$AC515=\"BUS\",IF(LOADS!$AE515=F$1,1,0),0)","v":0},{"$f":"IF(LOADS!$AC515=\"BUS\",IF(LOADS!$AE515=G$1,1,0),0)","v":0},{"$f":"IF(LOADS!$AC515=\"BUS\",IF(LOADS!$AE515=H$1,1,0),0)","v":0},{"$f":"IF(LOADS!$AC515=\"BUS\",IF(LOADS!$AE515=I$1,1,0),0)","v":0},0,{"$f":"LOADS!AM515","v":0}]
[{"$f":"IF(ISBLANK(LOADS!A516),\"\",LOADS!A516)","v":{"$error":"#REF!"}},{"$f":"IF(ISBLANK(LOADS!B516),\"\",LOADS!B516)","v":""},{"$f":"IF(LOADS!$AC516=\"BUS\",IF(LOADS!$AE516=C$1,1,0),0)","v":0},{"$f":"IF(LOADS!$AC516=\"BUS\",IF(LOADS!$AE516=D$1,1,0),0)","v":0},{"$f":"IF(LOADS!$AC516=\"BUS\",IF(LOADS!$AE516=E$1,1,0),0)","v":0},{"$f":"IF(LOADS!$AC516=\"BUS\",IF(LOADS!$AE516=F$1,1,0),0)","v":0},{"$f":"IF(LOADS!$AC516=\"BUS\",IF(LOADS!$AE516=G$1,1,0),0)","v":0},{"$f":"IF(LOADS!$AC516=\"BUS\",IF(LOADS!$AE516=H$1,1,0),0)","v":0},{"$f":"IF(LOADS!$AC516=\"BUS\",IF(LOADS!$AE516=I$1,1,0),0)","v":0},0,{"$f":"LOADS!AM516","v":0}]
[{"$f":"IF(ISBLANK(LOADS!A517),\"\",LOADS!A517)","v":{"$error":"#REF!"}},{"$f":"IF(ISBLANK(LOADS!B517),\"\",LOADS!B517)","v":""},{"$f":"IF(LOADS!$AC517=\"BUS\",IF(LOADS!$AE517=C$1,1,0),0)","v":0},{"$f":"IF(LOADS!$AC517=\"BUS\",IF(LOADS!$AE517=D$1,1,0),0)","v":0},{"$f":"IF(LOADS!$AC517=\"BUS\",IF(LOADS!$AE517=E$1,1,0),0)","v":0},{"$f":"IF(LOADS!$AC517=\"BUS\",IF(LOADS!$AE517=F$1,1,0),0)","v":0},{"$f":"IF(LOADS!$AC517=\"BUS\",IF(LOADS!$AE517=G$1,1,0),0)","v":0},{"$f":"IF(LOADS!$AC517=\"BUS\",IF(LOADS!$AE517=H$1,1,0),0)","v":0},{"$f":"IF(LOADS!$AC517=\"BUS\",IF(LOADS!$AE517=I$1,1,0),0)","v":0},0,{"$f":"LOADS!AM517","v":0}]
[{"$f":"IF(ISBLANK(LOADS!A518),\"\",LOADS!A518)","v":{"$error":"#REF!"}},{"$f":"IF(ISBLANK(LOADS!B518),\"\",LOADS!B518)","v":""},{"$f":"IF(LOADS!$AC518=\"BUS\",IF(LOADS!$AE518=C$1,1,0),0)","v":0},{"$f":"IF(LOADS!$AC518=\"BUS\",IF(LOADS!$AE518=D$1,1,0),0)","v":0},{"$f":"IF(LOADS!$AC518=\"BUS\",IF(LOADS!$AE518=E$1,1,0),0)","v":0},{"$f":"IF(LOADS!$AC518=\"BUS\",IF(LOADS!$AE518=F$1,1,0),0)","v":0},{"$f":"IF(LOADS!$AC518=\"BUS\",IF(LOADS!$AE518=G$1,1,0),0)","v":0},{"$f":"IF(LOADS!$AC518=\"BUS\",IF(LOADS!$AE518=H$1,1,0),0)","v":0},{"$f":"IF(LOADS!$AC518=\"BUS\",IF(LOADS!$AE518=I$1,1,0),0)","v":0},0,{"$f":"LOADS!AM518","v":0}]
[{"$f":"IF(ISBLANK(LOADS!A519),\"\",LOADS!A519)","v":{"$error":"#REF!"}},{"$f":"IF(ISBLANK(LOADS!B519),\"\",LOADS!B519)","v":""},{"$f":"IF(LOADS!$AC519=\"BUS\",IF(LOADS!$AE519=C$1,1,0),0)","v":0},{"$f":"IF(LOADS!$AC519=\"BUS\",IF(LOADS!$AE519=D$1,1,0),0)","v":0},{"$f":"IF(LOADS!$AC519=\"BUS\",IF(LOADS!$AE519=E$1,1,0),0)","v":0},{"$f":"IF(LOADS!$AC519=\"BUS\",IF(LOADS!$AE519=F$1,1,0),0)","v":0},{"$f":"IF(LOADS!$AC519=\"BUS\",IF(LOADS!$AE519=G$1,1,0),0)","v":0},{"$f":"IF(LOADS!$AC519=\"BUS\",IF(LOADS!$AE519=H$1,1,0),0)","v":0},{"$f":"IF(LOADS!$AC519=\"BUS\",IF(LOADS!$AE519=I$1,1,0),0)","v":0},0,{"$f":"LOADS!AM519","v":0}]
[{"$f":"IF(ISBLANK(LOADS!A520),\"\",LOADS!A520)","v":{"$error":"#REF!"}},{"$f":"IF(ISBLANK(LOADS!B520),\"\",LOADS!B520)","v":""},{"$f":"IF(LOADS!$AC520=\"BUS\",IF(LOADS!$AE520=C$1,1,0),0)","v":0},{"$f":"IF(LOADS!$AC520=\"BUS\",IF(LOADS!$AE520=D$1,1,0),0)","v":0},{"$f":"IF(LOADS!$AC520=\"BUS\",IF(LOADS!$AE520=E$1,1,0),0)","v":0},{"$f":"IF(LOADS!$AC520=\"BUS\",IF(LOADS!$AE520=F$1,1,0),0)","v":0},{"$f":"IF(LOADS!$AC520=\"BUS\",IF(LOADS!$AE520=G$1,1,0),0)","v":0},{"$f":"IF(LOADS!$AC520=\"BUS\",IF(LOADS!$AE520=H$1,1,0),0)","v":0},{"$f":"IF(LOADS!$AC520=\"BUS\",IF(LOADS!$AE520=I$1,1,0),0)","v":0},0,{"$f":"LOADS!AM520","v":0}]
[{"$f":"IF(ISBLANK(LOADS!A521),\"\",LOADS!A521)","v":{"$error":"#REF!"}},{"$f":"IF(ISBLANK(LOADS!B521),\"\",LOADS!B521)","v":""},{"$f":"IF(LOADS!$AC521=\"BUS\",IF(LOADS!$AE521=C$1,1,0),0)","v":0},{"$f":"IF(LOADS!$AC521=\"BUS\",IF(LOADS!$AE521=D$1,1,0),0)","v":0},{"$f":"IF(LOADS!$AC521=\"BUS\",IF(LOADS!$AE521=E$1,1,0),0)","v":0},{"$f":"IF(LOADS!$AC521=\"BUS\",IF(LOADS!$AE521=F$1,1,0),0)","v":0},{"$f":"IF(LOADS!$AC521=\"BUS\",IF(LOADS!$AE521=G$1,1,0),0)","v":0},{"$f":"IF(LOADS!$AC521=\"BUS\",IF(LOADS!$AE521=H$1,1,0),0)","v":0},{"$f":"IF(LOADS!$AC521=\"BUS\",IF(LOADS!$AE521=I$1,1,0),0)","v":0},0,{"$f":"LOADS!AM521","v":0}]
[{"$f":"IF(ISBLANK(LOADS!A522),\"\",LOADS!A522)","v":{"$error":"#REF!"}},{"$f":"IF(ISBLANK(LOADS!B522),\"\",LOADS!B522)","v":""},{"$f":"IF(LOADS!$AC522=\"BUS\",IF(LOADS!$AE522=C$1,1,0),0)","v":0},{"$f":"IF(LOADS!$AC522=\"BUS\",IF(LOADS!$AE522=D$1,1,0),0)","v":0},{"$f":"IF(LOADS!$AC522=\"BUS\",IF(LOADS!$AE522=E$1,1,0),0)","v":0},{"$f":"IF(LOADS!$AC522=\"BUS\",IF(LOADS!$AE522=F$1,1,0),0)","v":0},{"$f":"IF(LOADS!$AC522=\"BUS\",IF(LOADS!$AE522=G$1,1,0),0)","v":0},{"$f":"IF(LOADS!$AC522=\"BUS\",IF(LOADS!$AE522=H$1,1,0),0)","v":0},{"$f":"IF(LOADS!$AC522=\"BUS\",IF(LOADS!$AE522=I$1,1,0),0)","v":0},0,{"$f":"LOADS!AM522","v":0}]
[{"$f":"IF(ISBLANK(LOADS!A523),\"\",LOADS!A523)","v":{"$error":"#REF!"}},{"$f":"IF(ISBLANK(LOADS!B523),\"\",LOADS!B523)","v":""},{"$f":"IF(LOADS!$AC523=\"BUS\",IF(LOADS!$AE523=C$1,1,0),0)","v":0},{"$f":"IF(LOADS!$AC523=\"BUS\",IF(LOADS!$AE523=D$1,1,0),0)","v":0},{"$f":"IF(LOADS!$AC523=\"BUS\",IF(LOADS!$AE523=E$1,1,0),0)","v":0},{"$f":"IF(LOADS!$AC523=\"BUS\",IF(LOADS!$AE523=F$1,1,0),0)","v":0},{"$f":"IF(LOADS!$AC523=\"BUS\",IF(LOADS!$AE523=G$1,1,0),0)","v":0},{"$f":"IF(LOADS!$AC523=\"BUS\",IF(LOADS!$AE523=H$1,1,0),0)","v":0},{"$f":"IF(LOADS!$AC523=\"BUS\",IF(LOADS!$AE523=I$1,1,0),0)","v":0},0,{"$f":"LOADS!AM523","v":0}]
[{"$f":"IF(ISBLANK(LOADS!A524),\"\",LOADS!A524)","v":{"$error":"#REF!"}},{"$f":"IF(ISBLANK(LOADS!B524),\"\",LOADS!B524)","v":""},{"$f":"IF(LOADS!$AC524=\"BUS\",IF(LOADS!$AE524=C$1,1,0),0)","v":0},{"$f":"IF(LOADS!$AC524=\"BUS\",IF(LOADS!$AE524=D$1,1,0),0)","v":0},{"$f":"IF(LOADS!$AC524=\"BUS\",IF(LOADS!$AE524=E$1,1,0),0)","v":0},{"$f":"IF(LOADS!$AC524=\"BUS\",IF(LOADS!$AE524=F$1,1,0),0)","v":0},{"$f":"IF(LOADS!$AC524=\"BUS\",IF(LOADS!$AE524=G$1,1,0),0)","v":0},{"$f":"IF(LOADS!$AC524=\"BUS\",IF(LOADS!$AE524=H$1,1,0),0)","v":0},{"$f":"IF(LOADS!$AC524=\"BUS\",IF(LOADS!$AE524=I$1,1,0),0)","v":0},0,{"$f":"LOADS!AM524","v":0}]
[{"$f":"IF(ISBLANK(LOADS!A525),\"\",LOADS!A525)","v":{"$error":"#REF!"}},{"$f":"IF(ISBLANK(LOADS!B525),\"\",LOADS!B525)","v":""},{"$f":"IF(LOADS!$AC525=\"BUS\",IF(LOADS!$AE525=C$1,1,0),0)","v":0},{"$f":"IF(LOADS!$AC525=\"BUS\",IF(LOADS!$AE525=D$1,1,0),0)","v":0},{"$f":"IF(LOADS!$AC525=\"BUS\",IF(LOADS!$AE525=E$1,1,0),0)","v":0},{"$f":"IF(LOADS!$AC525=\"BUS\",IF(LOADS!$AE525=F$1,1,0),0)","v":0},{"$f":"IF(LOADS!$AC525=\"BUS\",IF(LOADS!$AE525=G$1,1,0),0)","v":0},{"$f":"IF(LOADS!$AC525=\"BUS\",IF(LOADS!$AE525=H$1,1,0),0)","v":0},{"$f":"IF(LOADS!$AC525=\"BUS\",IF(LOADS!$AE525=I$1,1,0),0)","v":0},0,{"$f":"LOADS!AM525","v":0}]
[{"$f":"IF(ISBLANK(LOADS!A526),\"\",LOADS!A526)","v":{"$error":"#REF!"}},{"$f":"IF(ISBLANK(LOADS!B526),\"\",LOADS!B526)","v":""},{"$f":"IF(LOADS!$AC526=\"BUS\",IF(LOADS!$AE526=C$1,1,0),0)","v":0},{"$f":"IF(LOADS!$AC526=\"BUS\",IF(LOADS!$AE526=D$1,1,0),0)","v":0},{"$f":"IF(LOADS!$AC526=\"BUS\",IF(LOADS!$AE526=E$1,1,0),0)","v":0},{"$f":"IF(LOADS!$AC526=\"BUS\",IF(LOADS!$AE526=F$1,1,0),0)","v":0},{"$f":"IF(LOADS!$AC526=\"BUS\",IF(LOADS!$AE526=G$1,1,0),0)","v":0},{"$f":"IF(LOADS!$AC526=\"BUS\",IF(LOADS!$AE526=H$1,1,0),0)","v":0},{"$f":"IF(LOADS!$AC526=\"BUS\",IF(LOADS!$AE526=I$1,1,0),0)","v":0},0,{"$f":"LOADS!AM526","v":0}]
[{"$f":"IF(ISBLANK(LOADS!A527),\"\",LOADS!A527)","v":{"$error":"#REF!"}},{"$f":"IF(ISBLANK(LOADS!B527),\"\",LOADS!B527)","v":""},{"$f":"IF(LOADS!$AC527=\"BUS\",IF(LOADS!$AE527=C$1,1,0),0)","v":0},{"$f":"IF(LOADS!$AC527=\"BUS\",IF(LOADS!$AE527=D$1,1,0),0)","v":0},{"$f":"IF(LOADS!$AC527=\"BUS\",IF(LOADS!$AE527=E$1,1,0),0)","v":0},{"$f":"IF(LOADS!$AC527=\"BUS\",IF(LOADS!$AE527=F$1,1,0),0)","v":0},{"$f":"IF(LOADS!$AC527=\"BUS\",IF(LOADS!$AE527=G$1,1,0),0)","v":0},{"$f":"IF(LOADS!$AC527=\"BUS\",IF(LOADS!$AE527=H$1,1,0),0)","v":0},{"$f":"IF(LOADS!$AC527=\"BUS\",IF(LOADS!$AE527=I$1,1,0),0)","v":0},0,{"$f":"LOADS!AM527","v":0}]
[{"$f":"IF(ISBLANK(LOADS!A528),\"\",LOADS!A528)","v":{"$error":"#REF!"}},{"$f":"IF(ISBLANK(LOADS!B528),\"\",LOADS!B528)","v":""},{"$f":"IF(LOADS!$AC528=\"BUS\",IF(LOADS!$AE528=C$1,1,0),0)","v":0},{"$f":"IF(LOADS!$AC528=\"BUS\",IF(LOADS!$AE528=D$1,1,0),0)","v":0},{"$f":"IF(LOADS!$AC528=\"BUS\",IF(LOADS!$AE528=E$1,1,0),0)","v":0},{"$f":"IF(LOADS!$AC528=\"BUS\",IF(LOADS!$AE528=F$1,1,0),0)","v":0},{"$f":"IF(LOADS!$AC528=\"BUS\",IF(LOADS!$AE528=G$1,1,0),0)","v":0},{"$f":"IF(LOADS!$AC528=\"BUS\",IF(LOADS!$AE528=H$1,1,0),0)","v":0},{"$f":"IF(LOADS!$AC528=\"BUS\",IF(LOADS!$AE528=I$1,1,0),0)","v":0},0,{"$f":"LOADS!AM528","v":0}]
[{"$f":"IF(ISBLANK(LOADS!A529),\"\",LOADS!A529)","v":{"$error":"#REF!"}},{"$f":"IF(ISBLANK(LOADS!B529),\"\",LOADS!B529)","v":""},{"$f":"IF(LOADS!$AC529=\"BUS\",IF(LOADS!$AE529=C$1,1,0),0)","v":0},{"$f":"IF(LOADS!$AC529=\"BUS\",IF(LOADS!$AE529=D$1,1,0),0)","v":0},{"$f":"IF(LOADS!$AC529=\"BUS\",IF(LOADS!$AE529=E$1,1,0),0)","v":0},{"$f":"IF(LOADS!$AC529=\"BUS\",IF(LOADS!$AE529=F$1,1,0),0)","v":0},{"$f":"IF(LOADS!$AC529=\"BUS\",IF(LOADS!$AE529=G$1,1,0),0)","v":0},{"$f":"IF(LOADS!$AC529=\"BUS\",IF(LOADS!$AE529=H$1,1,0),0)","v":0},{"$f":"IF(LOADS!$AC529=\"BUS\",IF(LOADS!$AE529=I$1,1,0),0)","v":0},0,{"$f":"LOADS!AM529","v":0}]
[{"$f":"IF(ISBLANK(LOADS!A530),\"\",LOADS!A530)","v":{"$error":"#REF!"}},{"$f":"IF(ISBLANK(LOADS!B530),\"\",LOADS!B530)","v":""},{"$f":"IF(LOADS!$AC530=\"BUS\",IF(LOADS!$AE530=C$1,1,0),0)","v":0},{"$f":"IF(LOADS!$AC530=\"BUS\",IF(LOADS!$AE530=D$1,1,0),0)","v":0},{"$f":"IF(LOADS!$AC530=\"BUS\",IF(LOADS!$AE530=E$1,1,0),0)","v":0},{"$f":"IF(LOADS!$AC530=\"BUS\",IF(LOADS!$AE530=F$1,1,0),0)","v":0},{"$f":"IF(LOADS!$AC530=\"BUS\",IF(LOADS!$AE530=G$1,1,0),0)","v":0},{"$f":"IF(LOADS!$AC530=\"BUS\",IF(LOADS!$AE530=H$1,1,0),0)","v":0},{"$f":"IF(LOADS!$AC530=\"BUS\",IF(LOADS!$AE530=I$1,1,0),0)","v":0},0,{"$f":"LOADS!AM530","v":0}]
[{"$f":"IF(ISBLANK(LOADS!A531),\"\",LOADS!A531)","v":{"$error":"#REF!"}},{"$f":"IF(ISBLANK(LOADS!B531),\"\",LOADS!B531)","v":""},{"$f":"IF(LOADS!$AC531=\"BUS\",IF(LOADS!$AE531=C$1,1,0),0)","v":0},{"$f":"IF(LOADS!$AC531=\"BUS\",IF(LOADS!$AE531=D$1,1,0),0)","v":0},{"$f":"IF(LOADS!$AC531=\"BUS\",IF(LOADS!$AE531=E$1,1,0),0)","v":0},{"$f":"IF(LOADS!$AC531=\"BUS\",IF(LOADS!$AE531=F$1,1,0),0)","v":0},{"$f":"IF(LOADS!$AC531=\"BUS\",IF(LOADS!$AE531=G$1,1,0),0)","v":0},{"$f":"IF(LOADS!$AC531=\"BUS\",IF(LOADS!$AE531=H$1,1,0),0)","v":0},{"$f":"IF(LOADS!$AC531=\"BUS\",IF(LOADS!$AE531=I$1,1,0),0)","v":0},0,{"$f":"LOADS!AM531","v":0}]
[{"$f":"IF(ISBLANK(LOADS!A532),\"\",LOADS!A532)","v":{"$error":"#REF!"}},{"$f":"IF(ISBLANK(LOADS!B532),\"\",LOADS!B532)","v":""},{"$f":"IF(LOADS!$AC532=\"BUS\",IF(LOADS!$AE532=C$1,1,0),0)","v":0},{"$f":"IF(LOADS!$AC532=\"BUS\",IF(LOADS!$AE532=D$1,1,0),0)","v":0},{"$f":"IF(LOADS!$AC532=\"BUS\",IF(LOADS!$AE532=E$1,1,0),0)","v":0},{"$f":"IF(LOADS!$AC532=\"BUS\",IF(LOADS!$AE532=F$1,1,0),0)","v":0},{"$f":"IF(LOADS!$AC532=\"BUS\",IF(LOADS!$AE532=G$1,1,0),0)","v":0},{"$f":"IF(LOADS!$AC532=\"BUS\",IF(LOADS!$AE532=H$1,1,0),0)","v":0},{"$f":"IF(LOADS!$AC532=\"BUS\",IF(LOADS!$AE532=I$1,1,0),0)","v":0},0,{"$f":"LOADS!AM532","v":0}]
[{"$f":"IF(ISBLANK(LOADS!A533),\"\",LOADS!A533)","v":{"$error":"#REF!"}},{"$f":"IF(ISBLANK(LOADS!B533),\"\",LOADS!B533)","v":""},{"$f":"IF(LOADS!$AC533=\"BUS\",IF(LOADS!$AE533=C$1,1,0),0)","v":0},{"$f":"IF(LOADS!$AC533=\"BUS\",IF(LOADS!$AE533=D$1,1,0),0)","v":0},{"$f":"IF(LOADS!$AC533=\"BUS\",IF(LOADS!$AE533=E$1,1,0),0)","v":0},{"$f":"IF(LOADS!$AC533=\"BUS\",IF(LOADS!$AE533=F$1,1,0),0)","v":0},{"$f":"IF(LOADS!$AC533=\"BUS\",IF(LOADS!$AE533=G$1,1,0),0)","v":0},{"$f":"IF(LOADS!$AC533=\"BUS\",IF(LOADS!$AE533=H$1,1,0),0)","v":0},{"$f":"IF(LOADS!$AC533=\"BUS\",IF(LOADS!$AE533=I$1,1,0),0)","v":0},0,{"$f":"LOADS!AM533","v":0}]
[{"$f":"IF(ISBLANK(LOADS!A534),\"\",LOADS!A534)","v":{"$error":"#REF!"}},{"$f":"IF(ISBLANK(LOADS!B534),\"\",LOADS!B534)","v":""},{"$f":"IF(LOADS!$AC534=\"BUS\",IF(LOADS!$AE534=C$1,1,0),0)","v":0},{"$f":"IF(LOADS!$AC534=\"BUS\",IF(LOADS!$AE534=D$1,1,0),0)","v":0},{"$f":"IF(LOADS!$AC534=\"BUS\",IF(LOADS!$AE534=E$1,1,0),0)","v":0},{"$f":"IF(LOADS!$AC534=\"BUS\",IF(LOADS!$AE534=F$1,1,0),0)","v":0},{"$f":"IF(LOADS!$AC534=\"BUS\",IF(LOADS!$AE534=G$1,1,0),0)","v":0},{"$f":"IF(LOADS!$AC534=\"BUS\",IF(LOADS!$AE534=H$1,1,0),0)","v":0},{"$f":"IF(LOADS!$AC534=\"BUS\",IF(LOADS!$AE534=I$1,1,0),0)","v":0},0,{"$f":"LOADS!AM534","v":0}]
[{"$f":"IF(ISBLANK(LOADS!A535),\"\",LOADS!A535)","v":{"$error":"#REF!"}},{"$f":"IF(ISBLANK(LOADS!B535),\"\",LOADS!B535)","v":""},{"$f":"IF(LOADS!$AC535=\"BUS\",IF(LOADS!$AE535=C$1,1,0),0)","v":0},{"$f":"IF(LOADS!$AC535=\"BUS\",IF(LOADS!$AE535=D$1,1,0),0)","v":0},{"$f":"IF(LOADS!$AC535=\"BUS\",IF(LOADS!$AE535=E$1,1,0),0)","v":0},{"$f":"IF(LOADS!$AC535=\"BUS\",IF(LOADS!$AE535=F$1,1,0),0)","v":0},{"$f":"IF(LOADS!$AC535=\"BUS\",IF(LOADS!$AE535=G$1,1,0),0)","v":0},{"$f":"IF(LOADS!$AC535=\"BUS\",IF(LOADS!$AE535=H$1,1,0),0)","v":0},{"$f":"IF(LOADS!$AC535=\"BUS\",IF(LOADS!$AE535=I$1,1,0),0)","v":0},0,{"$f":"LOADS!AM535","v":0}]
[{"$f":"IF(ISBLANK(LOADS!A536),\"\",LOADS!A536)","v":{"$error":"#REF!"}},{"$f":"IF(ISBLANK(LOADS!B536),\"\",LOADS!B536)","v":""},{"$f":"IF(LOADS!$AC536=\"BUS\",IF(LOADS!$AE536=C$1,1,0),0)","v":0},{"$f":"IF(LOADS!$AC536=\"BUS\",IF(LOADS!$AE536=D$1,1,0),0)","v":0},{"$f":"IF(LOADS!$AC536=\"BUS\",IF(LOADS!$AE536=E$1,1,0),0)","v":0},{"$f":"IF(LOADS!$AC536=\"BUS\",IF(LOADS!$AE536=F$1,1,0),0)","v":0},{"$f":"IF(LOADS!$AC536=\"BUS\",IF(LOADS!$AE536=G$1,1,0),0)","v":0},{"$f":"IF(LOADS!$AC536=\"BUS\",IF(LOADS!$AE536=H$1,1,0),0)","v":0},{"$f":"IF(LOADS!$AC536=\"BUS\",IF(LOADS!$AE536=I$1,1,0),0)","v":0},0,{"$f":"LOADS!AM536","v":0}]
[{"$f":"IF(ISBLANK(LOADS!A537),\"\",LOADS!A537)","v":{"$error":"#REF!"}},{"$f":"IF(ISBLANK(LOADS!B537),\"\",LOADS!B537)","v":""},{"$f":"IF(LOADS!$AC537=\"BUS\",IF(LOADS!$AE537=C$1,1,0),0)","v":0},{"$f":"IF(LOADS!$AC537=\"BUS\",IF(LOADS!$AE537=D$1,1,0),0)","v":0},{"$f":"IF(LOADS!$AC537=\"BUS\",IF(LOADS!$AE537=E$1,1,0),0)","v":0},{"$f":"IF(LOADS!$AC537=\"BUS\",IF(LOADS!$AE537=F$1,1,0),0)","v":0},{"$f":"IF(LOADS!$AC537=\"BUS\",IF(LOADS!$AE537=G$1,1,0),0)","v":0},{"$f":"IF(LOADS!$AC537=\"BUS\",IF(LOADS!$AE537=H$1,1,0),0)","v":0},{"$f":"IF(LOADS!$AC537=\"BUS\",IF(LOADS!$AE537=I$1,1,0),0)","v":0},0,{"$f":"LOADS!AM537","v":0}]
[{"$f":"IF(ISBLANK(LOADS!A538),\"\",LOADS!A538)","v":{"$error":"#REF!"}},{"$f":"IF(ISBLANK(LOADS!B538),\"\",LOADS!B538)","v":""},{"$f":"IF(LOADS!$AC538=\"BUS\",IF(LOADS!$AE538=C$1,1,0),0)","v":0},{"$f":"IF(LOADS!$AC538=\"BUS\",IF(LOADS!$AE538=D$1,1,0),0)","v":0},{"$f":"IF(LOADS!$AC538=\"BUS\",IF(LOADS!$AE538=E$1,1,0),0)","v":0},{"$f":"IF(LOADS!$AC538=\"BUS\",IF(LOADS!$AE538=F$1,1,0),0)","v":0},{"$f":"IF(LOADS!$AC538=\"BUS\",IF(LOADS!$AE538=G$1,1,0),0)","v":0},{"$f":"IF(LOADS!$AC538=\"BUS\",IF(LOADS!$AE538=H$1,1,0),0)","v":0},{"$f":"IF(LOADS!$AC538=\"BUS\",IF(LOADS!$AE538=I$1,1,0),0)","v":0},0,{"$f":"LOADS!AM538","v":0}]
[{"$f":"IF(ISBLANK(LOADS!A539),\"\",LOADS!A539)","v":{"$error":"#REF!"}},{"$f":"IF(ISBLANK(LOADS!B539),\"\",LOADS!B539)","v":""},{"$f":"IF(LOADS!$AC539=\"BUS\",IF(LOADS!$AE539=C$1,1,0),0)","v":0},{"$f":"IF(LOADS!$AC539=\"BUS\",IF(LOADS!$AE539=D$1,1,0),0)","v":0},{"$f":"IF(LOADS!$AC539=\"BUS\",IF(LOADS!$AE539=E$1,1,0),0)","v":0},{"$f":"IF(LOADS!$AC539=\"BUS\",IF(LOADS!$AE539=F$1,1,0),0)","v":0},{"$f":"IF(LOADS!$AC539=\"BUS\",IF(LOADS!$AE539=G$1,1,0),0)","v":0},{"$f":"IF(LOADS!$AC539=\"BUS\",IF(LOADS!$AE539=H$1,1,0),0)","v":0},{"$f":"IF(LOADS!$AC539=\"BUS\",IF(LOADS!$AE539=I$1,1,0),0)","v":0},0,{"$f":"LOADS!AM539","v":0}]
[{"$f":"IF(ISBLANK(LOADS!A540),\"\",LOADS!A540)","v":{"$error":"#REF!"}},{"$f":"IF(ISBLANK(LOADS!B540),\"\",LOADS!B540)","v":""},{"$f":"IF(LOADS!$AC540=\"BUS\",IF(LOADS!$AE540=C$1,1,0),0)","v":0},{"$f":"IF(LOADS!$AC540=\"BUS\",IF(LOADS!$AE540=D$1,1,0),0)","v":0},{"$f":"IF(LOADS!$AC540=\"BUS\",IF(LOADS!$AE540=E$1,1,0),0)","v":0},{"$f":"IF(LOADS!$AC540=\"BUS\",IF(LOADS!$AE540=F$1,1,0),0)","v":0},{"$f":"IF(LOADS!$AC540=\"BUS\",IF(LOADS!$AE540=G$1,1,0),0)","v":0},{"$f":"IF(LOADS!$AC540=\"BUS\",IF(LOADS!$AE540=H$1,1,0),0)","v":0},{"$f":"IF(LOADS!$AC540=\"BUS\",IF(LOADS!$AE540=I$1,1,0),0)","v":0},0,{"$f":"LOADS!AM540","v":0}]
[{"$f":"IF(ISBLANK(LOADS!A541),\"\",LOADS!A541)","v":{"$error":"#REF!"}},{"$f":"IF(ISBLANK(LOADS!B541),\"\",LOADS!B541)","v":""},{"$f":"IF(LOADS!$AC541=\"BUS\",IF(LOADS!$AE541=C$1,1,0),0)","v":0},{"$f":"IF(LOADS!$AC541=\"BUS\",IF(LOADS!$AE541=D$1,1,0),0)","v":0},{"$f":"IF(LOADS!$AC541=\"BUS\",IF(LOADS!$AE541=E$1,1,0),0)","v":0},{"$f":"IF(LOADS!$AC541=\"BUS\",IF(LOADS!$AE541=F$1,1,0),0)","v":0},{"$f":"IF(LOADS!$AC541=\"BUS\",IF(LOADS!$AE541=G$1,1,0),0)","v":0},{"$f":"IF(LOADS!$AC541=\"BUS\",IF(LOADS!$AE541=H$1,1,0),0)","v":0},{"$f":"IF(LOADS!$AC541=\"BUS\",IF(LOADS!$AE541=I$1,1,0),0)","v":0},0,{"$f":"LOADS!AM541","v":0}]
[{"$f":"IF(ISBLANK(LOADS!A542),\"\",LOADS!A542)","v":{"$error":"#REF!"}},{"$f":"IF(ISBLANK(LOADS!B542),\"\",LOADS!B542)","v":""},{"$f":"IF(LOADS!$AC542=\"BUS\",IF(LOADS!$AE542=C$1,1,0),0)","v":0},{"$f":"IF(LOADS!$AC542=\"BUS\",IF(LOADS!$AE542=D$1,1,0),0)","v":0},{"$f":"IF(LOADS!$AC542=\"BUS\",IF(LOADS!$AE542=E$1,1,0),0)","v":0},{"$f":"IF(LOADS!$AC542=\"BUS\",IF(LOADS!$AE542=F$1,1,0),0)","v":0},{"$f":"IF(LOADS!$AC542=\"BUS\",IF(LOADS!$AE542=G$1,1,0),0)","v":0},{"$f":"IF(LOADS!$AC542=\"BUS\",IF(LOADS!$AE542=H$1,1,0),0)","v":0},{"$f":"IF(LOADS!$AC542=\"BUS\",IF(LOADS!$AE542=I$1,1,0),0)","v":0},0,{"$f":"LOADS!AM542","v":0}]
[{"$f":"IF(ISBLANK(LOADS!A543),\"\",LOADS!A543)","v":{"$error":"#REF!"}},{"$f":"IF(ISBLANK(LOADS!B543),\"\",LOADS!B543)","v":""},{"$f":"IF(LOADS!$AC543=\"BUS\",IF(LOADS!$AE543=C$1,1,0),0)","v":0},{"$f":"IF(LOADS!$AC543=\"BUS\",IF(LOADS!$AE543=D$1,1,0),0)","v":0},{"$f":"IF(LOADS!$AC543=\"BUS\",IF(LOADS!$AE543=E$1,1,0),0)","v":0},{"$f":"IF(LOADS!$AC543=\"BUS\",IF(LOADS!$AE543=F$1,1,0),0)","v":0},{"$f":"IF(LOADS!$AC543=\"BUS\",IF(LOADS!$AE543=G$1,1,0),0)","v":0},{"$f":"IF(LOADS!$AC543=\"BUS\",IF(LOADS!$AE543=H$1,1,0),0)","v":0},{"$f":"IF(LOADS!$AC543=\"BUS\",IF(LOADS!$AE543=I$1,1,0),0)","v":0},0,{"$f":"LOADS!AM543","v":0}]
[{"$f":"IF(ISBLANK(LOADS!A544),\"\",LOADS!A544)","v":{"$error":"#REF!"}},{"$f":"IF(ISBLANK(LOADS!B544),\"\",LOADS!B544)","v":""},{"$f":"IF(LOADS!$AC544=\"BUS\",IF(LOADS!$AE544=C$1,1,0),0)","v":0},{"$f":"IF(LOADS!$AC544=\"BUS\",IF(LOADS!$AE544=D$1,1,0),0)","v":0},{"$f":"IF(LOADS!$AC544=\"BUS\",IF(LOADS!$AE544=E$1,1,0),0)","v":0},{"$f":"IF(LOADS!$AC544=\"BUS\",IF(LOADS!$AE544=F$1,1,0),0)","v":0},{"$f":"IF(LOADS!$AC544=\"BUS\",IF(LOADS!$AE544=G$1,1,0),0)","v":0},{"$f":"IF(LOADS!$AC544=\"BUS\",IF(LOADS!$AE544=H$1,1,0),0)","v":0},{"$f":"IF(LOADS!$AC544=\"BUS\",IF(LOADS!$AE544=I$1,1,0),0)","v":0},0,{"$f":"LOADS!AM544","v":0}]
[{"$f":"IF(ISBLANK(LOADS!A545),\"\",LOADS!A545)","v":{"$error":"#REF!"}},{"$f":"IF(ISBLANK(LOADS!B545),\"\",LOADS!B545)","v":""},{"$f":"IF(LOADS!$AC545=\"BUS\",IF(LOADS!$AE545=C$1,1,0),0)","v":0},{"$f":"IF(LOADS!$AC545=\"BUS\",IF(LOADS!$AE545=D$1,1,0),0)","v":0},{"$f":"IF(LOADS!$AC545=\"BUS\",IF(LOADS!$AE545=E$1,1,0),0)","v":0},{"$f":"IF(LOADS!$AC545=\"BUS\",IF(LOADS!$AE545=F$1,1,0),0)","v":0},{"$f":"IF(LOADS!$AC545=\"BUS\",IF(LOADS!$AE545=G$1,1,0),0)","v":0},{"$f":"IF(LOADS!$AC545=\"BUS\",IF(LOADS!$AE545=H$1,1,0),0)","v":0},{"$f":"IF(LOADS!$AC545=\"BUS\",IF(LOADS!$AE545=I$1,1,0),0)","v":0},0,{"$f":"LOADS!AM545","v":0}]
[{"$f":"IF(ISBLANK(LOADS!A546),\"\",LOADS!A546)","v":{"$error":"#REF!"}},{"$f":"IF(ISBLANK(LOADS!B546),\"\",LOADS!B546)","v":""},{"$f":"IF(LOADS!$AC546=\"BUS\",IF(LOADS!$AE546=C$1,1,0),0)","v":0},{"$f":"IF(LOADS!$AC546=\"BUS\",IF(LOADS!$AE546=D$1,1,0),0)","v":0},{"$f":"IF(LOADS!$AC546=\"BUS\",IF(LOADS!$AE546=E$1,1,0),0)","v":0},{"$f":"IF(LOADS!$AC546=\"BUS\",IF(LOADS!$AE546=F$1,1,0),0)","v":0},{"$f":"IF(LOADS!$AC546=\"BUS\",IF(LOADS!$AE546=G$1,1,0),0)","v":0},{"$f":"IF(LOADS!$AC546=\"BUS\",IF(LOADS!$AE546=H$1,1,0),0)","v":0},{"$f":"IF(LOADS!$AC546=\"BUS\",IF(LOADS!$AE546=I$1,1,0),0)","v":0},0,{"$f":"LOADS!AM546","v":0}]
[{"$f":"IF(ISBLANK(LOADS!A547),\"\",LOADS!A547)","v":{"$error":"#REF!"}},{"$f":"IF(ISBLANK(LOADS!B547),\"\",LOADS!B547)","v":""},{"$f":"IF(LOADS!$AC547=\"BUS\",IF(LOADS!$AE547=C$1,1,0),0)","v":0},{"$f":"IF(LOADS!$AC547=\"BUS\",IF(LOADS!$AE547=D$1,1,0),0)","v":0},{"$f":"IF(LOADS!$AC547=\"BUS\",IF(LOADS!$AE547=E$1,1,0),0)","v":0},{"$f":"IF(LOADS!$AC547=\"BUS\",IF(LOADS!$AE547=F$1,1,0),0)","v":0},{"$f":"IF(LOADS!$AC547=\"BUS\",IF(LOADS!$AE547=G$1,1,0),0)","v":0},{"$f":"IF(LOADS!$AC547=\"BUS\",IF(LOADS!$AE547=H$1,1,0),0)","v":0},{"$f":"IF(LOADS!$AC547=\"BUS\",IF(LOADS!$AE547=I$1,1,0),0)","v":0},0,{"$f":"LOADS!AM547","v":0}]
[{"$f":"IF(ISBLANK(LOADS!A548),\"\",LOADS!A548)","v":{"$error":"#REF!"}},{"$f":"IF(ISBLANK(LOADS!B548),\"\",LOADS!B548)","v":""},{"$f":"IF(LOADS!$AC548=\"BUS\",IF(LOADS!$AE548=C$1,1,0),0)","v":0},{"$f":"IF(LOADS!$AC548=\"BUS\",IF(LOADS!$AE548=D$1,1,0),0)","v":0},{"$f":"IF(LOADS!$AC548=\"BUS\",IF(LOADS!$AE548=E$1,1,0),0)","v":0},{"$f":"IF(LOADS!$AC548=\"BUS\",IF(LOADS!$AE548=F$1,1,0),0)","v":0},{"$f":"IF(LOADS!$AC548=\"BUS\",IF(LOADS!$AE548=G$1,1,0),0)","v":0},{"$f":"IF(LOADS!$AC548=\"BUS\",IF(LOADS!$AE548=H$1,1,0),0)","v":0},{"$f":"IF(LOADS!$AC548=\"BUS\",IF(LOADS!$AE548=I$1,1,0),0)","v":0},0,{"$f":"LOADS!AM548","v":0}]
[{"$f":"IF(ISBLANK(LOADS!A549),\"\",LOADS!A549)","v":{"$error":"#REF!"}},{"$f":"IF(ISBLANK(LOADS!B549),\"\",LOADS!B549)","v":""},{"$f":"IF(LOADS!$AC549=\"BUS\",IF(LOADS!$AE549=C$1,1,0),0)","v":0},{"$f":"IF(LOADS!$AC549=\"BUS\",IF(LOADS!$AE549=D$1,1,0),0)","v":0},{"$f":"IF(LOADS!$AC549=\"BUS\",IF(LOADS!$AE549=E$1,1,0),0)","v":0},{"$f":"IF(LOADS!$AC549=\"BUS\",IF(LOADS!$AE549=F$1,1,0),0)","v":0},{"$f":"IF(LOADS!$AC549=\"BUS\",IF(LOADS!$AE549=G$1,1,0),0)","v":0},{"$f":"IF(LOADS!$AC549=\"BUS\",IF(LOADS!$AE549=H$1,1,0),0)","v":0},{"$f":"IF(LOADS!$AC549=\"BUS\",IF(LOADS!$AE549=I$1,1,0),0)","v":0},0,{"$f":"LOADS!AM549","v":0}]
[{"$f":"IF(ISBLANK(LOADS!A550),\"\",LOADS!A550)","v":{"$error":"#REF!"}},{"$f":"IF(ISBLANK(LOADS!B550),\"\",LOADS!B550)","v":""},{"$f":"IF(LOADS!$AC550=\"BUS\",IF(LOADS!$AE550=C$1,1,0),0)","v":0},{"$f":"IF(LOADS!$AC550=\"BUS\",IF(LOADS!$AE550=D$1,1,0),0)","v":0},{"$f":"IF(LOADS!$AC550=\"BUS\",IF(LOADS!$AE550=E$1,1,0),0)","v":0},{"$f":"IF(LOADS!$AC550=\"BUS\",IF(LOADS!$AE550=F$1,1,0),0)","v":0},{"$f":"IF(LOADS!$AC550=\"BUS\",IF(LOADS!$AE550=G$1,1,0),0)","v":0},{"$f":"IF(LOADS!$AC550=\"BUS\",IF(LOADS!$AE550=H$1,1,0),0)","v":0},{"$f":"IF(LOADS!$AC550=\"BUS\",IF(LOADS!$AE550=I$1,1,0),0)","v":0},0,{"$f":"LOADS!AM550","v":0}]
[{"$f":"IF(ISBLANK(LOADS!A551),\"\",LOADS!A551)","v":{"$error":"#REF!"}},{"$f":"IF(ISBLANK(LOADS!B551),\"\",LOADS!B551)","v":""},{"$f":"IF(LOADS!$AC551=\"BUS\",IF(LOADS!$AE551=C$1,1,0),0)","v":0},{"$f":"IF(LOADS!$AC551=\"BUS\",IF(LOADS!$AE551=D$1,1,0),0)","v":0},{"$f":"IF(LOADS!$AC551=\"BUS\",IF(LOADS!$AE551=E$1,1,0),0)","v":0},{"$f":"IF(LOADS!$AC551=\"BUS\",IF(LOADS!$AE551=F$1,1,0),0)","v":0},{"$f":"IF(LOADS!$AC551=\"BUS\",IF(LOADS!$AE551=G$1,1,0),0)","v":0},{"$f":"IF(LOADS!$AC551=\"BUS\",IF(LOADS!$AE551=H$1,1,0),0)","v":0},{"$f":"IF(LOADS!$AC551=\"BUS\",IF(LOADS!$AE551=I$1,1,0),0)","v":0},0,{"$f":"LOADS!AM551","v":0}]
[{"$f":"IF(ISBLANK(LOADS!A552),\"\",LOADS!A552)","v":{"$error":"#REF!"}},{"$f":"IF(ISBLANK(LOADS!B552),\"\",LOADS!B552)","v":""},{"$f":"IF(LOADS!$AC552=\"BUS\",IF(LOADS!$AE552=C$1,1,0),0)","v":0},{"$f":"IF(LOADS!$AC552=\"BUS\",IF(LOADS!$AE552=D$1,1,0),0)","v":0},{"$f":"IF(LOADS!$AC552=\"BUS\",IF(LOADS!$AE552=E$1,1,0),0)","v":0},{"$f":"IF(LOADS!$AC552=\"BUS\",IF(LOADS!$AE552=F$1,1,0),0)","v":0},{"$f":"IF(LOADS!$AC552=\"BUS\",IF(LOADS!$AE552=G$1,1,0),0)","v":0},{"$f":"IF(LOADS!$AC552=\"BUS\",IF(LOADS!$AE552=H$1,1,0),0)","v":0},{"$f":"IF(LOADS!$AC552=\"BUS\",IF(LOADS!$AE552=I$1,1,0),0)","v":0},0,{"$f":"LOADS!AM552","v":0}]
[{"$f":"IF(ISBLANK(LOADS!A553),\"\",LOADS!A553)","v":{"$error":"#REF!"}},{"$f":"IF(ISBLANK(LOADS!B553),\"\",LOADS!B553)","v":""},{"$f":"IF(LOADS!$AC553=\"BUS\",IF(LOADS!$AE553=C$1,1,0),0)","v":0},{"$f":"IF(LOADS!$AC553=\"BUS\",IF(LOADS!$AE553=D$1,1,0),0)","v":0},{"$f":"IF(LOADS!$AC553=\"BUS\",IF(LOADS!$AE553=E$1,1,0),0)","v":0},{"$f":"IF(LOADS!$AC553=\"BUS\",IF(LOADS!$AE553=F$1,1,0),0)","v":0},{"$f":"IF(LOADS!$AC553=\"BUS\",IF(LOADS!$AE553=G$1,1,0),0)","v":0},{"$f":"IF(LOADS!$AC553=\"BUS\",IF(LOADS!$AE553=H$1,1,0),0)","v":0},{"$f":"IF(LOADS!$AC553=\"BUS\",IF(LOADS!$AE553=I$1,1,0),0)","v":0},0,{"$f":"LOADS!AM553","v":0}]
[{"$f":"IF(ISBLANK(LOADS!A554),\"\",LOADS!A554)","v":{"$error":"#REF!"}},{"$f":"IF(ISBLANK(LOADS!B554),\"\",LOADS!B554)","v":""},{"$f":"IF(LOADS!$AC554=\"BUS\",IF(LOADS!$AE554=C$1,1,0),0)","v":0},{"$f":"IF(LOADS!$AC554=\"BUS\",IF(LOADS!$AE554=D$1,1,0),0)","v":0},{"$f":"IF(LOADS!$AC554=\"BUS\",IF(LOADS!$AE554=E$1,1,0),0)","v":0},{"$f":"IF(LOADS!$AC554=\"BUS\",IF(LOADS!$AE554=F$1,1,0),0)","v":0},{"$f":"IF(LOADS!$AC554=\"BUS\",IF(LOADS!$AE554=G$1,1,0),0)","v":0},{"$f":"IF(LOADS!$AC554=\"BUS\",IF(LOADS!$AE554=H$1,1,0),0)","v":0},{"$f":"IF(LOADS!$AC554=\"BUS\",IF(LOADS!$AE554=I$1,1,0),0)","v":0},0,{"$f":"LOADS!AM554","v":0}]
[{"$f":"IF(ISBLANK(LOADS!A555),\"\",LOADS!A555)","v":{"$error":"#REF!"}},{"$f":"IF(ISBLANK(LOADS!B555),\"\",LOADS!B555)","v":""},{"$f":"IF(LOADS!$AC555=\"BUS\",IF(LOADS!$AE555=C$1,1,0),0)","v":0},{"$f":"IF(LOADS!$AC555=\"BUS\",IF(LOADS!$AE555=D$1,1,0),0)","v":0},{"$f":"IF(LOADS!$AC555=\"BUS\",IF(LOADS!$AE555=E$1,1,0),0)","v":0},{"$f":"IF(LOADS!$AC555=\"BUS\",IF(LOADS!$AE555=F$1,1,0),0)","v":0},{"$f":"IF(LOADS!$AC555=\"BUS\",IF(LOADS!$AE555=G$1,1,0),0)","v":0},{"$f":"IF(LOADS!$AC555=\"BUS\",IF(LOADS!$AE555=H$1,1,0),0)","v":0},{"$f":"IF(LOADS!$AC555=\"BUS\",IF(LOADS!$AE555=I$1,1,0),0)","v":0},0,{"$f":"LOADS!AM555","v":0}]
[{"$f":"IF(ISBLANK(LOADS!A556),\"\",LOADS!A556)","v":{"$error":"#REF!"}},{"$f":"IF(ISBLANK(LOADS!B556),\"\",LOADS!B556)","v":""},{"$f":"IF(LOADS!$AC556=\"BUS\",IF(LOADS!$AE556=C$1,1,0),0)","v":0},{"$f":"IF(LOADS!$AC556=\"BUS\",IF(LOADS!$AE556=D$1,1,0),0)","v":0},{"$f":"IF(LOADS!$AC556=\"BUS\",IF(LOADS!$AE556=E$1,1,0),0)","v":0},{"$f":"IF(LOADS!$AC556=\"BUS\",IF(LOADS!$AE556=F$1,1,0),0)","v":0},{"$f":"IF(LOADS!$AC556=\"BUS\",IF(LOADS!$AE556=G$1,1,0),0)","v":0},{"$f":"IF(LOADS!$AC556=\"BUS\",IF(LOADS!$AE556=H$1,1,0),0)","v":0},{"$f":"IF(LOADS!$AC556=\"BUS\",IF(LOADS!$AE556=I$1,1,0),0)","v":0},0,{"$f":"LOADS!AM556","v":0}]
[{"$f":"IF(ISBLANK(LOADS!A557),\"\",LOADS!A557)","v":{"$error":"#REF!"}},{"$f":"IF(ISBLANK(LOADS!B557),\"\",LOADS!B557)","v":""},{"$f":"IF(LOADS!$AC557=\"BUS\",IF(LOADS!$AE557=C$1,1,0),0)","v":0},{"$f":"IF(LOADS!$AC557=\"BUS\",IF(LOADS!$AE557=D$1,1,0),0)","v":0},{"$f":"IF(LOADS!$AC557=\"BUS\",IF(LOADS!$AE557=E$1,1,0),0)","v":0},{"$f":"IF(LOADS!$AC557=\"BUS\",IF(LOADS!$AE557=F$1,1,0),0)","v":0},{"$f":"IF(LOADS!$AC557=\"BUS\",IF(LOADS!$AE557=G$1,1,0),0)","v":0},{"$f":"IF(LOADS!$AC557=\"BUS\",IF(LOADS!$AE557=H$1,1,0),0)","v":0},{"$f":"IF(LOADS!$AC557=\"BUS\",IF(LOADS!$AE557=I$1,1,0),0)","v":0},0,{"$f":"LOADS!AM557","v":0}]
[{"$f":"IF(ISBLANK(LOADS!A558),\"\",LOADS!A558)","v":{"$error":"#REF!"}},{"$f":"IF(ISBLANK(LOADS!B558),\"\",LOADS!B558)","v":""},{"$f":"IF(LOADS!$AC558=\"BUS\",IF(LOADS!$AE558=C$1,1,0),0)","v":0},{"$f":"IF(LOADS!$AC558=\"BUS\",IF(LOADS!$AE558=D$1,1,0),0)","v":0},{"$f":"IF(LOADS!$AC558=\"BUS\",IF(LOADS!$AE558=E$1,1,0),0)","v":0},{"$f":"IF(LOADS!$AC558=\"BUS\",IF(LOADS!$AE558=F$1,1,0),0)","v":0},{"$f":"IF(LOADS!$AC558=\"BUS\",IF(LOADS!$AE558=G$1,1,0),0)","v":0},{"$f":"IF(LOADS!$AC558=\"BUS\",IF(LOADS!$AE558=H$1,1,0),0)","v":0},{"$f":"IF(LOADS!$AC558=\"BUS\",IF(LOADS!$AE558=I$1,1,0),0)","v":0},0,{"$f":"LOADS!AM558","v":0}]
[{"$f":"IF(ISBLANK(LOADS!A559),\"\",LOADS!A559)","v":{"$error":"#REF!"}},{"$f":"IF(ISBLANK(LOADS!B559),\"\",LOADS!B559)","v":""},{"$f":"IF(LOADS!$AC559=\"BUS\",IF(LOADS!$AE559=C$1,1,0),0)","v":0},{"$f":"IF(LOADS!$AC559=\"BUS\",IF(LOADS!$AE559=D$1,1,0),0)","v":0},{"$f":"IF(LOADS!$AC559=\"BUS\",IF(LOADS!$AE559=E$1,1,0),0)","v":0},{"$f":"IF(LOADS!$AC559=\"BUS\",IF(LOADS!$AE559=F$1,1,0),0)","v":0},{"$f":"IF(LOADS!$AC559=\"BUS\",IF(LOADS!$AE559=G$1,1,0),0)","v":0},{"$f":"IF(LOADS!$AC559=\"BUS\",IF(LOADS!$AE559=H$1,1,0),0)","v":0},{"$f":"IF(LOADS!$AC559=\"BUS\",IF(LOADS!$AE559=I$1,1,0),0)","v":0},0,{"$f":"LOADS!AM559","v":0}]
[{"$f":"IF(ISBLANK(LOADS!A560),\"\",LOADS!A560)","v":{"$error":"#REF!"}},{"$f":"IF(ISBLANK(LOADS!B560),\"\",LOADS!B560)","v":""},{"$f":"IF(LOADS!$AC560=\"BUS\",IF(LOADS!$AE560=C$1,1,0),0)","v":0},{"$f":"IF(LOADS!$AC560=\"BUS\",IF(LOADS!$AE560=D$1,1,0),0)","v":0},{"$f":"IF(LOADS!$AC560=\"BUS\",IF(LOADS!$AE560=E$1,1,0),0)","v":0},{"$f":"IF(LOADS!$AC560=\"BUS\",IF(LOADS!$AE560=F$1,1,0),0)","v":0},{"$f":"IF(LOADS!$AC560=\"BUS\",IF(LOADS!$AE560=G$1,1,0),0)","v":0},{"$f":"IF(LOADS!$AC560=\"BUS\",IF(LOADS!$AE560=H$1,1,0),0)","v":0},{"$f":"IF(LOADS!$AC560=\"BUS\",IF(LOADS!$AE560=I$1,1,0),0)","v":0},0,{"$f":"LOADS!AM560","v":0}]
[{"$f":"IF(ISBLANK(LOADS!A561),\"\",LOADS!A561)","v":{"$error":"#REF!"}},{"$f":"IF(ISBLANK(LOADS!B561),\"\",LOADS!B561)","v":""},{"$f":"IF(LOADS!$AC561=\"BUS\",IF(LOADS!$AE561=C$1,1,0),0)","v":0},{"$f":"IF(LOADS!$AC561=\"BUS\",IF(LOADS!$AE561=D$1,1,0),0)","v":0},{"$f":"IF(LOADS!$AC561=\"BUS\",IF(LOADS!$AE561=E$1,1,0),0)","v":0},{"$f":"IF(LOADS!$AC561=\"BUS\",IF(LOADS!$AE561=F$1,1,0),0)","v":0},{"$f":"IF(LOADS!$AC561=\"BUS\",IF(LOADS!$AE561=G$1,1,0),0)","v":0},{"$f":"IF(LOADS!$AC561=\"BUS\",IF(LOADS!$AE561=H$1,1,0),0)","v":0},{"$f":"IF(LOADS!$AC561=\"BUS\",IF(LOADS!$AE561=I$1,1,0),0)","v":0},0,{"$f":"LOADS!AM561","v":0}]
[{"$f":"IF(ISBLANK(LOADS!A562),\"\",LOADS!A562)","v":{"$error":"#REF!"}},{"$f":"IF(ISBLANK(LOADS!B562),\"\",LOADS!B562)","v":""},{"$f":"IF(LOADS!$AC562=\"BUS\",IF(LOADS!$AE562=C$1,1,0),0)","v":0},{"$f":"IF(LOADS!$AC562=\"BUS\",IF(LOADS!$AE562=D$1,1,0),0)","v":0},{"$f":"IF(LOADS!$AC562=\"BUS\",IF(LOADS!$AE562=E$1,1,0),0)","v":0},{"$f":"IF(LOADS!$AC562=\"BUS\",IF(LOADS!$AE562=F$1,1,0),0)","v":0},{"$f":"IF(LOADS!$AC562=\"BUS\",IF(LOADS!$AE562=G$1,1,0),0)","v":0},{"$f":"IF(LOADS!$AC562=\"BUS\",IF(LOADS!$AE562=H$1,1,0),0)","v":0},{"$f":"IF(LOADS!$AC562=\"BUS\",IF(LOADS!$AE562=I$1,1,0),0)","v":0},0,{"$f":"LOADS!AM562","v":0}]
[{"$f":"IF(ISBLANK(LOADS!A563),\"\",LOADS!A563)","v":{"$error":"#REF!"}},{"$f":"IF(ISBLANK(LOADS!B563),\"\",LOADS!B563)","v":""},{"$f":"IF(LOADS!$AC563=\"BUS\",IF(LOADS!$AE563=C$1,1,0),0)","v":0},{"$f":"IF(LOADS!$AC563=\"BUS\",IF(LOADS!$AE563=D$1,1,0),0)","v":0},{"$f":"IF(LOADS!$AC563=\"BUS\",IF(LOADS!$AE563=E$1,1,0),0)","v":0},{"$f":"IF(LOADS!$AC563=\"BUS\",IF(LOADS!$AE563=F$1,1,0),0)","v":0},{"$f":"IF(LOADS!$AC563=\"BUS\",IF(LOADS!$AE563=G$1,1,0),0)","v":0},{"$f":"IF(LOADS!$AC563=\"BUS\",IF(LOADS!$AE563=H$1,1,0),0)","v":0},{"$f":"IF(LOADS!$AC563=\"BUS\",IF(LOADS!$AE563=I$1,1,0),0)","v":0},0,{"$f":"LOADS!AM563","v":0}]
[{"$f":"IF(ISBLANK(LOADS!A564),\"\",LOADS!A564)","v":{"$error":"#REF!"}},{"$f":"IF(ISBLANK(LOADS!B564),\"\",LOADS!B564)","v":""},{"$f":"IF(LOADS!$AC564=\"BUS\",IF(LOADS!$AE564=C$1,1,0),0)","v":0},{"$f":"IF(LOADS!$AC564=\"BUS\",IF(LOADS!$AE564=D$1,1,0),0)","v":0},{"$f":"IF(LOADS!$AC564=\"BUS\",IF(LOADS!$AE564=E$1,1,0),0)","v":0},{"$f":"IF(LOADS!$AC564=\"BUS\",IF(LOADS!$AE564=F$1,1,0),0)","v":0},{"$f":"IF(LOADS!$AC564=\"BUS\",IF(LOADS!$AE564=G$1,1,0),0)","v":0},{"$f":"IF(LOADS!$AC564=\"BUS\",IF(LOADS!$AE564=H$1,1,0),0)","v":0},{"$f":"IF(LOADS!$AC564=\"BUS\",IF(LOADS!$AE564=I$1,1,0),0)","v":0},0,{"$f":"LOADS!AM564","v":0}]
[{"$f":"IF(ISBLANK(LOADS!A565),\"\",LOADS!A565)","v":{"$error":"#REF!"}},{"$f":"IF(ISBLANK(LOADS!B565),\"\",LOADS!B565)","v":""},{"$f":"IF(LOADS!$AC565=\"BUS\",IF(LOADS!$AE565=C$1,1,0),0)","v":0},{"$f":"IF(LOADS!$AC565=\"BUS\",IF(LOADS!$AE565=D$1,1,0),0)","v":0},{"$f":"IF(LOADS!$AC565=\"BUS\",IF(LOADS!$AE565=E$1,1,0),0)","v":0},{"$f":"IF(LOADS!$AC565=\"BUS\",IF(LOADS!$AE565=F$1,1,0),0)","v":0},{"$f":"IF(LOADS!$AC565=\"BUS\",IF(LOADS!$AE565=G$1,1,0),0)","v":0},{"$f":"IF(LOADS!$AC565=\"BUS\",IF(LOADS!$AE565=H$1,1,0),0)","v":0},{"$f":"IF(LOADS!$AC565=\"BUS\",IF(LOADS!$AE565=I$1,1,0),0)","v":0},0,{"$f":"LOADS!AM565","v":0}]
[{"$f":"IF(ISBLANK(LOADS!A566),\"\",LOADS!A566)","v":{"$error":"#REF!"}},{"$f":"IF(ISBLANK(LOADS!B566),\"\",LOADS!B566)","v":""},{"$f":"IF(LOADS!$AC566=\"BUS\",IF(LOADS!$AE566=C$1,1,0),0)","v":0},{"$f":"IF(LOADS!$AC566=\"BUS\",IF(LOADS!$AE566=D$1,1,0),0)","v":0},{"$f":"IF(LOADS!$AC566=\"BUS\",IF(LOADS!$AE566=E$1,1,0),0)","v":0},{"$f":"IF(LOADS!$AC566=\"BUS\",IF(LOADS!$AE566=F$1,1,0),0)","v":0},{"$f":"IF(LOADS!$AC566=\"BUS\",IF(LOADS!$AE566=G$1,1,0),0)","v":0},{"$f":"IF(LOADS!$AC566=\"BUS\",IF(LOADS!$AE566=H$1,1,0),0)","v":0},{"$f":"IF(LOADS!$AC566=\"BUS\",IF(LOADS!$AE566=I$1,1,0),0)","v":0},0,{"$f":"LOADS!AM566","v":0}]
[{"$f":"IF(ISBLANK(LOADS!A567),\"\",LOADS!A567)","v":{"$error":"#REF!"}},{"$f":"IF(ISBLANK(LOADS!B567),\"\",LOADS!B567)","v":""},{"$f":"IF(LOADS!$AC567=\"BUS\",IF(LOADS!$AE567=C$1,1,0),0)","v":0},{"$f":"IF(LOADS!$AC567=\"BUS\",IF(LOADS!$AE567=D$1,1,0),0)","v":0},{"$f":"IF(LOADS!$AC567=\"BUS\",IF(LOADS!$AE567=E$1,1,0),0)","v":0},{"$f":"IF(LOADS!$AC567=\"BUS\",IF(LOADS!$AE567=F$1,1,0),0)","v":0},{"$f":"IF(LOADS!$AC567=\"BUS\",IF(LOADS!$AE567=G$1,1,0),0)","v":0},{"$f":"IF(LOADS!$AC567=\"BUS\",IF(LOADS!$AE567=H$1,1,0),0)","v":0},{"$f":"IF(LOADS!$AC567=\"BUS\",IF(LOADS!$AE567=I$1,1,0),0)","v":0},0,{"$f":"LOADS!AM567","v":0}]
[{"$f":"IF(ISBLANK(LOADS!A568),\"\",LOADS!A568)","v":{"$error":"#REF!"}},{"$f":"IF(ISBLANK(LOADS!B568),\"\",LOADS!B568)","v":""},{"$f":"IF(LOADS!$AC568=\"BUS\",IF(LOADS!$AE568=C$1,1,0),0)","v":0},{"$f":"IF(LOADS!$AC568=\"BUS\",IF(LOADS!$AE568=D$1,1,0),0)","v":0},{"$f":"IF(LOADS!$AC568=\"BUS\",IF(LOADS!$AE568=E$1,1,0),0)","v":0},{"$f":"IF(LOADS!$AC568=\"BUS\",IF(LOADS!$AE568=F$1,1,0),0)","v":0},{"$f":"IF(LOADS!$AC568=\"BUS\",IF(LOADS!$AE568=G$1,1,0),0)","v":0},{"$f":"IF(LOADS!$AC568=\"BUS\",IF(LOADS!$AE568=H$1,1,0),0)","v":0},{"$f":"IF(LOADS!$AC568=\"BUS\",IF(LOADS!$AE568=I$1,1,0),0)","v":0},0,{"$f":"LOADS!AM568","v":0}]
[{"$f":"IF(ISBLANK(LOADS!A569),\"\",LOADS!A569)","v":{"$error":"#REF!"}},{"$f":"IF(ISBLANK(LOADS!B569),\"\",LOADS!B569)","v":""},{"$f":"IF(LOADS!$AC569=\"BUS\",IF(LOADS!$AE569=C$1,1,0),0)","v":0},{"$f":"IF(LOADS!$AC569=\"BUS\",IF(LOADS!$AE569=D$1,1,0),0)","v":0},{"$f":"IF(LOADS!$AC569=\"BUS\",IF(LOADS!$AE569=E$1,1,0),0)","v":0},{"$f":"IF(LOADS!$AC569=\"BUS\",IF(LOADS!$AE569=F$1,1,0),0)","v":0},{"$f":"IF(LOADS!$AC569=\"BUS\",IF(LOADS!$AE569=G$1,1,0),0)","v":0},{"$f":"IF(LOADS!$AC569=\"BUS\",IF(LOADS!$AE569=H$1,1,0),0)","v":0},{"$f":"IF(LOADS!$AC569=\"BUS\",IF(LOADS!$AE569=I$1,1,0),0)","v":0},0,{"$f":"LOADS!AM569","v":0}]
[{"$f":"IF(ISBLANK(LOADS!A570),\"\",LOADS!A570)","v":{"$error":"#REF!"}},{"$f":"IF(ISBLANK(LOADS!B570),\"\",LOADS!B570)","v":""},{"$f":"IF(LOADS!$AC570=\"BUS\",IF(LOADS!$AE570=C$1,1,0),0)","v":0},{"$f":"IF(LOADS!$AC570=\"BUS\",IF(LOADS!$AE570=D$1,1,0),0)","v":0},{"$f":"IF(LOADS!$AC570=\"BUS\",IF(LOADS!$AE570=E$1,1,0),0)","v":0},{"$f":"IF(LOADS!$AC570=\"BUS\",IF(LOADS!$AE570=F$1,1,0),0)","v":0},{"$f":"IF(LOADS!$AC570=\"BUS\",IF(LOADS!$AE570=G$1,1,0),0)","v":0},{"$f":"IF(LOADS!$AC570=\"BUS\",IF(LOADS!$AE570=H$1,1,0),0)","v":0},{"$f":"IF(LOADS!$AC570=\"BUS\",IF(LOADS!$AE570=I$1,1,0),0)","v":0},0,{"$f":"LOADS!AM570","v":0}]
[{"$f":"IF(ISBLANK(LOADS!A571),\"\",LOADS!A571)","v":{"$error":"#REF!"}},{"$f":"IF(ISBLANK(LOADS!B571),\"\",LOADS!B571)","v":""},{"$f":"IF(LOADS!$AC571=\"BUS\",IF(LOADS!$AE571=C$1,1,0),0)","v":0},{"$f":"IF(LOADS!$AC571=\"BUS\",IF(LOADS!$AE571=D$1,1,0),0)","v":0},{"$f":"IF(LOADS!$AC571=\"BUS\",IF(LOADS!$AE571=E$1,1,0),0)","v":0},{"$f":"IF(LOADS!$AC571=\"BUS\",IF(LOADS!$AE571=F$1,1,0),0)","v":0},{"$f":"IF(LOADS!$AC571=\"BUS\",IF(LOADS!$AE571=G$1,1,0),0)","v":0},{"$f":"IF(LOADS!$AC571=\"BUS\",IF(LOADS!$AE571=H$1,1,0),0)","v":0},{"$f":"IF(LOADS!$AC571=\"BUS\",IF(LOADS!$AE571=I$1,1,0),0)","v":0},0,{"$f":"LOADS!AM571","v":0}]
[{"$f":"IF(ISBLANK(LOADS!A572),\"\",LOADS!A572)","v":{"$error":"#REF!"}},{"$f":"IF(ISBLANK(LOADS!B572),\"\",LOADS!B572)","v":""},{"$f":"IF(LOADS!$AC572=\"BUS\",IF(LOADS!$AE572=C$1,1,0),0)","v":0},{"$f":"IF(LOADS!$AC572=\"BUS\",IF(LOADS!$AE572=D$1,1,0),0)","v":0},{"$f":"IF(LOADS!$AC572=\"BUS\",IF(LOADS!$AE572=E$1,1,0),0)","v":0},{"$f":"IF(LOADS!$AC572=\"BUS\",IF(LOADS!$AE572=F$1,1,0),0)","v":0},{"$f":"IF(LOADS!$AC572=\"BUS\",IF(LOADS!$AE572=G$1,1,0),0)","v":0},{"$f":"IF(LOADS!$AC572=\"BUS\",IF(LOADS!$AE572=H$1,1,0),0)","v":0},{"$f":"IF(LOADS!$AC572=\"BUS\",IF(LOADS!$AE572=I$1,1,0),0)","v":0},0,{"$f":"LOADS!AM572","v":0}]
[{"$f":"IF(ISBLANK(LOADS!A573),\"\",LOADS!A573)","v":{"$error":"#REF!"}},{"$f":"IF(ISBLANK(LOADS!B573),\"\",LOADS!B573)","v":""},{"$f":"IF(LOADS!$AC573=\"BUS\",IF(LOADS!$AE573=C$1,1,0),0)","v":0},{"$f":"IF(LOADS!$AC573=\"BUS\",IF(LOADS!$AE573=D$1,1,0),0)","v":0},{"$f":"IF(LOADS!$AC573=\"BUS\",IF(LOADS!$AE573=E$1,1,0),0)","v":0},{"$f":"IF(LOADS!$AC573=\"BUS\",IF(LOADS!$AE573=F$1,1,0),0)","v":0},{"$f":"IF(LOADS!$AC573=\"BUS\",IF(LOADS!$AE573=G$1,1,0),0)","v":0},{"$f":"IF(LOADS!$AC573=\"BUS\",IF(LOADS!$AE573=H$1,1,0),0)","v":0},{"$f":"IF(LOADS!$AC573=\"BUS\",IF(LOADS!$AE573=I$1,1,0),0)","v":0},0,{"$f":"LOADS!AM573","v":0}]
[{"$f":"IF(ISBLANK(LOADS!A574),\"\",LOADS!A574)","v":{"$error":"#REF!"}},{"$f":"IF(ISBLANK(LOADS!B574),\"\",LOADS!B574)","v":""},{"$f":"IF(LOADS!$AC574=\"BUS\",IF(LOADS!$AE574=C$1,1,0),0)","v":0},{"$f":"IF(LOADS!$AC574=\"BUS\",IF(LOADS!$AE574=D$1,1,0),0)","v":0},{"$f":"IF(LOADS!$AC574=\"BUS\",IF(LOADS!$AE574=E$1,1,0),0)","v":0},{"$f":"IF(LOADS!$AC574=\"BUS\",IF(LOADS!$AE574=F$1,1,0),0)","v":0},{"$f":"IF(LOADS!$AC574=\"BUS\",IF(LOADS!$AE574=G$1,1,0),0)","v":0},{"$f":"IF(LOADS!$AC574=\"BUS\",IF(LOADS!$AE574=H$1,1,0),0)","v":0},{"$f":"IF(LOADS!$AC574=\"BUS\",IF(LOADS!$AE574=I$1,1,0),0)","v":0},0,{"$f":"LOADS!AM574","v":0}]
[{"$f":"IF(ISBLANK(LOADS!A575),\"\",LOADS!A575)","v":{"$error":"#REF!"}},{"$f":"IF(ISBLANK(LOADS!B575),\"\",LOADS!B575)","v":""},{"$f":"IF(LOADS!$AC575=\"BUS\",IF(LOADS!$AE575=C$1,1,0),0)","v":0},{"$f":"IF(LOADS!$AC575=\"BUS\",IF(LOADS!$AE575=D$1,1,0),0)","v":0},{"$f":"IF(LOADS!$AC575=\"BUS\",IF(LOADS!$AE575=E$1,1,0),0)","v":0},{"$f":"IF(LOADS!$AC575=\"BUS\",IF(LOADS!$AE575=F$1,1,0),0)","v":0},{"$f":"IF(LOADS!$AC575=\"BUS\",IF(LOADS!$AE575=G$1,1,0),0)","v":0},{"$f":"IF(LOADS!$AC575=\"BUS\",IF(LOADS!$AE575=H$1,1,0),0)","v":0},{"$f":"IF(LOADS!$AC575=\"BUS\",IF(LOADS!$AE575=I$1,1,0),0)","v":0},0,{"$f":"LOADS!AM575","v":0}]
[{"$f":"IF(ISBLANK(LOADS!A576),\"\",LOADS!A576)","v":{"$error":"#REF!"}},{"$f":"IF(ISBLANK(LOADS!B576),\"\",LOADS!B576)","v":""},{"$f":"IF(LOADS!$AC576=\"BUS\",IF(LOADS!$AE576=C$1,1,0),0)","v":0},{"$f":"IF(LOADS!$AC576=\"BUS\",IF(LOADS!$AE576=D$1,1,0),0)","v":0},{"$f":"IF(LOADS!$AC576=\"BUS\",IF(LOADS!$AE576=E$1,1,0),0)","v":0},{"$f":"IF(LOADS!$AC576=\"BUS\",IF(LOADS!$AE576=F$1,1,0),0)","v":0},{"$f":"IF(LOADS!$AC576=\"BUS\",IF(LOADS!$AE576=G$1,1,0),0)","v":0},{"$f":"IF(LOADS!$AC576=\"BUS\",IF(LOADS!$AE576=H$1,1,0),0)","v":0},{"$f":"IF(LOADS!$AC576=\"BUS\",IF(LOADS!$AE576=I$1,1,0),0)","v":0},0,{"$f":"LOADS!AM576","v":0}]
[{"$f":"IF(ISBLANK(LOADS!A577),\"\",LOADS!A577)","v":{"$error":"#REF!"}},{"$f":"IF(ISBLANK(LOADS!B577),\"\",LOADS!B577)","v":""},{"$f":"IF(LOADS!$AC577=\"BUS\",IF(LOADS!$AE577=C$1,1,0),0)","v":0},{"$f":"IF(LOADS!$AC577=\"BUS\",IF(LOADS!$AE577=D$1,1,0),0)","v":0},{"$f":"IF(LOADS!$AC577=\"BUS\",IF(LOADS!$AE577=E$1,1,0),0)","v":0},{"$f":"IF(LOADS!$AC577=\"BUS\",IF(LOADS!$AE577=F$1,1,0),0)","v":0},{"$f":"IF(LOADS!$AC577=\"BUS\",IF(LOADS!$AE577=G$1,1,0),0)","v":0},{"$f":"IF(LOADS!$AC577=\"BUS\",IF(LOADS!$AE577=H$1,1,0),0)","v":0},{"$f":"IF(LOADS!$AC577=\"BUS\",IF(LOADS!$AE577=I$1,1,0),0)","v":0},0,{"$f":"LOADS!AM577","v":0}]
[{"$f":"IF(ISBLANK(LOADS!A578),\"\",LOADS!A578)","v":{"$error":"#REF!"}},{"$f":"IF(ISBLANK(LOADS!B578),\"\",LOADS!B578)","v":""},{"$f":"IF(LOADS!$AC578=\"BUS\",IF(LOADS!$AE578=C$1,1,0),0)","v":0},{"$f":"IF(LOADS!$AC578=\"BUS\",IF(LOADS!$AE578=D$1,1,0),0)","v":0},{"$f":"IF(LOADS!$AC578=\"BUS\",IF(LOADS!$AE578=E$1,1,0),0)","v":0},{"$f":"IF(LOADS!$AC578=\"BUS\",IF(LOADS!$AE578=F$1,1,0),0)","v":0},{"$f":"IF(LOADS!$AC578=\"BUS\",IF(LOADS!$AE578=G$1,1,0),0)","v":0},{"$f":"IF(LOADS!$AC578=\"BUS\",IF(LOADS!$AE578=H$1,1,0),0)","v":0},{"$f":"IF(LOADS!$AC578=\"BUS\",IF(LOADS!$AE578=I$1,1,0),0)","v":0},{"$f":"SUM(C581:I581)","v":0},{"$f":"LOADS!AM578","v":0}]
[{"$f":"IF(ISBLANK(LOADS!A579),\"\",LOADS!A579)","v":{"$error":"#REF!"}},{"$f":"IF(ISBLANK(LOADS!B579),\"\",LOADS!B579)","v":""},{"$f":"IF(LOADS!$AC579=\"BUS\",IF(LOADS!$AE579=C$1,1,0),0)","v":0},{"$f":"IF(LOADS!$AC579=\"BUS\",IF(LOADS!$AE579=D$1,1,0),0)","v":0},{"$f":"IF(LOADS!$AC579=\"BUS\",IF(LOADS!$AE579=E$1,1,0),0)","v":0},{"$f":"IF(LOADS!$AC579=\"BUS\",IF(LOADS!$AE579=F$1,1,0),0)","v":0},{"$f":"IF(LOADS!$AC579=\"BUS\",IF(LOADS!$AE579=G$1,1,0),0)","v":0},{"$f":"IF(LOADS!$AC579=\"BUS\",IF(LOADS!$AE579=H$1,1,0),0)","v":0},{"$f":"IF(LOADS!$AC579=\"BUS\",IF(LOADS!$AE579=I$1,1,0),0)","v":0},0,{"$f":"LOADS!AM579","v":0}]
[{"$f":"IF(ISBLANK(LOADS!A580),\"\",LOADS!A580)","v":{"$error":"#REF!"}},{"$f":"IF(ISBLANK(LOADS!B580),\"\",LOADS!B580)","v":""},{"$f":"IF(LOADS!$AC580=\"BUS\",IF(LOADS!$AE580=C$1,1,0),0)","v":0},{"$f":"IF(LOADS!$AC580=\"BUS\",IF(LOADS!$AE580=D$1,1,0),0)","v":0},{"$f":"IF(LOADS!$AC580=\"BUS\",IF(LOADS!$AE580=E$1,1,0),0)","v":0},{"$f":"IF(LOADS!$AC580=\"BUS\",IF(LOADS!$AE580=F$1,1,0),0)","v":0},{"$f":"IF(LOADS!$AC580=\"BUS\",IF(LOADS!$AE580=G$1,1,0),0)","v":0},{"$f":"IF(LOADS!$AC580=\"BUS\",IF(LOADS!$AE580=H$1,1,0),0)","v":0},{"$f":"IF(LOADS!$AC580=\"BUS\",IF(LOADS!$AE580=I$1,1,0),0)","v":0},0,{"$f":"LOADS!AM580","v":0}]
[{"$f":"IF(ISBLANK(LOADS!A581),\"\",LOADS!A581)","v":{"$error":"#REF!"}},{"$f":"IF(ISBLANK(LOADS!B581),\"\",LOADS!B581)","v":""},{"$f":"IF(LOADS!$AC581=\"BUS\",IF(LOADS!$AE581=C$1,1,0),0)","v":0},{"$f":"IF(LOADS!$AC581=\"BUS\",IF(LOADS!$AE581=D$1,1,0),0)","v":0},{"$f":"IF(LOADS!$AC581=\"BUS\",IF(LOADS!$AE581=E$1,1,0),0)","v":0},{"$f":"IF(LOADS!$AC581=\"BUS\",IF(LOADS!$AE581=F$1,1,0),0)","v":0},{"$f":"IF(LOADS!$AC581=\"BUS\",IF(LOADS!$AE581=G$1,1,0),0)","v":0},{"$f":"IF(LOADS!$AC581=\"BUS\",IF(LOADS!$AE581=H$1,1,0),0)","v":0},{"$f":"IF(LOADS!$AC581=\"BUS\",IF(LOADS!$AE581=I$1,1,0),0)","v":0},0,{"$f":"LOADS!AM581","v":0}]
[{"$f":"IF(ISBLANK(LOADS!A582),\"\",LOADS!A582)","v":{"$error":"#REF!"}},{"$f":"IF(ISBLANK(LOADS!B582),\"\",LOADS!B582)","v":""},{"$f":"IF(LOADS!$AC582=\"BUS\",IF(LOADS!$AE582=C$1,1,0),0)","v":0},{"$f":"IF(LOADS!$AC582=\"BUS\",IF(LOADS!$AE582=D$1,1,0),0)","v":0},{"$f":"IF(LOADS!$AC582=\"BUS\",IF(LOADS!$AE582=E$1,1,0),0)","v":0},{"$f":"IF(LOADS!$AC582=\"BUS\",IF(LOADS!$AE582=F$1,1,0),0)","v":0},{"$f":"IF(LOADS!$AC582=\"BUS\",IF(LOADS!$AE582=G$1,1,0),0)","v":0},{"$f":"IF(LOADS!$AC582=\"BUS\",IF(LOADS!$AE582=H$1,1,0),0)","v":0},{"$f":"IF(LOADS!$AC582=\"BUS\",IF(LOADS!$AE582=I$1,1,0),0)","v":0},0,{"$f":"LOADS!AM582","v":0}]
[{"$f":"IF(ISBLANK(LOADS!A583),\"\",LOADS!A583)","v":{"$error":"#REF!"}},{"$f":"IF(ISBLANK(LOADS!B583),\"\",LOADS!B583)","v":""},{"$f":"IF(LOADS!$AC583=\"BUS\",IF(LOADS!$AE583=C$1,1,0),0)","v":0},{"$f":"IF(LOADS!$AC583=\"BUS\",IF(LOADS!$AE583=D$1,1,0),0)","v":0},{"$f":"IF(LOADS!$AC583=\"BUS\",IF(LOADS!$AE583=E$1,1,0),0)","v":0},{"$f":"IF(LOADS!$AC583=\"BUS\",IF(LOADS!$AE583=F$1,1,0),0)","v":0},{"$f":"IF(LOADS!$AC583=\"BUS\",IF(LOADS!$AE583=G$1,1,0),0)","v":0},{"$f":"IF(LOADS!$AC583=\"BUS\",IF(LOADS!$AE583=H$1,1,0),0)","v":0},{"$f":"IF(LOADS!$AC583=\"BUS\",IF(LOADS!$AE583=I$1,1,0),0)","v":0},0,{"$f":"LOADS!AM583","v":0}]
[{"$f":"IF(ISBLANK(LOADS!A584),\"\",LOADS!A584)","v":{"$error":"#REF!"}},{"$f":"IF(ISBLANK(LOADS!B584),\"\",LOADS!B584)","v":""},{"$f":"IF(LOADS!$AC584=\"BUS\",IF(LOADS!$AE584=C$1,1,0),0)","v":0},{"$f":"IF(LOADS!$AC584=\"BUS\",IF(LOADS!$AE584=D$1,1,0),0)","v":0},{"$f":"IF(LOADS!$AC584=\"BUS\",IF(LOADS!$AE584=E$1,1,0),0)","v":0},{"$f":"IF(LOADS!$AC584=\"BUS\",IF(LOADS!$AE584=F$1,1,0),0)","v":0},{"$f":"IF(LOADS!$AC584=\"BUS\",IF(LOADS!$AE584=G$1,1,0),0)","v":0},{"$f":"IF(LOADS!$AC584=\"BUS\",IF(LOADS!$AE584=H$1,1,0),0)","v":0},{"$f":"IF(LOADS!$AC584=\"BUS\",IF(LOADS!$AE584=I$1,1,0),0)","v":0},0,{"$f":"LOADS!AM584","v":0}]
[{"$f":"IF(ISBLANK(LOADS!A585),\"\",LOADS!A585)","v":{"$error":"#REF!"}},{"$f":"IF(ISBLANK(LOADS!B585),\"\",LOADS!B585)","v":""},{"$f":"IF(LOADS!$AC585=\"BUS\",IF(LOADS!$AE585=C$1,1,0),0)","v":0},{"$f":"IF(LOADS!$AC585=\"BUS\",IF(LOADS!$AE585=D$1,1,0),0)","v":0},{"$f":"IF(LOADS!$AC585=\"BUS\",IF(LOADS!$AE585=E$1,1,0),0)","v":0},{"$f":"IF(LOADS!$AC585=\"BUS\",IF(LOADS!$AE585=F$1,1,0),0)","v":0},{"$f":"IF(LOADS!$AC585=\"BUS\",IF(LOADS!$AE585=G$1,1,0),0)","v":0},{"$f":"IF(LOADS!$AC585=\"BUS\",IF(LOADS!$AE585=H$1,1,0),0)","v":0},{"$f":"IF(LOADS!$AC585=\"BUS\",IF(LOADS!$AE585=I$1,1,0),0)","v":0},0,{"$f":"LOADS!AM585","v":0}]
[{"$f":"IF(ISBLANK(LOADS!A586),\"\",LOADS!A586)","v":{"$error":"#REF!"}},{"$f":"IF(ISBLANK(LOADS!B586),\"\",LOADS!B586)","v":""},{"$f":"IF(LOADS!$AC586=\"BUS\",IF(LOADS!$AE586=C$1,1,0),0)","v":0},{"$f":"IF(LOADS!$AC586=\"BUS\",IF(LOADS!$AE586=D$1,1,0),0)","v":0},{"$f":"IF(LOADS!$AC586=\"BUS\",IF(LOADS!$AE586=E$1,1,0),0)","v":0},{"$f":"IF(LOADS!$AC586=\"BUS\",IF(LOADS!$AE586=F$1,1,0),0)","v":0},{"$f":"IF(LOADS!$AC586=\"BUS\",IF(LOADS!$AE586=G$1,1,0),0)","v":0},{"$f":"IF(LOADS!$AC586=\"BUS\",IF(LOADS!$AE586=H$1,1,0),0)","v":0},{"$f":"IF(LOADS!$AC586=\"BUS\",IF(LOADS!$AE586=I$1,1,0),0)","v":0},0,{"$f":"LOADS!AM586","v":0}]
[{"$f":"IF(ISBLANK(LOADS!A587),\"\",LOADS!A587)","v":{"$error":"#REF!"}},{"$f":"IF(ISBLANK(LOADS!B587),\"\",LOADS!B587)","v":""},{"$f":"IF(LOADS!$AC587=\"BUS\",IF(LOADS!$AE587=C$1,1,0),0)","v":0},{"$f":"IF(LOADS!$AC587=\"BUS\",IF(LOADS!$AE587=D$1,1,0),0)","v":0},{"$f":"IF(LOADS!$AC587=\"BUS\",IF(LOADS!$AE587=E$1,1,0),0)","v":0},{"$f":"IF(LOADS!$AC587=\"BUS\",IF(LOADS!$AE587=F$1,1,0),0)","v":0},{"$f":"IF(LOADS!$AC587=\"BUS\",IF(LOADS!$AE587=G$1,1,0),0)","v":0},{"$f":"IF(LOADS!$AC587=\"BUS\",IF(LOADS!$AE587=H$1,1,0),0)","v":0},{"$f":"IF(LOADS!$AC587=\"BUS\",IF(LOADS!$AE587=I$1,1,0),0)","v":0},0,{"$f":"LOADS!AM587","v":0}]
[{"$f":"IF(ISBLANK(LOADS!A588),\"\",LOADS!A588)","v":{"$error":"#REF!"}},{"$f":"IF(ISBLANK(LOADS!B588),\"\",LOADS!B588)","v":""},{"$f":"IF(LOADS!$AC588=\"BUS\",IF(LOADS!$AE588=C$1,1,0),0)","v":0},{"$f":"IF(LOADS!$AC588=\"BUS\",IF(LOADS!$AE588=D$1,1,0),0)","v":0},{"$f":"IF(LOADS!$AC588=\"BUS\",IF(LOADS!$AE588=E$1,1,0),0)","v":0},{"$f":"IF(LOADS!$AC588=\"BUS\",IF(LOADS!$AE588=F$1,1,0),0)","v":0},{"$f":"IF(LOADS!$AC588=\"BUS\",IF(LOADS!$AE588=G$1,1,0),0)","v":0},{"$f":"IF(LOADS!$AC588=\"BUS\",IF(LOADS!$AE588=H$1,1,0),0)","v":0},{"$f":"IF(LOADS!$AC588=\"BUS\",IF(LOADS!$AE588=I$1,1,0),0)","v":0},0,{"$f":"LOADS!AM588","v":0}]
[{"$f":"IF(ISBLANK(LOADS!A589),\"\",LOADS!A589)","v":{"$error":"#REF!"}},{"$f":"IF(ISBLANK(LOADS!B589),\"\",LOADS!B589)","v":""},{"$f":"IF(LOADS!$AC589=\"BUS\",IF(LOADS!$AE589=C$1,1,0),0)","v":0},{"$f":"IF(LOADS!$AC589=\"BUS\",IF(LOADS!$AE589=D$1,1,0),0)","v":0},{"$f":"IF(LOADS!$AC589=\"BUS\",IF(LOADS!$AE589=E$1,1,0),0)","v":0},{"$f":"IF(LOADS!$AC589=\"BUS\",IF(LOADS!$AE589=F$1,1,0),0)","v":0},{"$f":"IF(LOADS!$AC589=\"BUS\",IF(LOADS!$AE589=G$1,1,0),0)","v":0},{"$f":"IF(LOADS!$AC589=\"BUS\",IF(LOADS!$AE589=H$1,1,0),0)","v":0},{"$f":"IF(LOADS!$AC589=\"BUS\",IF(LOADS!$AE589=I$1,1,0),0)","v":0},0,{"$f":"LOADS!AM589","v":0}]
[{"$f":"IF(ISBLANK(LOADS!A590),\"\",LOADS!A590)","v":{"$error":"#REF!"}},{"$f":"IF(ISBLANK(LOADS!B590),\"\",LOADS!B590)","v":""},{"$f":"IF(LOADS!$AC590=\"BUS\",IF(LOADS!$AE590=C$1,1,0),0)","v":0},{"$f":"IF(LOADS!$AC590=\"BUS\",IF(LOADS!$AE590=D$1,1,0),0)","v":0},{"$f":"IF(LOADS!$AC590=\"BUS\",IF(LOADS!$AE590=E$1,1,0),0)","v":0},{"$f":"IF(LOADS!$AC590=\"BUS\",IF(LOADS!$AE590=F$1,1,0),0)","v":0},{"$f":"IF(LOADS!$AC590=\"BUS\",IF(LOADS!$AE590=G$1,1,0),0)","v":0},{"$f":"IF(LOADS!$AC590=\"BUS\",IF(LOADS!$AE590=H$1,1,0),0)","v":0},{"$f":"IF(LOADS!$AC590=\"BUS\",IF(LOADS!$AE590=I$1,1,0),0)","v":0},0,{"$f":"LOADS!AM590","v":0}]
[{"$f":"IF(ISBLANK(LOADS!A591),\"\",LOADS!A591)","v":{"$error":"#REF!"}},{"$f":"IF(ISBLANK(LOADS!B591),\"\",LOADS!B591)","v":""},{"$f":"IF(LOADS!$AC591=\"BUS\",IF(LOADS!$AE591=C$1,1,0),0)","v":0},{"$f":"IF(LOADS!$AC591=\"BUS\",IF(LOADS!$AE591=D$1,1,0),0)","v":0},{"$f":"IF(LOADS!$AC591=\"BUS\",IF(LOADS!$AE591=E$1,1,0),0)","v":0},{"$f":"IF(LOADS!$AC591=\"BUS\",IF(LOADS!$AE591=F$1,1,0),0)","v":0},{"$f":"IF(LOADS!$AC591=\"BUS\",IF(LOADS!$AE591=G$1,1,0),0)","v":0},{"$f":"IF(LOADS!$AC591=\"BUS\",IF(LOADS!$AE591=H$1,1,0),0)","v":0},{"$f":"IF(LOADS!$AC591=\"BUS\",IF(LOADS!$AE591=I$1,1,0),0)","v":0},0,{"$f":"LOADS!AM591","v":0}]
[{"$f":"IF(ISBLANK(LOADS!A592),\"\",LOADS!A592)","v":{"$error":"#REF!"}},{"$f":"IF(ISBLANK(LOADS!B592),\"\",LOADS!B592)","v":""},{"$f":"IF(LOADS!$AC592=\"BUS\",IF(LOADS!$AE592=C$1,1,0),0)","v":0},{"$f":"IF(LOADS!$AC592=\"BUS\",IF(LOADS!$AE592=D$1,1,0),0)","v":0},{"$f":"IF(LOADS!$AC592=\"BUS\",IF(LOADS!$AE592=E$1,1,0),0)","v":0},{"$f":"IF(LOADS!$AC592=\"BUS\",IF(LOADS!$AE592=F$1,1,0),0)","v":0},{"$f":"IF(LOADS!$AC592=\"BUS\",IF(LOADS!$AE592=G$1,1,0),0)","v":0},{"$f":"IF(LOADS!$AC592=\"BUS\",IF(LOADS!$AE592=H$1,1,0),0)","v":0},{"$f":"IF(LOADS!$AC592=\"BUS\",IF(LOADS!$AE592=I$1,1,0),0)","v":0},0,{"$f":"LOADS!AM592","v":0}]
[{"$f":"IF(ISBLANK(LOADS!A593),\"\",LOADS!A593)","v":{"$error":"#REF!"}},{"$f":"IF(ISBLANK(LOADS!B593),\"\",LOADS!B593)","v":""},{"$f":"IF(LOADS!$AC593=\"BUS\",IF(LOADS!$AE593=C$1,1,0),0)","v":0},{"$f":"IF(LOADS!$AC593=\"BUS\",IF(LOADS!$AE593=D$1,1,0),0)","v":0},{"$f":"IF(LOADS!$AC593=\"BUS\",IF(LOADS!$AE593=E$1,1,0),0)","v":0},{"$f":"IF(LOADS!$AC593=\"BUS\",IF(LOADS!$AE593=F$1,1,0),0)","v":0},{"$f":"IF(LOADS!$AC593=\"BUS\",IF(LOADS!$AE593=G$1,1,0),0)","v":0},{"$f":"IF(LOADS!$AC593=\"BUS\",IF(LOADS!$AE593=H$1,1,0),0)","v":0},{"$f":"IF(LOADS!$AC593=\"BUS\",IF(LOADS!$AE593=I$1,1,0),0)","v":0},0,{"$f":"LOADS!AM593","v":0}]
[{"$f":"IF(ISBLANK(LOADS!A594),\"\",LOADS!A594)","v":{"$error":"#REF!"}},{"$f":"IF(ISBLANK(LOADS!B594),\"\",LOADS!B594)","v":""},{"$f":"IF(LOADS!$AC594=\"BUS\",IF(LOADS!$AE594=C$1,1,0),0)","v":0},{"$f":"IF(LOADS!$AC594=\"BUS\",IF(LOADS!$AE594=D$1,1,0),0)","v":0},{"$f":"IF(LOADS!$AC594=\"BUS\",IF(LOADS!$AE594=E$1,1,0),0)","v":0},{"$f":"IF(LOADS!$AC594=\"BUS\",IF(LOADS!$AE594=F$1,1,0),0)","v":0},{"$f":"IF(LOADS!$AC594=\"BUS\",IF(LOADS!$AE594=G$1,1,0),0)","v":0},{"$f":"IF(LOADS!$AC594=\"BUS\",IF(LOADS!$AE594=H$1,1,0),0)","v":0},{"$f":"IF(LOADS!$AC594=\"BUS\",IF(LOADS!$AE594=I$1,1,0),0)","v":0},0,{"$f":"LOADS!AM594","v":0}]
[{"$f":"IF(ISBLANK(LOADS!A595),\"\",LOADS!A595)","v":{"$error":"#REF!"}},{"$f":"IF(ISBLANK(LOADS!B595),\"\",LOADS!B595)","v":""},{"$f":"IF(LOADS!$AC595=\"BUS\",IF(LOADS!$AE595=C$1,1,0),0)","v":0},{"$f":"IF(LOADS!$AC595=\"BUS\",IF(LOADS!$AE595=D$1,1,0),0)","v":0},{"$f":"IF(LOADS!$AC595=\"BUS\",IF(LOADS!$AE595=E$1,1,0),0)","v":0},{"$f":"IF(LOADS!$AC595=\"BUS\",IF(LOADS!$AE595=F$1,1,0),0)","v":0},{"$f":"IF(LOADS!$AC595=\"BUS\",IF(LOADS!$AE595=G$1,1,0),0)","v":0},{"$f":"IF(LOADS!$AC595=\"BUS\",IF(LOADS!$AE595=H$1,1,0),0)","v":0},{"$f":"IF(LOADS!$AC595=\"BUS\",IF(LOADS!$AE595=I$1,1,0),0)","v":0},0,{"$f":"LOADS!AM595","v":0}]
[{"$f":"IF(ISBLANK(LOADS!A596),\"\",LOADS!A596)","v":{"$error":"#REF!"}},{"$f":"IF(ISBLANK(LOADS!B596),\"\",LOADS!B596)","v":""},{"$f":"IF(LOADS!$AC596=\"BUS\",IF(LOADS!$AE596=C$1,1,0),0)","v":0},{"$f":"IF(LOADS!$AC596=\"BUS\",IF(LOADS!$AE596=D$1,1,0),0)","v":0},{"$f":"IF(LOADS!$AC596=\"BUS\",IF(LOADS!$AE596=E$1,1,0),0)","v":0},{"$f":"IF(LOADS!$AC596=\"BUS\",IF(LOADS!$AE596=F$1,1,0),0)","v":0},{"$f":"IF(LOADS!$AC596=\"BUS\",IF(LOADS!$AE596=G$1,1,0),0)","v":0},{"$f":"IF(LOADS!$AC596=\"BUS\",IF(LOADS!$AE596=H$1,1,0),0)","v":0},{"$f":"IF(LOADS!$AC596=\"BUS\",IF(LOADS!$AE596=I$1,1,0),0)","v":0},0,{"$f":"LOADS!AM596","v":0}]
[{"$f":"IF(ISBLANK(LOADS!A597),\"\",LOADS!A597)","v":{"$error":"#REF!"}},{"$f":"IF(ISBLANK(LOADS!B597),\"\",LOADS!B597)","v":""},{"$f":"IF(LOADS!$AC597=\"BUS\",IF(LOADS!$AE597=C$1,1,0),0)","v":0},{"$f":"IF(LOADS!$AC597=\"BUS\",IF(LOADS!$AE597=D$1,1,0),0)","v":0},{"$f":"IF(LOADS!$AC597=\"BUS\",IF(LOADS!$AE597=E$1,1,0),0)","v":0},{"$f":"IF(LOADS!$AC597=\"BUS\",IF(LOADS!$AE597=F$1,1,0),0)","v":0},{"$f":"IF(LOADS!$AC597=\"BUS\",IF(LOADS!$AE597=G$1,1,0),0)","v":0},{"$f":"IF(LOADS!$AC597=\"BUS\",IF(LOADS!$AE597=H$1,1,0),0)","v":0},{"$f":"IF(LOADS!$AC597=\"BUS\",IF(LOADS!$AE597=I$1,1,0),0)","v":0},0,{"$f":"LOADS!AM597","v":0}]
[{"$f":"IF(ISBLANK(LOADS!A598),\"\",LOADS!A598)","v":{"$error":"#REF!"}},{"$f":"IF(ISBLANK(LOADS!B598),\"\",LOADS!B598)","v":""},{"$f":"IF(LOADS!$AC598=\"BUS\",IF(LOADS!$AE598=C$1,1,0),0)","v":0},{"$f":"IF(LOADS!$AC598=\"BUS\",IF(LOADS!$AE598=D$1,1,0),0)","v":0},{"$f":"IF(LOADS!$AC598=\"BUS\",IF(LOADS!$AE598=E$1,1,0),0)","v":0},{"$f":"IF(LOADS!$AC598=\"BUS\",IF(LOADS!$AE598=F$1,1,0),0)","v":0},{"$f":"IF(LOADS!$AC598=\"BUS\",IF(LOADS!$AE598=G$1,1,0),0)","v":0},{"$f":"IF(LOADS!$AC598=\"BUS\",IF(LOADS!$AE598=H$1,1,0),0)","v":0},{"$f":"IF(LOADS!$AC598=\"BUS\",IF(LOADS!$AE598=I$1,1,0),0)","v":0},0,{"$f":"LOADS!AM598","v":0}]
[{"$f":"IF(ISBLANK(LOADS!A599),\"\",LOADS!A599)","v":{"$error":"#REF!"}},{"$f":"IF(ISBLANK(LOADS!B599),\"\",LOADS!B599)","v":""},{"$f":"IF(LOADS!$AC599=\"BUS\",IF(LOADS!$AE599=C$1,1,0),0)","v":0},{"$f":"IF(LOADS!$AC599=\"BUS\",IF(LOADS!$AE599=D$1,1,0),0)","v":0},{"$f":"IF(LOADS!$AC599=\"BUS\",IF(LOADS!$AE599=E$1,1,0),0)","v":0},{"$f":"IF(LOADS!$AC599=\"BUS\",IF(LOADS!$AE599=F$1,1,0),0)","v":0},{"$f":"IF(LOADS!$AC599=\"BUS\",IF(LOADS!$AE599=G$1,1,0),0)","v":0},{"$f":"IF(LOADS!$AC599=\"BUS\",IF(LOADS!$AE599=H$1,1,0),0)","v":0},{"$f":"IF(LOADS!$AC599=\"BUS\",IF(LOADS!$AE599=I$1,1,0),0)","v":0},0,{"$f":"LOADS!AM599","v":0}]
[{"$f":"IF(ISBLANK(LOADS!A600),\"\",LOADS!A600)","v":{"$error":"#REF!"}},{"$f":"IF(ISBLANK(LOADS!B600),\"\",LOADS!B600)","v":""},{"$f":"IF(LOADS!$AC600=\"BUS\",IF(LOADS!$AE600=C$1,1,0),0)","v":0},{"$f":"IF(LOADS!$AC600=\"BUS\",IF(LOADS!$AE600=D$1,1,0),0)","v":0},{"$f":"IF(LOADS!$AC600=\"BUS\",IF(LOADS!$AE600=E$1,1,0),0)","v":0},{"$f":"IF(LOADS!$AC600=\"BUS\",IF(LOADS!$AE600=F$1,1,0),0)","v":0},{"$f":"IF(LOADS!$AC600=\"BUS\",IF(LOADS!$AE600=G$1,1,0),0)","v":0},{"$f":"IF(LOADS!$AC600=\"BUS\",IF(LOADS!$AE600=H$1,1,0),0)","v":0},{"$f":"IF(LOADS!$AC600=\"BUS\",IF(LOADS!$AE600=I$1,1,0),0)","v":0},0,{"$f":"LOADS!AM600","v":0}]
[{"$f":"IF(ISBLANK(LOADS!A601),\"\",LOADS!A601)","v":{"$error":"#REF!"}},{"$f":"IF(ISBLANK(LOADS!B601),\"\",LOADS!B601)","v":""},{"$f":"IF(LOADS!$AC601=\"BUS\",IF(LOADS!$AE601=C$1,1,0),0)","v":0},{"$f":"IF(LOADS!$AC601=\"BUS\",IF(LOADS!$AE601=D$1,1,0),0)","v":0},{"$f":"IF(LOADS!$AC601=\"BUS\",IF(LOADS!$AE601=E$1,1,0),0)","v":0},{"$f":"IF(LOADS!$AC601=\"BUS\",IF(LOADS!$AE601=F$1,1,0),0)","v":0},{"$f":"IF(LOADS!$AC601=\"BUS\",IF(LOADS!$AE601=G$1,1,0),0)","v":0},{"$f":"IF(LOADS!$AC601=\"BUS\",IF(LOADS!$AE601=H$1,1,0),0)","v":0},{"$f":"IF(LOADS!$AC601=\"BUS\",IF(LOADS!$AE601=I$1,1,0),0)","v":0},0,{"$f":"LOADS!AM601","v":0}]
[{"$f":"IF(ISBLANK(LOADS!A602),\"\",LOADS!A602)","v":{"$error":"#REF!"}},{"$f":"IF(ISBLANK(LOADS!B602),\"\",LOADS!B602)","v":""},{"$f":"IF(LOADS!$AC602=\"BUS\",IF(LOADS!$AE602=C$1,1,0),0)","v":0},{"$f":"IF(LOADS!$AC602=\"BUS\",IF(LOADS!$AE602=D$1,1,0),0)","v":0},{"$f":"IF(LOADS!$AC602=\"BUS\",IF(LOADS!$AE602=E$1,1,0),0)","v":0},{"$f":"IF(LOADS!$AC602=\"BUS\",IF(LOADS!$AE602=F$1,1,0),0)","v":0},{"$f":"IF(LOADS!$AC602=\"BUS\",IF(LOADS!$AE602=G$1,1,0),0)","v":0},{"$f":"IF(LOADS!$AC602=\"BUS\",IF(LOADS!$AE602=H$1,1,0),0)","v":0},{"$f":"IF(LOADS!$AC602=\"BUS\",IF(LOADS!$AE602=I$1,1,0),0)","v":0},0,{"$f":"LOADS!AM602","v":0}]
[{"$f":"IF(ISBLANK(LOADS!A603),\"\",LOADS!A603)","v":{"$error":"#REF!"}},{"$f":"IF(ISBLANK(LOADS!B603),\"\",LOADS!B603)","v":""},{"$f":"IF(LOADS!$AC603=\"BUS\",IF(LOADS!$AE603=C$1,1,0),0)","v":0},{"$f":"IF(LOADS!$AC603=\"BUS\",IF(LOADS!$AE603=D$1,1,0),0)","v":0},{"$f":"IF(LOADS!$AC603=\"BUS\",IF(LOADS!$AE603=E$1,1,0),0)","v":0},{"$f":"IF(LOADS!$AC603=\"BUS\",IF(LOADS!$AE603=F$1,1,0),0)","v":0},{"$f":"IF(LOADS!$AC603=\"BUS\",IF(LOADS!$AE603=G$1,1,0),0)","v":0},{"$f":"IF(LOADS!$AC603=\"BUS\",IF(LOADS!$AE603=H$1,1,0),0)","v":0},{"$f":"IF(LOADS!$AC603=\"BUS\",IF(LOADS!$AE603=I$1,1,0),0)","v":0},0,{"$f":"LOADS!AM603","v":0}]
[{"$f":"IF(ISBLANK(LOADS!A604),\"\",LOADS!A604)","v":{"$error":"#REF!"}},{"$f":"IF(ISBLANK(LOADS!B604),\"\",LOADS!B604)","v":""},{"$f":"IF(LOADS!$AC604=\"BUS\",IF(LOADS!$AE604=C$1,1,0),0)","v":0},{"$f":"IF(LOADS!$AC604=\"BUS\",IF(LOADS!$AE604=D$1,1,0),0)","v":0},{"$f":"IF(LOADS!$AC604=\"BUS\",IF(LOADS!$AE604=E$1,1,0),0)","v":0},{"$f":"IF(LOADS!$AC604=\"BUS\",IF(LOADS!$AE604=F$1,1,0),0)","v":0},{"$f":"IF(LOADS!$AC604=\"BUS\",IF(LOADS!$AE604=G$1,1,0),0)","v":0},{"$f":"IF(LOADS!$AC604=\"BUS\",IF(LOADS!$AE604=H$1,1,0),0)","v":0},{"$f":"IF(LOADS!$AC604=\"BUS\",IF(LOADS!$AE604=I$1,1,0),0)","v":0},0,{"$f":"LOADS!AM604","v":0}]
[{"$f":"IF(ISBLANK(LOADS!A605),\"\",LOADS!A605)","v":{"$error":"#REF!"}},{"$f":"IF(ISBLANK(LOADS!B605),\"\",LOADS!B605)","v":""},{"$f":"IF(LOADS!$AC605=\"BUS\",IF(LOADS!$AE605=C$1,1,0),0)","v":0},{"$f":"IF(LOADS!$AC605=\"BUS\",IF(LOADS!$AE605=D$1,1,0),0)","v":0},{"$f":"IF(LOADS!$AC605=\"BUS\",IF(LOADS!$AE605=E$1,1,0),0)","v":0},{"$f":"IF(LOADS!$AC605=\"BUS\",IF(LOADS!$AE605=F$1,1,0),0)","v":0},{"$f":"IF(LOADS!$AC605=\"BUS\",IF(LOADS!$AE605=G$1,1,0),0)","v":0},{"$f":"IF(LOADS!$AC605=\"BUS\",IF(LOADS!$AE605=H$1,1,0),0)","v":0},{"$f":"IF(LOADS!$AC605=\"BUS\",IF(LOADS!$AE605=I$1,1,0),0)","v":0},0,{"$f":"LOADS!AM605","v":0}]
[{"$f":"IF(ISBLANK(LOADS!A606),\"\",LOADS!A606)","v":{"$error":"#REF!"}},{"$f":"IF(ISBLANK(LOADS!B606),\"\",LOADS!B606)","v":""},{"$f":"IF(LOADS!$AC606=\"BUS\",IF(LOADS!$AE606=C$1,1,0),0)","v":0},{"$f":"IF(LOADS!$AC606=\"BUS\",IF(LOADS!$AE606=D$1,1,0),0)","v":0},{"$f":"IF(LOADS!$AC606=\"BUS\",IF(LOADS!$AE606=E$1,1,0),0)","v":0},{"$f":"IF(LOADS!$AC606=\"BUS\",IF(LOADS!$AE606=F$1,1,0),0)","v":0},{"$f":"IF(LOADS!$AC606=\"BUS\",IF(LOADS!$AE606=G$1,1,0),0)","v":0},{"$f":"IF(LOADS!$AC606=\"BUS\",IF(LOADS!$AE606=H$1,1,0),0)","v":0},{"$f":"IF(LOADS!$AC606=\"BUS\",IF(LOADS!$AE606=I$1,1,0),0)","v":0},0,{"$f":"LOADS!AM606","v":0}]
[{"$f":"IF(ISBLANK(LOADS!A607),\"\",LOADS!A607)","v":{"$error":"#REF!"}},{"$f":"IF(ISBLANK(LOADS!B607),\"\",LOADS!B607)","v":""},{"$f":"IF(LOADS!$AC607=\"BUS\",IF(LOADS!$AE607=C$1,1,0),0)","v":0},{"$f":"IF(LOADS!$AC607=\"BUS\",IF(LOADS!$AE607=D$1,1,0),0)","v":0},{"$f":"IF(LOADS!$AC607=\"BUS\",IF(LOADS!$AE607=E$1,1,0),0)","v":0},{"$f":"IF(LOADS!$AC607=\"BUS\",IF(LOADS!$AE607=F$1,1,0),0)","v":0},{"$f":"IF(LOADS!$AC607=\"BUS\",IF(LOADS!$AE607=G$1,1,0),0)","v":0},{"$f":"IF(LOADS!$AC607=\"BUS\",IF(LOADS!$AE607=H$1,1,0),0)","v":0},{"$f":"IF(LOADS!$AC607=\"BUS\",IF(LOADS!$AE607=I$1,1,0),0)","v":0},0,{"$f":"LOADS!AM607","v":0}]
[{"$f":"IF(ISBLANK(LOADS!A608),\"\",LOADS!A608)","v":{"$error":"#REF!"}},{"$f":"IF(ISBLANK(LOADS!B608),\"\",LOADS!B608)","v":""},{"$f":"IF(LOADS!$AC608=\"BUS\",IF(LOADS!$AE608=C$1,1,0),0)","v":0},{"$f":"IF(LOADS!$AC608=\"BUS\",IF(LOADS!$AE608=D$1,1,0),0)","v":0},{"$f":"IF(LOADS!$AC608=\"BUS\",IF(LOADS!$AE608=E$1,1,0),0)","v":0},{"$f":"IF(LOADS!$AC608=\"BUS\",IF(LOADS!$AE608=F$1,1,0),0)","v":0},{"$f":"IF(LOADS!$AC608=\"BUS\",IF(LOADS!$AE608=G$1,1,0),0)","v":0},{"$f":"IF(LOADS!$AC608=\"BUS\",IF(LOADS!$AE608=H$1,1,0),0)","v":0},{"$f":"IF(LOADS!$AC608=\"BUS\",IF(LOADS!$AE608=I$1,1,0),0)","v":0},0,{"$f":"LOADS!AM608","v":0}]
[{"$f":"IF(ISBLANK(LOADS!A609),\"\",LOADS!A609)","v":{"$error":"#REF!"}},{"$f":"IF(ISBLANK(LOADS!B609),\"\",LOADS!B609)","v":""},{"$f":"IF(LOADS!$AC609=\"BUS\",IF(LOADS!$AE609=C$1,1,0),0)","v":0},{"$f":"IF(LOADS!$AC609=\"BUS\",IF(LOADS!$AE609=D$1,1,0),0)","v":0},{"$f":"IF(LOADS!$AC609=\"BUS\",IF(LOADS!$AE609=E$1,1,0),0)","v":0},{"$f":"IF(LOADS!$AC609=\"BUS\",IF(LOADS!$AE609=F$1,1,0),0)","v":0},{"$f":"IF(LOADS!$AC609=\"BUS\",IF(LOADS!$AE609=G$1,1,0),0)","v":0},{"$f":"IF(LOADS!$AC609=\"BUS\",IF(LOADS!$AE609=H$1,1,0),0)","v":0},{"$f":"IF(LOADS!$AC609=\"BUS\",IF(LOADS!$AE609=I$1,1,0),0)","v":0},0,{"$f":"LOADS!AM609","v":0}]
[{"$f":"IF(ISBLANK(LOADS!A610),\"\",LOADS!A610)","v":{"$error":"#REF!"}},{"$f":"IF(ISBLANK(LOADS!B610),\"\",LOADS!B610)","v":""},{"$f":"IF(LOADS!$AC610=\"BUS\",IF(LOADS!$AE610=C$1,1,0),0)","v":0},{"$f":"IF(LOADS!$AC610=\"BUS\",IF(LOADS!$AE610=D$1,1,0),0)","v":0},{"$f":"IF(LOADS!$AC610=\"BUS\",IF(LOADS!$AE610=E$1,1,0),0)","v":0},{"$f":"IF(LOADS!$AC610=\"BUS\",IF(LOADS!$AE610=F$1,1,0),0)","v":0},{"$f":"IF(LOADS!$AC610=\"BUS\",IF(LOADS!$AE610=G$1,1,0),0)","v":0},{"$f":"IF(LOADS!$AC610=\"BUS\",IF(LOADS!$AE610=H$1,1,0),0)","v":0},{"$f":"IF(LOADS!$AC610=\"BUS\",IF(LOADS!$AE610=I$1,1,0),0)","v":0},0,{"$f":"LOADS!AM610","v":0}]
[{"$f":"IF(ISBLANK(LOADS!A611),\"\",LOADS!A611)","v":{"$error":"#REF!"}},{"$f":"IF(ISBLANK(LOADS!B611),\"\",LOADS!B611)","v":""},{"$f":"IF(LOADS!$AC611=\"BUS\",IF(LOADS!$AE611=C$1,1,0),0)","v":0},{"$f":"IF(LOADS!$AC611=\"BUS\",IF(LOADS!$AE611=D$1,1,0),0)","v":0},{"$f":"IF(LOADS!$AC611=\"BUS\",IF(LOADS!$AE611=E$1,1,0),0)","v":0},{"$f":"IF(LOADS!$AC611=\"BUS\",IF(LOADS!$AE611=F$1,1,0),0)","v":0},{"$f":"IF(LOADS!$AC611=\"BUS\",IF(LOADS!$AE611=G$1,1,0),0)","v":0},{"$f":"IF(LOADS!$AC611=\"BUS\",IF(LOADS!$AE611=H$1,1,0),0)","v":0},{"$f":"IF(LOADS!$AC611=\"BUS\",IF(LOADS!$AE611=I$1,1,0),0)","v":0},0,{"$f":"LOADS!AM611","v":0}]
[{"$f":"IF(ISBLANK(LOADS!A612),\"\",LOADS!A612)","v":{"$error":"#REF!"}},{"$f":"IF(ISBLANK(LOADS!B612),\"\",LOADS!B612)","v":""},{"$f":"IF(LOADS!$AC612=\"BUS\",IF(LOADS!$AE612=C$1,1,0),0)","v":0},{"$f":"IF(LOADS!$AC612=\"BUS\",IF(LOADS!$AE612=D$1,1,0),0)","v":0},{"$f":"IF(LOADS!$AC612=\"BUS\",IF(LOADS!$AE612=E$1,1,0),0)","v":0},{"$f":"IF(LOADS!$AC612=\"BUS\",IF(LOADS!$AE612=F$1,1,0),0)","v":0},{"$f":"IF(LOADS!$AC612=\"BUS\",IF(LOADS!$AE612=G$1,1,0),0)","v":0},{"$f":"IF(LOADS!$AC612=\"BUS\",IF(LOADS!$AE612=H$1,1,0),0)","v":0},{"$f":"IF(LOADS!$AC612=\"BUS\",IF(LOADS!$AE612=I$1,1,0),0)","v":0},0,{"$f":"LOADS!AM612","v":0}]
[{"$f":"IF(ISBLANK(LOADS!A613),\"\",LOADS!A613)","v":{"$error":"#REF!"}},{"$f":"IF(ISBLANK(LOADS!B613),\"\",LOADS!B613)","v":""},{"$f":"IF(LOADS!$AC613=\"BUS\",IF(LOADS!$AE613=C$1,1,0),0)","v":0},{"$f":"IF(LOADS!$AC613=\"BUS\",IF(LOADS!$AE613=D$1,1,0),0)","v":0},{"$f":"IF(LOADS!$AC613=\"BUS\",IF(LOADS!$AE613=E$1,1,0),0)","v":0},{"$f":"IF(LOADS!$AC613=\"BUS\",IF(LOADS!$AE613=F$1,1,0),0)","v":0},{"$f":"IF(LOADS!$AC613=\"BUS\",IF(LOADS!$AE613=G$1,1,0),0)","v":0},{"$f":"IF(LOADS!$AC613=\"BUS\",IF(LOADS!$AE613=H$1,1,0),0)","v":0},{"$f":"IF(LOADS!$AC613=\"BUS\",IF(LOADS!$AE613=I$1,1,0),0)","v":0},0,{"$f":"LOADS!AM613","v":0}]
[{"$f":"IF(ISBLANK(LOADS!A614),\"\",LOADS!A614)","v":{"$error":"#REF!"}},{"$f":"IF(ISBLANK(LOADS!B614),\"\",LOADS!B614)","v":""},{"$f":"IF(LOADS!$AC614=\"BUS\",IF(LOADS!$AE614=C$1,1,0),0)","v":0},{"$f":"IF(LOADS!$AC614=\"BUS\",IF(LOADS!$AE614=D$1,1,0),0)","v":0},{"$f":"IF(LOADS!$AC614=\"BUS\",IF(LOADS!$AE614=E$1,1,0),0)","v":0},{"$f":"IF(LOADS!$AC614=\"BUS\",IF(LOADS!$AE614=F$1,1,0),0)","v":0},{"$f":"IF(LOADS!$AC614=\"BUS\",IF(LOADS!$AE614=G$1,1,0),0)","v":0},{"$f":"IF(LOADS!$AC614=\"BUS\",IF(LOADS!$AE614=H$1,1,0),0)","v":0},{"$f":"IF(LOADS!$AC614=\"BUS\",IF(LOADS!$AE614=I$1,1,0),0)","v":0},0,{"$f":"LOADS!AM614","v":0}]
[{"$f":"IF(ISBLANK(LOADS!A615),\"\",LOADS!A615)","v":{"$error":"#REF!"}},{"$f":"IF(ISBLANK(LOADS!B615),\"\",LOADS!B615)","v":""},{"$f":"IF(LOADS!$AC615=\"BUS\",IF(LOADS!$AE615=C$1,1,0),0)","v":0},{"$f":"IF(LOADS!$AC615=\"BUS\",IF(LOADS!$AE615=D$1,1,0),0)","v":0},{"$f":"IF(LOADS!$AC615=\"BUS\",IF(LOADS!$AE615=E$1,1,0),0)","v":0},{"$f":"IF(LOADS!$AC615=\"BUS\",IF(LOADS!$AE615=F$1,1,0),0)","v":0},{"$f":"IF(LOADS!$AC615=\"BUS\",IF(LOADS!$AE615=G$1,1,0),0)","v":0},{"$f":"IF(LOADS!$AC615=\"BUS\",IF(LOADS!$AE615=H$1,1,0),0)","v":0},{"$f":"IF(LOADS!$AC615=\"BUS\",IF(LOADS!$AE615=I$1,1,0),0)","v":0},0,{"$f":"LOADS!AM615","v":0}]
[{"$f":"IF(ISBLANK(LOADS!A616),\"\",LOADS!A616)","v":{"$error":"#REF!"}},{"$f":"IF(ISBLANK(LOADS!B616),\"\",LOADS!B616)","v":""},{"$f":"IF(LOADS!$AC616=\"BUS\",IF(LOADS!$AE616=C$1,1,0),0)","v":0},{"$f":"IF(LOADS!$AC616=\"BUS\",IF(LOADS!$AE616=D$1,1,0),0)","v":0},{"$f":"IF(LOADS!$AC616=\"BUS\",IF(LOADS!$AE616=E$1,1,0),0)","v":0},{"$f":"IF(LOADS!$AC616=\"BUS\",IF(LOADS!$AE616=F$1,1,0),0)","v":0},{"$f":"IF(LOADS!$AC616=\"BUS\",IF(LOADS!$AE616=G$1,1,0),0)","v":0},{"$f":"IF(LOADS!$AC616=\"BUS\",IF(LOADS!$AE616=H$1,1,0),0)","v":0},{"$f":"IF(LOADS!$AC616=\"BUS\",IF(LOADS!$AE616=I$1,1,0),0)","v":0},0,{"$f":"LOADS!AM616","v":0}]
[{"$f":"IF(ISBLANK(LOADS!A617),\"\",LOADS!A617)","v":{"$error":"#REF!"}},{"$f":"IF(ISBLANK(LOADS!B617),\"\",LOADS!B617)","v":""},{"$f":"IF(LOADS!$AC617=\"BUS\",IF(LOADS!$AE617=C$1,1,0),0)","v":0},{"$f":"IF(LOADS!$AC617=\"BUS\",IF(LOADS!$AE617=D$1,1,0),0)","v":0},{"$f":"IF(LOADS!$AC617=\"BUS\",IF(LOADS!$AE617=E$1,1,0),0)","v":0},{"$f":"IF(LOADS!$AC617=\"BUS\",IF(LOADS!$AE617=F$1,1,0),0)","v":0},{"$f":"IF(LOADS!$AC617=\"BUS\",IF(LOADS!$AE617=G$1,1,0),0)","v":0},{"$f":"IF(LOADS!$AC617=\"BUS\",IF(LOADS!$AE617=H$1,1,0),0)","v":0},{"$f":"IF(LOADS!$AC617=\"BUS\",IF(LOADS!$AE617=I$1,1,0),0)","v":0},0,{"$f":"LOADS!AM617","v":0}]
[{"$f":"IF(ISBLANK(LOADS!A618),\"\",LOADS!A618)","v":{"$error":"#REF!"}},{"$f":"IF(ISBLANK(LOADS!B618),\"\",LOADS!B618)","v":""},{"$f":"IF(LOADS!$AC618=\"BUS\",IF(LOADS!$AE618=C$1,1,0),0)","v":0},{"$f":"IF(LOADS!$AC618=\"BUS\",IF(LOADS!$AE618=D$1,1,0),0)","v":0},{"$f":"IF(LOADS!$AC618=\"BUS\",IF(LOADS!$AE618=E$1,1,0),0)","v":0},{"$f":"IF(LOADS!$AC618=\"BUS\",IF(LOADS!$AE618=F$1,1,0),0)","v":0},{"$f":"IF(LOADS!$AC618=\"BUS\",IF(LOADS!$AE618=G$1,1,0),0)","v":0},{"$f":"IF(LOADS!$AC618=\"BUS\",IF(LOADS!$AE618=H$1,1,0),0)","v":0},{"$f":"IF(LOADS!$AC618=\"BUS\",IF(LOADS!$AE618=I$1,1,0),0)","v":0},0,{"$f":"LOADS!AM618","v":0}]
[{"$f":"IF(ISBLANK(LOADS!A619),\"\",LOADS!A619)","v":{"$error":"#REF!"}},{"$f":"IF(ISBLANK(LOADS!B619),\"\",LOADS!B619)","v":""},{"$f":"IF(LOADS!$AC619=\"BUS\",IF(LOADS!$AE619=C$1,1,0),0)","v":0},{"$f":"IF(LOADS!$AC619=\"BUS\",IF(LOADS!$AE619=D$1,1,0),0)","v":0},{"$f":"IF(LOADS!$AC619=\"BUS\",IF(LOADS!$AE619=E$1,1,0),0)","v":0},{"$f":"IF(LOADS!$AC619=\"BUS\",IF(LOADS!$AE619=F$1,1,0),0)","v":0},{"$f":"IF(LOADS!$AC619=\"BUS\",IF(LOADS!$AE619=G$1,1,0),0)","v":0},{"$f":"IF(LOADS!$AC619=\"BUS\",IF(LOADS!$AE619=H$1,1,0),0)","v":0},{"$f":"IF(LOADS!$AC619=\"BUS\",IF(LOADS!$AE619=I$1,1,0),0)","v":0},0,{"$f":"LOADS!AM619","v":0}]
[{"$f":"IF(ISBLANK(LOADS!A620),\"\",LOADS!A620)","v":{"$error":"#REF!"}},{"$f":"IF(ISBLANK(LOADS!B620),\"\",LOADS!B620)","v":""},{"$f":"IF(LOADS!$AC620=\"BUS\",IF(LOADS!$AE620=C$1,1,0),0)","v":0},{"$f":"IF(LOADS!$AC620=\"BUS\",IF(LOADS!$AE620=D$1,1,0),0)","v":0},{"$f":"IF(LOADS!$AC620=\"BUS\",IF(LOADS!$AE620=E$1,1,0),0)","v":0},{"$f":"IF(LOADS!$AC620=\"BUS\",IF(LOADS!$AE620=F$1,1,0),0)","v":0},{"$f":"IF(LOADS!$AC620=\"BUS\",IF(LOADS!$AE620=G$1,1,0),0)","v":0},{"$f":"IF(LOADS!$AC620=\"BUS\",IF(LOADS!$AE620=H$1,1,0),0)","v":0},{"$f":"IF(LOADS!$AC620=\"BUS\",IF(LOADS!$AE620=I$1,1,0),0)","v":0},0,{"$f":"LOADS!AM620","v":0}]
[{"$f":"IF(ISBLANK(LOADS!A621),\"\",LOADS!A621)","v":{"$error":"#REF!"}},{"$f":"IF(ISBLANK(LOADS!B621),\"\",LOADS!B621)","v":""},{"$f":"IF(LOADS!$AC621=\"BUS\",IF(LOADS!$AE621=C$1,1,0),0)","v":0},{"$f":"IF(LOADS!$AC621=\"BUS\",IF(LOADS!$AE621=D$1,1,0),0)","v":0},{"$f":"IF(LOADS!$AC621=\"BUS\",IF(LOADS!$AE621=E$1,1,0),0)","v":0},{"$f":"IF(LOADS!$AC621=\"BUS\",IF(LOADS!$AE621=F$1,1,0),0)","v":0},{"$f":"IF(LOADS!$AC621=\"BUS\",IF(LOADS!$AE621=G$1,1,0),0)","v":0},{"$f":"IF(LOADS!$AC621=\"BUS\",IF(LOADS!$AE621=H$1,1,0),0)","v":0},{"$f":"IF(LOADS!$AC621=\"BUS\",IF(LOADS!$AE621=I$1,1,0),0)","v":0},0,{"$f":"LOADS!AM621","v":0}]
[{"$f":"IF(ISBLANK(LOADS!A622),\"\",LOADS!A622)","v":{"$error":"#REF!"}},{"$f":"IF(ISBLANK(LOADS!B622),\"\",LOADS!B622)","v":""},{"$f":"IF(LOADS!$AC622=\"BUS\",IF(LOADS!$AE622=C$1,1,0),0)","v":0},{"$f":"IF(LOADS!$AC622=\"BUS\",IF(LOADS!$AE622=D$1,1,0),0)","v":0},{"$f":"IF(LOADS!$AC622=\"BUS\",IF(LOADS!$AE622=E$1,1,0),0)","v":0},{"$f":"IF(LOADS!$AC622=\"BUS\",IF(LOADS!$AE622=F$1,1,0),0)","v":0},{"$f":"IF(LOADS!$AC622=\"BUS\",IF(LOADS!$AE622=G$1,1,0),0)","v":0},{"$f":"IF(LOADS!$AC622=\"BUS\",IF(LOADS!$AE622=H$1,1,0),0)","v":0},{"$f":"IF(LOADS!$AC622=\"BUS\",IF(LOADS!$AE622=I$1,1,0),0)","v":0},0,{"$f":"LOADS!AM622","v":0}]
[{"$f":"IF(ISBLANK(LOADS!A623),\"\",LOADS!A623)","v":{"$error":"#REF!"}},{"$f":"IF(ISBLANK(LOADS!B623),\"\",LOADS!B623)","v":""},{"$f":"IF(LOADS!$AC623=\"BUS\",IF(LOADS!$AE623=C$1,1,0),0)","v":0},{"$f":"IF(LOADS!$AC623=\"BUS\",IF(LOADS!$AE623=D$1,1,0),0)","v":0},{"$f":"IF(LOADS!$AC623=\"BUS\",IF(LOADS!$AE623=E$1,1,0),0)","v":0},{"$f":"IF(LOADS!$AC623=\"BUS\",IF(LOADS!$AE623=F$1,1,0),0)","v":0},{"$f":"IF(LOADS!$AC623=\"BUS\",IF(LOADS!$AE623=G$1,1,0),0)","v":0},{"$f":"IF(LOADS!$AC623=\"BUS\",IF(LOADS!$AE623=H$1,1,0),0)","v":0},{"$f":"IF(LOADS!$AC623=\"BUS\",IF(LOADS!$AE623=I$1,1,0),0)","v":0},0,{"$f":"LOADS!AM623","v":0}]
[{"$f":"IF(ISBLANK(LOADS!A624),\"\",LOADS!A624)","v":{"$error":"#REF!"}},{"$f":"IF(ISBLANK(LOADS!B624),\"\",LOADS!B624)","v":""},{"$f":"IF(LOADS!$AC624=\"BUS\",IF(LOADS!$AE624=C$1,1,0),0)","v":0},{"$f":"IF(LOADS!$AC624=\"BUS\",IF(LOADS!$AE624=D$1,1,0),0)","v":0},{"$f":"IF(LOADS!$AC624=\"BUS\",IF(LOADS!$AE624=E$1,1,0),0)","v":0},{"$f":"IF(LOADS!$AC624=\"BUS\",IF(LOADS!$AE624=F$1,1,0),0)","v":0},{"$f":"IF(LOADS!$AC624=\"BUS\",IF(LOADS!$AE624=G$1,1,0),0)","v":0},{"$f":"IF(LOADS!$AC624=\"BUS\",IF(LOADS!$AE624=H$1,1,0),0)","v":0},{"$f":"IF(LOADS!$AC624=\"BUS\",IF(LOADS!$AE624=I$1,1,0),0)","v":0},0,{"$f":"LOADS!AM624","v":0}]
[{"$f":"IF(ISBLANK(LOADS!A625),\"\",LOADS!A625)","v":{"$error":"#REF!"}},{"$f":"IF(ISBLANK(LOADS!B625),\"\",LOADS!B625)","v":""},{"$f":"IF(LOADS!$AC625=\"BUS\",IF(LOADS!$AE625=C$1,1,0),0)","v":0},{"$f":"IF(LOADS!$AC625=\"BUS\",IF(LOADS!$AE625=D$1,1,0),0)","v":0},{"$f":"IF(LOADS!$AC625=\"BUS\",IF(LOADS!$AE625=E$1,1,0),0)","v":0},{"$f":"IF(LOADS!$AC625=\"BUS\",IF(LOADS!$AE625=F$1,1,0),0)","v":0},{"$f":"IF(LOADS!$AC625=\"BUS\",IF(LOADS!$AE625=G$1,1,0),0)","v":0},{"$f":"IF(LOADS!$AC625=\"BUS\",IF(LOADS!$AE625=H$1,1,0),0)","v":0},{"$f":"IF(LOADS!$AC625=\"BUS\",IF(LOADS!$AE625=I$1,1,0),0)","v":0},0,{"$f":"LOADS!AM625","v":0}]
[{"$f":"IF(ISBLANK(LOADS!A626),\"\",LOADS!A626)","v":{"$error":"#REF!"}},{"$f":"IF(ISBLANK(LOADS!B626),\"\",LOADS!B626)","v":""},{"$f":"IF(LOADS!$AC626=\"BUS\",IF(LOADS!$AE626=C$1,1,0),0)","v":0},{"$f":"IF(LOADS!$AC626=\"BUS\",IF(LOADS!$AE626=D$1,1,0),0)","v":0},{"$f":"IF(LOADS!$AC626=\"BUS\",IF(LOADS!$AE626=E$1,1,0),0)","v":0},{"$f":"IF(LOADS!$AC626=\"BUS\",IF(LOADS!$AE626=F$1,1,0),0)","v":0},{"$f":"IF(LOADS!$AC626=\"BUS\",IF(LOADS!$AE626=G$1,1,0),0)","v":0},{"$f":"IF(LOADS!$AC626=\"BUS\",IF(LOADS!$AE626=H$1,1,0),0)","v":0},{"$f":"IF(LOADS!$AC626=\"BUS\",IF(LOADS!$AE626=I$1,1,0),0)","v":0},0,{"$f":"LOADS!AM626","v":0}]
[{"$f":"IF(ISBLANK(LOADS!A627),\"\",LOADS!A627)","v":{"$error":"#REF!"}},{"$f":"IF(ISBLANK(LOADS!B627),\"\",LOADS!B627)","v":""},{"$f":"IF(LOADS!$AC627=\"BUS\",IF(LOADS!$AE627=C$1,1,0),0)","v":0},{"$f":"IF(LOADS!$AC627=\"BUS\",IF(LOADS!$AE627=D$1,1,0),0)","v":0},{"$f":"IF(LOADS!$AC627=\"BUS\",IF(LOADS!$AE627=E$1,1,0),0)","v":0},{"$f":"IF(LOADS!$AC627=\"BUS\",IF(LOADS!$AE627=F$1,1,0),0)","v":0},{"$f":"IF(LOADS!$AC627=\"BUS\",IF(LOADS!$AE627=G$1,1,0),0)","v":0},{"$f":"IF(LOADS!$AC627=\"BUS\",IF(LOADS!$AE627=H$1,1,0),0)","v":0},{"$f":"IF(LOADS!$AC627=\"BUS\",IF(LOADS!$AE627=I$1,1,0),0)","v":0},0,{"$f":"LOADS!AM627","v":0}]
[{"$f":"IF(ISBLANK(LOADS!A628),\"\",LOADS!A628)","v":{"$error":"#REF!"}},{"$f":"IF(ISBLANK(LOADS!B628),\"\",LOADS!B628)","v":""},{"$f":"IF(LOADS!$AC628=\"BUS\",IF(LOADS!$AE628=C$1,1,0),0)","v":0},{"$f":"IF(LOADS!$AC628=\"BUS\",IF(LOADS!$AE628=D$1,1,0),0)","v":0},{"$f":"IF(LOADS!$AC628=\"BUS\",IF(LOADS!$AE628=E$1,1,0),0)","v":0},{"$f":"IF(LOADS!$AC628=\"BUS\",IF(LOADS!$AE628=F$1,1,0),0)","v":0},{"$f":"IF(LOADS!$AC628=\"BUS\",IF(LOADS!$AE628=G$1,1,0),0)","v":0},{"$f":"IF(LOADS!$AC628=\"BUS\",IF(LOADS!$AE628=H$1,1,0),0)","v":0},{"$f":"IF(LOADS!$AC628=\"BUS\",IF(LOADS!$AE628=I$1,1,0),0)","v":0},0,{"$f":"LOADS!AM628","v":0}]
[{"$f":"IF(ISBLANK(LOADS!A629),\"\",LOADS!A629)","v":{"$error":"#REF!"}},{"$f":"IF(ISBLANK(LOADS!B629),\"\",LOADS!B629)","v":""},{"$f":"IF(LOADS!$AC629=\"BUS\",IF(LOADS!$AE629=C$1,1,0),0)","v":0},{"$f":"IF(LOADS!$AC629=\"BUS\",IF(LOADS!$AE629=D$1,1,0),0)","v":0},{"$f":"IF(LOADS!$AC629=\"BUS\",IF(LOADS!$AE629=E$1,1,0),0)","v":0},{"$f":"IF(LOADS!$AC629=\"BUS\",IF(LOADS!$AE629=F$1,1,0),0)","v":0},{"$f":"IF(LOADS!$AC629=\"BUS\",IF(LOADS!$AE629=G$1,1,0),0)","v":0},{"$f":"IF(LOADS!$AC629=\"BUS\",IF(LOADS!$AE629=H$1,1,0),0)","v":0},{"$f":"IF(LOADS!$AC629=\"BUS\",IF(LOADS!$AE629=I$1,1,0),0)","v":0},0,{"$f":"LOADS!AM629","v":0}]
[{"$f":"IF(ISBLANK(LOADS!A630),\"\",LOADS!A630)","v":{"$error":"#REF!"}},{"$f":"IF(ISBLANK(LOADS!B630),\"\",LOADS!B630)","v":""},{"$f":"IF(LOADS!$AC630=\"BUS\",IF(LOADS!$AE630=C$1,1,0),0)","v":0},{"$f":"IF(LOADS!$AC630=\"BUS\",IF(LOADS!$AE630=D$1,1,0),0)","v":0},{"$f":"IF(LOADS!$AC630=\"BUS\",IF(LOADS!$AE630=E$1,1,0),0)","v":0},{"$f":"IF(LOADS!$AC630=\"BUS\",IF(LOADS!$AE630=F$1,1,0),0)","v":0},{"$f":"IF(LOADS!$AC630=\"BUS\",IF(LOADS!$AE630=G$1,1,0),0)","v":0},{"$f":"IF(LOADS!$AC630=\"BUS\",IF(LOADS!$AE630=H$1,1,0),0)","v":0},{"$f":"IF(LOADS!$AC630=\"BUS\",IF(LOADS!$AE630=I$1,1,0),0)","v":0},0,{"$f":"LOADS!AM630","v":0}]
[{"$f":"IF(ISBLANK(LOADS!A631),\"\",LOADS!A631)","v":{"$error":"#REF!"}},{"$f":"IF(ISBLANK(LOADS!B631),\"\",LOADS!B631)","v":""},{"$f":"IF(LOADS!$AC631=\"BUS\",IF(LOADS!$AE631=C$1,1,0),0)","v":0},{"$f":"IF(LOADS!$AC631=\"BUS\",IF(LOADS!$AE631=D$1,1,0),0)","v":0},{"$f":"IF(LOADS!$AC631=\"BUS\",IF(LOADS!$AE631=E$1,1,0),0)","v":0},{"$f":"IF(LOADS!$AC631=\"BUS\",IF(LOADS!$AE631=F$1,1,0),0)","v":0},{"$f":"IF(LOADS!$AC631=\"BUS\",IF(LOADS!$AE631=G$1,1,0),0)","v":0},{"$f":"IF(LOADS!$AC631=\"BUS\",IF(LOADS!$AE631=H$1,1,0),0)","v":0},{"$f":"IF(LOADS!$AC631=\"BUS\",IF(LOADS!$AE631=I$1,1,0),0)","v":0},0,{"$f":"LOADS!AM631","v":0}]
[{"$f":"IF(ISBLANK(LOADS!A632),\"\",LOADS!A632)","v":{"$error":"#REF!"}},{"$f":"IF(ISBLANK(LOADS!B632),\"\",LOADS!B632)","v":""},{"$f":"IF(LOADS!$AC632=\"BUS\",IF(LOADS!$AE632=C$1,1,0),0)","v":0},{"$f":"IF(LOADS!$AC632=\"BUS\",IF(LOADS!$AE632=D$1,1,0),0)","v":0},{"$f":"IF(LOADS!$AC632=\"BUS\",IF(LOADS!$AE632=E$1,1,0),0)","v":0},{"$f":"IF(LOADS!$AC632=\"BUS\",IF(LOADS!$AE632=F$1,1,0),0)","v":0},{"$f":"IF(LOADS!$AC632=\"BUS\",IF(LOADS!$AE632=G$1,1,0),0)","v":0},{"$f":"IF(LOADS!$AC632=\"BUS\",IF(LOADS!$AE632=H$1,1,0),0)","v":0},{"$f":"IF(LOADS!$AC632=\"BUS\",IF(LOADS!$AE632=I$1,1,0),0)","v":0},0,{"$f":"LOADS!AM632","v":0}]
[{"$f":"IF(ISBLANK(LOADS!A633),\"\",LOADS!A633)","v":{"$error":"#REF!"}},{"$f":"IF(ISBLANK(LOADS!B633),\"\",LOADS!B633)","v":""},{"$f":"IF(LOADS!$AC633=\"BUS\",IF(LOADS!$AE633=C$1,1,0),0)","v":0},{"$f":"IF(LOADS!$AC633=\"BUS\",IF(LOADS!$AE633=D$1,1,0),0)","v":0},{"$f":"IF(LOADS!$AC633=\"BUS\",IF(LOADS!$AE633=E$1,1,0),0)","v":0},{"$f":"IF(LOADS!$AC633=\"BUS\",IF(LOADS!$AE633=F$1,1,0),0)","v":0},{"$f":"IF(LOADS!$AC633=\"BUS\",IF(LOADS!$AE633=G$1,1,0),0)","v":0},{"$f":"IF(LOADS!$AC633=\"BUS\",IF(LOADS!$AE633=H$1,1,0),0)","v":0},{"$f":"IF(LOADS!$AC633=\"BUS\",IF(LOADS!$AE633=I$1,1,0),0)","v":0},0,{"$f":"LOADS!AM633","v":0}]
[{"$f":"IF(ISBLANK(LOADS!A634),\"\",LOADS!A634)","v":{"$error":"#REF!"}},{"$f":"IF(ISBLANK(LOADS!B634),\"\",LOADS!B634)","v":""},{"$f":"IF(LOADS!$AC634=\"BUS\",IF(LOADS!$AE634=C$1,1,0),0)","v":0},{"$f":"IF(LOADS!$AC634=\"BUS\",IF(LOADS!$AE634=D$1,1,0),0)","v":0},{"$f":"IF(LOADS!$AC634=\"BUS\",IF(LOADS!$AE634=E$1,1,0),0)","v":0},{"$f":"IF(LOADS!$AC634=\"BUS\",IF(LOADS!$AE634=F$1,1,0),0)","v":0},{"$f":"IF(LOADS!$AC634=\"BUS\",IF(LOADS!$AE634=G$1,1,0),0)","v":0},{"$f":"IF(LOADS!$AC634=\"BUS\",IF(LOADS!$AE634=H$1,1,0),0)","v":0},{"$f":"IF(LOADS!$AC634=\"BUS\",IF(LOADS!$AE634=I$1,1,0),0)","v":0},0,{"$f":"LOADS!AM634","v":0}]
[{"$f":"IF(ISBLANK(LOADS!A635),\"\",LOADS!A635)","v":{"$error":"#REF!"}},{"$f":"IF(ISBLANK(LOADS!B635),\"\",LOADS!B635)","v":""},{"$f":"IF(LOADS!$AC635=\"BUS\",IF(LOADS!$AE635=C$1,1,0),0)","v":0},{"$f":"IF(LOADS!$AC635=\"BUS\",IF(LOADS!$AE635=D$1,1,0),0)","v":0},{"$f":"IF(LOADS!$AC635=\"BUS\",IF(LOADS!$AE635=E$1,1,0),0)","v":0},{"$f":"IF(LOADS!$AC635=\"BUS\",IF(LOADS!$AE635=F$1,1,0),0)","v":0},{"$f":"IF(LOADS!$AC635=\"BUS\",IF(LOADS!$AE635=G$1,1,0),0)","v":0},{"$f":"IF(LOADS!$AC635=\"BUS\",IF(LOADS!$AE635=H$1,1,0),0)","v":0},{"$f":"IF(LOADS!$AC635=\"BUS\",IF(LOADS!$AE635=I$1,1,0),0)","v":0},0,{"$f":"LOADS!AM635","v":0}]
[{"$f":"IF(ISBLANK(LOADS!A636),\"\",LOADS!A636)","v":{"$error":"#REF!"}},{"$f":"IF(ISBLANK(LOADS!B636),\"\",LOADS!B636)","v":""},{"$f":"IF(LOADS!$AC636=\"BUS\",IF(LOADS!$AE636=C$1,1,0),0)","v":0},{"$f":"IF(LOADS!$AC636=\"BUS\",IF(LOADS!$AE636=D$1,1,0),0)","v":0},{"$f":"IF(LOADS!$AC636=\"BUS\",IF(LOADS!$AE636=E$1,1,0),0)","v":0},{"$f":"IF(LOADS!$AC636=\"BUS\",IF(LOADS!$AE636=F$1,1,0),0)","v":0},{"$f":"IF(LOADS!$AC636=\"BUS\",IF(LOADS!$AE636=G$1,1,0),0)","v":0},{"$f":"IF(LOADS!$AC636=\"BUS\",IF(LOADS!$AE636=H$1,1,0),0)","v":0},{"$f":"IF(LOADS!$AC636=\"BUS\",IF(LOADS!$AE636=I$1,1,0),0)","v":0},0,{"$f":"LOADS!AM636","v":0}]
[{"$f":"IF(ISBLANK(LOADS!A637),\"\",LOADS!A637)","v":{"$error":"#REF!"}},{"$f":"IF(ISBLANK(LOADS!B637),\"\",LOADS!B637)","v":""},{"$f":"IF(LOADS!$AC637=\"BUS\",IF(LOADS!$AE637=C$1,1,0),0)","v":0},{"$f":"IF(LOADS!$AC637=\"BUS\",IF(LOADS!$AE637=D$1,1,0),0)","v":0},{"$f":"IF(LOADS!$AC637=\"BUS\",IF(LOADS!$AE637=E$1,1,0),0)","v":0},{"$f":"IF(LOADS!$AC637=\"BUS\",IF(LOADS!$AE637=F$1,1,0),0)","v":0},{"$f":"IF(LOADS!$AC637=\"BUS\",IF(LOADS!$AE637=G$1,1,0),0)","v":0},{"$f":"IF(LOADS!$AC637=\"BUS\",IF(LOADS!$AE637=H$1,1,0),0)","v":0},{"$f":"IF(LOADS!$AC637=\"BUS\",IF(LOADS!$AE637=I$1,1,0),0)","v":0},0,{"$f":"LOADS!AM637","v":0}]
[{"$f":"IF(ISBLANK(LOADS!A638),\"\",LOADS!A638)","v":{"$error":"#REF!"}},{"$f":"IF(ISBLANK(LOADS!B638),\"\",LOADS!B638)","v":""},{"$f":"IF(LOADS!$AC638=\"BUS\",IF(LOADS!$AE638=C$1,1,0),0)","v":0},{"$f":"IF(LOADS!$AC638=\"BUS\",IF(LOADS!$AE638=D$1,1,0),0)","v":0},{"$f":"IF(LOADS!$AC638=\"BUS\",IF(LOADS!$AE638=E$1,1,0),0)","v":0},{"$f":"IF(LOADS!$AC638=\"BUS\",IF(LOADS!$AE638=F$1,1,0),0)","v":0},{"$f":"IF(LOADS!$AC638=\"BUS\",IF(LOADS!$AE638=G$1,1,0),0)","v":0},{"$f":"IF(LOADS!$AC638=\"BUS\",IF(LOADS!$AE638=H$1,1,0),0)","v":0},{"$f":"IF(LOADS!$AC638=\"BUS\",IF(LOADS!$AE638=I$1,1,0),0)","v":0},0,{"$f":"LOADS!AM638","v":0}]
[{"$f":"IF(ISBLANK(LOADS!A639),\"\",LOADS!A639)","v":{"$error":"#REF!"}},{"$f":"IF(ISBLANK(LOADS!B639),\"\",LOADS!B639)","v":""},{"$f":"IF(LOADS!$AC639=\"BUS\",IF(LOADS!$AE639=C$1,1,0),0)","v":0},{"$f":"IF(LOADS!$AC639=\"BUS\",IF(LOADS!$AE639=D$1,1,0),0)","v":0},{"$f":"IF(LOADS!$AC639=\"BUS\",IF(LOADS!$AE639=E$1,1,0),0)","v":0},{"$f":"IF(LOADS!$AC639=\"BUS\",IF(LOADS!$AE639=F$1,1,0),0)","v":0},{"$f":"IF(LOADS!$AC639=\"BUS\",IF(LOADS!$AE639=G$1,1,0),0)","v":0},{"$f":"IF(LOADS!$AC639=\"BUS\",IF(LOADS!$AE639=H$1,1,0),0)","v":0},{"$f":"IF(LOADS!$AC639=\"BUS\",IF(LOADS!$AE639=I$1,1,0),0)","v":0},0,{"$f":"LOADS!AM639","v":0}]
[{"$f":"IF(ISBLANK(LOADS!A640),\"\",LOADS!A640)","v":{"$error":"#REF!"}},{"$f":"IF(ISBLANK(LOADS!B640),\"\",LOADS!B640)","v":""},{"$f":"IF(LOADS!$AC640=\"BUS\",IF(LOADS!$AE640=C$1,1,0),0)","v":0},{"$f":"IF(LOADS!$AC640=\"BUS\",IF(LOADS!$AE640=D$1,1,0),0)","v":0},{"$f":"IF(LOADS!$AC640=\"BUS\",IF(LOADS!$AE640=E$1,1,0),0)","v":0},{"$f":"IF(LOADS!$AC640=\"BUS\",IF(LOADS!$AE640=F$1,1,0),0)","v":0},{"$f":"IF(LOADS!$AC640=\"BUS\",IF(LOADS!$AE640=G$1,1,0),0)","v":0},{"$f":"IF(LOADS!$AC640=\"BUS\",IF(LOADS!$AE640=H$1,1,0),0)","v":0},{"$f":"IF(LOADS!$AC640=\"BUS\",IF(LOADS!$AE640=I$1,1,0),0)","v":0},0,{"$f":"LOADS!AM640","v":0}]
[{"$f":"IF(ISBLANK(LOADS!A641),\"\",LOADS!A641)","v":{"$error":"#REF!"}},{"$f":"IF(ISBLANK(LOADS!B641),\"\",LOADS!B641)","v":""},{"$f":"IF(LOADS!$AC641=\"BUS\",IF(LOADS!$AE641=C$1,1,0),0)","v":0},{"$f":"IF(LOADS!$AC641=\"BUS\",IF(LOADS!$AE641=D$1,1,0),0)","v":0},{"$f":"IF(LOADS!$AC641=\"BUS\",IF(LOADS!$AE641=E$1,1,0),0)","v":0},{"$f":"IF(LOADS!$AC641=\"BUS\",IF(LOADS!$AE641=F$1,1,0),0)","v":0},{"$f":"IF(LOADS!$AC641=\"BUS\",IF(LOADS!$AE641=G$1,1,0),0)","v":0},{"$f":"IF(LOADS!$AC641=\"BUS\",IF(LOADS!$AE641=H$1,1,0),0)","v":0},{"$f":"IF(LOADS!$AC641=\"BUS\",IF(LOADS!$AE641=I$1,1,0),0)","v":0},0,{"$f":"LOADS!AM641","v":0}]
[{"$f":"IF(ISBLANK(LOADS!A642),\"\",LOADS!A642)","v":{"$error":"#REF!"}},{"$f":"IF(ISBLANK(LOADS!B642),\"\",LOADS!B642)","v":""},{"$f":"IF(LOADS!$AC642=\"BUS\",IF(LOADS!$AE642=C$1,1,0),0)","v":0},{"$f":"IF(LOADS!$AC642=\"BUS\",IF(LOADS!$AE642=D$1,1,0),0)","v":0},{"$f":"IF(LOADS!$AC642=\"BUS\",IF(LOADS!$AE642=E$1,1,0),0)","v":0},{"$f":"IF(LOADS!$AC642=\"BUS\",IF(LOADS!$AE642=F$1,1,0),0)","v":0},{"$f":"IF(LOADS!$AC642=\"BUS\",IF(LOADS!$AE642=G$1,1,0),0)","v":0},{"$f":"IF(LOADS!$AC642=\"BUS\",IF(LOADS!$AE642=H$1,1,0),0)","v":0},{"$f":"IF(LOADS!$AC642=\"BUS\",IF(LOADS!$AE642=I$1,1,0),0)","v":0},{"$f":"SUM(C645:I645)","v":0},{"$f":"LOADS!AM642","v":0}]
[{"$f":"IF(ISBLANK(LOADS!A643),\"\",LOADS!A643)","v":{"$error":"#REF!"}},{"$f":"IF(ISBLANK(LOADS!B643),\"\",LOADS!B643)","v":""},{"$f":"IF(LOADS!$AC643=\"BUS\",IF(LOADS!$AE643=C$1,1,0),0)","v":0},{"$f":"IF(LOADS!$AC643=\"BUS\",IF(LOADS!$AE643=D$1,1,0),0)","v":0},{"$f":"IF(LOADS!$AC643=\"BUS\",IF(LOADS!$AE643=E$1,1,0),0)","v":0},{"$f":"IF(LOADS!$AC643=\"BUS\",IF(LOADS!$AE643=F$1,1,0),0)","v":0},{"$f":"IF(LOADS!$AC643=\"BUS\",IF(LOADS!$AE643=G$1,1,0),0)","v":0},{"$f":"IF(LOADS!$AC643=\"BUS\",IF(LOADS!$AE643=H$1,1,0),0)","v":0},{"$f":"IF(LOADS!$AC643=\"BUS\",IF(LOADS!$AE643=I$1,1,0),0)","v":0},0,{"$f":"LOADS!AM643","v":0}]
[{"$f":"IF(ISBLANK(LOADS!A644),\"\",LOADS!A644)","v":{"$error":"#REF!"}},{"$f":"IF(ISBLANK(LOADS!B644),\"\",LOADS!B644)","v":""},{"$f":"IF(LOADS!$AC644=\"BUS\",IF(LOADS!$AE644=C$1,1,0),0)","v":0},{"$f":"IF(LOADS!$AC644=\"BUS\",IF(LOADS!$AE644=D$1,1,0),0)","v":0},{"$f":"IF(LOADS!$AC644=\"BUS\",IF(LOADS!$AE644=E$1,1,0),0)","v":0},{"$f":"IF(LOADS!$AC644=\"BUS\",IF(LOADS!$AE644=F$1,1,0),0)","v":0},{"$f":"IF(LOADS!$AC644=\"BUS\",IF(LOADS!$AE644=G$1,1,0),0)","v":0},{"$f":"IF(LOADS!$AC644=\"BUS\",IF(LOADS!$AE644=H$1,1,0),0)","v":0},{"$f":"IF(LOADS!$AC644=\"BUS\",IF(LOADS!$AE644=I$1,1,0),0)","v":0},0,{"$f":"LOADS!AM644","v":0}]
[{"$f":"IF(ISBLANK(LOADS!A645),\"\",LOADS!A645)","v":{"$error":"#REF!"}},{"$f":"IF(ISBLANK(LOADS!B645),\"\",LOADS!B645)","v":""},{"$f":"IF(LOADS!$AC645=\"BUS\",IF(LOADS!$AE645=C$1,1,0),0)","v":0},{"$f":"IF(LOADS!$AC645=\"BUS\",IF(LOADS!$AE645=D$1,1,0),0)","v":0},{"$f":"IF(LOADS!$AC645=\"BUS\",IF(LOADS!$AE645=E$1,1,0),0)","v":0},{"$f":"IF(LOADS!$AC645=\"BUS\",IF(LOADS!$AE645=F$1,1,0),0)","v":0},{"$f":"IF(LOADS!$AC645=\"BUS\",IF(LOADS!$AE645=G$1,1,0),0)","v":0},{"$f":"IF(LOADS!$AC645=\"BUS\",IF(LOADS!$AE645=H$1,1,0),0)","v":0},{"$f":"IF(LOADS!$AC645=\"BUS\",IF(LOADS!$AE645=I$1,1,0),0)","v":0},0,{"$f":"LOADS!AM645","v":0}]
[{"$f":"IF(ISBLANK(LOADS!A646),\"\",LOADS!A646)","v":{"$error":"#REF!"}},{"$f":"IF(ISBLANK(LOADS!B646),\"\",LOADS!B646)","v":""},{"$f":"IF(LOADS!$AC646=\"BUS\",IF(LOADS!$AE646=C$1,1,0),0)","v":0},{"$f":"IF(LOADS!$AC646=\"BUS\",IF(LOADS!$AE646=D$1,1,0),0)","v":0},{"$f":"IF(LOADS!$AC646=\"BUS\",IF(LOADS!$AE646=E$1,1,0),0)","v":0},{"$f":"IF(LOADS!$AC646=\"BUS\",IF(LOADS!$AE646=F$1,1,0),0)","v":0},{"$f":"IF(LOADS!$AC646=\"BUS\",IF(LOADS!$AE646=G$1,1,0),0)","v":0},{"$f":"IF(LOADS!$AC646=\"BUS\",IF(LOADS!$AE646=H$1,1,0),0)","v":0},{"$f":"IF(LOADS!$AC646=\"BUS\",IF(LOADS!$AE646=I$1,1,0),0)","v":0},0,{"$f":"LOADS!AM646","v":0}]
[{"$f":"IF(ISBLANK(LOADS!A647),\"\",LOADS!A647)","v":{"$error":"#REF!"}},{"$f":"IF(ISBLANK(LOADS!B647),\"\",LOADS!B647)","v":""},{"$f":"IF(LOADS!$AC647=\"BUS\",IF(LOADS!$AE647=C$1,1,0),0)","v":0},{"$f":"IF(LOADS!$AC647=\"BUS\",IF(LOADS!$AE647=D$1,1,0),0)","v":0},{"$f":"IF(LOADS!$AC647=\"BUS\",IF(LOADS!$AE647=E$1,1,0),0)","v":0},{"$f":"IF(LOADS!$AC647=\"BUS\",IF(LOADS!$AE647=F$1,1,0),0)","v":0},{"$f":"IF(LOADS!$AC647=\"BUS\",IF(LOADS!$AE647=G$1,1,0),0)","v":0},{"$f":"IF(LOADS!$AC647=\"BUS\",IF(LOADS!$AE647=H$1,1,0),0)","v":0},{"$f":"IF(LOADS!$AC647=\"BUS\",IF(LOADS!$AE647=I$1,1,0),0)","v":0},0,{"$f":"LOADS!AM647","v":0}]
[{"$f":"IF(ISBLANK(LOADS!A648),\"\",LOADS!A648)","v":{"$error":"#REF!"}},{"$f":"IF(ISBLANK(LOADS!B648),\"\",LOADS!B648)","v":""},{"$f":"IF(LOADS!$AC648=\"BUS\",IF(LOADS!$AE648=C$1,1,0),0)","v":0},{"$f":"IF(LOADS!$AC648=\"BUS\",IF(LOADS!$AE648=D$1,1,0),0)","v":0},{"$f":"IF(LOADS!$AC648=\"BUS\",IF(LOADS!$AE648=E$1,1,0),0)","v":0},{"$f":"IF(LOADS!$AC648=\"BUS\",IF(LOADS!$AE648=F$1,1,0),0)","v":0},{"$f":"IF(LOADS!$AC648=\"BUS\",IF(LOADS!$AE648=G$1,1,0),0)","v":0},{"$f":"IF(LOADS!$AC648=\"BUS\",IF(LOADS!$AE648=H$1,1,0),0)","v":0},{"$f":"IF(LOADS!$AC648=\"BUS\",IF(LOADS!$AE648=I$1,1,0),0)","v":0},0,{"$f":"LOADS!AM648","v":0}]
[{"$f":"IF(ISBLANK(LOADS!A649),\"\",LOADS!A649)","v":{"$error":"#REF!"}},{"$f":"IF(ISBLANK(LOADS!B649),\"\",LOADS!B649)","v":""},{"$f":"IF(LOADS!$AC649=\"BUS\",IF(LOADS!$AE649=C$1,1,0),0)","v":0},{"$f":"IF(LOADS!$AC649=\"BUS\",IF(LOADS!$AE649=D$1,1,0),0)","v":0},{"$f":"IF(LOADS!$AC649=\"BUS\",IF(LOADS!$AE649=E$1,1,0),0)","v":0},{"$f":"IF(LOADS!$AC649=\"BUS\",IF(LOADS!$AE649=F$1,1,0),0)","v":0},{"$f":"IF(LOADS!$AC649=\"BUS\",IF(LOADS!$AE649=G$1,1,0),0)","v":0},{"$f":"IF(LOADS!$AC649=\"BUS\",IF(LOADS!$AE649=H$1,1,0),0)","v":0},{"$f":"IF(LOADS!$AC649=\"BUS\",IF(LOADS!$AE649=I$1,1,0),0)","v":0},0,{"$f":"LOADS!AM649","v":0}]
[{"$f":"IF(ISBLANK(LOADS!A650),\"\",LOADS!A650)","v":{"$error":"#REF!"}},{"$f":"IF(ISBLANK(LOADS!B650),\"\",LOADS!B650)","v":""},{"$f":"IF(LOADS!$AC650=\"BUS\",IF(LOADS!$AE650=C$1,1,0),0)","v":0},{"$f":"IF(LOADS!$AC650=\"BUS\",IF(LOADS!$AE650=D$1,1,0),0)","v":0},{"$f":"IF(LOADS!$AC650=\"BUS\",IF(LOADS!$AE650=E$1,1,0),0)","v":0},{"$f":"IF(LOADS!$AC650=\"BUS\",IF(LOADS!$AE650=F$1,1,0),0)","v":0},{"$f":"IF(LOADS!$AC650=\"BUS\",IF(LOADS!$AE650=G$1,1,0),0)","v":0},{"$f":"IF(LOADS!$AC650=\"BUS\",IF(LOADS!$AE650=H$1,1,0),0)","v":0},{"$f":"IF(LOADS!$AC650=\"BUS\",IF(LOADS!$AE650=I$1,1,0),0)","v":0},0,{"$f":"LOADS!AM650","v":0}]
[{"$f":"IF(ISBLANK(LOADS!A651),\"\",LOADS!A651)","v":{"$error":"#REF!"}},{"$f":"IF(ISBLANK(LOADS!B651),\"\",LOADS!B651)","v":""},{"$f":"IF(LOADS!$AC651=\"BUS\",IF(LOADS!$AE651=C$1,1,0),0)","v":0},{"$f":"IF(LOADS!$AC651=\"BUS\",IF(LOADS!$AE651=D$1,1,0),0)","v":0},{"$f":"IF(LOADS!$AC651=\"BUS\",IF(LOADS!$AE651=E$1,1,0),0)","v":0},{"$f":"IF(LOADS!$AC651=\"BUS\",IF(LOADS!$AE651=F$1,1,0),0)","v":0},{"$f":"IF(LOADS!$AC651=\"BUS\",IF(LOADS!$AE651=G$1,1,0),0)","v":0},{"$f":"IF(LOADS!$AC651=\"BUS\",IF(LOADS!$AE651=H$1,1,0),0)","v":0},{"$f":"IF(LOADS!$AC651=\"BUS\",IF(LOADS!$AE651=I$1,1,0),0)","v":0},0,{"$f":"LOADS!AM651","v":0}]
[{"$f":"IF(ISBLANK(LOADS!A652),\"\",LOADS!A652)","v":{"$error":"#REF!"}},{"$f":"IF(ISBLANK(LOADS!B652),\"\",LOADS!B652)","v":""},{"$f":"IF(LOADS!$AC652=\"BUS\",IF(LOADS!$AE652=C$1,1,0),0)","v":0},{"$f":"IF(LOADS!$AC652=\"BUS\",IF(LOADS!$AE652=D$1,1,0),0)","v":0},{"$f":"IF(LOADS!$AC652=\"BUS\",IF(LOADS!$AE652=E$1,1,0),0)","v":0},{"$f":"IF(LOADS!$AC652=\"BUS\",IF(LOADS!$AE652=F$1,1,0),0)","v":0},{"$f":"IF(LOADS!$AC652=\"BUS\",IF(LOADS!$AE652=G$1,1,0),0)","v":0},{"$f":"IF(LOADS!$AC652=\"BUS\",IF(LOADS!$AE652=H$1,1,0),0)","v":0},{"$f":"IF(LOADS!$AC652=\"BUS\",IF(LOADS!$AE652=I$1,1,0),0)","v":0},0,{"$f":"LOADS!AM652","v":0}]
[{"$f":"IF(ISBLANK(LOADS!A653),\"\",LOADS!A653)","v":{"$error":"#REF!"}},{"$f":"IF(ISBLANK(LOADS!B653),\"\",LOADS!B653)","v":""},{"$f":"IF(LOADS!$AC653=\"BUS\",IF(LOADS!$AE653=C$1,1,0),0)","v":0},{"$f":"IF(LOADS!$AC653=\"BUS\",IF(LOADS!$AE653=D$1,1,0),0)","v":0},{"$f":"IF(LOADS!$AC653=\"BUS\",IF(LOADS!$AE653=E$1,1,0),0)","v":0},{"$f":"IF(LOADS!$AC653=\"BUS\",IF(LOADS!$AE653=F$1,1,0),0)","v":0},{"$f":"IF(LOADS!$AC653=\"BUS\",IF(LOADS!$AE653=G$1,1,0),0)","v":0},{"$f":"IF(LOADS!$AC653=\"BUS\",IF(LOADS!$AE653=H$1,1,0),0)","v":0},{"$f":"IF(LOADS!$AC653=\"BUS\",IF(LOADS!$AE653=I$1,1,0),0)","v":0},0,{"$f":"LOADS!AM653","v":0}]
[{"$f":"IF(ISBLANK(LOADS!A654),\"\",LOADS!A654)","v":{"$error":"#REF!"}},{"$f":"IF(ISBLANK(LOADS!B654),\"\",LOADS!B654)","v":""},{"$f":"IF(LOADS!$AC654=\"BUS\",IF(LOADS!$AE654=C$1,1,0),0)","v":0},{"$f":"IF(LOADS!$AC654=\"BUS\",IF(LOADS!$AE654=D$1,1,0),0)","v":0},{"$f":"IF(LOADS!$AC654=\"BUS\",IF(LOADS!$AE654=E$1,1,0),0)","v":0},{"$f":"IF(LOADS!$AC654=\"BUS\",IF(LOADS!$AE654=F$1,1,0),0)","v":0},{"$f":"IF(LOADS!$AC654=\"BUS\",IF(LOADS!$AE654=G$1,1,0),0)","v":0},{"$f":"IF(LOADS!$AC654=\"BUS\",IF(LOADS!$AE654=H$1,1,0),0)","v":0},{"$f":"IF(LOADS!$AC654=\"BUS\",IF(LOADS!$AE654=I$1,1,0),0)","v":0},0,{"$f":"LOADS!AM654","v":0}]
[{"$f":"IF(ISBLANK(LOADS!A655),\"\",LOADS!A655)","v":{"$error":"#REF!"}},{"$f":"IF(ISBLANK(LOADS!B655),\"\",LOADS!B655)","v":""},{"$f":"IF(LOADS!$AC655=\"BUS\",IF(LOADS!$AE655=C$1,1,0),0)","v":0},{"$f":"IF(LOADS!$AC655=\"BUS\",IF(LOADS!$AE655=D$1,1,0),0)","v":0},{"$f":"IF(LOADS!$AC655=\"BUS\",IF(LOADS!$AE655=E$1,1,0),0)","v":0},{"$f":"IF(LOADS!$AC655=\"BUS\",IF(LOADS!$AE655=F$1,1,0),0)","v":0},{"$f":"IF(LOADS!$AC655=\"BUS\",IF(LOADS!$AE655=G$1,1,0),0)","v":0},{"$f":"IF(LOADS!$AC655=\"BUS\",IF(LOADS!$AE655=H$1,1,0),0)","v":0},{"$f":"IF(LOADS!$AC655=\"BUS\",IF(LOADS!$AE655=I$1,1,0),0)","v":0},0,{"$f":"LOADS!AM655","v":0}]
[{"$f":"IF(ISBLANK(LOADS!A656),\"\",LOADS!A656)","v":{"$error":"#REF!"}},{"$f":"IF(ISBLANK(LOADS!B656),\"\",LOADS!B656)","v":""},{"$f":"IF(LOADS!$AC656=\"BUS\",IF(LOADS!$AE656=C$1,1,0),0)","v":0},{"$f":"IF(LOADS!$AC656=\"BUS\",IF(LOADS!$AE656=D$1,1,0),0)","v":0},{"$f":"IF(LOADS!$AC656=\"BUS\",IF(LOADS!$AE656=E$1,1,0),0)","v":0},{"$f":"IF(LOADS!$AC656=\"BUS\",IF(LOADS!$AE656=F$1,1,0),0)","v":0},{"$f":"IF(LOADS!$AC656=\"BUS\",IF(LOADS!$AE656=G$1,1,0),0)","v":0},{"$f":"IF(LOADS!$AC656=\"BUS\",IF(LOADS!$AE656=H$1,1,0),0)","v":0},{"$f":"IF(LOADS!$AC656=\"BUS\",IF(LOADS!$AE656=I$1,1,0),0)","v":0},0,{"$f":"LOADS!AM656","v":0}]
[{"$f":"IF(ISBLANK(LOADS!A657),\"\",LOADS!A657)","v":{"$error":"#REF!"}},{"$f":"IF(ISBLANK(LOADS!B657),\"\",LOADS!B657)","v":""},{"$f":"IF(LOADS!$AC657=\"BUS\",IF(LOADS!$AE657=C$1,1,0),0)","v":0},{"$f":"IF(LOADS!$AC657=\"BUS\",IF(LOADS!$AE657=D$1,1,0),0)","v":0},{"$f":"IF(LOADS!$AC657=\"BUS\",IF(LOADS!$AE657=E$1,1,0),0)","v":0},{"$f":"IF(LOADS!$AC657=\"BUS\",IF(LOADS!$AE657=F$1,1,0),0)","v":0},{"$f":"IF(LOADS!$AC657=\"BUS\",IF(LOADS!$AE657=G$1,1,0),0)","v":0},{"$f":"IF(LOADS!$AC657=\"BUS\",IF(LOADS!$AE657=H$1,1,0),0)","v":0},{"$f":"IF(LOADS!$AC657=\"BUS\",IF(LOADS!$AE657=I$1,1,0),0)","v":0},0,{"$f":"LOADS!AM657","v":0}]
[{"$f":"IF(ISBLANK(LOADS!A658),\"\",LOADS!A658)","v":{"$error":"#REF!"}},{"$f":"IF(ISBLANK(LOADS!B658),\"\",LOADS!B658)","v":""},{"$f":"IF(LOADS!$AC658=\"BUS\",IF(LOADS!$AE658=C$1,1,0),0)","v":0},{"$f":"IF(LOADS!$AC658=\"BUS\",IF(LOADS!$AE658=D$1,1,0),0)","v":0},{"$f":"IF(LOADS!$AC658=\"BUS\",IF(LOADS!$AE658=E$1,1,0),0)","v":0},{"$f":"IF(LOADS!$AC658=\"BUS\",IF(LOADS!$AE658=F$1,1,0),0)","v":0},{"$f":"IF(LOADS!$AC658=\"BUS\",IF(LOADS!$AE658=G$1,1,0),0)","v":0},{"$f":"IF(LOADS!$AC658=\"BUS\",IF(LOADS!$AE658=H$1,1,0),0)","v":0},{"$f":"IF(LOADS!$AC658=\"BUS\",IF(LOADS!$AE658=I$1,1,0),0)","v":0},0,{"$f":"LOADS!AM658","v":0}]
[{"$f":"IF(ISBLANK(LOADS!A659),\"\",LOADS!A659)","v":{"$error":"#REF!"}},{"$f":"IF(ISBLANK(LOADS!B659),\"\",LOADS!B659)","v":""},{"$f":"IF(LOADS!$AC659=\"BUS\",IF(LOADS!$AE659=C$1,1,0),0)","v":0},{"$f":"IF(LOADS!$AC659=\"BUS\",IF(LOADS!$AE659=D$1,1,0),0)","v":0},{"$f":"IF(LOADS!$AC659=\"BUS\",IF(LOADS!$AE659=E$1,1,0),0)","v":0},{"$f":"IF(LOADS!$AC659=\"BUS\",IF(LOADS!$AE659=F$1,1,0),0)","v":0},{"$f":"IF(LOADS!$AC659=\"BUS\",IF(LOADS!$AE659=G$1,1,0),0)","v":0},{"$f":"IF(LOADS!$AC659=\"BUS\",IF(LOADS!$AE659=H$1,1,0),0)","v":0},{"$f":"IF(LOADS!$AC659=\"BUS\",IF(LOADS!$AE659=I$1,1,0),0)","v":0},0,{"$f":"LOADS!AM659","v":0}]
[{"$f":"IF(ISBLANK(LOADS!A660),\"\",LOADS!A660)","v":{"$error":"#REF!"}},{"$f":"IF(ISBLANK(LOADS!B660),\"\",LOADS!B660)","v":""},{"$f":"IF(LOADS!$AC660=\"BUS\",IF(LOADS!$AE660=C$1,1,0),0)","v":0},{"$f":"IF(LOADS!$AC660=\"BUS\",IF(LOADS!$AE660=D$1,1,0),0)","v":0},{"$f":"IF(LOADS!$AC660=\"BUS\",IF(LOADS!$AE660=E$1,1,0),0)","v":0},{"$f":"IF(LOADS!$AC660=\"BUS\",IF(LOADS!$AE660=F$1,1,0),0)","v":0},{"$f":"IF(LOADS!$AC660=\"BUS\",IF(LOADS!$AE660=G$1,1,0),0)","v":0},{"$f":"IF(LOADS!$AC660=\"BUS\",IF(LOADS!$AE660=H$1,1,0),0)","v":0},{"$f":"IF(LOADS!$AC660=\"BUS\",IF(LOADS!$AE660=I$1,1,0),0)","v":0},0,{"$f":"LOADS!AM660","v":0}]
[{"$f":"IF(ISBLANK(LOADS!A661),\"\",LOADS!A661)","v":{"$error":"#REF!"}},{"$f":"IF(ISBLANK(LOADS!B661),\"\",LOADS!B661)","v":""},{"$f":"IF(LOADS!$AC661=\"BUS\",IF(LOADS!$AE661=C$1,1,0),0)","v":0},{"$f":"IF(LOADS!$AC661=\"BUS\",IF(LOADS!$AE661=D$1,1,0),0)","v":0},{"$f":"IF(LOADS!$AC661=\"BUS\",IF(LOADS!$AE661=E$1,1,0),0)","v":0},{"$f":"IF(LOADS!$AC661=\"BUS\",IF(LOADS!$AE661=F$1,1,0),0)","v":0},{"$f":"IF(LOADS!$AC661=\"BUS\",IF(LOADS!$AE661=G$1,1,0),0)","v":0},{"$f":"IF(LOADS!$AC661=\"BUS\",IF(LOADS!$AE661=H$1,1,0),0)","v":0},{"$f":"IF(LOADS!$AC661=\"BUS\",IF(LOADS!$AE661=I$1,1,0),0)","v":0},0,{"$f":"LOADS!AM661","v":0}]
[{"$f":"IF(ISBLANK(LOADS!A662),\"\",LOADS!A662)","v":{"$error":"#REF!"}},{"$f":"IF(ISBLANK(LOADS!B662),\"\",LOADS!B662)","v":""},{"$f":"IF(LOADS!$AC662=\"BUS\",IF(LOADS!$AE662=C$1,1,0),0)","v":0},{"$f":"IF(LOADS!$AC662=\"BUS\",IF(LOADS!$AE662=D$1,1,0),0)","v":0},{"$f":"IF(LOADS!$AC662=\"BUS\",IF(LOADS!$AE662=E$1,1,0),0)","v":0},{"$f":"IF(LOADS!$AC662=\"BUS\",IF(LOADS!$AE662=F$1,1,0),0)","v":0},{"$f":"IF(LOADS!$AC662=\"BUS\",IF(LOADS!$AE662=G$1,1,0),0)","v":0},{"$f":"IF(LOADS!$AC662=\"BUS\",IF(LOADS!$AE662=H$1,1,0),0)","v":0},{"$f":"IF(LOADS!$AC662=\"BUS\",IF(LOADS!$AE662=I$1,1,0),0)","v":0},0,{"$f":"LOADS!AM662","v":0}]
[{"$f":"IF(ISBLANK(LOADS!A663),\"\",LOADS!A663)","v":{"$error":"#REF!"}},{"$f":"IF(ISBLANK(LOADS!B663),\"\",LOADS!B663)","v":""},{"$f":"IF(LOADS!$AC663=\"BUS\",IF(LOADS!$AE663=C$1,1,0),0)","v":0},{"$f":"IF(LOADS!$AC663=\"BUS\",IF(LOADS!$AE663=D$1,1,0),0)","v":0},{"$f":"IF(LOADS!$AC663=\"BUS\",IF(LOADS!$AE663=E$1,1,0),0)","v":0},{"$f":"IF(LOADS!$AC663=\"BUS\",IF(LOADS!$AE663=F$1,1,0),0)","v":0},{"$f":"IF(LOADS!$AC663=\"BUS\",IF(LOADS!$AE663=G$1,1,0),0)","v":0},{"$f":"IF(LOADS!$AC663=\"BUS\",IF(LOADS!$AE663=H$1,1,0),0)","v":0},{"$f":"IF(LOADS!$AC663=\"BUS\",IF(LOADS!$AE663=I$1,1,0),0)","v":0},0,{"$f":"LOADS!AM663","v":0}]
[{"$f":"IF(ISBLANK(LOADS!A664),\"\",LOADS!A664)","v":{"$error":"#REF!"}},{"$f":"IF(ISBLANK(LOADS!B664),\"\",LOADS!B664)","v":""},{"$f":"IF(LOADS!$AC664=\"BUS\",IF(LOADS!$AE664=C$1,1,0),0)","v":0},{"$f":"IF(LOADS!$AC664=\"BUS\",IF(LOADS!$AE664=D$1,1,0),0)","v":0},{"$f":"IF(LOADS!$AC664=\"BUS\",IF(LOADS!$AE664=E$1,1,0),0)","v":0},{"$f":"IF(LOADS!$AC664=\"BUS\",IF(LOADS!$AE664=F$1,1,0),0)","v":0},{"$f":"IF(LOADS!$AC664=\"BUS\",IF(LOADS!$AE664=G$1,1,0),0)","v":0},{"$f":"IF(LOADS!$AC664=\"BUS\",IF(LOADS!$AE664=H$1,1,0),0)","v":0},{"$f":"IF(LOADS!$AC664=\"BUS\",IF(LOADS!$AE664=I$1,1,0),0)","v":0},0,{"$f":"LOADS!AM664","v":0}]
[{"$f":"IF(ISBLANK(LOADS!A665),\"\",LOADS!A665)","v":{"$error":"#REF!"}},{"$f":"IF(ISBLANK(LOADS!B665),\"\",LOADS!B665)","v":""},{"$f":"IF(LOADS!$AC665=\"BUS\",IF(LOADS!$AE665=C$1,1,0),0)","v":0},{"$f":"IF(LOADS!$AC665=\"BUS\",IF(LOADS!$AE665=D$1,1,0),0)","v":0},{"$f":"IF(LOADS!$AC665=\"BUS\",IF(LOADS!$AE665=E$1,1,0),0)","v":0},{"$f":"IF(LOADS!$AC665=\"BUS\",IF(LOADS!$AE665=F$1,1,0),0)","v":0},{"$f":"IF(LOADS!$AC665=\"BUS\",IF(LOADS!$AE665=G$1,1,0),0)","v":0},{"$f":"IF(LOADS!$AC665=\"BUS\",IF(LOADS!$AE665=H$1,1,0),0)","v":0},{"$f":"IF(LOADS!$AC665=\"BUS\",IF(LOADS!$AE665=I$1,1,0),0)","v":0},0,{"$f":"LOADS!AM665","v":0}]
[{"$f":"IF(ISBLANK(LOADS!A666),\"\",LOADS!A666)","v":{"$error":"#REF!"}},{"$f":"IF(ISBLANK(LOADS!B666),\"\",LOADS!B666)","v":""},{"$f":"IF(LOADS!$AC666=\"BUS\",IF(LOADS!$AE666=C$1,1,0),0)","v":0},{"$f":"IF(LOADS!$AC666=\"BUS\",IF(LOADS!$AE666=D$1,1,0),0)","v":0},{"$f":"IF(LOADS!$AC666=\"BUS\",IF(LOADS!$AE666=E$1,1,0),0)","v":0},{"$f":"IF(LOADS!$AC666=\"BUS\",IF(LOADS!$AE666=F$1,1,0),0)","v":0},{"$f":"IF(LOADS!$AC666=\"BUS\",IF(LOADS!$AE666=G$1,1,0),0)","v":0},{"$f":"IF(LOADS!$AC666=\"BUS\",IF(LOADS!$AE666=H$1,1,0),0)","v":0},{"$f":"IF(LOADS!$AC666=\"BUS\",IF(LOADS!$AE666=I$1,1,0),0)","v":0},0,{"$f":"LOADS!AM666","v":0}]
[{"$f":"IF(ISBLANK(LOADS!A667),\"\",LOADS!A667)","v":{"$error":"#REF!"}},{"$f":"IF(ISBLANK(LOADS!B667),\"\",LOADS!B667)","v":""},{"$f":"IF(LOADS!$AC667=\"BUS\",IF(LOADS!$AE667=C$1,1,0),0)","v":0},{"$f":"IF(LOADS!$AC667=\"BUS\",IF(LOADS!$AE667=D$1,1,0),0)","v":0},{"$f":"IF(LOADS!$AC667=\"BUS\",IF(LOADS!$AE667=E$1,1,0),0)","v":0},{"$f":"IF(LOADS!$AC667=\"BUS\",IF(LOADS!$AE667=F$1,1,0),0)","v":0},{"$f":"IF(LOADS!$AC667=\"BUS\",IF(LOADS!$AE667=G$1,1,0),0)","v":0},{"$f":"IF(LOADS!$AC667=\"BUS\",IF(LOADS!$AE667=H$1,1,0),0)","v":0},{"$f":"IF(LOADS!$AC667=\"BUS\",IF(LOADS!$AE667=I$1,1,0),0)","v":0},0,{"$f":"LOADS!AM667","v":0}]
[{"$f":"IF(ISBLANK(LOADS!A668),\"\",LOADS!A668)","v":{"$error":"#REF!"}},{"$f":"IF(ISBLANK(LOADS!B668),\"\",LOADS!B668)","v":""},{"$f":"IF(LOADS!$AC668=\"BUS\",IF(LOADS!$AE668=C$1,1,0),0)","v":0},{"$f":"IF(LOADS!$AC668=\"BUS\",IF(LOADS!$AE668=D$1,1,0),0)","v":0},{"$f":"IF(LOADS!$AC668=\"BUS\",IF(LOADS!$AE668=E$1,1,0),0)","v":0},{"$f":"IF(LOADS!$AC668=\"BUS\",IF(LOADS!$AE668=F$1,1,0),0)","v":0},{"$f":"IF(LOADS!$AC668=\"BUS\",IF(LOADS!$AE668=G$1,1,0),0)","v":0},{"$f":"IF(LOADS!$AC668=\"BUS\",IF(LOADS!$AE668=H$1,1,0),0)","v":0},{"$f":"IF(LOADS!$AC668=\"BUS\",IF(LOADS!$AE668=I$1,1,0),0)","v":0},0,{"$f":"LOADS!AM668","v":0}]
[{"$f":"IF(ISBLANK(LOADS!A669),\"\",LOADS!A669)","v":{"$error":"#REF!"}},{"$f":"IF(ISBLANK(LOADS!B669),\"\",LOADS!B669)","v":""},{"$f":"IF(LOADS!$AC669=\"BUS\",IF(LOADS!$AE669=C$1,1,0),0)","v":0},{"$f":"IF(LOADS!$AC669=\"BUS\",IF(LOADS!$AE669=D$1,1,0),0)","v":0},{"$f":"IF(LOADS!$AC669=\"BUS\",IF(LOADS!$AE669=E$1,1,0),0)","v":0},{"$f":"IF(LOADS!$AC669=\"BUS\",IF(LOADS!$AE669=F$1,1,0),0)","v":0},{"$f":"IF(LOADS!$AC669=\"BUS\",IF(LOADS!$AE669=G$1,1,0),0)","v":0},{"$f":"IF(LOADS!$AC669=\"BUS\",IF(LOADS!$AE669=H$1,1,0),0)","v":0},{"$f":"IF(LOADS!$AC669=\"BUS\",IF(LOADS!$AE669=I$1,1,0),0)","v":0},0,{"$f":"LOADS!AM669","v":0}]
[{"$f":"IF(ISBLANK(LOADS!A670),\"\",LOADS!A670)","v":{"$error":"#REF!"}},{"$f":"IF(ISBLANK(LOADS!B670),\"\",LOADS!B670)","v":""},{"$f":"IF(LOADS!$AC670=\"BUS\",IF(LOADS!$AE670=C$1,1,0),0)","v":0},{"$f":"IF(LOADS!$AC670=\"BUS\",IF(LOADS!$AE670=D$1,1,0),0)","v":0},{"$f":"IF(LOADS!$AC670=\"BUS\",IF(LOADS!$AE670=E$1,1,0),0)","v":0},{"$f":"IF(LOADS!$AC670=\"BUS\",IF(LOADS!$AE670=F$1,1,0),0)","v":0},{"$f":"IF(LOADS!$AC670=\"BUS\",IF(LOADS!$AE670=G$1,1,0),0)","v":0},{"$f":"IF(LOADS!$AC670=\"BUS\",IF(LOADS!$AE670=H$1,1,0),0)","v":0},{"$f":"IF(LOADS!$AC670=\"BUS\",IF(LOADS!$AE670=I$1,1,0),0)","v":0},0,{"$f":"LOADS!AM670","v":0}]
[{"$f":"IF(ISBLANK(LOADS!A671),\"\",LOADS!A671)","v":{"$error":"#REF!"}},{"$f":"IF(ISBLANK(LOADS!B671),\"\",LOADS!B671)","v":""},{"$f":"IF(LOADS!$AC671=\"BUS\",IF(LOADS!$AE671=C$1,1,0),0)","v":0},{"$f":"IF(LOADS!$AC671=\"BUS\",IF(LOADS!$AE671=D$1,1,0),0)","v":0},{"$f":"IF(LOADS!$AC671=\"BUS\",IF(LOADS!$AE671=E$1,1,0),0)","v":0},{"$f":"IF(LOADS!$AC671=\"BUS\",IF(LOADS!$AE671=F$1,1,0),0)","v":0},{"$f":"IF(LOADS!$AC671=\"BUS\",IF(LOADS!$AE671=G$1,1,0),0)","v":0},{"$f":"IF(LOADS!$AC671=\"BUS\",IF(LOADS!$AE671=H$1,1,0),0)","v":0},{"$f":"IF(LOADS!$AC671=\"BUS\",IF(LOADS!$AE671=I$1,1,0),0)","v":0},0,{"$f":"LOADS!AM671","v":0}]
[{"$f":"IF(ISBLANK(LOADS!A672),\"\",LOADS!A672)","v":{"$error":"#REF!"}},{"$f":"IF(ISBLANK(LOADS!B672),\"\",LOADS!B672)","v":""},{"$f":"IF(LOADS!$AC672=\"BUS\",IF(LOADS!$AE672=C$1,1,0),0)","v":0},{"$f":"IF(LOADS!$AC672=\"BUS\",IF(LOADS!$AE672=D$1,1,0),0)","v":0},{"$f":"IF(LOADS!$AC672=\"BUS\",IF(LOADS!$AE672=E$1,1,0),0)","v":0},{"$f":"IF(LOADS!$AC672=\"BUS\",IF(LOADS!$AE672=F$1,1,0),0)","v":0},{"$f":"IF(LOADS!$AC672=\"BUS\",IF(LOADS!$AE672=G$1,1,0),0)","v":0},{"$f":"IF(LOADS!$AC672=\"BUS\",IF(LOADS!$AE672=H$1,1,0),0)","v":0},{"$f":"IF(LOADS!$AC672=\"BUS\",IF(LOADS!$AE672=I$1,1,0),0)","v":0},0,{"$f":"LOADS!AM672","v":0}]
[{"$f":"IF(ISBLANK(LOADS!A673),\"\",LOADS!A673)","v":{"$error":"#REF!"}},{"$f":"IF(ISBLANK(LOADS!B673),\"\",LOADS!B673)","v":""},{"$f":"IF(LOADS!$AC673=\"BUS\",IF(LOADS!$AE673=C$1,1,0),0)","v":0},{"$f":"IF(LOADS!$AC673=\"BUS\",IF(LOADS!$AE673=D$1,1,0),0)","v":0},{"$f":"IF(LOADS!$AC673=\"BUS\",IF(LOADS!$AE673=E$1,1,0),0)","v":0},{"$f":"IF(LOADS!$AC673=\"BUS\",IF(LOADS!$AE673=F$1,1,0),0)","v":0},{"$f":"IF(LOADS!$AC673=\"BUS\",IF(LOADS!$AE673=G$1,1,0),0)","v":0},{"$f":"IF(LOADS!$AC673=\"BUS\",IF(LOADS!$AE673=H$1,1,0),0)","v":0},{"$f":"IF(LOADS!$AC673=\"BUS\",IF(LOADS!$AE673=I$1,1,0),0)","v":0},0,{"$f":"LOADS!AM673","v":0}]
[{"$f":"IF(ISBLANK(LOADS!A674),\"\",LOADS!A674)","v":{"$error":"#REF!"}},{"$f":"IF(ISBLANK(LOADS!B674),\"\",LOADS!B674)","v":""},{"$f":"IF(LOADS!$AC674=\"BUS\",IF(LOADS!$AE674=C$1,1,0),0)","v":0},{"$f":"IF(LOADS!$AC674=\"BUS\",IF(LOADS!$AE674=D$1,1,0),0)","v":0},{"$f":"IF(LOADS!$AC674=\"BUS\",IF(LOADS!$AE674=E$1,1,0),0)","v":0},{"$f":"IF(LOADS!$AC674=\"BUS\",IF(LOADS!$AE674=F$1,1,0),0)","v":0},{"$f":"IF(LOADS!$AC674=\"BUS\",IF(LOADS!$AE674=G$1,1,0),0)","v":0},{"$f":"IF(LOADS!$AC674=\"BUS\",IF(LOADS!$AE674=H$1,1,0),0)","v":0},{"$f":"IF(LOADS!$AC674=\"BUS\",IF(LOADS!$AE674=I$1,1,0),0)","v":0},0,{"$f":"LOADS!AM674","v":0}]
[{"$f":"IF(ISBLANK(LOADS!A675),\"\",LOADS!A675)","v":{"$error":"#REF!"}},{"$f":"IF(ISBLANK(LOADS!B675),\"\",LOADS!B675)","v":""},{"$f":"IF(LOADS!$AC675=\"BUS\",IF(LOADS!$AE675=C$1,1,0),0)","v":0},{"$f":"IF(LOADS!$AC675=\"BUS\",IF(LOADS!$AE675=D$1,1,0),0)","v":0},{"$f":"IF(LOADS!$AC675=\"BUS\",IF(LOADS!$AE675=E$1,1,0),0)","v":0},{"$f":"IF(LOADS!$AC675=\"BUS\",IF(LOADS!$AE675=F$1,1,0),0)","v":0},{"$f":"IF(LOADS!$AC675=\"BUS\",IF(LOADS!$AE675=G$1,1,0),0)","v":0},{"$f":"IF(LOADS!$AC675=\"BUS\",IF(LOADS!$AE675=H$1,1,0),0)","v":0},{"$f":"IF(LOADS!$AC675=\"BUS\",IF(LOADS!$AE675=I$1,1,0),0)","v":0},0,{"$f":"LOADS!AM675","v":0}]
[{"$f":"IF(ISBLANK(LOADS!A676),\"\",LOADS!A676)","v":{"$error":"#REF!"}},{"$f":"IF(ISBLANK(LOADS!B676),\"\",LOADS!B676)","v":""},{"$f":"IF(LOADS!$AC676=\"BUS\",IF(LOADS!$AE676=C$1,1,0),0)","v":0},{"$f":"IF(LOADS!$AC676=\"BUS\",IF(LOADS!$AE676=D$1,1,0),0)","v":0},{"$f":"IF(LOADS!$AC676=\"BUS\",IF(LOADS!$AE676=E$1,1,0),0)","v":0},{"$f":"IF(LOADS!$AC676=\"BUS\",IF(LOADS!$AE676=F$1,1,0),0)","v":0},{"$f":"IF(LOADS!$AC676=\"BUS\",IF(LOADS!$AE676=G$1,1,0),0)","v":0},{"$f":"IF(LOADS!$AC676=\"BUS\",IF(LOADS!$AE676=H$1,1,0),0)","v":0},{"$f":"IF(LOADS!$AC676=\"BUS\",IF(LOADS!$AE676=I$1,1,0),0)","v":0},0,{"$f":"LOADS!AM676","v":0}]
[{"$f":"IF(ISBLANK(LOADS!A677),\"\",LOADS!A677)","v":{"$error":"#REF!"}},{"$f":"IF(ISBLANK(LOADS!B677),\"\",LOADS!B677)","v":""},{"$f":"IF(LOADS!$AC677=\"BUS\",IF(LOADS!$AE677=C$1,1,0),0)","v":0},{"$f":"IF(LOADS!$AC677=\"BUS\",IF(LOADS!$AE677=D$1,1,0),0)","v":0},{"$f":"IF(LOADS!$AC677=\"BUS\",IF(LOADS!$AE677=E$1,1,0),0)","v":0},{"$f":"IF(LOADS!$AC677=\"BUS\",IF(LOADS!$AE677=F$1,1,0),0)","v":0},{"$f":"IF(LOADS!$AC677=\"BUS\",IF(LOADS!$AE677=G$1,1,0),0)","v":0},{"$f":"IF(LOADS!$AC677=\"BUS\",IF(LOADS!$AE677=H$1,1,0),0)","v":0},{"$f":"IF(LOADS!$AC677=\"BUS\",IF(LOADS!$AE677=I$1,1,0),0)","v":0},0,{"$f":"LOADS!AM677","v":0}]
[{"$f":"IF(ISBLANK(LOADS!A678),\"\",LOADS!A678)","v":{"$error":"#REF!"}},{"$f":"IF(ISBLANK(LOADS!B678),\"\",LOADS!B678)","v":""},{"$f":"IF(LOADS!$AC678=\"BUS\",IF(LOADS!$AE678=C$1,1,0),0)","v":0},{"$f":"IF(LOADS!$AC678=\"BUS\",IF(LOADS!$AE678=D$1,1,0),0)","v":0},{"$f":"IF(LOADS!$AC678=\"BUS\",IF(LOADS!$AE678=E$1,1,0),0)","v":0},{"$f":"IF(LOADS!$AC678=\"BUS\",IF(LOADS!$AE678=F$1,1,0),0)","v":0},{"$f":"IF(LOADS!$AC678=\"BUS\",IF(LOADS!$AE678=G$1,1,0),0)","v":0},{"$f":"IF(LOADS!$AC678=\"BUS\",IF(LOADS!$AE678=H$1,1,0),0)","v":0},{"$f":"IF(LOADS!$AC678=\"BUS\",IF(LOADS!$AE678=I$1,1,0),0)","v":0},0,{"$f":"LOADS!AM678","v":0}]
[{"$f":"IF(ISBLANK(LOADS!A679),\"\",LOADS!A679)","v":{"$error":"#REF!"}},{"$f":"IF(ISBLANK(LOADS!B679),\"\",LOADS!B679)","v":""},{"$f":"IF(LOADS!$AC679=\"BUS\",IF(LOADS!$AE679=C$1,1,0),0)","v":0},{"$f":"IF(LOADS!$AC679=\"BUS\",IF(LOADS!$AE679=D$1,1,0),0)","v":0},{"$f":"IF(LOADS!$AC679=\"BUS\",IF(LOADS!$AE679=E$1,1,0),0)","v":0},{"$f":"IF(LOADS!$AC679=\"BUS\",IF(LOADS!$AE679=F$1,1,0),0)","v":0},{"$f":"IF(LOADS!$AC679=\"BUS\",IF(LOADS!$AE679=G$1,1,0),0)","v":0},{"$f":"IF(LOADS!$AC679=\"BUS\",IF(LOADS!$AE679=H$1,1,0),0)","v":0},{"$f":"IF(LOADS!$AC679=\"BUS\",IF(LOADS!$AE679=I$1,1,0),0)","v":0},0,{"$f":"LOADS!AM679","v":0}]
[{"$f":"IF(ISBLANK(LOADS!A680),\"\",LOADS!A680)","v":{"$error":"#REF!"}},{"$f":"IF(ISBLANK(LOADS!B680),\"\",LOADS!B680)","v":""},{"$f":"IF(LOADS!$AC680=\"BUS\",IF(LOADS!$AE680=C$1,1,0),0)","v":0},{"$f":"IF(LOADS!$AC680=\"BUS\",IF(LOADS!$AE680=D$1,1,0),0)","v":0},{"$f":"IF(LOADS!$AC680=\"BUS\",IF(LOADS!$AE680=E$1,1,0),0)","v":0},{"$f":"IF(LOADS!$AC680=\"BUS\",IF(LOADS!$AE680=F$1,1,0),0)","v":0},{"$f":"IF(LOADS!$AC680=\"BUS\",IF(LOADS!$AE680=G$1,1,0),0)","v":0},{"$f":"IF(LOADS!$AC680=\"BUS\",IF(LOADS!$AE680=H$1,1,0),0)","v":0},{"$f":"IF(LOADS!$AC680=\"BUS\",IF(LOADS!$AE680=I$1,1,0),0)","v":0},0,{"$f":"LOADS!AM680","v":0}]
[{"$f":"IF(ISBLANK(LOADS!A681),\"\",LOADS!A681)","v":{"$error":"#REF!"}},{"$f":"IF(ISBLANK(LOADS!B681),\"\",LOADS!B681)","v":""},{"$f":"IF(LOADS!$AC681=\"BUS\",IF(LOADS!$AE681=C$1,1,0),0)","v":0},{"$f":"IF(LOADS!$AC681=\"BUS\",IF(LOADS!$AE681=D$1,1,0),0)","v":0},{"$f":"IF(LOADS!$AC681=\"BUS\",IF(LOADS!$AE681=E$1,1,0),0)","v":0},{"$f":"IF(LOADS!$AC681=\"BUS\",IF(LOADS!$AE681=F$1,1,0),0)","v":0},{"$f":"IF(LOADS!$AC681=\"BUS\",IF(LOADS!$AE681=G$1,1,0),0)","v":0},{"$f":"IF(LOADS!$AC681=\"BUS\",IF(LOADS!$AE681=H$1,1,0),0)","v":0},{"$f":"IF(LOADS!$AC681=\"BUS\",IF(LOADS!$AE681=I$1,1,0),0)","v":0},0,{"$f":"LOADS!AM681","v":0}]
[{"$f":"IF(ISBLANK(LOADS!A682),\"\",LOADS!A682)","v":{"$error":"#REF!"}},{"$f":"IF(ISBLANK(LOADS!B682),\"\",LOADS!B682)","v":""},{"$f":"IF(LOADS!$AC682=\"BUS\",IF(LOADS!$AE682=C$1,1,0),0)","v":0},{"$f":"IF(LOADS!$AC682=\"BUS\",IF(LOADS!$AE682=D$1,1,0),0)","v":0},{"$f":"IF(LOADS!$AC682=\"BUS\",IF(LOADS!$AE682=E$1,1,0),0)","v":0},{"$f":"IF(LOADS!$AC682=\"BUS\",IF(LOADS!$AE682=F$1,1,0),0)","v":0},{"$f":"IF(LOADS!$AC682=\"BUS\",IF(LOADS!$AE682=G$1,1,0),0)","v":0},{"$f":"IF(LOADS!$AC682=\"BUS\",IF(LOADS!$AE682=H$1,1,0),0)","v":0},{"$f":"IF(LOADS!$AC682=\"BUS\",IF(LOADS!$AE682=I$1,1,0),0)","v":0},0,{"$f":"LOADS!AM682","v":0}]
[{"$f":"IF(ISBLANK(LOADS!A683),\"\",LOADS!A683)","v":{"$error":"#REF!"}},{"$f":"IF(ISBLANK(LOADS!B683),\"\",LOADS!B683)","v":""},{"$f":"IF(LOADS!$AC683=\"BUS\",IF(LOADS!$AE683=C$1,1,0),0)","v":0},{"$f":"IF(LOADS!$AC683=\"BUS\",IF(LOADS!$AE683=D$1,1,0),0)","v":0},{"$f":"IF(LOADS!$AC683=\"BUS\",IF(LOADS!$AE683=E$1,1,0),0)","v":0},{"$f":"IF(LOADS!$AC683=\"BUS\",IF(LOADS!$AE683=F$1,1,0),0)","v":0},{"$f":"IF(LOADS!$AC683=\"BUS\",IF(LOADS!$AE683=G$1,1,0),0)","v":0},{"$f":"IF(LOADS!$AC683=\"BUS\",IF(LOADS!$AE683=H$1,1,0),0)","v":0},{"$f":"IF(LOADS!$AC683=\"BUS\",IF(LOADS!$AE683=I$1,1,0),0)","v":0},0,{"$f":"LOADS!AM683","v":0}]
[{"$f":"IF(ISBLANK(LOADS!A684),\"\",LOADS!A684)","v":{"$error":"#REF!"}},{"$f":"IF(ISBLANK(LOADS!B684),\"\",LOADS!B684)","v":""},{"$f":"IF(LOADS!$AC684=\"BUS\",IF(LOADS!$AE684=C$1,1,0),0)","v":0},{"$f":"IF(LOADS!$AC684=\"BUS\",IF(LOADS!$AE684=D$1,1,0),0)","v":0},{"$f":"IF(LOADS!$AC684=\"BUS\",IF(LOADS!$AE684=E$1,1,0),0)","v":0},{"$f":"IF(LOADS!$AC684=\"BUS\",IF(LOADS!$AE684=F$1,1,0),0)","v":0},{"$f":"IF(LOADS!$AC684=\"BUS\",IF(LOADS!$AE684=G$1,1,0),0)","v":0},{"$f":"IF(LOADS!$AC684=\"BUS\",IF(LOADS!$AE684=H$1,1,0),0)","v":0},{"$f":"IF(LOADS!$AC684=\"BUS\",IF(LOADS!$AE684=I$1,1,0),0)","v":0},0,{"$f":"LOADS!AM684","v":0}]
[{"$f":"IF(ISBLANK(LOADS!A685),\"\",LOADS!A685)","v":{"$error":"#REF!"}},{"$f":"IF(ISBLANK(LOADS!B685),\"\",LOADS!B685)","v":""},{"$f":"IF(LOADS!$AC685=\"BUS\",IF(LOADS!$AE685=C$1,1,0),0)","v":0},{"$f":"IF(LOADS!$AC685=\"BUS\",IF(LOADS!$AE685=D$1,1,0),0)","v":0},{"$f":"IF(LOADS!$AC685=\"BUS\",IF(LOADS!$AE685=E$1,1,0),0)","v":0},{"$f":"IF(LOADS!$AC685=\"BUS\",IF(LOADS!$AE685=F$1,1,0),0)","v":0},{"$f":"IF(LOADS!$AC685=\"BUS\",IF(LOADS!$AE685=G$1,1,0),0)","v":0},{"$f":"IF(LOADS!$AC685=\"BUS\",IF(LOADS!$AE685=H$1,1,0),0)","v":0},{"$f":"IF(LOADS!$AC685=\"BUS\",IF(LOADS!$AE685=I$1,1,0),0)","v":0},0,{"$f":"LOADS!AM685","v":0}]
[{"$f":"IF(ISBLANK(LOADS!A686),\"\",LOADS!A686)","v":{"$error":"#REF!"}},{"$f":"IF(ISBLANK(LOADS!B686),\"\",LOADS!B686)","v":""},{"$f":"IF(LOADS!$AC686=\"BUS\",IF(LOADS!$AE686=C$1,1,0),0)","v":0},{"$f":"IF(LOADS!$AC686=\"BUS\",IF(LOADS!$AE686=D$1,1,0),0)","v":0},{"$f":"IF(LOADS!$AC686=\"BUS\",IF(LOADS!$AE686=E$1,1,0),0)","v":0},{"$f":"IF(LOADS!$AC686=\"BUS\",IF(LOADS!$AE686=F$1,1,0),0)","v":0},{"$f":"IF(LOADS!$AC686=\"BUS\",IF(LOADS!$AE686=G$1,1,0),0)","v":0},{"$f":"IF(LOADS!$AC686=\"BUS\",IF(LOADS!$AE686=H$1,1,0),0)","v":0},{"$f":"IF(LOADS!$AC686=\"BUS\",IF(LOADS!$AE686=I$1,1,0),0)","v":0},0,{"$f":"LOADS!AM686","v":0}]
[{"$f":"IF(ISBLANK(LOADS!A687),\"\",LOADS!A687)","v":{"$error":"#REF!"}},{"$f":"IF(ISBLANK(LOADS!B687),\"\",LOADS!B687)","v":""},{"$f":"IF(LOADS!$AC687=\"BUS\",IF(LOADS!$AE687=C$1,1,0),0)","v":0},{"$f":"IF(LOADS!$AC687=\"BUS\",IF(LOADS!$AE687=D$1,1,0),0)","v":0},{"$f":"IF(LOADS!$AC687=\"BUS\",IF(LOADS!$AE687=E$1,1,0),0)","v":0},{"$f":"IF(LOADS!$AC687=\"BUS\",IF(LOADS!$AE687=F$1,1,0),0)","v":0},{"$f":"IF(LOADS!$AC687=\"BUS\",IF(LOADS!$AE687=G$1,1,0),0)","v":0},{"$f":"IF(LOADS!$AC687=\"BUS\",IF(LOADS!$AE687=H$1,1,0),0)","v":0},{"$f":"IF(LOADS!$AC687=\"BUS\",IF(LOADS!$AE687=I$1,1,0),0)","v":0},0,{"$f":"LOADS!AM687","v":0}]
[{"$f":"IF(ISBLANK(LOADS!A688),\"\",LOADS!A688)","v":{"$error":"#REF!"}},{"$f":"IF(ISBLANK(LOADS!B688),\"\",LOADS!B688)","v":""},{"$f":"IF(LOADS!$AC688=\"BUS\",IF(LOADS!$AE688=C$1,1,0),0)","v":0},{"$f":"IF(LOADS!$AC688=\"BUS\",IF(LOADS!$AE688=D$1,1,0),0)","v":0},{"$f":"IF(LOADS!$AC688=\"BUS\",IF(LOADS!$AE688=E$1,1,0),0)","v":0},{"$f":"IF(LOADS!$AC688=\"BUS\",IF(LOADS!$AE688=F$1,1,0),0)","v":0},{"$f":"IF(LOADS!$AC688=\"BUS\",IF(LOADS!$AE688=G$1,1,0),0)","v":0},{"$f":"IF(LOADS!$AC688=\"BUS\",IF(LOADS!$AE688=H$1,1,0),0)","v":0},{"$f":"IF(LOADS!$AC688=\"BUS\",IF(LOADS!$AE688=I$1,1,0),0)","v":0},0,{"$f":"LOADS!AM688","v":0}]
[{"$f":"IF(ISBLANK(LOADS!A689),\"\",LOADS!A689)","v":{"$error":"#REF!"}},{"$f":"IF(ISBLANK(LOADS!B689),\"\",LOADS!B689)","v":""},{"$f":"IF(LOADS!$AC689=\"BUS\",IF(LOADS!$AE689=C$1,1,0),0)","v":0},{"$f":"IF(LOADS!$AC689=\"BUS\",IF(LOADS!$AE689=D$1,1,0),0)","v":0},{"$f":"IF(LOADS!$AC689=\"BUS\",IF(LOADS!$AE689=E$1,1,0),0)","v":0},{"$f":"IF(LOADS!$AC689=\"BUS\",IF(LOADS!$AE689=F$1,1,0),0)","v":0},{"$f":"IF(LOADS!$AC689=\"BUS\",IF(LOADS!$AE689=G$1,1,0),0)","v":0},{"$f":"IF(LOADS!$AC689=\"BUS\",IF(LOADS!$AE689=H$1,1,0),0)","v":0},{"$f":"IF(LOADS!$AC689=\"BUS\",IF(LOADS!$AE689=I$1,1,0),0)","v":0},0,{"$f":"LOADS!AM689","v":0}]
[{"$f":"IF(ISBLANK(LOADS!A690),\"\",LOADS!A690)","v":{"$error":"#REF!"}},{"$f":"IF(ISBLANK(LOADS!B690),\"\",LOADS!B690)","v":""},{"$f":"IF(LOADS!$AC690=\"BUS\",IF(LOADS!$AE690=C$1,1,0),0)","v":0},{"$f":"IF(LOADS!$AC690=\"BUS\",IF(LOADS!$AE690=D$1,1,0),0)","v":0},{"$f":"IF(LOADS!$AC690=\"BUS\",IF(LOADS!$AE690=E$1,1,0),0)","v":0},{"$f":"IF(LOADS!$AC690=\"BUS\",IF(LOADS!$AE690=F$1,1,0),0)","v":0},{"$f":"IF(LOADS!$AC690=\"BUS\",IF(LOADS!$AE690=G$1,1,0),0)","v":0},{"$f":"IF(LOADS!$AC690=\"BUS\",IF(LOADS!$AE690=H$1,1,0),0)","v":0},{"$f":"IF(LOADS!$AC690=\"BUS\",IF(LOADS!$AE690=I$1,1,0),0)","v":0},0,{"$f":"LOADS!AM690","v":0}]
[{"$f":"IF(ISBLANK(LOADS!A691),\"\",LOADS!A691)","v":{"$error":"#REF!"}},{"$f":"IF(ISBLANK(LOADS!B691),\"\",LOADS!B691)","v":""},{"$f":"IF(LOADS!$AC691=\"BUS\",IF(LOADS!$AE691=C$1,1,0),0)","v":0},{"$f":"IF(LOADS!$AC691=\"BUS\",IF(LOADS!$AE691=D$1,1,0),0)","v":0},{"$f":"IF(LOADS!$AC691=\"BUS\",IF(LOADS!$AE691=E$1,1,0),0)","v":0},{"$f":"IF(LOADS!$AC691=\"BUS\",IF(LOADS!$AE691=F$1,1,0),0)","v":0},{"$f":"IF(LOADS!$AC691=\"BUS\",IF(LOADS!$AE691=G$1,1,0),0)","v":0},{"$f":"IF(LOADS!$AC691=\"BUS\",IF(LOADS!$AE691=H$1,1,0),0)","v":0},{"$f":"IF(LOADS!$AC691=\"BUS\",IF(LOADS!$AE691=I$1,1,0),0)","v":0},0,{"$f":"LOADS!AM691","v":0}]
[{"$f":"IF(ISBLANK(LOADS!A692),\"\",LOADS!A692)","v":{"$error":"#REF!"}},{"$f":"IF(ISBLANK(LOADS!B692),\"\",LOADS!B692)","v":""},{"$f":"IF(LOADS!$AC692=\"BUS\",IF(LOADS!$AE692=C$1,1,0),0)","v":0},{"$f":"IF(LOADS!$AC692=\"BUS\",IF(LOADS!$AE692=D$1,1,0),0)","v":0},{"$f":"IF(LOADS!$AC692=\"BUS\",IF(LOADS!$AE692=E$1,1,0),0)","v":0},{"$f":"IF(LOADS!$AC692=\"BUS\",IF(LOADS!$AE692=F$1,1,0),0)","v":0},{"$f":"IF(LOADS!$AC692=\"BUS\",IF(LOADS!$AE692=G$1,1,0),0)","v":0},{"$f":"IF(LOADS!$AC692=\"BUS\",IF(LOADS!$AE692=H$1,1,0),0)","v":0},{"$f":"IF(LOADS!$AC692=\"BUS\",IF(LOADS!$AE692=I$1,1,0),0)","v":0},0,{"$f":"LOADS!AM692","v":0}]
[{"$f":"IF(ISBLANK(LOADS!A693),\"\",LOADS!A693)","v":{"$error":"#REF!"}},{"$f":"IF(ISBLANK(LOADS!B693),\"\",LOADS!B693)","v":""},{"$f":"IF(LOADS!$AC693=\"BUS\",IF(LOADS!$AE693=C$1,1,0),0)","v":0},{"$f":"IF(LOADS!$AC693=\"BUS\",IF(LOADS!$AE693=D$1,1,0),0)","v":0},{"$f":"IF(LOADS!$AC693=\"BUS\",IF(LOADS!$AE693=E$1,1,0),0)","v":0},{"$f":"IF(LOADS!$AC693=\"BUS\",IF(LOADS!$AE693=F$1,1,0),0)","v":0},{"$f":"IF(LOADS!$AC693=\"BUS\",IF(LOADS!$AE693=G$1,1,0),0)","v":0},{"$f":"IF(LOADS!$AC693=\"BUS\",IF(LOADS!$AE693=H$1,1,0),0)","v":0},{"$f":"IF(LOADS!$AC693=\"BUS\",IF(LOADS!$AE693=I$1,1,0),0)","v":0},0,{"$f":"LOADS!AM693","v":0}]
[{"$f":"IF(ISBLANK(LOADS!A694),\"\",LOADS!A694)","v":{"$error":"#REF!"}},{"$f":"IF(ISBLANK(LOADS!B694),\"\",LOADS!B694)","v":""},{"$f":"IF(LOADS!$AC694=\"BUS\",IF(LOADS!$AE694=C$1,1,0),0)","v":0},{"$f":"IF(LOADS!$AC694=\"BUS\",IF(LOADS!$AE694=D$1,1,0),0)","v":0},{"$f":"IF(LOADS!$AC694=\"BUS\",IF(LOADS!$AE694=E$1,1,0),0)","v":0},{"$f":"IF(LOADS!$AC694=\"BUS\",IF(LOADS!$AE694=F$1,1,0),0)","v":0},{"$f":"IF(LOADS!$AC694=\"BUS\",IF(LOADS!$AE694=G$1,1,0),0)","v":0},{"$f":"IF(LOADS!$AC694=\"BUS\",IF(LOADS!$AE694=H$1,1,0),0)","v":0},{"$f":"IF(LOADS!$AC694=\"BUS\",IF(LOADS!$AE694=I$1,1,0),0)","v":0},0,{"$f":"LOADS!AM694","v":0}]
[{"$f":"IF(ISBLANK(LOADS!A695),\"\",LOADS!A695)","v":{"$error":"#REF!"}},{"$f":"IF(ISBLANK(LOADS!B695),\"\",LOADS!B695)","v":""},{"$f":"IF(LOADS!$AC695=\"BUS\",IF(LOADS!$AE695=C$1,1,0),0)","v":0},{"$f":"IF(LOADS!$AC695=\"BUS\",IF(LOADS!$AE695=D$1,1,0),0)","v":0},{"$f":"IF(LOADS!$AC695=\"BUS\",IF(LOADS!$AE695=E$1,1,0),0)","v":0},{"$f":"IF(LOADS!$AC695=\"BUS\",IF(LOADS!$AE695=F$1,1,0),0)","v":0},{"$f":"IF(LOADS!$AC695=\"BUS\",IF(LOADS!$AE695=G$1,1,0),0)","v":0},{"$f":"IF(LOADS!$AC695=\"BUS\",IF(LOADS!$AE695=H$1,1,0),0)","v":0},{"$f":"IF(LOADS!$AC695=\"BUS\",IF(LOADS!$AE695=I$1,1,0),0)","v":0},0,{"$f":"LOADS!AM695","v":0}]
[{"$f":"IF(ISBLANK(LOADS!A696),\"\",LOADS!A696)","v":{"$error":"#REF!"}},{"$f":"IF(ISBLANK(LOADS!B696),\"\",LOADS!B696)","v":""},{"$f":"IF(LOADS!$AC696=\"BUS\",IF(LOADS!$AE696=C$1,1,0),0)","v":0},{"$f":"IF(LOADS!$AC696=\"BUS\",IF(LOADS!$AE696=D$1,1,0),0)","v":0},{"$f":"IF(LOADS!$AC696=\"BUS\",IF(LOADS!$AE696=E$1,1,0),0)","v":0},{"$f":"IF(LOADS!$AC696=\"BUS\",IF(LOADS!$AE696=F$1,1,0),0)","v":0},{"$f":"IF(LOADS!$AC696=\"BUS\",IF(LOADS!$AE696=G$1,1,0),0)","v":0},{"$f":"IF(LOADS!$AC696=\"BUS\",IF(LOADS!$AE696=H$1,1,0),0)","v":0},{"$f":"IF(LOADS!$AC696=\"BUS\",IF(LOADS!$AE696=I$1,1,0),0)","v":0},0,{"$f":"LOADS!AM696","v":0}]
[{"$f":"IF(ISBLANK(LOADS!A697),\"\",LOADS!A697)","v":{"$error":"#REF!"}},{"$f":"IF(ISBLANK(LOADS!B697),\"\",LOADS!B697)","v":""},{"$f":"IF(LOADS!$AC697=\"BUS\",IF(LOADS!$AE697=C$1,1,0),0)","v":0},{"$f":"IF(LOADS!$AC697=\"BUS\",IF(LOADS!$AE697=D$1,1,0),0)","v":0},{"$f":"IF(LOADS!$AC697=\"BUS\",IF(LOADS!$AE697=E$1,1,0),0)","v":0},{"$f":"IF(LOADS!$AC697=\"BUS\",IF(LOADS!$AE697=F$1,1,0),0)","v":0},{"$f":"IF(LOADS!$AC697=\"BUS\",IF(LOADS!$AE697=G$1,1,0),0)","v":0},{"$f":"IF(LOADS!$AC697=\"BUS\",IF(LOADS!$AE697=H$1,1,0),0)","v":0},{"$f":"IF(LOADS!$AC697=\"BUS\",IF(LOADS!$AE697=I$1,1,0),0)","v":0},0,{"$f":"LOADS!AM697","v":0}]
[{"$f":"IF(ISBLANK(LOADS!A698),\"\",LOADS!A698)","v":{"$error":"#REF!"}},{"$f":"IF(ISBLANK(LOADS!B698),\"\",LOADS!B698)","v":""},{"$f":"IF(LOADS!$AC698=\"BUS\",IF(LOADS!$AE698=C$1,1,0),0)","v":0},{"$f":"IF(LOADS!$AC698=\"BUS\",IF(LOADS!$AE698=D$1,1,0),0)","v":0},{"$f":"IF(LOADS!$AC698=\"BUS\",IF(LOADS!$AE698=E$1,1,0),0)","v":0},{"$f":"IF(LOADS!$AC698=\"BUS\",IF(LOADS!$AE698=F$1,1,0),0)","v":0},{"$f":"IF(LOADS!$AC698=\"BUS\",IF(LOADS!$AE698=G$1,1,0),0)","v":0},{"$f":"IF(LOADS!$AC698=\"BUS\",IF(LOADS!$AE698=H$1,1,0),0)","v":0},{"$f":"IF(LOADS!$AC698=\"BUS\",IF(LOADS!$AE698=I$1,1,0),0)","v":0},0,{"$f":"LOADS!AM698","v":0}]
[{"$f":"IF(ISBLANK(LOADS!A699),\"\",LOADS!A699)","v":{"$error":"#REF!"}},{"$f":"IF(ISBLANK(LOADS!B699),\"\",LOADS!B699)","v":""},{"$f":"IF(LOADS!$AC699=\"BUS\",IF(LOADS!$AE699=C$1,1,0),0)","v":0},{"$f":"IF(LOADS!$AC699=\"BUS\",IF(LOADS!$AE699=D$1,1,0),0)","v":0},{"$f":"IF(LOADS!$AC699=\"BUS\",IF(LOADS!$AE699=E$1,1,0),0)","v":0},{"$f":"IF(LOADS!$AC699=\"BUS\",IF(LOADS!$AE699=F$1,1,0),0)","v":0},{"$f":"IF(LOADS!$AC699=\"BUS\",IF(LOADS!$AE699=G$1,1,0),0)","v":0},{"$f":"IF(LOADS!$AC699=\"BUS\",IF(LOADS!$AE699=H$1,1,0),0)","v":0},{"$f":"IF(LOADS!$AC699=\"BUS\",IF(LOADS!$AE699=I$1,1,0),0)","v":0},0,{"$f":"LOADS!AM699","v":0}]
[{"$f":"IF(ISBLANK(LOADS!A700),\"\",LOADS!A700)","v":{"$error":"#REF!"}},{"$f":"IF(ISBLANK(LOADS!B700),\"\",LOADS!B700)","v":""},{"$f":"IF(LOADS!$AC700=\"BUS\",IF(LOADS!$AE700=C$1,1,0),0)","v":0},{"$f":"IF(LOADS!$AC700=\"BUS\",IF(LOADS!$AE700=D$1,1,0),0)","v":0},{"$f":"IF(LOADS!$AC700=\"BUS\",IF(LOADS!$AE700=E$1,1,0),0)","v":0},{"$f":"IF(LOADS!$AC700=\"BUS\",IF(LOADS!$AE700=F$1,1,0),0)","v":0},{"$f":"IF(LOADS!$AC700=\"BUS\",IF(LOADS!$AE700=G$1,1,0),0)","v":0},{"$f":"IF(LOADS!$AC700=\"BUS\",IF(LOADS!$AE700=H$1,1,0),0)","v":0},{"$f":"IF(LOADS!$AC700=\"BUS\",IF(LOADS!$AE700=I$1,1,0),0)","v":0},0,{"$f":"LOADS!AM700","v":0}]
[{"$f":"IF(ISBLANK(LOADS!A701),\"\",LOADS!A701)","v":{"$error":"#REF!"}},{"$f":"IF(ISBLANK(LOADS!B701),\"\",LOADS!B701)","v":""},{"$f":"IF(LOADS!$AC701=\"BUS\",IF(LOADS!$AE701=C$1,1,0),0)","v":0},{"$f":"IF(LOADS!$AC701=\"BUS\",IF(LOADS!$AE701=D$1,1,0),0)","v":0},{"$f":"IF(LOADS!$AC701=\"BUS\",IF(LOADS!$AE701=E$1,1,0),0)","v":0},{"$f":"IF(LOADS!$AC701=\"BUS\",IF(LOADS!$AE701=F$1,1,0),0)","v":0},{"$f":"IF(LOADS!$AC701=\"BUS\",IF(LOADS!$AE701=G$1,1,0),0)","v":0},{"$f":"IF(LOADS!$AC701=\"BUS\",IF(LOADS!$AE701=H$1,1,0),0)","v":0},{"$f":"IF(LOADS!$AC701=\"BUS\",IF(LOADS!$AE701=I$1,1,0),0)","v":0},0,{"$f":"LOADS!AM701","v":0}]
[{"$f":"IF(ISBLANK(LOADS!A702),\"\",LOADS!A702)","v":{"$error":"#REF!"}},{"$f":"IF(ISBLANK(LOADS!B702),\"\",LOADS!B702)","v":""},{"$f":"IF(LOADS!$AC702=\"BUS\",IF(LOADS!$AE702=C$1,1,0),0)","v":0},{"$f":"IF(LOADS!$AC702=\"BUS\",IF(LOADS!$AE702=D$1,1,0),0)","v":0},{"$f":"IF(LOADS!$AC702=\"BUS\",IF(LOADS!$AE702=E$1,1,0),0)","v":0},{"$f":"IF(LOADS!$AC702=\"BUS\",IF(LOADS!$AE702=F$1,1,0),0)","v":0},{"$f":"IF(LOADS!$AC702=\"BUS\",IF(LOADS!$AE702=G$1,1,0),0)","v":0},{"$f":"IF(LOADS!$AC702=\"BUS\",IF(LOADS!$AE702=H$1,1,0),0)","v":0},{"$f":"IF(LOADS!$AC702=\"BUS\",IF(LOADS!$AE702=I$1,1,0),0)","v":0},0,{"$f":"LOADS!AM702","v":0}]
[{"$f":"IF(ISBLANK(LOADS!A703),\"\",LOADS!A703)","v":{"$error":"#REF!"}},{"$f":"IF(ISBLANK(LOADS!B703),\"\",LOADS!B703)","v":""},{"$f":"IF(LOADS!$AC703=\"BUS\",IF(LOADS!$AE703=C$1,1,0),0)","v":0},{"$f":"IF(LOADS!$AC703=\"BUS\",IF(LOADS!$AE703=D$1,1,0),0)","v":0},{"$f":"IF(LOADS!$AC703=\"BUS\",IF(LOADS!$AE703=E$1,1,0),0)","v":0},{"$f":"IF(LOADS!$AC703=\"BUS\",IF(LOADS!$AE703=F$1,1,0),0)","v":0},{"$f":"IF(LOADS!$AC703=\"BUS\",IF(LOADS!$AE703=G$1,1,0),0)","v":0},{"$f":"IF(LOADS!$AC703=\"BUS\",IF(LOADS!$AE703=H$1,1,0),0)","v":0},{"$f":"IF(LOADS!$AC703=\"BUS\",IF(LOADS!$AE703=I$1,1,0),0)","v":0},0,{"$f":"LOADS!AM703","v":0}]
[{"$f":"IF(ISBLANK(LOADS!A704),\"\",LOADS!A704)","v":{"$error":"#REF!"}},{"$f":"IF(ISBLANK(LOADS!B704),\"\",LOADS!B704)","v":""},{"$f":"IF(LOADS!$AC704=\"BUS\",IF(LOADS!$AE704=C$1,1,0),0)","v":0},{"$f":"IF(LOADS!$AC704=\"BUS\",IF(LOADS!$AE704=D$1,1,0),0)","v":0},{"$f":"IF(LOADS!$AC704=\"BUS\",IF(LOADS!$AE704=E$1,1,0),0)","v":0},{"$f":"IF(LOADS!$AC704=\"BUS\",IF(LOADS!$AE704=F$1,1,0),0)","v":0},{"$f":"IF(LOADS!$AC704=\"BUS\",IF(LOADS!$AE704=G$1,1,0),0)","v":0},{"$f":"IF(LOADS!$AC704=\"BUS\",IF(LOADS!$AE704=H$1,1,0),0)","v":0},{"$f":"IF(LOADS!$AC704=\"BUS\",IF(LOADS!$AE704=I$1,1,0),0)","v":0},0,{"$f":"LOADS!AM704","v":0}]
[{"$f":"IF(ISBLANK(LOADS!A705),\"\",LOADS!A705)","v":{"$error":"#REF!"}},{"$f":"IF(ISBLANK(LOADS!B705),\"\",LOADS!B705)","v":""},{"$f":"IF(LOADS!$AC705=\"BUS\",IF(LOADS!$AE705=C$1,1,0),0)","v":0},{"$f":"IF(LOADS!$AC705=\"BUS\",IF(LOADS!$AE705=D$1,1,0),0)","v":0},{"$f":"IF(LOADS!$AC705=\"BUS\",IF(LOADS!$AE705=E$1,1,0),0)","v":0},{"$f":"IF(LOADS!$AC705=\"BUS\",IF(LOADS!$AE705=F$1,1,0),0)","v":0},{"$f":"IF(LOADS!$AC705=\"BUS\",IF(LOADS!$AE705=G$1,1,0),0)","v":0},{"$f":"IF(LOADS!$AC705=\"BUS\",IF(LOADS!$AE705=H$1,1,0),0)","v":0},{"$f":"IF(LOADS!$AC705=\"BUS\",IF(LOADS!$AE705=I$1,1,0),0)","v":0},0,{"$f":"LOADS!AM705","v":0}]
[{"$f":"IF(ISBLANK(LOADS!A706),\"\",LOADS!A706)","v":{"$error":"#REF!"}},{"$f":"IF(ISBLANK(LOADS!B706),\"\",LOADS!B706)","v":""},{"$f":"IF(LOADS!$AC706=\"BUS\",IF(LOADS!$AE706=C$1,1,0),0)","v":0},{"$f":"IF(LOADS!$AC706=\"BUS\",IF(LOADS!$AE706=D$1,1,0),0)","v":0},{"$f":"IF(LOADS!$AC706=\"BUS\",IF(LOADS!$AE706=E$1,1,0),0)","v":0},{"$f":"IF(LOADS!$AC706=\"BUS\",IF(LOADS!$AE706=F$1,1,0),0)","v":0},{"$f":"IF(LOADS!$AC706=\"BUS\",IF(LOADS!$AE706=G$1,1,0),0)","v":0},{"$f":"IF(LOADS!$AC706=\"BUS\",IF(LOADS!$AE706=H$1,1,0),0)","v":0},{"$f":"IF(LOADS!$AC706=\"BUS\",IF(LOADS!$AE706=I$1,1,0),0)","v":0},{"$f":"SUM(C709:I709)","v":0},{"$f":"LOADS!AM706","v":0}]
[{"$f":"IF(ISBLANK(LOADS!A707),\"\",LOADS!A707)","v":{"$error":"#REF!"}},{"$f":"IF(ISBLANK(LOADS!B707),\"\",LOADS!B707)","v":""},{"$f":"IF(LOADS!$AC707=\"BUS\",IF(LOADS!$AE707=C$1,1,0),0)","v":0},{"$f":"IF(LOADS!$AC707=\"BUS\",IF(LOADS!$AE707=D$1,1,0),0)","v":0},{"$f":"IF(LOADS!$AC707=\"BUS\",IF(LOADS!$AE707=E$1,1,0),0)","v":0},{"$f":"IF(LOADS!$AC707=\"BUS\",IF(LOADS!$AE707=F$1,1,0),0)","v":0},{"$f":"IF(LOADS!$AC707=\"BUS\",IF(LOADS!$AE707=G$1,1,0),0)","v":0},{"$f":"IF(LOADS!$AC707=\"BUS\",IF(LOADS!$AE707=H$1,1,0),0)","v":0},{"$f":"IF(LOADS!$AC707=\"BUS\",IF(LOADS!$AE707=I$1,1,0),0)","v":0},0,{"$f":"LOADS!AM707","v":0}]
[{"$f":"IF(ISBLANK(LOADS!A708),\"\",LOADS!A708)","v":{"$error":"#REF!"}},{"$f":"IF(ISBLANK(LOADS!B708),\"\",LOADS!B708)","v":""},{"$f":"IF(LOADS!$AC708=\"BUS\",IF(LOADS!$AE708=C$1,1,0),0)","v":0},{"$f":"IF(LOADS!$AC708=\"BUS\",IF(LOADS!$AE708=D$1,1,0),0)","v":0},{"$f":"IF(LOADS!$AC708=\"BUS\",IF(LOADS!$AE708=E$1,1,0),0)","v":0},{"$f":"IF(LOADS!$AC708=\"BUS\",IF(LOADS!$AE708=F$1,1,0),0)","v":0},{"$f":"IF(LOADS!$AC708=\"BUS\",IF(LOADS!$AE708=G$1,1,0),0)","v":0},{"$f":"IF(LOADS!$AC708=\"BUS\",IF(LOADS!$AE708=H$1,1,0),0)","v":0},{"$f":"IF(LOADS!$AC708=\"BUS\",IF(LOADS!$AE708=I$1,1,0),0)","v":0},0,{"$f":"LOADS!AM708","v":0}]
[{"$f":"IF(ISBLANK(LOADS!A709),\"\",LOADS!A709)","v":{"$error":"#REF!"}},{"$f":"IF(ISBLANK(LOADS!B709),\"\",LOADS!B709)","v":""},{"$f":"IF(LOADS!$AC709=\"BUS\",IF(LOADS!$AE709=C$1,1,0),0)","v":0},{"$f":"IF(LOADS!$AC709=\"BUS\",IF(LOADS!$AE709=D$1,1,0),0)","v":0},{"$f":"IF(LOADS!$AC709=\"BUS\",IF(LOADS!$AE709=E$1,1,0),0)","v":0},{"$f":"IF(LOADS!$AC709=\"BUS\",IF(LOADS!$AE709=F$1,1,0),0)","v":0},{"$f":"IF(LOADS!$AC709=\"BUS\",IF(LOADS!$AE709=G$1,1,0),0)","v":0},{"$f":"IF(LOADS!$AC709=\"BUS\",IF(LOADS!$AE709=H$1,1,0),0)","v":0},{"$f":"IF(LOADS!$AC709=\"BUS\",IF(LOADS!$AE709=I$1,1,0),0)","v":0},0,{"$f":"LOADS!AM709","v":0}]
[{"$f":"IF(ISBLANK(LOADS!A710),\"\",LOADS!A710)","v":{"$error":"#REF!"}},{"$f":"IF(ISBLANK(LOADS!B710),\"\",LOADS!B710)","v":""},{"$f":"IF(LOADS!$AC710=\"BUS\",IF(LOADS!$AE710=C$1,1,0),0)","v":0},{"$f":"IF(LOADS!$AC710=\"BUS\",IF(LOADS!$AE710=D$1,1,0),0)","v":0},{"$f":"IF(LOADS!$AC710=\"BUS\",IF(LOADS!$AE710=E$1,1,0),0)","v":0},{"$f":"IF(LOADS!$AC710=\"BUS\",IF(LOADS!$AE710=F$1,1,0),0)","v":0},{"$f":"IF(LOADS!$AC710=\"BUS\",IF(LOADS!$AE710=G$1,1,0),0)","v":0},{"$f":"IF(LOADS!$AC710=\"BUS\",IF(LOADS!$AE710=H$1,1,0),0)","v":0},{"$f":"IF(LOADS!$AC710=\"BUS\",IF(LOADS!$AE710=I$1,1,0),0)","v":0},0,{"$f":"LOADS!AM710","v":0}]
[{"$f":"IF(ISBLANK(LOADS!A711),\"\",LOADS!A711)","v":{"$error":"#REF!"}},{"$f":"IF(ISBLANK(LOADS!B711),\"\",LOADS!B711)","v":""},{"$f":"IF(LOADS!$AC711=\"BUS\",IF(LOADS!$AE711=C$1,1,0),0)","v":0},{"$f":"IF(LOADS!$AC711=\"BUS\",IF(LOADS!$AE711=D$1,1,0),0)","v":0},{"$f":"IF(LOADS!$AC711=\"BUS\",IF(LOADS!$AE711=E$1,1,0),0)","v":0},{"$f":"IF(LOADS!$AC711=\"BUS\",IF(LOADS!$AE711=F$1,1,0),0)","v":0},{"$f":"IF(LOADS!$AC711=\"BUS\",IF(LOADS!$AE711=G$1,1,0),0)","v":0},{"$f":"IF(LOADS!$AC711=\"BUS\",IF(LOADS!$AE711=H$1,1,0),0)","v":0},{"$f":"IF(LOADS!$AC711=\"BUS\",IF(LOADS!$AE711=I$1,1,0),0)","v":0},0,{"$f":"LOADS!AM711","v":0}]
[{"$f":"IF(ISBLANK(LOADS!A712),\"\",LOADS!A712)","v":{"$error":"#REF!"}},{"$f":"IF(ISBLANK(LOADS!B712),\"\",LOADS!B712)","v":""},{"$f":"IF(LOADS!$AC712=\"BUS\",IF(LOADS!$AE712=C$1,1,0),0)","v":0},{"$f":"IF(LOADS!$AC712=\"BUS\",IF(LOADS!$AE712=D$1,1,0),0)","v":0},{"$f":"IF(LOADS!$AC712=\"BUS\",IF(LOADS!$AE712=E$1,1,0),0)","v":0},{"$f":"IF(LOADS!$AC712=\"BUS\",IF(LOADS!$AE712=F$1,1,0),0)","v":0},{"$f":"IF(LOADS!$AC712=\"BUS\",IF(LOADS!$AE712=G$1,1,0),0)","v":0},{"$f":"IF(LOADS!$AC712=\"BUS\",IF(LOADS!$AE712=H$1,1,0),0)","v":0},{"$f":"IF(LOADS!$AC712=\"BUS\",IF(LOADS!$AE712=I$1,1,0),0)","v":0},0,{"$f":"LOADS!AM712","v":0}]
[{"$f":"IF(ISBLANK(LOADS!A713),\"\",LOADS!A713)","v":{"$error":"#REF!"}},{"$f":"IF(ISBLANK(LOADS!B713),\"\",LOADS!B713)","v":""},{"$f":"IF(LOADS!$AC713=\"BUS\",IF(LOADS!$AE713=C$1,1,0),0)","v":0},{"$f":"IF(LOADS!$AC713=\"BUS\",IF(LOADS!$AE713=D$1,1,0),0)","v":0},{"$f":"IF(LOADS!$AC713=\"BUS\",IF(LOADS!$AE713=E$1,1,0),0)","v":0},{"$f":"IF(LOADS!$AC713=\"BUS\",IF(LOADS!$AE713=F$1,1,0),0)","v":0},{"$f":"IF(LOADS!$AC713=\"BUS\",IF(LOADS!$AE713=G$1,1,0),0)","v":0},{"$f":"IF(LOADS!$AC713=\"BUS\",IF(LOADS!$AE713=H$1,1,0),0)","v":0},{"$f":"IF(LOADS!$AC713=\"BUS\",IF(LOADS!$AE713=I$1,1,0),0)","v":0},0,{"$f":"LOADS!AM713","v":0}]
[{"$f":"IF(ISBLANK(LOADS!A714),\"\",LOADS!A714)","v":{"$error":"#REF!"}},{"$f":"IF(ISBLANK(LOADS!B714),\"\",LOADS!B714)","v":""},{"$f":"IF(LOADS!$AC714=\"BUS\",IF(LOADS!$AE714=C$1,1,0),0)","v":0},{"$f":"IF(LOADS!$AC714=\"BUS\",IF(LOADS!$AE714=D$1,1,0),0)","v":0},{"$f":"IF(LOADS!$AC714=\"BUS\",IF(LOADS!$AE714=E$1,1,0),0)","v":0},{"$f":"IF(LOADS!$AC714=\"BUS\",IF(LOADS!$AE714=F$1,1,0),0)","v":0},{"$f":"IF(LOADS!$AC714=\"BUS\",IF(LOADS!$AE714=G$1,1,0),0)","v":0},{"$f":"IF(LOADS!$AC714=\"BUS\",IF(LOADS!$AE714=H$1,1,0),0)","v":0},{"$f":"IF(LOADS!$AC714=\"BUS\",IF(LOADS!$AE714=I$1,1,0),0)","v":0},0,{"$f":"LOADS!AM714","v":0}]
[{"$f":"IF(ISBLANK(LOADS!A715),\"\",LOADS!A715)","v":{"$error":"#REF!"}},{"$f":"IF(ISBLANK(LOADS!B715),\"\",LOADS!B715)","v":""},{"$f":"IF(LOADS!$AC715=\"BUS\",IF(LOADS!$AE715=C$1,1,0),0)","v":0},{"$f":"IF(LOADS!$AC715=\"BUS\",IF(LOADS!$AE715=D$1,1,0),0)","v":0},{"$f":"IF(LOADS!$AC715=\"BUS\",IF(LOADS!$AE715=E$1,1,0),0)","v":0},{"$f":"IF(LOADS!$AC715=\"BUS\",IF(LOADS!$AE715=F$1,1,0),0)","v":0},{"$f":"IF(LOADS!$AC715=\"BUS\",IF(LOADS!$AE715=G$1,1,0),0)","v":0},{"$f":"IF(LOADS!$AC715=\"BUS\",IF(LOADS!$AE715=H$1,1,0),0)","v":0},{"$f":"IF(LOADS!$AC715=\"BUS\",IF(LOADS!$AE715=I$1,1,0),0)","v":0},0,{"$f":"LOADS!AM715","v":0}]
[{"$f":"IF(ISBLANK(LOADS!A716),\"\",LOADS!A716)","v":{"$error":"#REF!"}},{"$f":"IF(ISBLANK(LOADS!B716),\"\",LOADS!B716)","v":""},{"$f":"IF(LOADS!$AC716=\"BUS\",IF(LOADS!$AE716=C$1,1,0),0)","v":0},{"$f":"IF(LOADS!$AC716=\"BUS\",IF(LOADS!$AE716=D$1,1,0),0)","v":0},{"$f":"IF(LOADS!$AC716=\"BUS\",IF(LOADS!$AE716=E$1,1,0),0)","v":0},{"$f":"IF(LOADS!$AC716=\"BUS\",IF(LOADS!$AE716=F$1,1,0),0)","v":0},{"$f":"IF(LOADS!$AC716=\"BUS\",IF(LOADS!$AE716=G$1,1,0),0)","v":0},{"$f":"IF(LOADS!$AC716=\"BUS\",IF(LOADS!$AE716=H$1,1,0),0)","v":0},{"$f":"IF(LOADS!$AC716=\"BUS\",IF(LOADS!$AE716=I$1,1,0),0)","v":0},0,{"$f":"LOADS!AM716","v":0}]
[{"$f":"IF(ISBLANK(LOADS!A717),\"\",LOADS!A717)","v":{"$error":"#REF!"}},{"$f":"IF(ISBLANK(LOADS!B717),\"\",LOADS!B717)","v":""},{"$f":"IF(LOADS!$AC717=\"BUS\",IF(LOADS!$AE717=C$1,1,0),0)","v":0},{"$f":"IF(LOADS!$AC717=\"BUS\",IF(LOADS!$AE717=D$1,1,0),0)","v":0},{"$f":"IF(LOADS!$AC717=\"BUS\",IF(LOADS!$AE717=E$1,1,0),0)","v":0},{"$f":"IF(LOADS!$AC717=\"BUS\",IF(LOADS!$AE717=F$1,1,0),0)","v":0},{"$f":"IF(LOADS!$AC717=\"BUS\",IF(LOADS!$AE717=G$1,1,0),0)","v":0},{"$f":"IF(LOADS!$AC717=\"BUS\",IF(LOADS!$AE717=H$1,1,0),0)","v":0},{"$f":"IF(LOADS!$AC717=\"BUS\",IF(LOADS!$AE717=I$1,1,0),0)","v":0},0,{"$f":"LOADS!AM717","v":0}]
[{"$f":"IF(ISBLANK(LOADS!A718),\"\",LOADS!A718)","v":{"$error":"#REF!"}},{"$f":"IF(ISBLANK(LOADS!B718),\"\",LOADS!B718)","v":""},{"$f":"IF(LOADS!$AC718=\"BUS\",IF(LOADS!$AE718=C$1,1,0),0)","v":0},{"$f":"IF(LOADS!$AC718=\"BUS\",IF(LOADS!$AE718=D$1,1,0),0)","v":0},{"$f":"IF(LOADS!$AC718=\"BUS\",IF(LOADS!$AE718=E$1,1,0),0)","v":0},{"$f":"IF(LOADS!$AC718=\"BUS\",IF(LOADS!$AE718=F$1,1,0),0)","v":0},{"$f":"IF(LOADS!$AC718=\"BUS\",IF(LOADS!$AE718=G$1,1,0),0)","v":0},{"$f":"IF(LOADS!$AC718=\"BUS\",IF(LOADS!$AE718=H$1,1,0),0)","v":0},{"$f":"IF(LOADS!$AC718=\"BUS\",IF(LOADS!$AE718=I$1,1,0),0)","v":0},0,{"$f":"LOADS!AM718","v":0}]
[{"$f":"IF(ISBLANK(LOADS!A719),\"\",LOADS!A719)","v":{"$error":"#REF!"}},{"$f":"IF(ISBLANK(LOADS!B719),\"\",LOADS!B719)","v":""},{"$f":"IF(LOADS!$AC719=\"BUS\",IF(LOADS!$AE719=C$1,1,0),0)","v":0},{"$f":"IF(LOADS!$AC719=\"BUS\",IF(LOADS!$AE719=D$1,1,0),0)","v":0},{"$f":"IF(LOADS!$AC719=\"BUS\",IF(LOADS!$AE719=E$1,1,0),0)","v":0},{"$f":"IF(LOADS!$AC719=\"BUS\",IF(LOADS!$AE719=F$1,1,0),0)","v":0},{"$f":"IF(LOADS!$AC719=\"BUS\",IF(LOADS!$AE719=G$1,1,0),0)","v":0},{"$f":"IF(LOADS!$AC719=\"BUS\",IF(LOADS!$AE719=H$1,1,0),0)","v":0},{"$f":"IF(LOADS!$AC719=\"BUS\",IF(LOADS!$AE719=I$1,1,0),0)","v":0},0,{"$f":"LOADS!AM719","v":0}]
[{"$f":"IF(ISBLANK(LOADS!A720),\"\",LOADS!A720)","v":{"$error":"#REF!"}},{"$f":"IF(ISBLANK(LOADS!B720),\"\",LOADS!B720)","v":""},{"$f":"IF(LOADS!$AC720=\"BUS\",IF(LOADS!$AE720=C$1,1,0),0)","v":0},{"$f":"IF(LOADS!$AC720=\"BUS\",IF(LOADS!$AE720=D$1,1,0),0)","v":0},{"$f":"IF(LOADS!$AC720=\"BUS\",IF(LOADS!$AE720=E$1,1,0),0)","v":0},{"$f":"IF(LOADS!$AC720=\"BUS\",IF(LOADS!$AE720=F$1,1,0),0)","v":0},{"$f":"IF(LOADS!$AC720=\"BUS\",IF(LOADS!$AE720=G$1,1,0),0)","v":0},{"$f":"IF(LOADS!$AC720=\"BUS\",IF(LOADS!$AE720=H$1,1,0),0)","v":0},{"$f":"IF(LOADS!$AC720=\"BUS\",IF(LOADS!$AE720=I$1,1,0),0)","v":0},0,{"$f":"LOADS!AM720","v":0}]
[{"$f":"IF(ISBLANK(LOADS!A721),\"\",LOADS!A721)","v":{"$error":"#REF!"}},{"$f":"IF(ISBLANK(LOADS!B721),\"\",LOADS!B721)","v":""},{"$f":"IF(LOADS!$AC721=\"BUS\",IF(LOADS!$AE721=C$1,1,0),0)","v":0},{"$f":"IF(LOADS!$AC721=\"BUS\",IF(LOADS!$AE721=D$1,1,0),0)","v":0},{"$f":"IF(LOADS!$AC721=\"BUS\",IF(LOADS!$AE721=E$1,1,0),0)","v":0},{"$f":"IF(LOADS!$AC721=\"BUS\",IF(LOADS!$AE721=F$1,1,0),0)","v":0},{"$f":"IF(LOADS!$AC721=\"BUS\",IF(LOADS!$AE721=G$1,1,0),0)","v":0},{"$f":"IF(LOADS!$AC721=\"BUS\",IF(LOADS!$AE721=H$1,1,0),0)","v":0},{"$f":"IF(LOADS!$AC721=\"BUS\",IF(LOADS!$AE721=I$1,1,0),0)","v":0},0,{"$f":"LOADS!AM721","v":0}]
[{"$f":"IF(ISBLANK(LOADS!A722),\"\",LOADS!A722)","v":{"$error":"#REF!"}},{"$f":"IF(ISBLANK(LOADS!B722),\"\",LOADS!B722)","v":""},{"$f":"IF(LOADS!$AC722=\"BUS\",IF(LOADS!$AE722=C$1,1,0),0)","v":0},{"$f":"IF(LOADS!$AC722=\"BUS\",IF(LOADS!$AE722=D$1,1,0),0)","v":0},{"$f":"IF(LOADS!$AC722=\"BUS\",IF(LOADS!$AE722=E$1,1,0),0)","v":0},{"$f":"IF(LOADS!$AC722=\"BUS\",IF(LOADS!$AE722=F$1,1,0),0)","v":0},{"$f":"IF(LOADS!$AC722=\"BUS\",IF(LOADS!$AE722=G$1,1,0),0)","v":0},{"$f":"IF(LOADS!$AC722=\"BUS\",IF(LOADS!$AE722=H$1,1,0),0)","v":0},{"$f":"IF(LOADS!$AC722=\"BUS\",IF(LOADS!$AE722=I$1,1,0),0)","v":0},0,{"$f":"LOADS!AM722","v":0}]
[{"$f":"IF(ISBLANK(LOADS!A723),\"\",LOADS!A723)","v":{"$error":"#REF!"}},{"$f":"IF(ISBLANK(LOADS!B723),\"\",LOADS!B723)","v":""},{"$f":"IF(LOADS!$AC723=\"BUS\",IF(LOADS!$AE723=C$1,1,0),0)","v":0},{"$f":"IF(LOADS!$AC723=\"BUS\",IF(LOADS!$AE723=D$1,1,0),0)","v":0},{"$f":"IF(LOADS!$AC723=\"BUS\",IF(LOADS!$AE723=E$1,1,0),0)","v":0},{"$f":"IF(LOADS!$AC723=\"BUS\",IF(LOADS!$AE723=F$1,1,0),0)","v":0},{"$f":"IF(LOADS!$AC723=\"BUS\",IF(LOADS!$AE723=G$1,1,0),0)","v":0},{"$f":"IF(LOADS!$AC723=\"BUS\",IF(LOADS!$AE723=H$1,1,0),0)","v":0},{"$f":"IF(LOADS!$AC723=\"BUS\",IF(LOADS!$AE723=I$1,1,0),0)","v":0},0,{"$f":"LOADS!AM723","v":0}]
[{"$f":"IF(ISBLANK(LOADS!A724),\"\",LOADS!A724)","v":{"$error":"#REF!"}},{"$f":"IF(ISBLANK(LOADS!B724),\"\",LOADS!B724)","v":""},{"$f":"IF(LOADS!$AC724=\"BUS\",IF(LOADS!$AE724=C$1,1,0),0)","v":0},{"$f":"IF(LOADS!$AC724=\"BUS\",IF(LOADS!$AE724=D$1,1,0),0)","v":0},{"$f":"IF(LOADS!$AC724=\"BUS\",IF(LOADS!$AE724=E$1,1,0),0)","v":0},{"$f":"IF(LOADS!$AC724=\"BUS\",IF(LOADS!$AE724=F$1,1,0),0)","v":0},{"$f":"IF(LOADS!$AC724=\"BUS\",IF(LOADS!$AE724=G$1,1,0),0)","v":0},{"$f":"IF(LOADS!$AC724=\"BUS\",IF(LOADS!$AE724=H$1,1,0),0)","v":0},{"$f":"IF(LOADS!$AC724=\"BUS\",IF(LOADS!$AE724=I$1,1,0),0)","v":0},0,{"$f":"LOADS!AM724","v":0}]
[{"$f":"IF(ISBLANK(LOADS!A725),\"\",LOADS!A725)","v":{"$error":"#REF!"}},{"$f":"IF(ISBLANK(LOADS!B725),\"\",LOADS!B725)","v":""},{"$f":"IF(LOADS!$AC725=\"BUS\",IF(LOADS!$AE725=C$1,1,0),0)","v":0},{"$f":"IF(LOADS!$AC725=\"BUS\",IF(LOADS!$AE725=D$1,1,0),0)","v":0},{"$f":"IF(LOADS!$AC725=\"BUS\",IF(LOADS!$AE725=E$1,1,0),0)","v":0},{"$f":"IF(LOADS!$AC725=\"BUS\",IF(LOADS!$AE725=F$1,1,0),0)","v":0},{"$f":"IF(LOADS!$AC725=\"BUS\",IF(LOADS!$AE725=G$1,1,0),0)","v":0},{"$f":"IF(LOADS!$AC725=\"BUS\",IF(LOADS!$AE725=H$1,1,0),0)","v":0},{"$f":"IF(LOADS!$AC725=\"BUS\",IF(LOADS!$AE725=I$1,1,0),0)","v":0},0,{"$f":"LOADS!AM725","v":0}]
[{"$f":"IF(ISBLANK(LOADS!A726),\"\",LOADS!A726)","v":{"$error":"#REF!"}},{"$f":"IF(ISBLANK(LOADS!B726),\"\",LOADS!B726)","v":""},{"$f":"IF(LOADS!$AC726=\"BUS\",IF(LOADS!$AE726=C$1,1,0),0)","v":0},{"$f":"IF(LOADS!$AC726=\"BUS\",IF(LOADS!$AE726=D$1,1,0),0)","v":0},{"$f":"IF(LOADS!$AC726=\"BUS\",IF(LOADS!$AE726=E$1,1,0),0)","v":0},{"$f":"IF(LOADS!$AC726=\"BUS\",IF(LOADS!$AE726=F$1,1,0),0)","v":0},{"$f":"IF(LOADS!$AC726=\"BUS\",IF(LOADS!$AE726=G$1,1,0),0)","v":0},{"$f":"IF(LOADS!$AC726=\"BUS\",IF(LOADS!$AE726=H$1,1,0),0)","v":0},{"$f":"IF(LOADS!$AC726=\"BUS\",IF(LOADS!$AE726=I$1,1,0),0)","v":0},0,{"$f":"LOADS!AM726","v":0}]
[{"$f":"IF(ISBLANK(LOADS!A727),\"\",LOADS!A727)","v":{"$error":"#REF!"}},{"$f":"IF(ISBLANK(LOADS!B727),\"\",LOADS!B727)","v":""},{"$f":"IF(LOADS!$AC727=\"BUS\",IF(LOADS!$AE727=C$1,1,0),0)","v":0},{"$f":"IF(LOADS!$AC727=\"BUS\",IF(LOADS!$AE727=D$1,1,0),0)","v":0},{"$f":"IF(LOADS!$AC727=\"BUS\",IF(LOADS!$AE727=E$1,1,0),0)","v":0},{"$f":"IF(LOADS!$AC727=\"BUS\",IF(LOADS!$AE727=F$1,1,0),0)","v":0},{"$f":"IF(LOADS!$AC727=\"BUS\",IF(LOADS!$AE727=G$1,1,0),0)","v":0},{"$f":"IF(LOADS!$AC727=\"BUS\",IF(LOADS!$AE727=H$1,1,0),0)","v":0},{"$f":"IF(LOADS!$AC727=\"BUS\",IF(LOADS!$AE727=I$1,1,0),0)","v":0},0,{"$f":"LOADS!AM727","v":0}]
[{"$f":"IF(ISBLANK(LOADS!A728),\"\",LOADS!A728)","v":{"$error":"#REF!"}},{"$f":"IF(ISBLANK(LOADS!B728),\"\",LOADS!B728)","v":""},{"$f":"IF(LOADS!$AC728=\"BUS\",IF(LOADS!$AE728=C$1,1,0),0)","v":0},{"$f":"IF(LOADS!$AC728=\"BUS\",IF(LOADS!$AE728=D$1,1,0),0)","v":0},{"$f":"IF(LOADS!$AC728=\"BUS\",IF(LOADS!$AE728=E$1,1,0),0)","v":0},{"$f":"IF(LOADS!$AC728=\"BUS\",IF(LOADS!$AE728=F$1,1,0),0)","v":0},{"$f":"IF(LOADS!$AC728=\"BUS\",IF(LOADS!$AE728=G$1,1,0),0)","v":0},{"$f":"IF(LOADS!$AC728=\"BUS\",IF(LOADS!$AE728=H$1,1,0),0)","v":0},{"$f":"IF(LOADS!$AC728=\"BUS\",IF(LOADS!$AE728=I$1,1,0),0)","v":0},0,{"$f":"LOADS!AM728","v":0}]
[{"$f":"IF(ISBLANK(LOADS!A729),\"\",LOADS!A729)","v":{"$error":"#REF!"}},{"$f":"IF(ISBLANK(LOADS!B729),\"\",LOADS!B729)","v":""},{"$f":"IF(LOADS!$AC729=\"BUS\",IF(LOADS!$AE729=C$1,1,0),0)","v":0},{"$f":"IF(LOADS!$AC729=\"BUS\",IF(LOADS!$AE729=D$1,1,0),0)","v":0},{"$f":"IF(LOADS!$AC729=\"BUS\",IF(LOADS!$AE729=E$1,1,0),0)","v":0},{"$f":"IF(LOADS!$AC729=\"BUS\",IF(LOADS!$AE729=F$1,1,0),0)","v":0},{"$f":"IF(LOADS!$AC729=\"BUS\",IF(LOADS!$AE729=G$1,1,0),0)","v":0},{"$f":"IF(LOADS!$AC729=\"BUS\",IF(LOADS!$AE729=H$1,1,0),0)","v":0},{"$f":"IF(LOADS!$AC729=\"BUS\",IF(LOADS!$AE729=I$1,1,0),0)","v":0},0,{"$f":"LOADS!AM729","v":0}]
[{"$f":"IF(ISBLANK(LOADS!A730),\"\",LOADS!A730)","v":{"$error":"#REF!"}},{"$f":"IF(ISBLANK(LOADS!B730),\"\",LOADS!B730)","v":""},{"$f":"IF(LOADS!$AC730=\"BUS\",IF(LOADS!$AE730=C$1,1,0),0)","v":0},{"$f":"IF(LOADS!$AC730=\"BUS\",IF(LOADS!$AE730=D$1,1,0),0)","v":0},{"$f":"IF(LOADS!$AC730=\"BUS\",IF(LOADS!$AE730=E$1,1,0),0)","v":0},{"$f":"IF(LOADS!$AC730=\"BUS\",IF(LOADS!$AE730=F$1,1,0),0)","v":0},{"$f":"IF(LOADS!$AC730=\"BUS\",IF(LOADS!$AE730=G$1,1,0),0)","v":0},{"$f":"IF(LOADS!$AC730=\"BUS\",IF(LOADS!$AE730=H$1,1,0),0)","v":0},{"$f":"IF(LOADS!$AC730=\"BUS\",IF(LOADS!$AE730=I$1,1,0),0)","v":0},0,{"$f":"LOADS!AM730","v":0}]
[{"$f":"IF(ISBLANK(LOADS!A731),\"\",LOADS!A731)","v":{"$error":"#REF!"}},{"$f":"IF(ISBLANK(LOADS!B731),\"\",LOADS!B731)","v":""},{"$f":"IF(LOADS!$AC731=\"BUS\",IF(LOADS!$AE731=C$1,1,0),0)","v":0},{"$f":"IF(LOADS!$AC731=\"BUS\",IF(LOADS!$AE731=D$1,1,0),0)","v":0},{"$f":"IF(LOADS!$AC731=\"BUS\",IF(LOADS!$AE731=E$1,1,0),0)","v":0},{"$f":"IF(LOADS!$AC731=\"BUS\",IF(LOADS!$AE731=F$1,1,0),0)","v":0},{"$f":"IF(LOADS!$AC731=\"BUS\",IF(LOADS!$AE731=G$1,1,0),0)","v":0},{"$f":"IF(LOADS!$AC731=\"BUS\",IF(LOADS!$AE731=H$1,1,0),0)","v":0},{"$f":"IF(LOADS!$AC731=\"BUS\",IF(LOADS!$AE731=I$1,1,0),0)","v":0},0,{"$f":"LOADS!AM731","v":0}]
[{"$f":"IF(ISBLANK(LOADS!A732),\"\",LOADS!A732)","v":{"$error":"#REF!"}},{"$f":"IF(ISBLANK(LOADS!B732),\"\",LOADS!B732)","v":""},{"$f":"IF(LOADS!$AC732=\"BUS\",IF(LOADS!$AE732=C$1,1,0),0)","v":0},{"$f":"IF(LOADS!$AC732=\"BUS\",IF(LOADS!$AE732=D$1,1,0),0)","v":0},{"$f":"IF(LOADS!$AC732=\"BUS\",IF(LOADS!$AE732=E$1,1,0),0)","v":0},{"$f":"IF(LOADS!$AC732=\"BUS\",IF(LOADS!$AE732=F$1,1,0),0)","v":0},{"$f":"IF(LOADS!$AC732=\"BUS\",IF(LOADS!$AE732=G$1,1,0),0)","v":0},{"$f":"IF(LOADS!$AC732=\"BUS\",IF(LOADS!$AE732=H$1,1,0),0)","v":0},{"$f":"IF(LOADS!$AC732=\"BUS\",IF(LOADS!$AE732=I$1,1,0),0)","v":0},0,{"$f":"LOADS!AM732","v":0}]
[{"$f":"IF(ISBLANK(LOADS!A733),\"\",LOADS!A733)","v":{"$error":"#REF!"}},{"$f":"IF(ISBLANK(LOADS!B733),\"\",LOADS!B733)","v":""},{"$f":"IF(LOADS!$AC733=\"BUS\",IF(LOADS!$AE733=C$1,1,0),0)","v":0},{"$f":"IF(LOADS!$AC733=\"BUS\",IF(LOADS!$AE733=D$1,1,0),0)","v":0},{"$f":"IF(LOADS!$AC733=\"BUS\",IF(LOADS!$AE733=E$1,1,0),0)","v":0},{"$f":"IF(LOADS!$AC733=\"BUS\",IF(LOADS!$AE733=F$1,1,0),0)","v":0},{"$f":"IF(LOADS!$AC733=\"BUS\",IF(LOADS!$AE733=G$1,1,0),0)","v":0},{"$f":"IF(LOADS!$AC733=\"BUS\",IF(LOADS!$AE733=H$1,1,0),0)","v":0},{"$f":"IF(LOADS!$AC733=\"BUS\",IF(LOADS!$AE733=I$1,1,0),0)","v":0},0,{"$f":"LOADS!AM733","v":0}]
[{"$f":"IF(ISBLANK(LOADS!A734),\"\",LOADS!A734)","v":{"$error":"#REF!"}},{"$f":"IF(ISBLANK(LOADS!B734),\"\",LOADS!B734)","v":""},{"$f":"IF(LOADS!$AC734=\"BUS\",IF(LOADS!$AE734=C$1,1,0),0)","v":0},{"$f":"IF(LOADS!$AC734=\"BUS\",IF(LOADS!$AE734=D$1,1,0),0)","v":0},{"$f":"IF(LOADS!$AC734=\"BUS\",IF(LOADS!$AE734=E$1,1,0),0)","v":0},{"$f":"IF(LOADS!$AC734=\"BUS\",IF(LOADS!$AE734=F$1,1,0),0)","v":0},{"$f":"IF(LOADS!$AC734=\"BUS\",IF(LOADS!$AE734=G$1,1,0),0)","v":0},{"$f":"IF(LOADS!$AC734=\"BUS\",IF(LOADS!$AE734=H$1,1,0),0)","v":0},{"$f":"IF(LOADS!$AC734=\"BUS\",IF(LOADS!$AE734=I$1,1,0),0)","v":0},0,{"$f":"LOADS!AM734","v":0}]
[{"$f":"IF(ISBLANK(LOADS!A735),\"\",LOADS!A735)","v":{"$error":"#REF!"}},{"$f":"IF(ISBLANK(LOADS!B735),\"\",LOADS!B735)","v":""},{"$f":"IF(LOADS!$AC735=\"BUS\",IF(LOADS!$AE735=C$1,1,0),0)","v":0},{"$f":"IF(LOADS!$AC735=\"BUS\",IF(LOADS!$AE735=D$1,1,0),0)","v":0},{"$f":"IF(LOADS!$AC735=\"BUS\",IF(LOADS!$AE735=E$1,1,0),0)","v":0},{"$f":"IF(LOADS!$AC735=\"BUS\",IF(LOADS!$AE735=F$1,1,0),0)","v":0},{"$f":"IF(LOADS!$AC735=\"BUS\",IF(LOADS!$AE735=G$1,1,0),0)","v":0},{"$f":"IF(LOADS!$AC735=\"BUS\",IF(LOADS!$AE735=H$1,1,0),0)","v":0},{"$f":"IF(LOADS!$AC735=\"BUS\",IF(LOADS!$AE735=I$1,1,0),0)","v":0},0,{"$f":"LOADS!AM735","v":0}]
[{"$f":"IF(ISBLANK(LOADS!A736),\"\",LOADS!A736)","v":{"$error":"#REF!"}},{"$f":"IF(ISBLANK(LOADS!B736),\"\",LOADS!B736)","v":""},{"$f":"IF(LOADS!$AC736=\"BUS\",IF(LOADS!$AE736=C$1,1,0),0)","v":0},{"$f":"IF(LOADS!$AC736=\"BUS\",IF(LOADS!$AE736=D$1,1,0),0)","v":0},{"$f":"IF(LOADS!$AC736=\"BUS\",IF(LOADS!$AE736=E$1,1,0),0)","v":0},{"$f":"IF(LOADS!$AC736=\"BUS\",IF(LOADS!$AE736=F$1,1,0),0)","v":0},{"$f":"IF(LOADS!$AC736=\"BUS\",IF(LOADS!$AE736=G$1,1,0),0)","v":0},{"$f":"IF(LOADS!$AC736=\"BUS\",IF(LOADS!$AE736=H$1,1,0),0)","v":0},{"$f":"IF(LOADS!$AC736=\"BUS\",IF(LOADS!$AE736=I$1,1,0),0)","v":0},0,{"$f":"LOADS!AM736","v":0}]
[{"$f":"IF(ISBLANK(LOADS!A737),\"\",LOADS!A737)","v":{"$error":"#REF!"}},{"$f":"IF(ISBLANK(LOADS!B737),\"\",LOADS!B737)","v":""},{"$f":"IF(LOADS!$AC737=\"BUS\",IF(LOADS!$AE737=C$1,1,0),0)","v":0},{"$f":"IF(LOADS!$AC737=\"BUS\",IF(LOADS!$AE737=D$1,1,0),0)","v":0},{"$f":"IF(LOADS!$AC737=\"BUS\",IF(LOADS!$AE737=E$1,1,0),0)","v":0},{"$f":"IF(LOADS!$AC737=\"BUS\",IF(LOADS!$AE737=F$1,1,0),0)","v":0},{"$f":"IF(LOADS!$AC737=\"BUS\",IF(LOADS!$AE737=G$1,1,0),0)","v":0},{"$f":"IF(LOADS!$AC737=\"BUS\",IF(LOADS!$AE737=H$1,1,0),0)","v":0},{"$f":"IF(LOADS!$AC737=\"BUS\",IF(LOADS!$AE737=I$1,1,0),0)","v":0},0,{"$f":"LOADS!AM737","v":0}]
[{"$f":"IF(ISBLANK(LOADS!A738),\"\",LOADS!A738)","v":{"$error":"#REF!"}},{"$f":"IF(ISBLANK(LOADS!B738),\"\",LOADS!B738)","v":""},{"$f":"IF(LOADS!$AC738=\"BUS\",IF(LOADS!$AE738=C$1,1,0),0)","v":0},{"$f":"IF(LOADS!$AC738=\"BUS\",IF(LOADS!$AE738=D$1,1,0),0)","v":0},{"$f":"IF(LOADS!$AC738=\"BUS\",IF(LOADS!$AE738=E$1,1,0),0)","v":0},{"$f":"IF(LOADS!$AC738=\"BUS\",IF(LOADS!$AE738=F$1,1,0),0)","v":0},{"$f":"IF(LOADS!$AC738=\"BUS\",IF(LOADS!$AE738=G$1,1,0),0)","v":0},{"$f":"IF(LOADS!$AC738=\"BUS\",IF(LOADS!$AE738=H$1,1,0),0)","v":0},{"$f":"IF(LOADS!$AC738=\"BUS\",IF(LOADS!$AE738=I$1,1,0),0)","v":0},0,{"$f":"LOADS!AM738","v":0}]
[{"$f":"IF(ISBLANK(LOADS!A739),\"\",LOADS!A739)","v":{"$error":"#REF!"}},{"$f":"IF(ISBLANK(LOADS!B739),\"\",LOADS!B739)","v":""},{"$f":"IF(LOADS!$AC739=\"BUS\",IF(LOADS!$AE739=C$1,1,0),0)","v":0},{"$f":"IF(LOADS!$AC739=\"BUS\",IF(LOADS!$AE739=D$1,1,0),0)","v":0},{"$f":"IF(LOADS!$AC739=\"BUS\",IF(LOADS!$AE739=E$1,1,0),0)","v":0},{"$f":"IF(LOADS!$AC739=\"BUS\",IF(LOADS!$AE739=F$1,1,0),0)","v":0},{"$f":"IF(LOADS!$AC739=\"BUS\",IF(LOADS!$AE739=G$1,1,0),0)","v":0},{"$f":"IF(LOADS!$AC739=\"BUS\",IF(LOADS!$AE739=H$1,1,0),0)","v":0},{"$f":"IF(LOADS!$AC739=\"BUS\",IF(LOADS!$AE739=I$1,1,0),0)","v":0},0,{"$f":"LOADS!AM739","v":0}]
[{"$f":"IF(ISBLANK(LOADS!A740),\"\",LOADS!A740)","v":{"$error":"#REF!"}},{"$f":"IF(ISBLANK(LOADS!B740),\"\",LOADS!B740)","v":""},{"$f":"IF(LOADS!$AC740=\"BUS\",IF(LOADS!$AE740=C$1,1,0),0)","v":0},{"$f":"IF(LOADS!$AC740=\"BUS\",IF(LOADS!$AE740=D$1,1,0),0)","v":0},{"$f":"IF(LOADS!$AC740=\"BUS\",IF(LOADS!$AE740=E$1,1,0),0)","v":0},{"$f":"IF(LOADS!$AC740=\"BUS\",IF(LOADS!$AE740=F$1,1,0),0)","v":0},{"$f":"IF(LOADS!$AC740=\"BUS\",IF(LOADS!$AE740=G$1,1,0),0)","v":0},{"$f":"IF(LOADS!$AC740=\"BUS\",IF(LOADS!$AE740=H$1,1,0),0)","v":0},{"$f":"IF(LOADS!$AC740=\"BUS\",IF(LOADS!$AE740=I$1,1,0),0)","v":0},0,{"$f":"LOADS!AM740","v":0}]
[{"$f":"IF(ISBLANK(LOADS!A741),\"\",LOADS!A741)","v":{"$error":"#REF!"}},{"$f":"IF(ISBLANK(LOADS!B741),\"\",LOADS!B741)","v":""},{"$f":"IF(LOADS!$AC741=\"BUS\",IF(LOADS!$AE741=C$1,1,0),0)","v":0},{"$f":"IF(LOADS!$AC741=\"BUS\",IF(LOADS!$AE741=D$1,1,0),0)","v":0},{"$f":"IF(LOADS!$AC741=\"BUS\",IF(LOADS!$AE741=E$1,1,0),0)","v":0},{"$f":"IF(LOADS!$AC741=\"BUS\",IF(LOADS!$AE741=F$1,1,0),0)","v":0},{"$f":"IF(LOADS!$AC741=\"BUS\",IF(LOADS!$AE741=G$1,1,0),0)","v":0},{"$f":"IF(LOADS!$AC741=\"BUS\",IF(LOADS!$AE741=H$1,1,0),0)","v":0},{"$f":"IF(LOADS!$AC741=\"BUS\",IF(LOADS!$AE741=I$1,1,0),0)","v":0},0,{"$f":"LOADS!AM741","v":0}]
[{"$f":"IF(ISBLANK(LOADS!A742),\"\",LOADS!A742)","v":{"$error":"#REF!"}},{"$f":"IF(ISBLANK(LOADS!B742),\"\",LOADS!B742)","v":""},{"$f":"IF(LOADS!$AC742=\"BUS\",IF(LOADS!$AE742=C$1,1,0),0)","v":0},{"$f":"IF(LOADS!$AC742=\"BUS\",IF(LOADS!$AE742=D$1,1,0),0)","v":0},{"$f":"IF(LOADS!$AC742=\"BUS\",IF(LOADS!$AE742=E$1,1,0),0)","v":0},{"$f":"IF(LOADS!$AC742=\"BUS\",IF(LOADS!$AE742=F$1,1,0),0)","v":0},{"$f":"IF(LOADS!$AC742=\"BUS\",IF(LOADS!$AE742=G$1,1,0),0)","v":0},{"$f":"IF(LOADS!$AC742=\"BUS\",IF(LOADS!$AE742=H$1,1,0),0)","v":0},{"$f":"IF(LOADS!$AC742=\"BUS\",IF(LOADS!$AE742=I$1,1,0),0)","v":0},0,{"$f":"LOADS!AM742","v":0}]
[{"$f":"IF(ISBLANK(LOADS!A743),\"\",LOADS!A743)","v":{"$error":"#REF!"}},{"$f":"IF(ISBLANK(LOADS!B743),\"\",LOADS!B743)","v":""},{"$f":"IF(LOADS!$AC743=\"BUS\",IF(LOADS!$AE743=C$1,1,0),0)","v":0},{"$f":"IF(LOADS!$AC743=\"BUS\",IF(LOADS!$AE743=D$1,1,0),0)","v":0},{"$f":"IF(LOADS!$AC743=\"BUS\",IF(LOADS!$AE743=E$1,1,0),0)","v":0},{"$f":"IF(LOADS!$AC743=\"BUS\",IF(LOADS!$AE743=F$1,1,0),0)","v":0},{"$f":"IF(LOADS!$AC743=\"BUS\",IF(LOADS!$AE743=G$1,1,0),0)","v":0},{"$f":"IF(LOADS!$AC743=\"BUS\",IF(LOADS!$AE743=H$1,1,0),0)","v":0},{"$f":"IF(LOADS!$AC743=\"BUS\",IF(LOADS!$AE743=I$1,1,0),0)","v":0},0,{"$f":"LOADS!AM743","v":0}]
[{"$f":"IF(ISBLANK(LOADS!A744),\"\",LOADS!A744)","v":{"$error":"#REF!"}},{"$f":"IF(ISBLANK(LOADS!B744),\"\",LOADS!B744)","v":""},{"$f":"IF(LOADS!$AC744=\"BUS\",IF(LOADS!$AE744=C$1,1,0),0)","v":0},{"$f":"IF(LOADS!$AC744=\"BUS\",IF(LOADS!$AE744=D$1,1,0),0)","v":0},{"$f":"IF(LOADS!$AC744=\"BUS\",IF(LOADS!$AE744=E$1,1,0),0)","v":0},{"$f":"IF(LOADS!$AC744=\"BUS\",IF(LOADS!$AE744=F$1,1,0),0)","v":0},{"$f":"IF(LOADS!$AC744=\"BUS\",IF(LOADS!$AE744=G$1,1,0),0)","v":0},{"$f":"IF(LOADS!$AC744=\"BUS\",IF(LOADS!$AE744=H$1,1,0),0)","v":0},{"$f":"IF(LOADS!$AC744=\"BUS\",IF(LOADS!$AE744=I$1,1,0),0)","v":0},0,{"$f":"LOADS!AM744","v":0}]
[{"$f":"IF(ISBLANK(LOADS!A745),\"\",LOADS!A745)","v":{"$error":"#REF!"}},{"$f":"IF(ISBLANK(LOADS!B745),\"\",LOADS!B745)","v":""},{"$f":"IF(LOADS!$AC745=\"BUS\",IF(LOADS!$AE745=C$1,1,0),0)","v":0},{"$f":"IF(LOADS!$AC745=\"BUS\",IF(LOADS!$AE745=D$1,1,0),0)","v":0},{"$f":"IF(LOADS!$AC745=\"BUS\",IF(LOADS!$AE745=E$1,1,0),0)","v":0},{"$f":"IF(LOADS!$AC745=\"BUS\",IF(LOADS!$AE745=F$1,1,0),0)","v":0},{"$f":"IF(LOADS!$AC745=\"BUS\",IF(LOADS!$AE745=G$1,1,0),0)","v":0},{"$f":"IF(LOADS!$AC745=\"BUS\",IF(LOADS!$AE745=H$1,1,0),0)","v":0},{"$f":"IF(LOADS!$AC745=\"BUS\",IF(LOADS!$AE745=I$1,1,0),0)","v":0},0,{"$f":"LOADS!AM745","v":0}]
[{"$f":"IF(ISBLANK(LOADS!A746),\"\",LOADS!A746)","v":{"$error":"#REF!"}},{"$f":"IF(ISBLANK(LOADS!B746),\"\",LOADS!B746)","v":""},{"$f":"IF(LOADS!$AC746=\"BUS\",IF(LOADS!$AE746=C$1,1,0),0)","v":0},{"$f":"IF(LOADS!$AC746=\"BUS\",IF(LOADS!$AE746=D$1,1,0),0)","v":0},{"$f":"IF(LOADS!$AC746=\"BUS\",IF(LOADS!$AE746=E$1,1,0),0)","v":0},{"$f":"IF(LOADS!$AC746=\"BUS\",IF(LOADS!$AE746=F$1,1,0),0)","v":0},{"$f":"IF(LOADS!$AC746=\"BUS\",IF(LOADS!$AE746=G$1,1,0),0)","v":0},{"$f":"IF(LOADS!$AC746=\"BUS\",IF(LOADS!$AE746=H$1,1,0),0)","v":0},{"$f":"IF(LOADS!$AC746=\"BUS\",IF(LOADS!$AE746=I$1,1,0),0)","v":0},0,{"$f":"LOADS!AM746","v":0}]
[{"$f":"IF(ISBLANK(LOADS!A747),\"\",LOADS!A747)","v":{"$error":"#REF!"}},{"$f":"IF(ISBLANK(LOADS!B747),\"\",LOADS!B747)","v":""},{"$f":"IF(LOADS!$AC747=\"BUS\",IF(LOADS!$AE747=C$1,1,0),0)","v":0},{"$f":"IF(LOADS!$AC747=\"BUS\",IF(LOADS!$AE747=D$1,1,0),0)","v":0},{"$f":"IF(LOADS!$AC747=\"BUS\",IF(LOADS!$AE747=E$1,1,0),0)","v":0},{"$f":"IF(LOADS!$AC747=\"BUS\",IF(LOADS!$AE747=F$1,1,0),0)","v":0},{"$f":"IF(LOADS!$AC747=\"BUS\",IF(LOADS!$AE747=G$1,1,0),0)","v":0},{"$f":"IF(LOADS!$AC747=\"BUS\",IF(LOADS!$AE747=H$1,1,0),0)","v":0},{"$f":"IF(LOADS!$AC747=\"BUS\",IF(LOADS!$AE747=I$1,1,0),0)","v":0},0,{"$f":"LOADS!AM747","v":0}]
[{"$f":"IF(ISBLANK(LOADS!A748),\"\",LOADS!A748)","v":{"$error":"#REF!"}},{"$f":"IF(ISBLANK(LOADS!B748),\"\",LOADS!B748)","v":""},{"$f":"IF(LOADS!$AC748=\"BUS\",IF(LOADS!$AE748=C$1,1,0),0)","v":0},{"$f":"IF(LOADS!$AC748=\"BUS\",IF(LOADS!$AE748=D$1,1,0),0)","v":0},{"$f":"IF(LOADS!$AC748=\"BUS\",IF(LOADS!$AE748=E$1,1,0),0)","v":0},{"$f":"IF(LOADS!$AC748=\"BUS\",IF(LOADS!$AE748=F$1,1,0),0)","v":0},{"$f":"IF(LOADS!$AC748=\"BUS\",IF(LOADS!$AE748=G$1,1,0),0)","v":0},{"$f":"IF(LOADS!$AC748=\"BUS\",IF(LOADS!$AE748=H$1,1,0),0)","v":0},{"$f":"IF(LOADS!$AC748=\"BUS\",IF(LOADS!$AE748=I$1,1,0),0)","v":0},0,{"$f":"LOADS!AM748","v":0}]
[{"$f":"IF(ISBLANK(LOADS!A749),\"\",LOADS!A749)","v":{"$error":"#REF!"}},{"$f":"IF(ISBLANK(LOADS!B749),\"\",LOADS!B749)","v":""},{"$f":"IF(LOADS!$AC749=\"BUS\",IF(LOADS!$AE749=C$1,1,0),0)","v":0},{"$f":"IF(LOADS!$AC749=\"BUS\",IF(LOADS!$AE749=D$1,1,0),0)","v":0},{"$f":"IF(LOADS!$AC749=\"BUS\",IF(LOADS!$AE749=E$1,1,0),0)","v":0},{"$f":"IF(LOADS!$AC749=\"BUS\",IF(LOADS!$AE749=F$1,1,0),0)","v":0},{"$f":"IF(LOADS!$AC749=\"BUS\",IF(LOADS!$AE749=G$1,1,0),0)","v":0},{"$f":"IF(LOADS!$AC749=\"BUS\",IF(LOADS!$AE749=H$1,1,0),0)","v":0},{"$f":"IF(LOADS!$AC749=\"BUS\",IF(LOADS!$AE749=I$1,1,0),0)","v":0},0,{"$f":"LOADS!AM749","v":0}]
[{"$f":"IF(ISBLANK(LOADS!A750),\"\",LOADS!A750)","v":{"$error":"#REF!"}},{"$f":"IF(ISBLANK(LOADS!B750),\"\",LOADS!B750)","v":""},{"$f":"IF(LOADS!$AC750=\"BUS\",IF(LOADS!$AE750=C$1,1,0),0)","v":0},{"$f":"IF(LOADS!$AC750=\"BUS\",IF(LOADS!$AE750=D$1,1,0),0)","v":0},{"$f":"IF(LOADS!$AC750=\"BUS\",IF(LOADS!$AE750=E$1,1,0),0)","v":0},{"$f":"IF(LOADS!$AC750=\"BUS\",IF(LOADS!$AE750=F$1,1,0),0)","v":0},{"$f":"IF(LOADS!$AC750=\"BUS\",IF(LOADS!$AE750=G$1,1,0),0)","v":0},{"$f":"IF(LOADS!$AC750=\"BUS\",IF(LOADS!$AE750=H$1,1,0),0)","v":0},{"$f":"IF(LOADS!$AC750=\"BUS\",IF(LOADS!$AE750=I$1,1,0),0)","v":0},0,{"$f":"LOADS!AM750","v":0}]
[{"$f":"IF(ISBLANK(LOADS!A751),\"\",LOADS!A751)","v":{"$error":"#REF!"}},{"$f":"IF(ISBLANK(LOADS!B751),\"\",LOADS!B751)","v":""},{"$f":"IF(LOADS!$AC751=\"BUS\",IF(LOADS!$AE751=C$1,1,0),0)","v":0},{"$f":"IF(LOADS!$AC751=\"BUS\",IF(LOADS!$AE751=D$1,1,0),0)","v":0},{"$f":"IF(LOADS!$AC751=\"BUS\",IF(LOADS!$AE751=E$1,1,0),0)","v":0},{"$f":"IF(LOADS!$AC751=\"BUS\",IF(LOADS!$AE751=F$1,1,0),0)","v":0},{"$f":"IF(LOADS!$AC751=\"BUS\",IF(LOADS!$AE751=G$1,1,0),0)","v":0},{"$f":"IF(LOADS!$AC751=\"BUS\",IF(LOADS!$AE751=H$1,1,0),0)","v":0},{"$f":"IF(LOADS!$AC751=\"BUS\",IF(LOADS!$AE751=I$1,1,0),0)","v":0},0,{"$f":"LOADS!AM751","v":0}]
[{"$f":"IF(ISBLANK(LOADS!A752),\"\",LOADS!A752)","v":{"$error":"#REF!"}},{"$f":"IF(ISBLANK(LOADS!B752),\"\",LOADS!B752)","v":""},{"$f":"IF(LOADS!$AC752=\"BUS\",IF(LOADS!$AE752=C$1,1,0),0)","v":0},{"$f":"IF(LOADS!$AC752=\"BUS\",IF(LOADS!$AE752=D$1,1,0),0)","v":0},{"$f":"IF(LOADS!$AC752=\"BUS\",IF(LOADS!$AE752=E$1,1,0),0)","v":0},{"$f":"IF(LOADS!$AC752=\"BUS\",IF(LOADS!$AE752=F$1,1,0),0)","v":0},{"$f":"IF(LOADS!$AC752=\"BUS\",IF(LOADS!$AE752=G$1,1,0),0)","v":0},{"$f":"IF(LOADS!$AC752=\"BUS\",IF(LOADS!$AE752=H$1,1,0),0)","v":0},{"$f":"IF(LOADS!$AC752=\"BUS\",IF(LOADS!$AE752=I$1,1,0),0)","v":0},0,{"$f":"LOADS!AM752","v":0}]
[{"$f":"IF(ISBLANK(LOADS!A753),\"\",LOADS!A753)","v":{"$error":"#REF!"}},{"$f":"IF(ISBLANK(LOADS!B753),\"\",LOADS!B753)","v":""},{"$f":"IF(LOADS!$AC753=\"BUS\",IF(LOADS!$AE753=C$1,1,0),0)","v":0},{"$f":"IF(LOADS!$AC753=\"BUS\",IF(LOADS!$AE753=D$1,1,0),0)","v":0},{"$f":"IF(LOADS!$AC753=\"BUS\",IF(LOADS!$AE753=E$1,1,0),0)","v":0},{"$f":"IF(LOADS!$AC753=\"BUS\",IF(LOADS!$AE753=F$1,1,0),0)","v":0},{"$f":"IF(LOADS!$AC753=\"BUS\",IF(LOADS!$AE753=G$1,1,0),0)","v":0},{"$f":"IF(LOADS!$AC753=\"BUS\",IF(LOADS!$AE753=H$1,1,0),0)","v":0},{"$f":"IF(LOADS!$AC753=\"BUS\",IF(LOADS!$AE753=I$1,1,0),0)","v":0},0,{"$f":"LOADS!AM753","v":0}]
[{"$f":"IF(ISBLANK(LOADS!A754),\"\",LOADS!A754)","v":{"$error":"#REF!"}},{"$f":"IF(ISBLANK(LOADS!B754),\"\",LOADS!B754)","v":""},{"$f":"IF(LOADS!$AC754=\"BUS\",IF(LOADS!$AE754=C$1,1,0),0)","v":0},{"$f":"IF(LOADS!$AC754=\"BUS\",IF(LOADS!$AE754=D$1,1,0),0)","v":0},{"$f":"IF(LOADS!$AC754=\"BUS\",IF(LOADS!$AE754=E$1,1,0),0)","v":0},{"$f":"IF(LOADS!$AC754=\"BUS\",IF(LOADS!$AE754=F$1,1,0),0)","v":0},{"$f":"IF(LOADS!$AC754=\"BUS\",IF(LOADS!$AE754=G$1,1,0),0)","v":0},{"$f":"IF(LOADS!$AC754=\"BUS\",IF(LOADS!$AE754=H$1,1,0),0)","v":0},{"$f":"IF(LOADS!$AC754=\"BUS\",IF(LOADS!$AE754=I$1,1,0),0)","v":0},0,{"$f":"LOADS!AM754","v":0}]
[{"$f":"IF(ISBLANK(LOADS!A755),\"\",LOADS!A755)","v":{"$error":"#REF!"}},{"$f":"IF(ISBLANK(LOADS!B755),\"\",LOADS!B755)","v":""},{"$f":"IF(LOADS!$AC755=\"BUS\",IF(LOADS!$AE755=C$1,1,0),0)","v":0},{"$f":"IF(LOADS!$AC755=\"BUS\",IF(LOADS!$AE755=D$1,1,0),0)","v":0},{"$f":"IF(LOADS!$AC755=\"BUS\",IF(LOADS!$AE755=E$1,1,0),0)","v":0},{"$f":"IF(LOADS!$AC755=\"BUS\",IF(LOADS!$AE755=F$1,1,0),0)","v":0},{"$f":"IF(LOADS!$AC755=\"BUS\",IF(LOADS!$AE755=G$1,1,0),0)","v":0},{"$f":"IF(LOADS!$AC755=\"BUS\",IF(LOADS!$AE755=H$1,1,0),0)","v":0},{"$f":"IF(LOADS!$AC755=\"BUS\",IF(LOADS!$AE755=I$1,1,0),0)","v":0},0,{"$f":"LOADS!AM755","v":0}]
[{"$f":"IF(ISBLANK(LOADS!A756),\"\",LOADS!A756)","v":{"$error":"#REF!"}},{"$f":"IF(ISBLANK(LOADS!B756),\"\",LOADS!B756)","v":""},{"$f":"IF(LOADS!$AC756=\"BUS\",IF(LOADS!$AE756=C$1,1,0),0)","v":0},{"$f":"IF(LOADS!$AC756=\"BUS\",IF(LOADS!$AE756=D$1,1,0),0)","v":0},{"$f":"IF(LOADS!$AC756=\"BUS\",IF(LOADS!$AE756=E$1,1,0),0)","v":0},{"$f":"IF(LOADS!$AC756=\"BUS\",IF(LOADS!$AE756=F$1,1,0),0)","v":0},{"$f":"IF(LOADS!$AC756=\"BUS\",IF(LOADS!$AE756=G$1,1,0),0)","v":0},{"$f":"IF(LOADS!$AC756=\"BUS\",IF(LOADS!$AE756=H$1,1,0),0)","v":0},{"$f":"IF(LOADS!$AC756=\"BUS\",IF(LOADS!$AE756=I$1,1,0),0)","v":0},0,{"$f":"LOADS!AM756","v":0}]
[{"$f":"IF(ISBLANK(LOADS!A757),\"\",LOADS!A757)","v":{"$error":"#REF!"}},{"$f":"IF(ISBLANK(LOADS!B757),\"\",LOADS!B757)","v":""},{"$f":"IF(LOADS!$AC757=\"BUS\",IF(LOADS!$AE757=C$1,1,0),0)","v":0},{"$f":"IF(LOADS!$AC757=\"BUS\",IF(LOADS!$AE757=D$1,1,0),0)","v":0},{"$f":"IF(LOADS!$AC757=\"BUS\",IF(LOADS!$AE757=E$1,1,0),0)","v":0},{"$f":"IF(LOADS!$AC757=\"BUS\",IF(LOADS!$AE757=F$1,1,0),0)","v":0},{"$f":"IF(LOADS!$AC757=\"BUS\",IF(LOADS!$AE757=G$1,1,0),0)","v":0},{"$f":"IF(LOADS!$AC757=\"BUS\",IF(LOADS!$AE757=H$1,1,0),0)","v":0},{"$f":"IF(LOADS!$AC757=\"BUS\",IF(LOADS!$AE757=I$1,1,0),0)","v":0},0,{"$f":"LOADS!AM757","v":0}]
[{"$f":"IF(ISBLANK(LOADS!A758),\"\",LOADS!A758)","v":{"$error":"#REF!"}},{"$f":"IF(ISBLANK(LOADS!B758),\"\",LOADS!B758)","v":""},{"$f":"IF(LOADS!$AC758=\"BUS\",IF(LOADS!$AE758=C$1,1,0),0)","v":0},{"$f":"IF(LOADS!$AC758=\"BUS\",IF(LOADS!$AE758=D$1,1,0),0)","v":0},{"$f":"IF(LOADS!$AC758=\"BUS\",IF(LOADS!$AE758=E$1,1,0),0)","v":0},{"$f":"IF(LOADS!$AC758=\"BUS\",IF(LOADS!$AE758=F$1,1,0),0)","v":0},{"$f":"IF(LOADS!$AC758=\"BUS\",IF(LOADS!$AE758=G$1,1,0),0)","v":0},{"$f":"IF(LOADS!$AC758=\"BUS\",IF(LOADS!$AE758=H$1,1,0),0)","v":0},{"$f":"IF(LOADS!$AC758=\"BUS\",IF(LOADS!$AE758=I$1,1,0),0)","v":0},0,{"$f":"LOADS!AM758","v":0}]
[{"$f":"IF(ISBLANK(LOADS!A759),\"\",LOADS!A759)","v":{"$error":"#REF!"}},{"$f":"IF(ISBLANK(LOADS!B759),\"\",LOADS!B759)","v":""},{"$f":"IF(LOADS!$AC759=\"BUS\",IF(LOADS!$AE759=C$1,1,0),0)","v":0},{"$f":"IF(LOADS!$AC759=\"BUS\",IF(LOADS!$AE759=D$1,1,0),0)","v":0},{"$f":"IF(LOADS!$AC759=\"BUS\",IF(LOADS!$AE759=E$1,1,0),0)","v":0},{"$f":"IF(LOADS!$AC759=\"BUS\",IF(LOADS!$AE759=F$1,1,0),0)","v":0},{"$f":"IF(LOADS!$AC759=\"BUS\",IF(LOADS!$AE759=G$1,1,0),0)","v":0},{"$f":"IF(LOADS!$AC759=\"BUS\",IF(LOADS!$AE759=H$1,1,0),0)","v":0},{"$f":"IF(LOADS!$AC759=\"BUS\",IF(LOADS!$AE759=I$1,1,0),0)","v":0},0,{"$f":"LOADS!AM759","v":0}]
[{"$f":"IF(ISBLANK(LOADS!A760),\"\",LOADS!A760)","v":{"$error":"#REF!"}},{"$f":"IF(ISBLANK(LOADS!B760),\"\",LOADS!B760)","v":""},{"$f":"IF(LOADS!$AC760=\"BUS\",IF(LOADS!$AE760=C$1,1,0),0)","v":0},{"$f":"IF(LOADS!$AC760=\"BUS\",IF(LOADS!$AE760=D$1,1,0),0)","v":0},{"$f":"IF(LOADS!$AC760=\"BUS\",IF(LOADS!$AE760=E$1,1,0),0)","v":0},{"$f":"IF(LOADS!$AC760=\"BUS\",IF(LOADS!$AE760=F$1,1,0),0)","v":0},{"$f":"IF(LOADS!$AC760=\"BUS\",IF(LOADS!$AE760=G$1,1,0),0)","v":0},{"$f":"IF(LOADS!$AC760=\"BUS\",IF(LOADS!$AE760=H$1,1,0),0)","v":0},{"$f":"IF(LOADS!$AC760=\"BUS\",IF(LOADS!$AE760=I$1,1,0),0)","v":0},0,{"$f":"LOADS!AM760","v":0}]
[{"$f":"IF(ISBLANK(LOADS!A761),\"\",LOADS!A761)","v":{"$error":"#REF!"}},{"$f":"IF(ISBLANK(LOADS!B761),\"\",LOADS!B761)","v":""},{"$f":"IF(LOADS!$AC761=\"BUS\",IF(LOADS!$AE761=C$1,1,0),0)","v":0},{"$f":"IF(LOADS!$AC761=\"BUS\",IF(LOADS!$AE761=D$1,1,0),0)","v":0},{"$f":"IF(LOADS!$AC761=\"BUS\",IF(LOADS!$AE761=E$1,1,0),0)","v":0},{"$f":"IF(LOADS!$AC761=\"BUS\",IF(LOADS!$AE761=F$1,1,0),0)","v":0},{"$f":"IF(LOADS!$AC761=\"BUS\",IF(LOADS!$AE761=G$1,1,0),0)","v":0},{"$f":"IF(LOADS!$AC761=\"BUS\",IF(LOADS!$AE761=H$1,1,0),0)","v":0},{"$f":"IF(LOADS!$AC761=\"BUS\",IF(LOADS!$AE761=I$1,1,0),0)","v":0},0,{"$f":"LOADS!AM761","v":0}]
[{"$f":"IF(ISBLANK(LOADS!A762),\"\",LOADS!A762)","v":{"$error":"#REF!"}},{"$f":"IF(ISBLANK(LOADS!B762),\"\",LOADS!B762)","v":""},{"$f":"IF(LOADS!$AC762=\"BUS\",IF(LOADS!$AE762=C$1,1,0),0)","v":0},{"$f":"IF(LOADS!$AC762=\"BUS\",IF(LOADS!$AE762=D$1,1,0),0)","v":0},{"$f":"IF(LOADS!$AC762=\"BUS\",IF(LOADS!$AE762=E$1,1,0),0)","v":0},{"$f":"IF(LOADS!$AC762=\"BUS\",IF(LOADS!$AE762=F$1,1,0),0)","v":0},{"$f":"IF(LOADS!$AC762=\"BUS\",IF(LOADS!$AE762=G$1,1,0),0)","v":0},{"$f":"IF(LOADS!$AC762=\"BUS\",IF(LOADS!$AE762=H$1,1,0),0)","v":0},{"$f":"IF(LOADS!$AC762=\"BUS\",IF(LOADS!$AE762=I$1,1,0),0)","v":0},0,{"$f":"LOADS!AM762","v":0}]
[{"$f":"IF(ISBLANK(LOADS!A763),\"\",LOADS!A763)","v":{"$error":"#REF!"}},{"$f":"IF(ISBLANK(LOADS!B763),\"\",LOADS!B763)","v":""},{"$f":"IF(LOADS!$AC763=\"BUS\",IF(LOADS!$AE763=C$1,1,0),0)","v":0},{"$f":"IF(LOADS!$AC763=\"BUS\",IF(LOADS!$AE763=D$1,1,0),0)","v":0},{"$f":"IF(LOADS!$AC763=\"BUS\",IF(LOADS!$AE763=E$1,1,0),0)","v":0},{"$f":"IF(LOADS!$AC763=\"BUS\",IF(LOADS!$AE763=F$1,1,0),0)","v":0},{"$f":"IF(LOADS!$AC763=\"BUS\",IF(LOADS!$AE763=G$1,1,0),0)","v":0},{"$f":"IF(LOADS!$AC763=\"BUS\",IF(LOADS!$AE763=H$1,1,0),0)","v":0},{"$f":"IF(LOADS!$AC763=\"BUS\",IF(LOADS!$AE763=I$1,1,0),0)","v":0},0,{"$f":"LOADS!AM763","v":0}]
[{"$f":"IF(ISBLANK(LOADS!A764),\"\",LOADS!A764)","v":{"$error":"#REF!"}},{"$f":"IF(ISBLANK(LOADS!B764),\"\",LOADS!B764)","v":""},{"$f":"IF(LOADS!$AC764=\"BUS\",IF(LOADS!$AE764=C$1,1,0),0)","v":0},{"$f":"IF(LOADS!$AC764=\"BUS\",IF(LOADS!$AE764=D$1,1,0),0)","v":0},{"$f":"IF(LOADS!$AC764=\"BUS\",IF(LOADS!$AE764=E$1,1,0),0)","v":0},{"$f":"IF(LOADS!$AC764=\"BUS\",IF(LOADS!$AE764=F$1,1,0),0)","v":0},{"$f":"IF(LOADS!$AC764=\"BUS\",IF(LOADS!$AE764=G$1,1,0),0)","v":0},{"$f":"IF(LOADS!$AC764=\"BUS\",IF(LOADS!$AE764=H$1,1,0),0)","v":0},{"$f":"IF(LOADS!$AC764=\"BUS\",IF(LOADS!$AE764=I$1,1,0),0)","v":0},0,{"$f":"LOADS!AM764","v":0}]
[{"$f":"IF(ISBLANK(LOADS!A765),\"\",LOADS!A765)","v":{"$error":"#REF!"}},{"$f":"IF(ISBLANK(LOADS!B765),\"\",LOADS!B765)","v":""},{"$f":"IF(LOADS!$AC765=\"BUS\",IF(LOADS!$AE765=C$1,1,0),0)","v":0},{"$f":"IF(LOADS!$AC765=\"BUS\",IF(LOADS!$AE765=D$1,1,0),0)","v":0},{"$f":"IF(LOADS!$AC765=\"BUS\",IF(LOADS!$AE765=E$1,1,0),0)","v":0},{"$f":"IF(LOADS!$AC765=\"BUS\",IF(LOADS!$AE765=F$1,1,0),0)","v":0},{"$f":"IF(LOADS!$AC765=\"BUS\",IF(LOADS!$AE765=G$1,1,0),0)","v":0},{"$f":"IF(LOADS!$AC765=\"BUS\",IF(LOADS!$AE765=H$1,1,0),0)","v":0},{"$f":"IF(LOADS!$AC765=\"BUS\",IF(LOADS!$AE765=I$1,1,0),0)","v":0},0,{"$f":"LOADS!AM765","v":0}]
[{"$f":"IF(ISBLANK(LOADS!A766),\"\",LOADS!A766)","v":{"$error":"#REF!"}},{"$f":"IF(ISBLANK(LOADS!B766),\"\",LOADS!B766)","v":""},{"$f":"IF(LOADS!$AC766=\"BUS\",IF(LOADS!$AE766=C$1,1,0),0)","v":0},{"$f":"IF(LOADS!$AC766=\"BUS\",IF(LOADS!$AE766=D$1,1,0),0)","v":0},{"$f":"IF(LOADS!$AC766=\"BUS\",IF(LOADS!$AE766=E$1,1,0),0)","v":0},{"$f":"IF(LOADS!$AC766=\"BUS\",IF(LOADS!$AE766=F$1,1,0),0)","v":0},{"$f":"IF(LOADS!$AC766=\"BUS\",IF(LOADS!$AE766=G$1,1,0),0)","v":0},{"$f":"IF(LOADS!$AC766=\"BUS\",IF(LOADS!$AE766=H$1,1,0),0)","v":0},{"$f":"IF(LOADS!$AC766=\"BUS\",IF(LOADS!$AE766=I$1,1,0),0)","v":0},0,{"$f":"LOADS!AM766","v":0}]
[{"$f":"IF(ISBLANK(LOADS!A767),\"\",LOADS!A767)","v":{"$error":"#REF!"}},{"$f":"IF(ISBLANK(LOADS!B767),\"\",LOADS!B767)","v":""},{"$f":"IF(LOADS!$AC767=\"BUS\",IF(LOADS!$AE767=C$1,1,0),0)","v":0},{"$f":"IF(LOADS!$AC767=\"BUS\",IF(LOADS!$AE767=D$1,1,0),0)","v":0},{"$f":"IF(LOADS!$AC767=\"BUS\",IF(LOADS!$AE767=E$1,1,0),0)","v":0},{"$f":"IF(LOADS!$AC767=\"BUS\",IF(LOADS!$AE767=F$1,1,0),0)","v":0},{"$f":"IF(LOADS!$AC767=\"BUS\",IF(LOADS!$AE767=G$1,1,0),0)","v":0},{"$f":"IF(LOADS!$AC767=\"BUS\",IF(LOADS!$AE767=H$1,1,0),0)","v":0},{"$f":"IF(LOADS!$AC767=\"BUS\",IF(LOADS!$AE767=I$1,1,0),0)","v":0},0,{"$f":"LOADS!AM767","v":0}]
[{"$f":"IF(ISBLANK(LOADS!A768),\"\",LOADS!A768)","v":{"$error":"#REF!"}},{"$f":"IF(ISBLANK(LOADS!B768),\"\",LOADS!B768)","v":""},{"$f":"IF(LOADS!$AC768=\"BUS\",IF(LOADS!$AE768=C$1,1,0),0)","v":0},{"$f":"IF(LOADS!$AC768=\"BUS\",IF(LOADS!$AE768=D$1,1,0),0)","v":0},{"$f":"IF(LOADS!$AC768=\"BUS\",IF(LOADS!$AE768=E$1,1,0),0)","v":0},{"$f":"IF(LOADS!$AC768=\"BUS\",IF(LOADS!$AE768=F$1,1,0),0)","v":0},{"$f":"IF(LOADS!$AC768=\"BUS\",IF(LOADS!$AE768=G$1,1,0),0)","v":0},{"$f":"IF(LOADS!$AC768=\"BUS\",IF(LOADS!$AE768=H$1,1,0),0)","v":0},{"$f":"IF(LOADS!$AC768=\"BUS\",IF(LOADS!$AE768=I$1,1,0),0)","v":0},0,{"$f":"LOADS!AM768","v":0}]
[{"$f":"IF(ISBLANK(LOADS!A769),\"\",LOADS!A769)","v":{"$error":"#REF!"}},{"$f":"IF(ISBLANK(LOADS!B769),\"\",LOADS!B769)","v":""},{"$f":"IF(LOADS!$AC769=\"BUS\",IF(LOADS!$AE769=C$1,1,0),0)","v":0},{"$f":"IF(LOADS!$AC769=\"BUS\",IF(LOADS!$AE769=D$1,1,0),0)","v":0},{"$f":"IF(LOADS!$AC769=\"BUS\",IF(LOADS!$AE769=E$1,1,0),0)","v":0},{"$f":"IF(LOADS!$AC769=\"BUS\",IF(LOADS!$AE769=F$1,1,0),0)","v":0},{"$f":"IF(LOADS!$AC769=\"BUS\",IF(LOADS!$AE769=G$1,1,0),0)","v":0},{"$f":"IF(LOADS!$AC769=\"BUS\",IF(LOADS!$AE769=H$1,1,0),0)","v":0},{"$f":"IF(LOADS!$AC769=\"BUS\",IF(LOADS!$AE769=I$1,1,0),0)","v":0},0,{"$f":"LOADS!AM769","v":0}]
[{"$f":"IF(ISBLANK(LOADS!A770),\"\",LOADS!A770)","v":{"$error":"#REF!"}},{"$f":"IF(ISBLANK(LOADS!B770),\"\",LOADS!B770)","v":""},{"$f":"IF(LOADS!$AC770=\"BUS\",IF(LOADS!$AE770=C$1,1,0),0)","v":0},{"$f":"IF(LOADS!$AC770=\"BUS\",IF(LOADS!$AE770=D$1,1,0),0)","v":0},{"$f":"IF(LOADS!$AC770=\"BUS\",IF(LOADS!$AE770=E$1,1,0),0)","v":0},{"$f":"IF(LOADS!$AC770=\"BUS\",IF(LOADS!$AE770=F$1,1,0),0)","v":0},{"$f":"IF(LOADS!$AC770=\"BUS\",IF(LOADS!$AE770=G$1,1,0),0)","v":0},{"$f":"IF(LOADS!$AC770=\"BUS\",IF(LOADS!$AE770=H$1,1,0),0)","v":0},{"$f":"IF(LOADS!$AC770=\"BUS\",IF(LOADS!$AE770=I$1,1,0),0)","v":0},{"$f":"SUM(C773:I773)","v":0},{"$f":"LOADS!AM770","v":0}]
[{"$f":"IF(ISBLANK(LOADS!A771),\"\",LOADS!A771)","v":{"$error":"#REF!"}},{"$f":"IF(ISBLANK(LOADS!B771),\"\",LOADS!B771)","v":""},{"$f":"IF(LOADS!$AC771=\"BUS\",IF(LOADS!$AE771=C$1,1,0),0)","v":0},{"$f":"IF(LOADS!$AC771=\"BUS\",IF(LOADS!$AE771=D$1,1,0),0)","v":0},{"$f":"IF(LOADS!$AC771=\"BUS\",IF(LOADS!$AE771=E$1,1,0),0)","v":0},{"$f":"IF(LOADS!$AC771=\"BUS\",IF(LOADS!$AE771=F$1,1,0),0)","v":0},{"$f":"IF(LOADS!$AC771=\"BUS\",IF(LOADS!$AE771=G$1,1,0),0)","v":0},{"$f":"IF(LOADS!$AC771=\"BUS\",IF(LOADS!$AE771=H$1,1,0),0)","v":0},{"$f":"IF(LOADS!$AC771=\"BUS\",IF(LOADS!$AE771=I$1,1,0),0)","v":0},0,{"$f":"LOADS!AM771","v":0}]
[{"$f":"IF(ISBLANK(LOADS!A772),\"\",LOADS!A772)","v":{"$error":"#REF!"}},{"$f":"IF(ISBLANK(LOADS!B772),\"\",LOADS!B772)","v":""},{"$f":"IF(LOADS!$AC772=\"BUS\",IF(LOADS!$AE772=C$1,1,0),0)","v":0},{"$f":"IF(LOADS!$AC772=\"BUS\",IF(LOADS!$AE772=D$1,1,0),0)","v":0},{"$f":"IF(LOADS!$AC772=\"BUS\",IF(LOADS!$AE772=E$1,1,0),0)","v":0},{"$f":"IF(LOADS!$AC772=\"BUS\",IF(LOADS!$AE772=F$1,1,0),0)","v":0},{"$f":"IF(LOADS!$AC772=\"BUS\",IF(LOADS!$AE772=G$1,1,0),0)","v":0},{"$f":"IF(LOADS!$AC772=\"BUS\",IF(LOADS!$AE772=H$1,1,0),0)","v":0},{"$f":"IF(LOADS!$AC772=\"BUS\",IF(LOADS!$AE772=I$1,1,0),0)","v":0},0,{"$f":"LOADS!AM772","v":0}]
[{"$f":"IF(ISBLANK(LOADS!A773),\"\",LOADS!A773)","v":{"$error":"#REF!"}},{"$f":"IF(ISBLANK(LOADS!B773),\"\",LOADS!B773)","v":""},{"$f":"IF(LOADS!$AC773=\"BUS\",IF(LOADS!$AE773=C$1,1,0),0)","v":0},{"$f":"IF(LOADS!$AC773=\"BUS\",IF(LOADS!$AE773=D$1,1,0),0)","v":0},{"$f":"IF(LOADS!$AC773=\"BUS\",IF(LOADS!$AE773=E$1,1,0),0)","v":0},{"$f":"IF(LOADS!$AC773=\"BUS\",IF(LOADS!$AE773=F$1,1,0),0)","v":0},{"$f":"IF(LOADS!$AC773=\"BUS\",IF(LOADS!$AE773=G$1,1,0),0)","v":0},{"$f":"IF(LOADS!$AC773=\"BUS\",IF(LOADS!$AE773=H$1,1,0),0)","v":0},{"$f":"IF(LOADS!$AC773=\"BUS\",IF(LOADS!$AE773=I$1,1,0),0)","v":0},0,{"$f":"LOADS!AM773","v":0}]
[{"$f":"IF(ISBLANK(LOADS!A774),\"\",LOADS!A774)","v":{"$error":"#REF!"}},{"$f":"IF(ISBLANK(LOADS!B774),\"\",LOADS!B774)","v":""},{"$f":"IF(LOADS!$AC774=\"BUS\",IF(LOADS!$AE774=C$1,1,0),0)","v":0},{"$f":"IF(LOADS!$AC774=\"BUS\",IF(LOADS!$AE774=D$1,1,0),0)","v":0},{"$f":"IF(LOADS!$AC774=\"BUS\",IF(LOADS!$AE774=E$1,1,0),0)","v":0},{"$f":"IF(LOADS!$AC774=\"BUS\",IF(LOADS!$AE774=F$1,1,0),0)","v":0},{"$f":"IF(LOADS!$AC774=\"BUS\",IF(LOADS!$AE774=G$1,1,0),0)","v":0},{"$f":"IF(LOADS!$AC774=\"BUS\",IF(LOADS!$AE774=H$1,1,0),0)","v":0},{"$f":"IF(LOADS!$AC774=\"BUS\",IF(LOADS!$AE774=I$1,1,0),0)","v":0},0,{"$f":"LOADS!AM774","v":0}]
[{"$f":"IF(ISBLANK(LOADS!A775),\"\",LOADS!A775)","v":{"$error":"#REF!"}},{"$f":"IF(ISBLANK(LOADS!B775),\"\",LOADS!B775)","v":""},{"$f":"IF(LOADS!$AC775=\"BUS\",IF(LOADS!$AE775=C$1,1,0),0)","v":0},{"$f":"IF(LOADS!$AC775=\"BUS\",IF(LOADS!$AE775=D$1,1,0),0)","v":0},{"$f":"IF(LOADS!$AC775=\"BUS\",IF(LOADS!$AE775=E$1,1,0),0)","v":0},{"$f":"IF(LOADS!$AC775=\"BUS\",IF(LOADS!$AE775=F$1,1,0),0)","v":0},{"$f":"IF(LOADS!$AC775=\"BUS\",IF(LOADS!$AE775=G$1,1,0),0)","v":0},{"$f":"IF(LOADS!$AC775=\"BUS\",IF(LOADS!$AE775=H$1,1,0),0)","v":0},{"$f":"IF(LOADS!$AC775=\"BUS\",IF(LOADS!$AE775=I$1,1,0),0)","v":0},0,{"$f":"LOADS!AM775","v":0}]
[{"$f":"IF(ISBLANK(LOADS!A776),\"\",LOADS!A776)","v":{"$error":"#REF!"}},{"$f":"IF(ISBLANK(LOADS!B776),\"\",LOADS!B776)","v":""},{"$f":"IF(LOADS!$AC776=\"BUS\",IF(LOADS!$AE776=C$1,1,0),0)","v":0},{"$f":"IF(LOADS!$AC776=\"BUS\",IF(LOADS!$AE776=D$1,1,0),0)","v":0},{"$f":"IF(LOADS!$AC776=\"BUS\",IF(LOADS!$AE776=E$1,1,0),0)","v":0},{"$f":"IF(LOADS!$AC776=\"BUS\",IF(LOADS!$AE776=F$1,1,0),0)","v":0},{"$f":"IF(LOADS!$AC776=\"BUS\",IF(LOADS!$AE776=G$1,1,0),0)","v":0},{"$f":"IF(LOADS!$AC776=\"BUS\",IF(LOADS!$AE776=H$1,1,0),0)","v":0},{"$f":"IF(LOADS!$AC776=\"BUS\",IF(LOADS!$AE776=I$1,1,0),0)","v":0},0,{"$f":"LOADS!AM776","v":0}]
[{"$f":"IF(ISBLANK(LOADS!A777),\"\",LOADS!A777)","v":{"$error":"#REF!"}},{"$f":"IF(ISBLANK(LOADS!B777),\"\",LOADS!B777)","v":""},{"$f":"IF(LOADS!$AC777=\"BUS\",IF(LOADS!$AE777=C$1,1,0),0)","v":0},{"$f":"IF(LOADS!$AC777=\"BUS\",IF(LOADS!$AE777=D$1,1,0),0)","v":0},{"$f":"IF(LOADS!$AC777=\"BUS\",IF(LOADS!$AE777=E$1,1,0),0)","v":0},{"$f":"IF(LOADS!$AC777=\"BUS\",IF(LOADS!$AE777=F$1,1,0),0)","v":0},{"$f":"IF(LOADS!$AC777=\"BUS\",IF(LOADS!$AE777=G$1,1,0),0)","v":0},{"$f":"IF(LOADS!$AC777=\"BUS\",IF(LOADS!$AE777=H$1,1,0),0)","v":0},{"$f":"IF(LOADS!$AC777=\"BUS\",IF(LOADS!$AE777=I$1,1,0),0)","v":0},0,{"$f":"LOADS!AM777","v":0}]
[{"$f":"IF(ISBLANK(LOADS!A778),\"\",LOADS!A778)","v":{"$error":"#REF!"}},{"$f":"IF(ISBLANK(LOADS!B778),\"\",LOADS!B778)","v":""},{"$f":"IF(LOADS!$AC778=\"BUS\",IF(LOADS!$AE778=C$1,1,0),0)","v":0},{"$f":"IF(LOADS!$AC778=\"BUS\",IF(LOADS!$AE778=D$1,1,0),0)","v":0},{"$f":"IF(LOADS!$AC778=\"BUS\",IF(LOADS!$AE778=E$1,1,0),0)","v":0},{"$f":"IF(LOADS!$AC778=\"BUS\",IF(LOADS!$AE778=F$1,1,0),0)","v":0},{"$f":"IF(LOADS!$AC778=\"BUS\",IF(LOADS!$AE778=G$1,1,0),0)","v":0},{"$f":"IF(LOADS!$AC778=\"BUS\",IF(LOADS!$AE778=H$1,1,0),0)","v":0},{"$f":"IF(LOADS!$AC778=\"BUS\",IF(LOADS!$AE778=I$1,1,0),0)","v":0},0,{"$f":"LOADS!AM778","v":0}]
[{"$f":"IF(ISBLANK(LOADS!A779),\"\",LOADS!A779)","v":{"$error":"#REF!"}},{"$f":"IF(ISBLANK(LOADS!B779),\"\",LOADS!B779)","v":""},{"$f":"IF(LOADS!$AC779=\"BUS\",IF(LOADS!$AE779=C$1,1,0),0)","v":0},{"$f":"IF(LOADS!$AC779=\"BUS\",IF(LOADS!$AE779=D$1,1,0),0)","v":0},{"$f":"IF(LOADS!$AC779=\"BUS\",IF(LOADS!$AE779=E$1,1,0),0)","v":0},{"$f":"IF(LOADS!$AC779=\"BUS\",IF(LOADS!$AE779=F$1,1,0),0)","v":0},{"$f":"IF(LOADS!$AC779=\"BUS\",IF(LOADS!$AE779=G$1,1,0),0)","v":0},{"$f":"IF(LOADS!$AC779=\"BUS\",IF(LOADS!$AE779=H$1,1,0),0)","v":0},{"$f":"IF(LOADS!$AC779=\"BUS\",IF(LOADS!$AE779=I$1,1,0),0)","v":0},0,{"$f":"LOADS!AM779","v":0}]
[{"$f":"IF(ISBLANK(LOADS!A780),\"\",LOADS!A780)","v":{"$error":"#REF!"}},{"$f":"IF(ISBLANK(LOADS!B780),\"\",LOADS!B780)","v":""},{"$f":"IF(LOADS!$AC780=\"BUS\",IF(LOADS!$AE780=C$1,1,0),0)","v":0},{"$f":"IF(LOADS!$AC780=\"BUS\",IF(LOADS!$AE780=D$1,1,0),0)","v":0},{"$f":"IF(LOADS!$AC780=\"BUS\",IF(LOADS!$AE780=E$1,1,0),0)","v":0},{"$f":"IF(LOADS!$AC780=\"BUS\",IF(LOADS!$AE780=F$1,1,0),0)","v":0},{"$f":"IF(LOADS!$AC780=\"BUS\",IF(LOADS!$AE780=G$1,1,0),0)","v":0},{"$f":"IF(LOADS!$AC780=\"BUS\",IF(LOADS!$AE780=H$1,1,0),0)","v":0},{"$f":"IF(LOADS!$AC780=\"BUS\",IF(LOADS!$AE780=I$1,1,0),0)","v":0},0,{"$f":"LOADS!AM780","v":0}]
[{"$f":"IF(ISBLANK(LOADS!A781),\"\",LOADS!A781)","v":{"$error":"#REF!"}},{"$f":"IF(ISBLANK(LOADS!B781),\"\",LOADS!B781)","v":""},{"$f":"IF(LOADS!$AC781=\"BUS\",IF(LOADS!$AE781=C$1,1,0),0)","v":0},{"$f":"IF(LOADS!$AC781=\"BUS\",IF(LOADS!$AE781=D$1,1,0),0)","v":0},{"$f":"IF(LOADS!$AC781=\"BUS\",IF(LOADS!$AE781=E$1,1,0),0)","v":0},{"$f":"IF(LOADS!$AC781=\"BUS\",IF(LOADS!$AE781=F$1,1,0),0)","v":0},{"$f":"IF(LOADS!$AC781=\"BUS\",IF(LOADS!$AE781=G$1,1,0),0)","v":0},{"$f":"IF(LOADS!$AC781=\"BUS\",IF(LOADS!$AE781=H$1,1,0),0)","v":0},{"$f":"IF(LOADS!$AC781=\"BUS\",IF(LOADS!$AE781=I$1,1,0),0)","v":0},0,{"$f":"LOADS!AM781","v":0}]
[{"$f":"IF(ISBLANK(LOADS!A782),\"\",LOADS!A782)","v":{"$error":"#REF!"}},{"$f":"IF(ISBLANK(LOADS!B782),\"\",LOADS!B782)","v":""},{"$f":"IF(LOADS!$AC782=\"BUS\",IF(LOADS!$AE782=C$1,1,0),0)","v":0},{"$f":"IF(LOADS!$AC782=\"BUS\",IF(LOADS!$AE782=D$1,1,0),0)","v":0},{"$f":"IF(LOADS!$AC782=\"BUS\",IF(LOADS!$AE782=E$1,1,0),0)","v":0},{"$f":"IF(LOADS!$AC782=\"BUS\",IF(LOADS!$AE782=F$1,1,0),0)","v":0},{"$f":"IF(LOADS!$AC782=\"BUS\",IF(LOADS!$AE782=G$1,1,0),0)","v":0},{"$f":"IF(LOADS!$AC782=\"BUS\",IF(LOADS!$AE782=H$1,1,0),0)","v":0},{"$f":"IF(LOADS!$AC782=\"BUS\",IF(LOADS!$AE782=I$1,1,0),0)","v":0},0,{"$f":"LOADS!AM782","v":0}]
[{"$f":"IF(ISBLANK(LOADS!A783),\"\",LOADS!A783)","v":{"$error":"#REF!"}},{"$f":"IF(ISBLANK(LOADS!B783),\"\",LOADS!B783)","v":""},{"$f":"IF(LOADS!$AC783=\"BUS\",IF(LOADS!$AE783=C$1,1,0),0)","v":0},{"$f":"IF(LOADS!$AC783=\"BUS\",IF(LOADS!$AE783=D$1,1,0),0)","v":0},{"$f":"IF(LOADS!$AC783=\"BUS\",IF(LOADS!$AE783=E$1,1,0),0)","v":0},{"$f":"IF(LOADS!$AC783=\"BUS\",IF(LOADS!$AE783=F$1,1,0),0)","v":0},{"$f":"IF(LOADS!$AC783=\"BUS\",IF(LOADS!$AE783=G$1,1,0),0)","v":0},{"$f":"IF(LOADS!$AC783=\"BUS\",IF(LOADS!$AE783=H$1,1,0),0)","v":0},{"$f":"IF(LOADS!$AC783=\"BUS\",IF(LOADS!$AE783=I$1,1,0),0)","v":0},0,{"$f":"LOADS!AM783","v":0}]
[{"$f":"IF(ISBLANK(LOADS!A784),\"\",LOADS!A784)","v":{"$error":"#REF!"}},{"$f":"IF(ISBLANK(LOADS!B784),\"\",LOADS!B784)","v":""},{"$f":"IF(LOADS!$AC784=\"BUS\",IF(LOADS!$AE784=C$1,1,0),0)","v":0},{"$f":"IF(LOADS!$AC784=\"BUS\",IF(LOADS!$AE784=D$1,1,0),0)","v":0},{"$f":"IF(LOADS!$AC784=\"BUS\",IF(LOADS!$AE784=E$1,1,0),0)","v":0},{"$f":"IF(LOADS!$AC784=\"BUS\",IF(LOADS!$AE784=F$1,1,0),0)","v":0},{"$f":"IF(LOADS!$AC784=\"BUS\",IF(LOADS!$AE784=G$1,1,0),0)","v":0},{"$f":"IF(LOADS!$AC784=\"BUS\",IF(LOADS!$AE784=H$1,1,0),0)","v":0},{"$f":"IF(LOADS!$AC784=\"BUS\",IF(LOADS!$AE784=I$1,1,0),0)","v":0},0,{"$f":"LOADS!AM784","v":0}]
[{"$f":"IF(ISBLANK(LOADS!A785),\"\",LOADS!A785)","v":{"$error":"#REF!"}},{"$f":"IF(ISBLANK(LOADS!B785),\"\",LOADS!B785)","v":""},{"$f":"IF(LOADS!$AC785=\"BUS\",IF(LOADS!$AE785=C$1,1,0),0)","v":0},{"$f":"IF(LOADS!$AC785=\"BUS\",IF(LOADS!$AE785=D$1,1,0),0)","v":0},{"$f":"IF(LOADS!$AC785=\"BUS\",IF(LOADS!$AE785=E$1,1,0),0)","v":0},{"$f":"IF(LOADS!$AC785=\"BUS\",IF(LOADS!$AE785=F$1,1,0),0)","v":0},{"$f":"IF(LOADS!$AC785=\"BUS\",IF(LOADS!$AE785=G$1,1,0),0)","v":0},{"$f":"IF(LOADS!$AC785=\"BUS\",IF(LOADS!$AE785=H$1,1,0),0)","v":0},{"$f":"IF(LOADS!$AC785=\"BUS\",IF(LOADS!$AE785=I$1,1,0),0)","v":0},0,{"$f":"LOADS!AM785","v":0}]
[{"$f":"IF(ISBLANK(LOADS!A786),\"\",LOADS!A786)","v":{"$error":"#REF!"}},{"$f":"IF(ISBLANK(LOADS!B786),\"\",LOADS!B786)","v":""},{"$f":"IF(LOADS!$AC786=\"BUS\",IF(LOADS!$AE786=C$1,1,0),0)","v":0},{"$f":"IF(LOADS!$AC786=\"BUS\",IF(LOADS!$AE786=D$1,1,0),0)","v":0},{"$f":"IF(LOADS!$AC786=\"BUS\",IF(LOADS!$AE786=E$1,1,0),0)","v":0},{"$f":"IF(LOADS!$AC786=\"BUS\",IF(LOADS!$AE786=F$1,1,0),0)","v":0},{"$f":"IF(LOADS!$AC786=\"BUS\",IF(LOADS!$AE786=G$1,1,0),0)","v":0},{"$f":"IF(LOADS!$AC786=\"BUS\",IF(LOADS!$AE786=H$1,1,0),0)","v":0},{"$f":"IF(LOADS!$AC786=\"BUS\",IF(LOADS!$AE786=I$1,1,0),0)","v":0},0,{"$f":"LOADS!AM786","v":0}]
[{"$f":"IF(ISBLANK(LOADS!A787),\"\",LOADS!A787)","v":{"$error":"#REF!"}},{"$f":"IF(ISBLANK(LOADS!B787),\"\",LOADS!B787)","v":""},{"$f":"IF(LOADS!$AC787=\"BUS\",IF(LOADS!$AE787=C$1,1,0),0)","v":0},{"$f":"IF(LOADS!$AC787=\"BUS\",IF(LOADS!$AE787=D$1,1,0),0)","v":0},{"$f":"IF(LOADS!$AC787=\"BUS\",IF(LOADS!$AE787=E$1,1,0),0)","v":0},{"$f":"IF(LOADS!$AC787=\"BUS\",IF(LOADS!$AE787=F$1,1,0),0)","v":0},{"$f":"IF(LOADS!$AC787=\"BUS\",IF(LOADS!$AE787=G$1,1,0),0)","v":0},{"$f":"IF(LOADS!$AC787=\"BUS\",IF(LOADS!$AE787=H$1,1,0),0)","v":0},{"$f":"IF(LOADS!$AC787=\"BUS\",IF(LOADS!$AE787=I$1,1,0),0)","v":0},0,{"$f":"LOADS!AM787","v":0}]
[{"$f":"IF(ISBLANK(LOADS!A788),\"\",LOADS!A788)","v":{"$error":"#REF!"}},{"$f":"IF(ISBLANK(LOADS!B788),\"\",LOADS!B788)","v":""},{"$f":"IF(LOADS!$AC788=\"BUS\",IF(LOADS!$AE788=C$1,1,0),0)","v":0},{"$f":"IF(LOADS!$AC788=\"BUS\",IF(LOADS!$AE788=D$1,1,0),0)","v":0},{"$f":"IF(LOADS!$AC788=\"BUS\",IF(LOADS!$AE788=E$1,1,0),0)","v":0},{"$f":"IF(LOADS!$AC788=\"BUS\",IF(LOADS!$AE788=F$1,1,0),0)","v":0},{"$f":"IF(LOADS!$AC788=\"BUS\",IF(LOADS!$AE788=G$1,1,0),0)","v":0},{"$f":"IF(LOADS!$AC788=\"BUS\",IF(LOADS!$AE788=H$1,1,0),0)","v":0},{"$f":"IF(LOADS!$AC788=\"BUS\",IF(LOADS!$AE788=I$1,1,0),0)","v":0},0,{"$f":"LOADS!AM788","v":0}]
[{"$f":"IF(ISBLANK(LOADS!A789),\"\",LOADS!A789)","v":{"$error":"#REF!"}},{"$f":"IF(ISBLANK(LOADS!B789),\"\",LOADS!B789)","v":""},{"$f":"IF(LOADS!$AC789=\"BUS\",IF(LOADS!$AE789=C$1,1,0),0)","v":0},{"$f":"IF(LOADS!$AC789=\"BUS\",IF(LOADS!$AE789=D$1,1,0),0)","v":0},{"$f":"IF(LOADS!$AC789=\"BUS\",IF(LOADS!$AE789=E$1,1,0),0)","v":0},{"$f":"IF(LOADS!$AC789=\"BUS\",IF(LOADS!$AE789=F$1,1,0),0)","v":0},{"$f":"IF(LOADS!$AC789=\"BUS\",IF(LOADS!$AE789=G$1,1,0),0)","v":0},{"$f":"IF(LOADS!$AC789=\"BUS\",IF(LOADS!$AE789=H$1,1,0),0)","v":0},{"$f":"IF(LOADS!$AC789=\"BUS\",IF(LOADS!$AE789=I$1,1,0),0)","v":0},0,{"$f":"LOADS!AM789","v":0}]
[{"$f":"IF(ISBLANK(LOADS!A790),\"\",LOADS!A790)","v":{"$error":"#REF!"}},{"$f":"IF(ISBLANK(LOADS!B790),\"\",LOADS!B790)","v":""},{"$f":"IF(LOADS!$AC790=\"BUS\",IF(LOADS!$AE790=C$1,1,0),0)","v":0},{"$f":"IF(LOADS!$AC790=\"BUS\",IF(LOADS!$AE790=D$1,1,0),0)","v":0},{"$f":"IF(LOADS!$AC790=\"BUS\",IF(LOADS!$AE790=E$1,1,0),0)","v":0},{"$f":"IF(LOADS!$AC790=\"BUS\",IF(LOADS!$AE790=F$1,1,0),0)","v":0},{"$f":"IF(LOADS!$AC790=\"BUS\",IF(LOADS!$AE790=G$1,1,0),0)","v":0},{"$f":"IF(LOADS!$AC790=\"BUS\",IF(LOADS!$AE790=H$1,1,0),0)","v":0},{"$f":"IF(LOADS!$AC790=\"BUS\",IF(LOADS!$AE790=I$1,1,0),0)","v":0},0,{"$f":"LOADS!AM790","v":0}]
[{"$f":"IF(ISBLANK(LOADS!A791),\"\",LOADS!A791)","v":{"$error":"#REF!"}},{"$f":"IF(ISBLANK(LOADS!B791),\"\",LOADS!B791)","v":""},{"$f":"IF(LOADS!$AC791=\"BUS\",IF(LOADS!$AE791=C$1,1,0),0)","v":0},{"$f":"IF(LOADS!$AC791=\"BUS\",IF(LOADS!$AE791=D$1,1,0),0)","v":0},{"$f":"IF(LOADS!$AC791=\"BUS\",IF(LOADS!$AE791=E$1,1,0),0)","v":0},{"$f":"IF(LOADS!$AC791=\"BUS\",IF(LOADS!$AE791=F$1,1,0),0)","v":0},{"$f":"IF(LOADS!$AC791=\"BUS\",IF(LOADS!$AE791=G$1,1,0),0)","v":0},{"$f":"IF(LOADS!$AC791=\"BUS\",IF(LOADS!$AE791=H$1,1,0),0)","v":0},{"$f":"IF(LOADS!$AC791=\"BUS\",IF(LOADS!$AE791=I$1,1,0),0)","v":0},0,{"$f":"LOADS!AM791","v":0}]
[{"$f":"IF(ISBLANK(LOADS!A792),\"\",LOADS!A792)","v":{"$error":"#REF!"}},{"$f":"IF(ISBLANK(LOADS!B792),\"\",LOADS!B792)","v":""},{"$f":"IF(LOADS!$AC792=\"BUS\",IF(LOADS!$AE792=C$1,1,0),0)","v":0},{"$f":"IF(LOADS!$AC792=\"BUS\",IF(LOADS!$AE792=D$1,1,0),0)","v":0},{"$f":"IF(LOADS!$AC792=\"BUS\",IF(LOADS!$AE792=E$1,1,0),0)","v":0},{"$f":"IF(LOADS!$AC792=\"BUS\",IF(LOADS!$AE792=F$1,1,0),0)","v":0},{"$f":"IF(LOADS!$AC792=\"BUS\",IF(LOADS!$AE792=G$1,1,0),0)","v":0},{"$f":"IF(LOADS!$AC792=\"BUS\",IF(LOADS!$AE792=H$1,1,0),0)","v":0},{"$f":"IF(LOADS!$AC792=\"BUS\",IF(LOADS!$AE792=I$1,1,0),0)","v":0},0,{"$f":"LOADS!AM792","v":0}]
[{"$f":"IF(ISBLANK(LOADS!A793),\"\",LOADS!A793)","v":{"$error":"#REF!"}},{"$f":"IF(ISBLANK(LOADS!B793),\"\",LOADS!B793)","v":""},{"$f":"IF(LOADS!$AC793=\"BUS\",IF(LOADS!$AE793=C$1,1,0),0)","v":0},{"$f":"IF(LOADS!$AC793=\"BUS\",IF(LOADS!$AE793=D$1,1,0),0)","v":0},{"$f":"IF(LOADS!$AC793=\"BUS\",IF(LOADS!$AE793=E$1,1,0),0)","v":0},{"$f":"IF(LOADS!$AC793=\"BUS\",IF(LOADS!$AE793=F$1,1,0),0)","v":0},{"$f":"IF(LOADS!$AC793=\"BUS\",IF(LOADS!$AE793=G$1,1,0),0)","v":0},{"$f":"IF(LOADS!$AC793=\"BUS\",IF(LOADS!$AE793=H$1,1,0),0)","v":0},{"$f":"IF(LOADS!$AC793=\"BUS\",IF(LOADS!$AE793=I$1,1,0),0)","v":0},0,{"$f":"LOADS!AM793","v":0}]
[{"$f":"IF(ISBLANK(LOADS!A794),\"\",LOADS!A794)","v":{"$error":"#REF!"}},{"$f":"IF(ISBLANK(LOADS!B794),\"\",LOADS!B794)","v":""},{"$f":"IF(LOADS!$AC794=\"BUS\",IF(LOADS!$AE794=C$1,1,0),0)","v":0},{"$f":"IF(LOADS!$AC794=\"BUS\",IF(LOADS!$AE794=D$1,1,0),0)","v":0},{"$f":"IF(LOADS!$AC794=\"BUS\",IF(LOADS!$AE794=E$1,1,0),0)","v":0},{"$f":"IF(LOADS!$AC794=\"BUS\",IF(LOADS!$AE794=F$1,1,0),0)","v":0},{"$f":"IF(LOADS!$AC794=\"BUS\",IF(LOADS!$AE794=G$1,1,0),0)","v":0},{"$f":"IF(LOADS!$AC794=\"BUS\",IF(LOADS!$AE794=H$1,1,0),0)","v":0},{"$f":"IF(LOADS!$AC794=\"BUS\",IF(LOADS!$AE794=I$1,1,0),0)","v":0},0,{"$f":"LOADS!AM794","v":0}]
[{"$f":"IF(ISBLANK(LOADS!A795),\"\",LOADS!A795)","v":{"$error":"#REF!"}},{"$f":"IF(ISBLANK(LOADS!B795),\"\",LOADS!B795)","v":""},{"$f":"IF(LOADS!$AC795=\"BUS\",IF(LOADS!$AE795=C$1,1,0),0)","v":0},{"$f":"IF(LOADS!$AC795=\"BUS\",IF(LOADS!$AE795=D$1,1,0),0)","v":0},{"$f":"IF(LOADS!$AC795=\"BUS\",IF(LOADS!$AE795=E$1,1,0),0)","v":0},{"$f":"IF(LOADS!$AC795=\"BUS\",IF(LOADS!$AE795=F$1,1,0),0)","v":0},{"$f":"IF(LOADS!$AC795=\"BUS\",IF(LOADS!$AE795=G$1,1,0),0)","v":0},{"$f":"IF(LOADS!$AC795=\"BUS\",IF(LOADS!$AE795=H$1,1,0),0)","v":0},{"$f":"IF(LOADS!$AC795=\"BUS\",IF(LOADS!$AE795=I$1,1,0),0)","v":0},0,{"$f":"LOADS!AM795","v":0}]
[{"$f":"IF(ISBLANK(LOADS!A796),\"\",LOADS!A796)","v":{"$error":"#REF!"}},{"$f":"IF(ISBLANK(LOADS!B796),\"\",LOADS!B796)","v":""},{"$f":"IF(LOADS!$AC796=\"BUS\",IF(LOADS!$AE796=C$1,1,0),0)","v":0},{"$f":"IF(LOADS!$AC796=\"BUS\",IF(LOADS!$AE796=D$1,1,0),0)","v":0},{"$f":"IF(LOADS!$AC796=\"BUS\",IF(LOADS!$AE796=E$1,1,0),0)","v":0},{"$f":"IF(LOADS!$AC796=\"BUS\",IF(LOADS!$AE796=F$1,1,0),0)","v":0},{"$f":"IF(LOADS!$AC796=\"BUS\",IF(LOADS!$AE796=G$1,1,0),0)","v":0},{"$f":"IF(LOADS!$AC796=\"BUS\",IF(LOADS!$AE796=H$1,1,0),0)","v":0},{"$f":"IF(LOADS!$AC796=\"BUS\",IF(LOADS!$AE796=I$1,1,0),0)","v":0},0,{"$f":"LOADS!AM796","v":0}]
[{"$f":"IF(ISBLANK(LOADS!A797),\"\",LOADS!A797)","v":{"$error":"#REF!"}},{"$f":"IF(ISBLANK(LOADS!B797),\"\",LOADS!B797)","v":""},{"$f":"IF(LOADS!$AC797=\"BUS\",IF(LOADS!$AE797=C$1,1,0),0)","v":0},{"$f":"IF(LOADS!$AC797=\"BUS\",IF(LOADS!$AE797=D$1,1,0),0)","v":0},{"$f":"IF(LOADS!$AC797=\"BUS\",IF(LOADS!$AE797=E$1,1,0),0)","v":0},{"$f":"IF(LOADS!$AC797=\"BUS\",IF(LOADS!$AE797=F$1,1,0),0)","v":0},{"$f":"IF(LOADS!$AC797=\"BUS\",IF(LOADS!$AE797=G$1,1,0),0)","v":0},{"$f":"IF(LOADS!$AC797=\"BUS\",IF(LOADS!$AE797=H$1,1,0),0)","v":0},{"$f":"IF(LOADS!$AC797=\"BUS\",IF(LOADS!$AE797=I$1,1,0),0)","v":0},0,{"$f":"LOADS!AM797","v":0}]
[{"$f":"IF(ISBLANK(LOADS!A798),\"\",LOADS!A798)","v":{"$error":"#REF!"}},{"$f":"IF(ISBLANK(LOADS!B798),\"\",LOADS!B798)","v":""},{"$f":"IF(LOADS!$AC798=\"BUS\",IF(LOADS!$AE798=C$1,1,0),0)","v":0},{"$f":"IF(LOADS!$AC798=\"BUS\",IF(LOADS!$AE798=D$1,1,0),0)","v":0},{"$f":"IF(LOADS!$AC798=\"BUS\",IF(LOADS!$AE798=E$1,1,0),0)","v":0},{"$f":"IF(LOADS!$AC798=\"BUS\",IF(LOADS!$AE798=F$1,1,0),0)","v":0},{"$f":"IF(LOADS!$AC798=\"BUS\",IF(LOADS!$AE798=G$1,1,0),0)","v":0},{"$f":"IF(LOADS!$AC798=\"BUS\",IF(LOADS!$AE798=H$1,1,0),0)","v":0},{"$f":"IF(LOADS!$AC798=\"BUS\",IF(LOADS!$AE798=I$1,1,0),0)","v":0},0,{"$f":"LOADS!AM798","v":0}]
[{"$f":"IF(ISBLANK(LOADS!A799),\"\",LOADS!A799)","v":{"$error":"#REF!"}},{"$f":"IF(ISBLANK(LOADS!B799),\"\",LOADS!B799)","v":""},{"$f":"IF(LOADS!$AC799=\"BUS\",IF(LOADS!$AE799=C$1,1,0),0)","v":0},{"$f":"IF(LOADS!$AC799=\"BUS\",IF(LOADS!$AE799=D$1,1,0),0)","v":0},{"$f":"IF(LOADS!$AC799=\"BUS\",IF(LOADS!$AE799=E$1,1,0),0)","v":0},{"$f":"IF(LOADS!$AC799=\"BUS\",IF(LOADS!$AE799=F$1,1,0),0)","v":0},{"$f":"IF(LOADS!$AC799=\"BUS\",IF(LOADS!$AE799=G$1,1,0),0)","v":0},{"$f":"IF(LOADS!$AC799=\"BUS\",IF(LOADS!$AE799=H$1,1,0),0)","v":0},{"$f":"IF(LOADS!$AC799=\"BUS\",IF(LOADS!$AE799=I$1,1,0),0)","v":0},0,{"$f":"LOADS!AM799","v":0}]
[{"$f":"IF(ISBLANK(LOADS!A800),\"\",LOADS!A800)","v":{"$error":"#REF!"}},{"$f":"IF(ISBLANK(LOADS!B800),\"\",LOADS!B800)","v":""},{"$f":"IF(LOADS!$AC800=\"BUS\",IF(LOADS!$AE800=C$1,1,0),0)","v":0},{"$f":"IF(LOADS!$AC800=\"BUS\",IF(LOADS!$AE800=D$1,1,0),0)","v":0},{"$f":"IF(LOADS!$AC800=\"BUS\",IF(LOADS!$AE800=E$1,1,0),0)","v":0},{"$f":"IF(LOADS!$AC800=\"BUS\",IF(LOADS!$AE800=F$1,1,0),0)","v":0},{"$f":"IF(LOADS!$AC800=\"BUS\",IF(LOADS!$AE800=G$1,1,0),0)","v":0},{"$f":"IF(LOADS!$AC800=\"BUS\",IF(LOADS!$AE800=H$1,1,0),0)","v":0},{"$f":"IF(LOADS!$AC800=\"BUS\",IF(LOADS!$AE800=I$1,1,0),0)","v":0},0,{"$f":"LOADS!AM800","v":0}]
[{"$f":"IF(ISBLANK(LOADS!A801),\"\",LOADS!A801)","v":{"$error":"#REF!"}},{"$f":"IF(ISBLANK(LOADS!B801),\"\",LOADS!B801)","v":""},{"$f":"IF(LOADS!$AC801=\"BUS\",IF(LOADS!$AE801=C$1,1,0),0)","v":0},{"$f":"IF(LOADS!$AC801=\"BUS\",IF(LOADS!$AE801=D$1,1,0),0)","v":0},{"$f":"IF(LOADS!$AC801=\"BUS\",IF(LOADS!$AE801=E$1,1,0),0)","v":0},{"$f":"IF(LOADS!$AC801=\"BUS\",IF(LOADS!$AE801=F$1,1,0),0)","v":0},{"$f":"IF(LOADS!$AC801=\"BUS\",IF(LOADS!$AE801=G$1,1,0),0)","v":0},{"$f":"IF(LOADS!$AC801=\"BUS\",IF(LOADS!$AE801=H$1,1,0),0)","v":0},{"$f":"IF(LOADS!$AC801=\"BUS\",IF(LOADS!$AE801=I$1,1,0),0)","v":0},0,{"$f":"LOADS!AM801","v":0}]
[{"$f":"IF(ISBLANK(LOADS!A802),\"\",LOADS!A802)","v":{"$error":"#REF!"}},{"$f":"IF(ISBLANK(LOADS!B802),\"\",LOADS!B802)","v":""},{"$f":"IF(LOADS!$AC802=\"BUS\",IF(LOADS!$AE802=C$1,1,0),0)","v":0},{"$f":"IF(LOADS!$AC802=\"BUS\",IF(LOADS!$AE802=D$1,1,0),0)","v":0},{"$f":"IF(LOADS!$AC802=\"BUS\",IF(LOADS!$AE802=E$1,1,0),0)","v":0},{"$f":"IF(LOADS!$AC802=\"BUS\",IF(LOADS!$AE802=F$1,1,0),0)","v":0},{"$f":"IF(LOADS!$AC802=\"BUS\",IF(LOADS!$AE802=G$1,1,0),0)","v":0},{"$f":"IF(LOADS!$AC802=\"BUS\",IF(LOADS!$AE802=H$1,1,0),0)","v":0},{"$f":"IF(LOADS!$AC802=\"BUS\",IF(LOADS!$AE802=I$1,1,0),0)","v":0},0,{"$f":"LOADS!AM802","v":0}]
[{"$f":"IF(ISBLANK(LOADS!A803),\"\",LOADS!A803)","v":{"$error":"#REF!"}},{"$f":"IF(ISBLANK(LOADS!B803),\"\",LOADS!B803)","v":""},{"$f":"IF(LOADS!$AC803=\"BUS\",IF(LOADS!$AE803=C$1,1,0),0)","v":0},{"$f":"IF(LOADS!$AC803=\"BUS\",IF(LOADS!$AE803=D$1,1,0),0)","v":0},{"$f":"IF(LOADS!$AC803=\"BUS\",IF(LOADS!$AE803=E$1,1,0),0)","v":0},{"$f":"IF(LOADS!$AC803=\"BUS\",IF(LOADS!$AE803=F$1,1,0),0)","v":0},{"$f":"IF(LOADS!$AC803=\"BUS\",IF(LOADS!$AE803=G$1,1,0),0)","v":0},{"$f":"IF(LOADS!$AC803=\"BUS\",IF(LOADS!$AE803=H$1,1,0),0)","v":0},{"$f":"IF(LOADS!$AC803=\"BUS\",IF(LOADS!$AE803=I$1,1,0),0)","v":0},0,{"$f":"LOADS!AM803","v":0}]
[{"$f":"IF(ISBLANK(LOADS!A804),\"\",LOADS!A804)","v":{"$error":"#REF!"}},{"$f":"IF(ISBLANK(LOADS!B804),\"\",LOADS!B804)","v":""},{"$f":"IF(LOADS!$AC804=\"BUS\",IF(LOADS!$AE804=C$1,1,0),0)","v":0},{"$f":"IF(LOADS!$AC804=\"BUS\",IF(LOADS!$AE804=D$1,1,0),0)","v":0},{"$f":"IF(LOADS!$AC804=\"BUS\",IF(LOADS!$AE804=E$1,1,0),0)","v":0},{"$f":"IF(LOADS!$AC804=\"BUS\",IF(LOADS!$AE804=F$1,1,0),0)","v":0},{"$f":"IF(LOADS!$AC804=\"BUS\",IF(LOADS!$AE804=G$1,1,0),0)","v":0},{"$f":"IF(LOADS!$AC804=\"BUS\",IF(LOADS!$AE804=H$1,1,0),0)","v":0},{"$f":"IF(LOADS!$AC804=\"BUS\",IF(LOADS!$AE804=I$1,1,0),0)","v":0},0,{"$f":"LOADS!AM804","v":0}]
[{"$f":"IF(ISBLANK(LOADS!A805),\"\",LOADS!A805)","v":{"$error":"#REF!"}},{"$f":"IF(ISBLANK(LOADS!B805),\"\",LOADS!B805)","v":""},{"$f":"IF(LOADS!$AC805=\"BUS\",IF(LOADS!$AE805=C$1,1,0),0)","v":0},{"$f":"IF(LOADS!$AC805=\"BUS\",IF(LOADS!$AE805=D$1,1,0),0)","v":0},{"$f":"IF(LOADS!$AC805=\"BUS\",IF(LOADS!$AE805=E$1,1,0),0)","v":0},{"$f":"IF(LOADS!$AC805=\"BUS\",IF(LOADS!$AE805=F$1,1,0),0)","v":0},{"$f":"IF(LOADS!$AC805=\"BUS\",IF(LOADS!$AE805=G$1,1,0),0)","v":0},{"$f":"IF(LOADS!$AC805=\"BUS\",IF(LOADS!$AE805=H$1,1,0),0)","v":0},{"$f":"IF(LOADS!$AC805=\"BUS\",IF(LOADS!$AE805=I$1,1,0),0)","v":0},0,{"$f":"LOADS!AM805","v":0}]
[{"$f":"IF(ISBLANK(LOADS!A806),\"\",LOADS!A806)","v":{"$error":"#REF!"}},{"$f":"IF(ISBLANK(LOADS!B806),\"\",LOADS!B806)","v":""},{"$f":"IF(LOADS!$AC806=\"BUS\",IF(LOADS!$AE806=C$1,1,0),0)","v":0},{"$f":"IF(LOADS!$AC806=\"BUS\",IF(LOADS!$AE806=D$1,1,0),0)","v":0},{"$f":"IF(LOADS!$AC806=\"BUS\",IF(LOADS!$AE806=E$1,1,0),0)","v":0},{"$f":"IF(LOADS!$AC806=\"BUS\",IF(LOADS!$AE806=F$1,1,0),0)","v":0},{"$f":"IF(LOADS!$AC806=\"BUS\",IF(LOADS!$AE806=G$1,1,0),0)","v":0},{"$f":"IF(LOADS!$AC806=\"BUS\",IF(LOADS!$AE806=H$1,1,0),0)","v":0},{"$f":"IF(LOADS!$AC806=\"BUS\",IF(LOADS!$AE806=I$1,1,0),0)","v":0},0,{"$f":"LOADS!AM806","v":0}]
[{"$f":"IF(ISBLANK(LOADS!A807),\"\",LOADS!A807)","v":{"$error":"#REF!"}},{"$f":"IF(ISBLANK(LOADS!B807),\"\",LOADS!B807)","v":""},{"$f":"IF(LOADS!$AC807=\"BUS\",IF(LOADS!$AE807=C$1,1,0),0)","v":0},{"$f":"IF(LOADS!$AC807=\"BUS\",IF(LOADS!$AE807=D$1,1,0),0)","v":0},{"$f":"IF(LOADS!$AC807=\"BUS\",IF(LOADS!$AE807=E$1,1,0),0)","v":0},{"$f":"IF(LOADS!$AC807=\"BUS\",IF(LOADS!$AE807=F$1,1,0),0)","v":0},{"$f":"IF(LOADS!$AC807=\"BUS\",IF(LOADS!$AE807=G$1,1,0),0)","v":0},{"$f":"IF(LOADS!$AC807=\"BUS\",IF(LOADS!$AE807=H$1,1,0),0)","v":0},{"$f":"IF(LOADS!$AC807=\"BUS\",IF(LOADS!$AE807=I$1,1,0),0)","v":0},0,{"$f":"LOADS!AM807","v":0}]
[{"$f":"IF(ISBLANK(LOADS!A808),\"\",LOADS!A808)","v":{"$error":"#REF!"}},{"$f":"IF(ISBLANK(LOADS!B808),\"\",LOADS!B808)","v":""},{"$f":"IF(LOADS!$AC808=\"BUS\",IF(LOADS!$AE808=C$1,1,0),0)","v":0},{"$f":"IF(LOADS!$AC808=\"BUS\",IF(LOADS!$AE808=D$1,1,0),0)","v":0},{"$f":"IF(LOADS!$AC808=\"BUS\",IF(LOADS!$AE808=E$1,1,0),0)","v":0},{"$f":"IF(LOADS!$AC808=\"BUS\",IF(LOADS!$AE808=F$1,1,0),0)","v":0},{"$f":"IF(LOADS!$AC808=\"BUS\",IF(LOADS!$AE808=G$1,1,0),0)","v":0},{"$f":"IF(LOADS!$AC808=\"BUS\",IF(LOADS!$AE808=H$1,1,0),0)","v":0},{"$f":"IF(LOADS!$AC808=\"BUS\",IF(LOADS!$AE808=I$1,1,0),0)","v":0},0,{"$f":"LOADS!AM808","v":0}]
[{"$f":"IF(ISBLANK(LOADS!A809),\"\",LOADS!A809)","v":{"$error":"#REF!"}},{"$f":"IF(ISBLANK(LOADS!B809),\"\",LOADS!B809)","v":""},{"$f":"IF(LOADS!$AC809=\"BUS\",IF(LOADS!$AE809=C$1,1,0),0)","v":0},{"$f":"IF(LOADS!$AC809=\"BUS\",IF(LOADS!$AE809=D$1,1,0),0)","v":0},{"$f":"IF(LOADS!$AC809=\"BUS\",IF(LOADS!$AE809=E$1,1,0),0)","v":0},{"$f":"IF(LOADS!$AC809=\"BUS\",IF(LOADS!$AE809=F$1,1,0),0)","v":0},{"$f":"IF(LOADS!$AC809=\"BUS\",IF(LOADS!$AE809=G$1,1,0),0)","v":0},{"$f":"IF(LOADS!$AC809=\"BUS\",IF(LOADS!$AE809=H$1,1,0),0)","v":0},{"$f":"IF(LOADS!$AC809=\"BUS\",IF(LOADS!$AE809=I$1,1,0),0)","v":0},0,{"$f":"LOADS!AM809","v":0}]
[{"$f":"IF(ISBLANK(LOADS!A810),\"\",LOADS!A810)","v":{"$error":"#REF!"}},{"$f":"IF(ISBLANK(LOADS!B810),\"\",LOADS!B810)","v":""},{"$f":"IF(LOADS!$AC810=\"BUS\",IF(LOADS!$AE810=C$1,1,0),0)","v":0},{"$f":"IF(LOADS!$AC810=\"BUS\",IF(LOADS!$AE810=D$1,1,0),0)","v":0},{"$f":"IF(LOADS!$AC810=\"BUS\",IF(LOADS!$AE810=E$1,1,0),0)","v":0},{"$f":"IF(LOADS!$AC810=\"BUS\",IF(LOADS!$AE810=F$1,1,0),0)","v":0},{"$f":"IF(LOADS!$AC810=\"BUS\",IF(LOADS!$AE810=G$1,1,0),0)","v":0},{"$f":"IF(LOADS!$AC810=\"BUS\",IF(LOADS!$AE810=H$1,1,0),0)","v":0},{"$f":"IF(LOADS!$AC810=\"BUS\",IF(LOADS!$AE810=I$1,1,0),0)","v":0},0,{"$f":"LOADS!AM810","v":0}]
[{"$f":"IF(ISBLANK(LOADS!A811),\"\",LOADS!A811)","v":{"$error":"#REF!"}},{"$f":"IF(ISBLANK(LOADS!B811),\"\",LOADS!B811)","v":""},{"$f":"IF(LOADS!$AC811=\"BUS\",IF(LOADS!$AE811=C$1,1,0),0)","v":0},{"$f":"IF(LOADS!$AC811=\"BUS\",IF(LOADS!$AE811=D$1,1,0),0)","v":0},{"$f":"IF(LOADS!$AC811=\"BUS\",IF(LOADS!$AE811=E$1,1,0),0)","v":0},{"$f":"IF(LOADS!$AC811=\"BUS\",IF(LOADS!$AE811=F$1,1,0),0)","v":0},{"$f":"IF(LOADS!$AC811=\"BUS\",IF(LOADS!$AE811=G$1,1,0),0)","v":0},{"$f":"IF(LOADS!$AC811=\"BUS\",IF(LOADS!$AE811=H$1,1,0),0)","v":0},{"$f":"IF(LOADS!$AC811=\"BUS\",IF(LOADS!$AE811=I$1,1,0),0)","v":0},0,{"$f":"LOADS!AM811","v":0}]
[{"$f":"IF(ISBLANK(LOADS!A812),\"\",LOADS!A812)","v":{"$error":"#REF!"}},{"$f":"IF(ISBLANK(LOADS!B812),\"\",LOADS!B812)","v":""},{"$f":"IF(LOADS!$AC812=\"BUS\",IF(LOADS!$AE812=C$1,1,0),0)","v":0},{"$f":"IF(LOADS!$AC812=\"BUS\",IF(LOADS!$AE812=D$1,1,0),0)","v":0},{"$f":"IF(LOADS!$AC812=\"BUS\",IF(LOADS!$AE812=E$1,1,0),0)","v":0},{"$f":"IF(LOADS!$AC812=\"BUS\",IF(LOADS!$AE812=F$1,1,0),0)","v":0},{"$f":"IF(LOADS!$AC812=\"BUS\",IF(LOADS!$AE812=G$1,1,0),0)","v":0},{"$f":"IF(LOADS!$AC812=\"BUS\",IF(LOADS!$AE812=H$1,1,0),0)","v":0},{"$f":"IF(LOADS!$AC812=\"BUS\",IF(LOADS!$AE812=I$1,1,0),0)","v":0},0,{"$f":"LOADS!AM812","v":0}]
[{"$f":"IF(ISBLANK(LOADS!A813),\"\",LOADS!A813)","v":{"$error":"#REF!"}},{"$f":"IF(ISBLANK(LOADS!B813),\"\",LOADS!B813)","v":""},{"$f":"IF(LOADS!$AC813=\"BUS\",IF(LOADS!$AE813=C$1,1,0),0)","v":0},{"$f":"IF(LOADS!$AC813=\"BUS\",IF(LOADS!$AE813=D$1,1,0),0)","v":0},{"$f":"IF(LOADS!$AC813=\"BUS\",IF(LOADS!$AE813=E$1,1,0),0)","v":0},{"$f":"IF(LOADS!$AC813=\"BUS\",IF(LOADS!$AE813=F$1,1,0),0)","v":0},{"$f":"IF(LOADS!$AC813=\"BUS\",IF(LOADS!$AE813=G$1,1,0),0)","v":0},{"$f":"IF(LOADS!$AC813=\"BUS\",IF(LOADS!$AE813=H$1,1,0),0)","v":0},{"$f":"IF(LOADS!$AC813=\"BUS\",IF(LOADS!$AE813=I$1,1,0),0)","v":0},0,{"$f":"LOADS!AM813","v":0}]
[{"$f":"IF(ISBLANK(LOADS!A814),\"\",LOADS!A814)","v":{"$error":"#REF!"}},{"$f":"IF(ISBLANK(LOADS!B814),\"\",LOADS!B814)","v":""},{"$f":"IF(LOADS!$AC814=\"BUS\",IF(LOADS!$AE814=C$1,1,0),0)","v":0},{"$f":"IF(LOADS!$AC814=\"BUS\",IF(LOADS!$AE814=D$1,1,0),0)","v":0},{"$f":"IF(LOADS!$AC814=\"BUS\",IF(LOADS!$AE814=E$1,1,0),0)","v":0},{"$f":"IF(LOADS!$AC814=\"BUS\",IF(LOADS!$AE814=F$1,1,0),0)","v":0},{"$f":"IF(LOADS!$AC814=\"BUS\",IF(LOADS!$AE814=G$1,1,0),0)","v":0},{"$f":"IF(LOADS!$AC814=\"BUS\",IF(LOADS!$AE814=H$1,1,0),0)","v":0},{"$f":"IF(LOADS!$AC814=\"BUS\",IF(LOADS!$AE814=I$1,1,0),0)","v":0},0,{"$f":"LOADS!AM814","v":0}]
[{"$f":"IF(ISBLANK(LOADS!A815),\"\",LOADS!A815)","v":{"$error":"#REF!"}},{"$f":"IF(ISBLANK(LOADS!B815),\"\",LOADS!B815)","v":""},{"$f":"IF(LOADS!$AC815=\"BUS\",IF(LOADS!$AE815=C$1,1,0),0)","v":0},{"$f":"IF(LOADS!$AC815=\"BUS\",IF(LOADS!$AE815=D$1,1,0),0)","v":0},{"$f":"IF(LOADS!$AC815=\"BUS\",IF(LOADS!$AE815=E$1,1,0),0)","v":0},{"$f":"IF(LOADS!$AC815=\"BUS\",IF(LOADS!$AE815=F$1,1,0),0)","v":0},{"$f":"IF(LOADS!$AC815=\"BUS\",IF(LOADS!$AE815=G$1,1,0),0)","v":0},{"$f":"IF(LOADS!$AC815=\"BUS\",IF(LOADS!$AE815=H$1,1,0),0)","v":0},{"$f":"IF(LOADS!$AC815=\"BUS\",IF(LOADS!$AE815=I$1,1,0),0)","v":0},0,{"$f":"LOADS!AM815","v":0}]
[{"$f":"IF(ISBLANK(LOADS!A816),\"\",LOADS!A816)","v":{"$error":"#REF!"}},{"$f":"IF(ISBLANK(LOADS!B816),\"\",LOADS!B816)","v":""},{"$f":"IF(LOADS!$AC816=\"BUS\",IF(LOADS!$AE816=C$1,1,0),0)","v":0},{"$f":"IF(LOADS!$AC816=\"BUS\",IF(LOADS!$AE816=D$1,1,0),0)","v":0},{"$f":"IF(LOADS!$AC816=\"BUS\",IF(LOADS!$AE816=E$1,1,0),0)","v":0},{"$f":"IF(LOADS!$AC816=\"BUS\",IF(LOADS!$AE816=F$1,1,0),0)","v":0},{"$f":"IF(LOADS!$AC816=\"BUS\",IF(LOADS!$AE816=G$1,1,0),0)","v":0},{"$f":"IF(LOADS!$AC816=\"BUS\",IF(LOADS!$AE816=H$1,1,0),0)","v":0},{"$f":"IF(LOADS!$AC816=\"BUS\",IF(LOADS!$AE816=I$1,1,0),0)","v":0},0,{"$f":"LOADS!AM816","v":0}]
[{"$f":"IF(ISBLANK(LOADS!A817),\"\",LOADS!A817)","v":{"$error":"#REF!"}},{"$f":"IF(ISBLANK(LOADS!B817),\"\",LOADS!B817)","v":""},{"$f":"IF(LOADS!$AC817=\"BUS\",IF(LOADS!$AE817=C$1,1,0),0)","v":0},{"$f":"IF(LOADS!$AC817=\"BUS\",IF(LOADS!$AE817=D$1,1,0),0)","v":0},{"$f":"IF(LOADS!$AC817=\"BUS\",IF(LOADS!$AE817=E$1,1,0),0)","v":0},{"$f":"IF(LOADS!$AC817=\"BUS\",IF(LOADS!$AE817=F$1,1,0),0)","v":0},{"$f":"IF(LOADS!$AC817=\"BUS\",IF(LOADS!$AE817=G$1,1,0),0)","v":0},{"$f":"IF(LOADS!$AC817=\"BUS\",IF(LOADS!$AE817=H$1,1,0),0)","v":0},{"$f":"IF(LOADS!$AC817=\"BUS\",IF(LOADS!$AE817=I$1,1,0),0)","v":0},0,{"$f":"LOADS!AM817","v":0}]
[{"$f":"IF(ISBLANK(LOADS!A818),\"\",LOADS!A818)","v":{"$error":"#REF!"}},{"$f":"IF(ISBLANK(LOADS!B818),\"\",LOADS!B818)","v":""},{"$f":"IF(LOADS!$AC818=\"BUS\",IF(LOADS!$AE818=C$1,1,0),0)","v":0},{"$f":"IF(LOADS!$AC818=\"BUS\",IF(LOADS!$AE818=D$1,1,0),0)","v":0},{"$f":"IF(LOADS!$AC818=\"BUS\",IF(LOADS!$AE818=E$1,1,0),0)","v":0},{"$f":"IF(LOADS!$AC818=\"BUS\",IF(LOADS!$AE818=F$1,1,0),0)","v":0},{"$f":"IF(LOADS!$AC818=\"BUS\",IF(LOADS!$AE818=G$1,1,0),0)","v":0},{"$f":"IF(LOADS!$AC818=\"BUS\",IF(LOADS!$AE818=H$1,1,0),0)","v":0},{"$f":"IF(LOADS!$AC818=\"BUS\",IF(LOADS!$AE818=I$1,1,0),0)","v":0},0,{"$f":"LOADS!AM818","v":0}]
[{"$f":"IF(ISBLANK(LOADS!A819),\"\",LOADS!A819)","v":{"$error":"#REF!"}},{"$f":"IF(ISBLANK(LOADS!B819),\"\",LOADS!B819)","v":""},{"$f":"IF(LOADS!$AC819=\"BUS\",IF(LOADS!$AE819=C$1,1,0),0)","v":0},{"$f":"IF(LOADS!$AC819=\"BUS\",IF(LOADS!$AE819=D$1,1,0),0)","v":0},{"$f":"IF(LOADS!$AC819=\"BUS\",IF(LOADS!$AE819=E$1,1,0),0)","v":0},{"$f":"IF(LOADS!$AC819=\"BUS\",IF(LOADS!$AE819=F$1,1,0),0)","v":0},{"$f":"IF(LOADS!$AC819=\"BUS\",IF(LOADS!$AE819=G$1,1,0),0)","v":0},{"$f":"IF(LOADS!$AC819=\"BUS\",IF(LOADS!$AE819=H$1,1,0),0)","v":0},{"$f":"IF(LOADS!$AC819=\"BUS\",IF(LOADS!$AE819=I$1,1,0),0)","v":0},0,{"$f":"LOADS!AM819","v":0}]
[{"$f":"IF(ISBLANK(LOADS!A820),\"\",LOADS!A820)","v":{"$error":"#REF!"}},{"$f":"IF(ISBLANK(LOADS!B820),\"\",LOADS!B820)","v":""},{"$f":"IF(LOADS!$AC820=\"BUS\",IF(LOADS!$AE820=C$1,1,0),0)","v":0},{"$f":"IF(LOADS!$AC820=\"BUS\",IF(LOADS!$AE820=D$1,1,0),0)","v":0},{"$f":"IF(LOADS!$AC820=\"BUS\",IF(LOADS!$AE820=E$1,1,0),0)","v":0},{"$f":"IF(LOADS!$AC820=\"BUS\",IF(LOADS!$AE820=F$1,1,0),0)","v":0},{"$f":"IF(LOADS!$AC820=\"BUS\",IF(LOADS!$AE820=G$1,1,0),0)","v":0},{"$f":"IF(LOADS!$AC820=\"BUS\",IF(LOADS!$AE820=H$1,1,0),0)","v":0},{"$f":"IF(LOADS!$AC820=\"BUS\",IF(LOADS!$AE820=I$1,1,0),0)","v":0},0,{"$f":"LOADS!AM820","v":0}]
[{"$f":"IF(ISBLANK(LOADS!A821),\"\",LOADS!A821)","v":{"$error":"#REF!"}},{"$f":"IF(ISBLANK(LOADS!B821),\"\",LOADS!B821)","v":""},{"$f":"IF(LOADS!$AC821=\"BUS\",IF(LOADS!$AE821=C$1,1,0),0)","v":0},{"$f":"IF(LOADS!$AC821=\"BUS\",IF(LOADS!$AE821=D$1,1,0),0)","v":0},{"$f":"IF(LOADS!$AC821=\"BUS\",IF(LOADS!$AE821=E$1,1,0),0)","v":0},{"$f":"IF(LOADS!$AC821=\"BUS\",IF(LOADS!$AE821=F$1,1,0),0)","v":0},{"$f":"IF(LOADS!$AC821=\"BUS\",IF(LOADS!$AE821=G$1,1,0),0)","v":0},{"$f":"IF(LOADS!$AC821=\"BUS\",IF(LOADS!$AE821=H$1,1,0),0)","v":0},{"$f":"IF(LOADS!$AC821=\"BUS\",IF(LOADS!$AE821=I$1,1,0),0)","v":0},0,{"$f":"LOADS!AM821","v":0}]
[{"$f":"IF(ISBLANK(LOADS!A822),\"\",LOADS!A822)","v":{"$error":"#REF!"}},{"$f":"IF(ISBLANK(LOADS!B822),\"\",LOADS!B822)","v":""},{"$f":"IF(LOADS!$AC822=\"BUS\",IF(LOADS!$AE822=C$1,1,0),0)","v":0},{"$f":"IF(LOADS!$AC822=\"BUS\",IF(LOADS!$AE822=D$1,1,0),0)","v":0},{"$f":"IF(LOADS!$AC822=\"BUS\",IF(LOADS!$AE822=E$1,1,0),0)","v":0},{"$f":"IF(LOADS!$AC822=\"BUS\",IF(LOADS!$AE822=F$1,1,0),0)","v":0},{"$f":"IF(LOADS!$AC822=\"BUS\",IF(LOADS!$AE822=G$1,1,0),0)","v":0},{"$f":"IF(LOADS!$AC822=\"BUS\",IF(LOADS!$AE822=H$1,1,0),0)","v":0},{"$f":"IF(LOADS!$AC822=\"BUS\",IF(LOADS!$AE822=I$1,1,0),0)","v":0},0,{"$f":"LOADS!AM822","v":0}]
[{"$f":"IF(ISBLANK(LOADS!A823),\"\",LOADS!A823)","v":{"$error":"#REF!"}},{"$f":"IF(ISBLANK(LOADS!B823),\"\",LOADS!B823)","v":""},{"$f":"IF(LOADS!$AC823=\"BUS\",IF(LOADS!$AE823=C$1,1,0),0)","v":0},{"$f":"IF(LOADS!$AC823=\"BUS\",IF(LOADS!$AE823=D$1,1,0),0)","v":0},{"$f":"IF(LOADS!$AC823=\"BUS\",IF(LOADS!$AE823=E$1,1,0),0)","v":0},{"$f":"IF(LOADS!$AC823=\"BUS\",IF(LOADS!$AE823=F$1,1,0),0)","v":0},{"$f":"IF(LOADS!$AC823=\"BUS\",IF(LOADS!$AE823=G$1,1,0),0)","v":0},{"$f":"IF(LOADS!$AC823=\"BUS\",IF(LOADS!$AE823=H$1,1,0),0)","v":0},{"$f":"IF(LOADS!$AC823=\"BUS\",IF(LOADS!$AE823=I$1,1,0),0)","v":0},0,{"$f":"LOADS!AM823","v":0}]
[{"$f":"IF(ISBLANK(LOADS!A824),\"\",LOADS!A824)","v":{"$error":"#REF!"}},{"$f":"IF(ISBLANK(LOADS!B824),\"\",LOADS!B824)","v":""},{"$f":"IF(LOADS!$AC824=\"BUS\",IF(LOADS!$AE824=C$1,1,0),0)","v":0},{"$f":"IF(LOADS!$AC824=\"BUS\",IF(LOADS!$AE824=D$1,1,0),0)","v":0},{"$f":"IF(LOADS!$AC824=\"BUS\",IF(LOADS!$AE824=E$1,1,0),0)","v":0},{"$f":"IF(LOADS!$AC824=\"BUS\",IF(LOADS!$AE824=F$1,1,0),0)","v":0},{"$f":"IF(LOADS!$AC824=\"BUS\",IF(LOADS!$AE824=G$1,1,0),0)","v":0},{"$f":"IF(LOADS!$AC824=\"BUS\",IF(LOADS!$AE824=H$1,1,0),0)","v":0},{"$f":"IF(LOADS!$AC824=\"BUS\",IF(LOADS!$AE824=I$1,1,0),0)","v":0},0,{"$f":"LOADS!AM824","v":0}]
[{"$f":"IF(ISBLANK(LOADS!A825),\"\",LOADS!A825)","v":{"$error":"#REF!"}},{"$f":"IF(ISBLANK(LOADS!B825),\"\",LOADS!B825)","v":""},{"$f":"IF(LOADS!$AC825=\"BUS\",IF(LOADS!$AE825=C$1,1,0),0)","v":0},{"$f":"IF(LOADS!$AC825=\"BUS\",IF(LOADS!$AE825=D$1,1,0),0)","v":0},{"$f":"IF(LOADS!$AC825=\"BUS\",IF(LOADS!$AE825=E$1,1,0),0)","v":0},{"$f":"IF(LOADS!$AC825=\"BUS\",IF(LOADS!$AE825=F$1,1,0),0)","v":0},{"$f":"IF(LOADS!$AC825=\"BUS\",IF(LOADS!$AE825=G$1,1,0),0)","v":0},{"$f":"IF(LOADS!$AC825=\"BUS\",IF(LOADS!$AE825=H$1,1,0),0)","v":0},{"$f":"IF(LOADS!$AC825=\"BUS\",IF(LOADS!$AE825=I$1,1,0),0)","v":0},0,{"$f":"LOADS!AM825","v":0}]
[{"$f":"IF(ISBLANK(LOADS!A826),\"\",LOADS!A826)","v":{"$error":"#REF!"}},{"$f":"IF(ISBLANK(LOADS!B826),\"\",LOADS!B826)","v":""},{"$f":"IF(LOADS!$AC826=\"BUS\",IF(LOADS!$AE826=C$1,1,0),0)","v":0},{"$f":"IF(LOADS!$AC826=\"BUS\",IF(LOADS!$AE826=D$1,1,0),0)","v":0},{"$f":"IF(LOADS!$AC826=\"BUS\",IF(LOADS!$AE826=E$1,1,0),0)","v":0},{"$f":"IF(LOADS!$AC826=\"BUS\",IF(LOADS!$AE826=F$1,1,0),0)","v":0},{"$f":"IF(LOADS!$AC826=\"BUS\",IF(LOADS!$AE826=G$1,1,0),0)","v":0},{"$f":"IF(LOADS!$AC826=\"BUS\",IF(LOADS!$AE826=H$1,1,0),0)","v":0},{"$f":"IF(LOADS!$AC826=\"BUS\",IF(LOADS!$AE826=I$1,1,0),0)","v":0},0,{"$f":"LOADS!AM826","v":0}]
[{"$f":"IF(ISBLANK(LOADS!A827),\"\",LOADS!A827)","v":{"$error":"#REF!"}},{"$f":"IF(ISBLANK(LOADS!B827),\"\",LOADS!B827)","v":""},{"$f":"IF(LOADS!$AC827=\"BUS\",IF(LOADS!$AE827=C$1,1,0),0)","v":0},{"$f":"IF(LOADS!$AC827=\"BUS\",IF(LOADS!$AE827=D$1,1,0),0)","v":0},{"$f":"IF(LOADS!$AC827=\"BUS\",IF(LOADS!$AE827=E$1,1,0),0)","v":0},{"$f":"IF(LOADS!$AC827=\"BUS\",IF(LOADS!$AE827=F$1,1,0),0)","v":0},{"$f":"IF(LOADS!$AC827=\"BUS\",IF(LOADS!$AE827=G$1,1,0),0)","v":0},{"$f":"IF(LOADS!$AC827=\"BUS\",IF(LOADS!$AE827=H$1,1,0),0)","v":0},{"$f":"IF(LOADS!$AC827=\"BUS\",IF(LOADS!$AE827=I$1,1,0),0)","v":0},0,{"$f":"LOADS!AM827","v":0}]
[{"$f":"IF(ISBLANK(LOADS!A828),\"\",LOADS!A828)","v":{"$error":"#REF!"}},{"$f":"IF(ISBLANK(LOADS!B828),\"\",LOADS!B828)","v":""},{"$f":"IF(LOADS!$AC828=\"BUS\",IF(LOADS!$AE828=C$1,1,0),0)","v":0},{"$f":"IF(LOADS!$AC828=\"BUS\",IF(LOADS!$AE828=D$1,1,0),0)","v":0},{"$f":"IF(LOADS!$AC828=\"BUS\",IF(LOADS!$AE828=E$1,1,0),0)","v":0},{"$f":"IF(LOADS!$AC828=\"BUS\",IF(LOADS!$AE828=F$1,1,0),0)","v":0},{"$f":"IF(LOADS!$AC828=\"BUS\",IF(LOADS!$AE828=G$1,1,0),0)","v":0},{"$f":"IF(LOADS!$AC828=\"BUS\",IF(LOADS!$AE828=H$1,1,0),0)","v":0},{"$f":"IF(LOADS!$AC828=\"BUS\",IF(LOADS!$AE828=I$1,1,0),0)","v":0},0,{"$f":"LOADS!AM828","v":0}]
[{"$f":"IF(ISBLANK(LOADS!A829),\"\",LOADS!A829)","v":{"$error":"#REF!"}},{"$f":"IF(ISBLANK(LOADS!B829),\"\",LOADS!B829)","v":""},{"$f":"IF(LOADS!$AC829=\"BUS\",IF(LOADS!$AE829=C$1,1,0),0)","v":0},{"$f":"IF(LOADS!$AC829=\"BUS\",IF(LOADS!$AE829=D$1,1,0),0)","v":0},{"$f":"IF(LOADS!$AC829=\"BUS\",IF(LOADS!$AE829=E$1,1,0),0)","v":0},{"$f":"IF(LOADS!$AC829=\"BUS\",IF(LOADS!$AE829=F$1,1,0),0)","v":0},{"$f":"IF(LOADS!$AC829=\"BUS\",IF(LOADS!$AE829=G$1,1,0),0)","v":0},{"$f":"IF(LOADS!$AC829=\"BUS\",IF(LOADS!$AE829=H$1,1,0),0)","v":0},{"$f":"IF(LOADS!$AC829=\"BUS\",IF(LOADS!$AE829=I$1,1,0),0)","v":0},0,{"$f":"LOADS!AM829","v":0}]
[{"$f":"IF(ISBLANK(LOADS!A830),\"\",LOADS!A830)","v":{"$error":"#REF!"}},{"$f":"IF(ISBLANK(LOADS!B830),\"\",LOADS!B830)","v":""},{"$f":"IF(LOADS!$AC830=\"BUS\",IF(LOADS!$AE830=C$1,1,0),0)","v":0},{"$f":"IF(LOADS!$AC830=\"BUS\",IF(LOADS!$AE830=D$1,1,0),0)","v":0},{"$f":"IF(LOADS!$AC830=\"BUS\",IF(LOADS!$AE830=E$1,1,0),0)","v":0},{"$f":"IF(LOADS!$AC830=\"BUS\",IF(LOADS!$AE830=F$1,1,0),0)","v":0},{"$f":"IF(LOADS!$AC830=\"BUS\",IF(LOADS!$AE830=G$1,1,0),0)","v":0},{"$f":"IF(LOADS!$AC830=\"BUS\",IF(LOADS!$AE830=H$1,1,0),0)","v":0},{"$f":"IF(LOADS!$AC830=\"BUS\",IF(LOADS!$AE830=I$1,1,0),0)","v":0},0,{"$f":"LOADS!AM830","v":0}]
[{"$f":"IF(ISBLANK(LOADS!A831),\"\",LOADS!A831)","v":{"$error":"#REF!"}},{"$f":"IF(ISBLANK(LOADS!B831),\"\",LOADS!B831)","v":""},{"$f":"IF(LOADS!$AC831=\"BUS\",IF(LOADS!$AE831=C$1,1,0),0)","v":0},{"$f":"IF(LOADS!$AC831=\"BUS\",IF(LOADS!$AE831=D$1,1,0),0)","v":0},{"$f":"IF(LOADS!$AC831=\"BUS\",IF(LOADS!$AE831=E$1,1,0),0)","v":0},{"$f":"IF(LOADS!$AC831=\"BUS\",IF(LOADS!$AE831=F$1,1,0),0)","v":0},{"$f":"IF(LOADS!$AC831=\"BUS\",IF(LOADS!$AE831=G$1,1,0),0)","v":0},{"$f":"IF(LOADS!$AC831=\"BUS\",IF(LOADS!$AE831=H$1,1,0),0)","v":0},{"$f":"IF(LOADS!$AC831=\"BUS\",IF(LOADS!$AE831=I$1,1,0),0)","v":0},0,{"$f":"LOADS!AM831","v":0}]
[{"$f":"IF(ISBLANK(LOADS!A832),\"\",LOADS!A832)","v":{"$error":"#REF!"}},{"$f":"IF(ISBLANK(LOADS!B832),\"\",LOADS!B832)","v":""},{"$f":"IF(LOADS!$AC832=\"BUS\",IF(LOADS!$AE832=C$1,1,0),0)","v":0},{"$f":"IF(LOADS!$AC832=\"BUS\",IF(LOADS!$AE832=D$1,1,0),0)","v":0},{"$f":"IF(LOADS!$AC832=\"BUS\",IF(LOADS!$AE832=E$1,1,0),0)","v":0},{"$f":"IF(LOADS!$AC832=\"BUS\",IF(LOADS!$AE832=F$1,1,0),0)","v":0},{"$f":"IF(LOADS!$AC832=\"BUS\",IF(LOADS!$AE832=G$1,1,0),0)","v":0},{"$f":"IF(LOADS!$AC832=\"BUS\",IF(LOADS!$AE832=H$1,1,0),0)","v":0},{"$f":"IF(LOADS!$AC832=\"BUS\",IF(LOADS!$AE832=I$1,1,0),0)","v":0},0,{"$f":"LOADS!AM832","v":0}]
[{"$f":"IF(ISBLANK(LOADS!A833),\"\",LOADS!A833)","v":{"$error":"#REF!"}},{"$f":"IF(ISBLANK(LOADS!B833),\"\",LOADS!B833)","v":""},{"$f":"IF(LOADS!$AC833=\"BUS\",IF(LOADS!$AE833=C$1,1,0),0)","v":0},{"$f":"IF(LOADS!$AC833=\"BUS\",IF(LOADS!$AE833=D$1,1,0),0)","v":0},{"$f":"IF(LOADS!$AC833=\"BUS\",IF(LOADS!$AE833=E$1,1,0),0)","v":0},{"$f":"IF(LOADS!$AC833=\"BUS\",IF(LOADS!$AE833=F$1,1,0),0)","v":0},{"$f":"IF(LOADS!$AC833=\"BUS\",IF(LOADS!$AE833=G$1,1,0),0)","v":0},{"$f":"IF(LOADS!$AC833=\"BUS\",IF(LOADS!$AE833=H$1,1,0),0)","v":0},{"$f":"IF(LOADS!$AC833=\"BUS\",IF(LOADS!$AE833=I$1,1,0),0)","v":0},0,{"$f":"LOADS!AM833","v":0}]
[{"$f":"IF(ISBLANK(LOADS!A834),\"\",LOADS!A834)","v":{"$error":"#REF!"}},{"$f":"IF(ISBLANK(LOADS!B834),\"\",LOADS!B834)","v":""},{"$f":"IF(LOADS!$AC834=\"BUS\",IF(LOADS!$AE834=C$1,1,0),0)","v":0},{"$f":"IF(LOADS!$AC834=\"BUS\",IF(LOADS!$AE834=D$1,1,0),0)","v":0},{"$f":"IF(LOADS!$AC834=\"BUS\",IF(LOADS!$AE834=E$1,1,0),0)","v":0},{"$f":"IF(LOADS!$AC834=\"BUS\",IF(LOADS!$AE834=F$1,1,0),0)","v":0},{"$f":"IF(LOADS!$AC834=\"BUS\",IF(LOADS!$AE834=G$1,1,0),0)","v":0},{"$f":"IF(LOADS!$AC834=\"BUS\",IF(LOADS!$AE834=H$1,1,0),0)","v":0},{"$f":"IF(LOADS!$AC834=\"BUS\",IF(LOADS!$AE834=I$1,1,0),0)","v":0},{"$f":"SUM(C837:I837)","v":0},{"$f":"LOADS!AM834","v":0}]
[{"$f":"IF(ISBLANK(LOADS!A835),\"\",LOADS!A835)","v":{"$error":"#REF!"}},{"$f":"IF(ISBLANK(LOADS!B835),\"\",LOADS!B835)","v":""},{"$f":"IF(LOADS!$AC835=\"BUS\",IF(LOADS!$AE835=C$1,1,0),0)","v":0},{"$f":"IF(LOADS!$AC835=\"BUS\",IF(LOADS!$AE835=D$1,1,0),0)","v":0},{"$f":"IF(LOADS!$AC835=\"BUS\",IF(LOADS!$AE835=E$1,1,0),0)","v":0},{"$f":"IF(LOADS!$AC835=\"BUS\",IF(LOADS!$AE835=F$1,1,0),0)","v":0},{"$f":"IF(LOADS!$AC835=\"BUS\",IF(LOADS!$AE835=G$1,1,0),0)","v":0},{"$f":"IF(LOADS!$AC835=\"BUS\",IF(LOADS!$AE835=H$1,1,0),0)","v":0},{"$f":"IF(LOADS!$AC835=\"BUS\",IF(LOADS!$AE835=I$1,1,0),0)","v":0},0,{"$f":"LOADS!AM835","v":0}]
[{"$f":"IF(ISBLANK(LOADS!A836),\"\",LOADS!A836)","v":{"$error":"#REF!"}},{"$f":"IF(ISBLANK(LOADS!B836),\"\",LOADS!B836)","v":""},{"$f":"IF(LOADS!$AC836=\"BUS\",IF(LOADS!$AE836=C$1,1,0),0)","v":0},{"$f":"IF(LOADS!$AC836=\"BUS\",IF(LOADS!$AE836=D$1,1,0),0)","v":0},{"$f":"IF(LOADS!$AC836=\"BUS\",IF(LOADS!$AE836=E$1,1,0),0)","v":0},{"$f":"IF(LOADS!$AC836=\"BUS\",IF(LOADS!$AE836=F$1,1,0),0)","v":0},{"$f":"IF(LOADS!$AC836=\"BUS\",IF(LOADS!$AE836=G$1,1,0),0)","v":0},{"$f":"IF(LOADS!$AC836=\"BUS\",IF(LOADS!$AE836=H$1,1,0),0)","v":0},{"$f":"IF(LOADS!$AC836=\"BUS\",IF(LOADS!$AE836=I$1,1,0),0)","v":0},0,{"$f":"LOADS!AM836","v":0}]
[{"$f":"IF(ISBLANK(LOADS!A837),\"\",LOADS!A837)","v":{"$error":"#REF!"}},{"$f":"IF(ISBLANK(LOADS!B837),\"\",LOADS!B837)","v":""},{"$f":"IF(LOADS!$AC837=\"BUS\",IF(LOADS!$AE837=C$1,1,0),0)","v":0},{"$f":"IF(LOADS!$AC837=\"BUS\",IF(LOADS!$AE837=D$1,1,0),0)","v":0},{"$f":"IF(LOADS!$AC837=\"BUS\",IF(LOADS!$AE837=E$1,1,0),0)","v":0},{"$f":"IF(LOADS!$AC837=\"BUS\",IF(LOADS!$AE837=F$1,1,0),0)","v":0},{"$f":"IF(LOADS!$AC837=\"BUS\",IF(LOADS!$AE837=G$1,1,0),0)","v":0},{"$f":"IF(LOADS!$AC837=\"BUS\",IF(LOADS!$AE837=H$1,1,0),0)","v":0},{"$f":"IF(LOADS!$AC837=\"BUS\",IF(LOADS!$AE837=I$1,1,0),0)","v":0},0,{"$f":"LOADS!AM837","v":0}]
[{"$f":"IF(ISBLANK(LOADS!A838),\"\",LOADS!A838)","v":{"$error":"#REF!"}},{"$f":"IF(ISBLANK(LOADS!B838),\"\",LOADS!B838)","v":""},{"$f":"IF(LOADS!$AC838=\"BUS\",IF(LOADS!$AE838=C$1,1,0),0)","v":0},{"$f":"IF(LOADS!$AC838=\"BUS\",IF(LOADS!$AE838=D$1,1,0),0)","v":0},{"$f":"IF(LOADS!$AC838=\"BUS\",IF(LOADS!$AE838=E$1,1,0),0)","v":0},{"$f":"IF(LOADS!$AC838=\"BUS\",IF(LOADS!$AE838=F$1,1,0),0)","v":0},{"$f":"IF(LOADS!$AC838=\"BUS\",IF(LOADS!$AE838=G$1,1,0),0)","v":0},{"$f":"IF(LOADS!$AC838=\"BUS\",IF(LOADS!$AE838=H$1,1,0),0)","v":0},{"$f":"IF(LOADS!$AC838=\"BUS\",IF(LOADS!$AE838=I$1,1,0),0)","v":0},0,{"$f":"LOADS!AM838","v":0}]
[{"$f":"IF(ISBLANK(LOADS!A839),\"\",LOADS!A839)","v":{"$error":"#REF!"}},{"$f":"IF(ISBLANK(LOADS!B839),\"\",LOADS!B839)","v":""},{"$f":"IF(LOADS!$AC839=\"BUS\",IF(LOADS!$AE839=C$1,1,0),0)","v":0},{"$f":"IF(LOADS!$AC839=\"BUS\",IF(LOADS!$AE839=D$1,1,0),0)","v":0},{"$f":"IF(LOADS!$AC839=\"BUS\",IF(LOADS!$AE839=E$1,1,0),0)","v":0},{"$f":"IF(LOADS!$AC839=\"BUS\",IF(LOADS!$AE839=F$1,1,0),0)","v":0},{"$f":"IF(LOADS!$AC839=\"BUS\",IF(LOADS!$AE839=G$1,1,0),0)","v":0},{"$f":"IF(LOADS!$AC839=\"BUS\",IF(LOADS!$AE839=H$1,1,0),0)","v":0},{"$f":"IF(LOADS!$AC839=\"BUS\",IF(LOADS!$AE839=I$1,1,0),0)","v":0},0,{"$f":"LOADS!AM839","v":0}]
[{"$f":"IF(ISBLANK(LOADS!A840),\"\",LOADS!A840)","v":{"$error":"#REF!"}},{"$f":"IF(ISBLANK(LOADS!B840),\"\",LOADS!B840)","v":""},{"$f":"IF(LOADS!$AC840=\"BUS\",IF(LOADS!$AE840=C$1,1,0),0)","v":0},{"$f":"IF(LOADS!$AC840=\"BUS\",IF(LOADS!$AE840=D$1,1,0),0)","v":0},{"$f":"IF(LOADS!$AC840=\"BUS\",IF(LOADS!$AE840=E$1,1,0),0)","v":0},{"$f":"IF(LOADS!$AC840=\"BUS\",IF(LOADS!$AE840=F$1,1,0),0)","v":0},{"$f":"IF(LOADS!$AC840=\"BUS\",IF(LOADS!$AE840=G$1,1,0),0)","v":0},{"$f":"IF(LOADS!$AC840=\"BUS\",IF(LOADS!$AE840=H$1,1,0),0)","v":0},{"$f":"IF(LOADS!$AC840=\"BUS\",IF(LOADS!$AE840=I$1,1,0),0)","v":0},0,{"$f":"LOADS!AM840","v":0}]
[{"$f":"IF(ISBLANK(LOADS!A841),\"\",LOADS!A841)","v":{"$error":"#REF!"}},{"$f":"IF(ISBLANK(LOADS!B841),\"\",LOADS!B841)","v":""},{"$f":"IF(LOADS!$AC841=\"BUS\",IF(LOADS!$AE841=C$1,1,0),0)","v":0},{"$f":"IF(LOADS!$AC841=\"BUS\",IF(LOADS!$AE841=D$1,1,0),0)","v":0},{"$f":"IF(LOADS!$AC841=\"BUS\",IF(LOADS!$AE841=E$1,1,0),0)","v":0},{"$f":"IF(LOADS!$AC841=\"BUS\",IF(LOADS!$AE841=F$1,1,0),0)","v":0},{"$f":"IF(LOADS!$AC841=\"BUS\",IF(LOADS!$AE841=G$1,1,0),0)","v":0},{"$f":"IF(LOADS!$AC841=\"BUS\",IF(LOADS!$AE841=H$1,1,0),0)","v":0},{"$f":"IF(LOADS!$AC841=\"BUS\",IF(LOADS!$AE841=I$1,1,0),0)","v":0},0,{"$f":"LOADS!AM841","v":0}]
[{"$f":"IF(ISBLANK(LOADS!A842),\"\",LOADS!A842)","v":{"$error":"#REF!"}},{"$f":"IF(ISBLANK(LOADS!B842),\"\",LOADS!B842)","v":""},{"$f":"IF(LOADS!$AC842=\"BUS\",IF(LOADS!$AE842=C$1,1,0),0)","v":0},{"$f":"IF(LOADS!$AC842=\"BUS\",IF(LOADS!$AE842=D$1,1,0),0)","v":0},{"$f":"IF(LOADS!$AC842=\"BUS\",IF(LOADS!$AE842=E$1,1,0),0)","v":0},{"$f":"IF(LOADS!$AC842=\"BUS\",IF(LOADS!$AE842=F$1,1,0),0)","v":0},{"$f":"IF(LOADS!$AC842=\"BUS\",IF(LOADS!$AE842=G$1,1,0),0)","v":0},{"$f":"IF(LOADS!$AC842=\"BUS\",IF(LOADS!$AE842=H$1,1,0),0)","v":0},{"$f":"IF(LOADS!$AC842=\"BUS\",IF(LOADS!$AE842=I$1,1,0),0)","v":0},0,{"$f":"LOADS!AM842","v":0}]
[{"$f":"IF(ISBLANK(LOADS!A843),\"\",LOADS!A843)","v":{"$error":"#REF!"}},{"$f":"IF(ISBLANK(LOADS!B843),\"\",LOADS!B843)","v":""},{"$f":"IF(LOADS!$AC843=\"BUS\",IF(LOADS!$AE843=C$1,1,0),0)","v":0},{"$f":"IF(LOADS!$AC843=\"BUS\",IF(LOADS!$AE843=D$1,1,0),0)","v":0},{"$f":"IF(LOADS!$AC843=\"BUS\",IF(LOADS!$AE843=E$1,1,0),0)","v":0},{"$f":"IF(LOADS!$AC843=\"BUS\",IF(LOADS!$AE843=F$1,1,0),0)","v":0},{"$f":"IF(LOADS!$AC843=\"BUS\",IF(LOADS!$AE843=G$1,1,0),0)","v":0},{"$f":"IF(LOADS!$AC843=\"BUS\",IF(LOADS!$AE843=H$1,1,0),0)","v":0},{"$f":"IF(LOADS!$AC843=\"BUS\",IF(LOADS!$AE843=I$1,1,0),0)","v":0},0,{"$f":"LOADS!AM843","v":0}]
[{"$f":"IF(ISBLANK(LOADS!A844),\"\",LOADS!A844)","v":{"$error":"#REF!"}},{"$f":"IF(ISBLANK(LOADS!B844),\"\",LOADS!B844)","v":""},{"$f":"IF(LOADS!$AC844=\"BUS\",IF(LOADS!$AE844=C$1,1,0),0)","v":0},{"$f":"IF(LOADS!$AC844=\"BUS\",IF(LOADS!$AE844=D$1,1,0),0)","v":0},{"$f":"IF(LOADS!$AC844=\"BUS\",IF(LOADS!$AE844=E$1,1,0),0)","v":0},{"$f":"IF(LOADS!$AC844=\"BUS\",IF(LOADS!$AE844=F$1,1,0),0)","v":0},{"$f":"IF(LOADS!$AC844=\"BUS\",IF(LOADS!$AE844=G$1,1,0),0)","v":0},{"$f":"IF(LOADS!$AC844=\"BUS\",IF(LOADS!$AE844=H$1,1,0),0)","v":0},{"$f":"IF(LOADS!$AC844=\"BUS\",IF(LOADS!$AE844=I$1,1,0),0)","v":0},0,{"$f":"LOADS!AM844","v":0}]
[{"$f":"IF(ISBLANK(LOADS!A845),\"\",LOADS!A845)","v":{"$error":"#REF!"}},{"$f":"IF(ISBLANK(LOADS!B845),\"\",LOADS!B845)","v":""},{"$f":"IF(LOADS!$AC845=\"BUS\",IF(LOADS!$AE845=C$1,1,0),0)","v":0},{"$f":"IF(LOADS!$AC845=\"BUS\",IF(LOADS!$AE845=D$1,1,0),0)","v":0},{"$f":"IF(LOADS!$AC845=\"BUS\",IF(LOADS!$AE845=E$1,1,0),0)","v":0},{"$f":"IF(LOADS!$AC845=\"BUS\",IF(LOADS!$AE845=F$1,1,0),0)","v":0},{"$f":"IF(LOADS!$AC845=\"BUS\",IF(LOADS!$AE845=G$1,1,0),0)","v":0},{"$f":"IF(LOADS!$AC845=\"BUS\",IF(LOADS!$AE845=H$1,1,0),0)","v":0},{"$f":"IF(LOADS!$AC845=\"BUS\",IF(LOADS!$AE845=I$1,1,0),0)","v":0},0,{"$f":"LOADS!AM845","v":0}]
[{"$f":"IF(ISBLANK(LOADS!A846),\"\",LOADS!A846)","v":{"$error":"#REF!"}},{"$f":"IF(ISBLANK(LOADS!B846),\"\",LOADS!B846)","v":""},{"$f":"IF(LOADS!$AC846=\"BUS\",IF(LOADS!$AE846=C$1,1,0),0)","v":0},{"$f":"IF(LOADS!$AC846=\"BUS\",IF(LOADS!$AE846=D$1,1,0),0)","v":0},{"$f":"IF(LOADS!$AC846=\"BUS\",IF(LOADS!$AE846=E$1,1,0),0)","v":0},{"$f":"IF(LOADS!$AC846=\"BUS\",IF(LOADS!$AE846=F$1,1,0),0)","v":0},{"$f":"IF(LOADS!$AC846=\"BUS\",IF(LOADS!$AE846=G$1,1,0),0)","v":0},{"$f":"IF(LOADS!$AC846=\"BUS\",IF(LOADS!$AE846=H$1,1,0),0)","v":0},{"$f":"IF(LOADS!$AC846=\"BUS\",IF(LOADS!$AE846=I$1,1,0),0)","v":0},0,{"$f":"LOADS!AM846","v":0}]
[{"$f":"IF(ISBLANK(LOADS!A847),\"\",LOADS!A847)","v":{"$error":"#REF!"}},{"$f":"IF(ISBLANK(LOADS!B847),\"\",LOADS!B847)","v":""},{"$f":"IF(LOADS!$AC847=\"BUS\",IF(LOADS!$AE847=C$1,1,0),0)","v":0},{"$f":"IF(LOADS!$AC847=\"BUS\",IF(LOADS!$AE847=D$1,1,0),0)","v":0},{"$f":"IF(LOADS!$AC847=\"BUS\",IF(LOADS!$AE847=E$1,1,0),0)","v":0},{"$f":"IF(LOADS!$AC847=\"BUS\",IF(LOADS!$AE847=F$1,1,0),0)","v":0},{"$f":"IF(LOADS!$AC847=\"BUS\",IF(LOADS!$AE847=G$1,1,0),0)","v":0},{"$f":"IF(LOADS!$AC847=\"BUS\",IF(LOADS!$AE847=H$1,1,0),0)","v":0},{"$f":"IF(LOADS!$AC847=\"BUS\",IF(LOADS!$AE847=I$1,1,0),0)","v":0},0,{"$f":"LOADS!AM847","v":0}]
[{"$f":"IF(ISBLANK(LOADS!A848),\"\",LOADS!A848)","v":{"$error":"#REF!"}},{"$f":"IF(ISBLANK(LOADS!B848),\"\",LOADS!B848)","v":""},{"$f":"IF(LOADS!$AC848=\"BUS\",IF(LOADS!$AE848=C$1,1,0),0)","v":0},{"$f":"IF(LOADS!$AC848=\"BUS\",IF(LOADS!$AE848=D$1,1,0),0)","v":0},{"$f":"IF(LOADS!$AC848=\"BUS\",IF(LOADS!$AE848=E$1,1,0),0)","v":0},{"$f":"IF(LOADS!$AC848=\"BUS\",IF(LOADS!$AE848=F$1,1,0),0)","v":0},{"$f":"IF(LOADS!$AC848=\"BUS\",IF(LOADS!$AE848=G$1,1,0),0)","v":0},{"$f":"IF(LOADS!$AC848=\"BUS\",IF(LOADS!$AE848=H$1,1,0),0)","v":0},{"$f":"IF(LOADS!$AC848=\"BUS\",IF(LOADS!$AE848=I$1,1,0),0)","v":0},0,{"$f":"LOADS!AM848","v":0}]
[{"$f":"IF(ISBLANK(LOADS!A849),\"\",LOADS!A849)","v":{"$error":"#REF!"}},{"$f":"IF(ISBLANK(LOADS!B849),\"\",LOADS!B849)","v":""},{"$f":"IF(LOADS!$AC849=\"BUS\",IF(LOADS!$AE849=C$1,1,0),0)","v":0},{"$f":"IF(LOADS!$AC849=\"BUS\",IF(LOADS!$AE849=D$1,1,0),0)","v":0},{"$f":"IF(LOADS!$AC849=\"BUS\",IF(LOADS!$AE849=E$1,1,0),0)","v":0},{"$f":"IF(LOADS!$AC849=\"BUS\",IF(LOADS!$AE849=F$1,1,0),0)","v":0},{"$f":"IF(LOADS!$AC849=\"BUS\",IF(LOADS!$AE849=G$1,1,0),0)","v":0},{"$f":"IF(LOADS!$AC849=\"BUS\",IF(LOADS!$AE849=H$1,1,0),0)","v":0},{"$f":"IF(LOADS!$AC849=\"BUS\",IF(LOADS!$AE849=I$1,1,0),0)","v":0},0,{"$f":"LOADS!AM849","v":0}]
[{"$f":"IF(ISBLANK(LOADS!A850),\"\",LOADS!A850)","v":{"$error":"#REF!"}},{"$f":"IF(ISBLANK(LOADS!B850),\"\",LOADS!B850)","v":""},{"$f":"IF(LOADS!$AC850=\"BUS\",IF(LOADS!$AE850=C$1,1,0),0)","v":0},{"$f":"IF(LOADS!$AC850=\"BUS\",IF(LOADS!$AE850=D$1,1,0),0)","v":0},{"$f":"IF(LOADS!$AC850=\"BUS\",IF(LOADS!$AE850=E$1,1,0),0)","v":0},{"$f":"IF(LOADS!$AC850=\"BUS\",IF(LOADS!$AE850=F$1,1,0),0)","v":0},{"$f":"IF(LOADS!$AC850=\"BUS\",IF(LOADS!$AE850=G$1,1,0),0)","v":0},{"$f":"IF(LOADS!$AC850=\"BUS\",IF(LOADS!$AE850=H$1,1,0),0)","v":0},{"$f":"IF(LOADS!$AC850=\"BUS\",IF(LOADS!$AE850=I$1,1,0),0)","v":0},0,{"$f":"LOADS!AM850","v":0}]
[{"$f":"IF(ISBLANK(LOADS!A851),\"\",LOADS!A851)","v":{"$error":"#REF!"}},{"$f":"IF(ISBLANK(LOADS!B851),\"\",LOADS!B851)","v":""},{"$f":"IF(LOADS!$AC851=\"BUS\",IF(LOADS!$AE851=C$1,1,0),0)","v":0},{"$f":"IF(LOADS!$AC851=\"BUS\",IF(LOADS!$AE851=D$1,1,0),0)","v":0},{"$f":"IF(LOADS!$AC851=\"BUS\",IF(LOADS!$AE851=E$1,1,0),0)","v":0},{"$f":"IF(LOADS!$AC851=\"BUS\",IF(LOADS!$AE851=F$1,1,0),0)","v":0},{"$f":"IF(LOADS!$AC851=\"BUS\",IF(LOADS!$AE851=G$1,1,0),0)","v":0},{"$f":"IF(LOADS!$AC851=\"BUS\",IF(LOADS!$AE851=H$1,1,0),0)","v":0},{"$f":"IF(LOADS!$AC851=\"BUS\",IF(LOADS!$AE851=I$1,1,0),0)","v":0},0,{"$f":"LOADS!AM851","v":0}]
[{"$f":"IF(ISBLANK(LOADS!A852),\"\",LOADS!A852)","v":{"$error":"#REF!"}},{"$f":"IF(ISBLANK(LOADS!B852),\"\",LOADS!B852)","v":""},{"$f":"IF(LOADS!$AC852=\"BUS\",IF(LOADS!$AE852=C$1,1,0),0)","v":0},{"$f":"IF(LOADS!$AC852=\"BUS\",IF(LOADS!$AE852=D$1,1,0),0)","v":0},{"$f":"IF(LOADS!$AC852=\"BUS\",IF(LOADS!$AE852=E$1,1,0),0)","v":0},{"$f":"IF(LOADS!$AC852=\"BUS\",IF(LOADS!$AE852=F$1,1,0),0)","v":0},{"$f":"IF(LOADS!$AC852=\"BUS\",IF(LOADS!$AE852=G$1,1,0),0)","v":0},{"$f":"IF(LOADS!$AC852=\"BUS\",IF(LOADS!$AE852=H$1,1,0),0)","v":0},{"$f":"IF(LOADS!$AC852=\"BUS\",IF(LOADS!$AE852=I$1,1,0),0)","v":0},0,{"$f":"LOADS!AM852","v":0}]
[{"$f":"IF(ISBLANK(LOADS!A853),\"\",LOADS!A853)","v":{"$error":"#REF!"}},{"$f":"IF(ISBLANK(LOADS!B853),\"\",LOADS!B853)","v":""},{"$f":"IF(LOADS!$AC853=\"BUS\",IF(LOADS!$AE853=C$1,1,0),0)","v":0},{"$f":"IF(LOADS!$AC853=\"BUS\",IF(LOADS!$AE853=D$1,1,0),0)","v":0},{"$f":"IF(LOADS!$AC853=\"BUS\",IF(LOADS!$AE853=E$1,1,0),0)","v":0},{"$f":"IF(LOADS!$AC853=\"BUS\",IF(LOADS!$AE853=F$1,1,0),0)","v":0},{"$f":"IF(LOADS!$AC853=\"BUS\",IF(LOADS!$AE853=G$1,1,0),0)","v":0},{"$f":"IF(LOADS!$AC853=\"BUS\",IF(LOADS!$AE853=H$1,1,0),0)","v":0},{"$f":"IF(LOADS!$AC853=\"BUS\",IF(LOADS!$AE853=I$1,1,0),0)","v":0},0,{"$f":"LOADS!AM853","v":0}]
[{"$f":"IF(ISBLANK(LOADS!A854),\"\",LOADS!A854)","v":{"$error":"#REF!"}},{"$f":"IF(ISBLANK(LOADS!B854),\"\",LOADS!B854)","v":""},{"$f":"IF(LOADS!$AC854=\"BUS\",IF(LOADS!$AE854=C$1,1,0),0)","v":0},{"$f":"IF(LOADS!$AC854=\"BUS\",IF(LOADS!$AE854=D$1,1,0),0)","v":0},{"$f":"IF(LOADS!$AC854=\"BUS\",IF(LOADS!$AE854=E$1,1,0),0)","v":0},{"$f":"IF(LOADS!$AC854=\"BUS\",IF(LOADS!$AE854=F$1,1,0),0)","v":0},{"$f":"IF(LOADS!$AC854=\"BUS\",IF(LOADS!$AE854=G$1,1,0),0)","v":0},{"$f":"IF(LOADS!$AC854=\"BUS\",IF(LOADS!$AE854=H$1,1,0),0)","v":0},{"$f":"IF(LOADS!$AC854=\"BUS\",IF(LOADS!$AE854=I$1,1,0),0)","v":0},0,{"$f":"LOADS!AM854","v":0}]
[{"$f":"IF(ISBLANK(LOADS!A855),\"\",LOADS!A855)","v":{"$error":"#REF!"}},{"$f":"IF(ISBLANK(LOADS!B855),\"\",LOADS!B855)","v":""},{"$f":"IF(LOADS!$AC855=\"BUS\",IF(LOADS!$AE855=C$1,1,0),0)","v":0},{"$f":"IF(LOADS!$AC855=\"BUS\",IF(LOADS!$AE855=D$1,1,0),0)","v":0},{"$f":"IF(LOADS!$AC855=\"BUS\",IF(LOADS!$AE855=E$1,1,0),0)","v":0},{"$f":"IF(LOADS!$AC855=\"BUS\",IF(LOADS!$AE855=F$1,1,0),0)","v":0},{"$f":"IF(LOADS!$AC855=\"BUS\",IF(LOADS!$AE855=G$1,1,0),0)","v":0},{"$f":"IF(LOADS!$AC855=\"BUS\",IF(LOADS!$AE855=H$1,1,0),0)","v":0},{"$f":"IF(LOADS!$AC855=\"BUS\",IF(LOADS!$AE855=I$1,1,0),0)","v":0},0,{"$f":"LOADS!AM855","v":0}]
[{"$f":"IF(ISBLANK(LOADS!A856),\"\",LOADS!A856)","v":{"$error":"#REF!"}},{"$f":"IF(ISBLANK(LOADS!B856),\"\",LOADS!B856)","v":""},{"$f":"IF(LOADS!$AC856=\"BUS\",IF(LOADS!$AE856=C$1,1,0),0)","v":0},{"$f":"IF(LOADS!$AC856=\"BUS\",IF(LOADS!$AE856=D$1,1,0),0)","v":0},{"$f":"IF(LOADS!$AC856=\"BUS\",IF(LOADS!$AE856=E$1,1,0),0)","v":0},{"$f":"IF(LOADS!$AC856=\"BUS\",IF(LOADS!$AE856=F$1,1,0),0)","v":0},{"$f":"IF(LOADS!$AC856=\"BUS\",IF(LOADS!$AE856=G$1,1,0),0)","v":0},{"$f":"IF(LOADS!$AC856=\"BUS\",IF(LOADS!$AE856=H$1,1,0),0)","v":0},{"$f":"IF(LOADS!$AC856=\"BUS\",IF(LOADS!$AE856=I$1,1,0),0)","v":0},0,{"$f":"LOADS!AM856","v":0}]
[{"$f":"IF(ISBLANK(LOADS!A857),\"\",LOADS!A857)","v":{"$error":"#REF!"}},{"$f":"IF(ISBLANK(LOADS!B857),\"\",LOADS!B857)","v":""},{"$f":"IF(LOADS!$AC857=\"BUS\",IF(LOADS!$AE857=C$1,1,0),0)","v":0},{"$f":"IF(LOADS!$AC857=\"BUS\",IF(LOADS!$AE857=D$1,1,0),0)","v":0},{"$f":"IF(LOADS!$AC857=\"BUS\",IF(LOADS!$AE857=E$1,1,0),0)","v":0},{"$f":"IF(LOADS!$AC857=\"BUS\",IF(LOADS!$AE857=F$1,1,0),0)","v":0},{"$f":"IF(LOADS!$AC857=\"BUS\",IF(LOADS!$AE857=G$1,1,0),0)","v":0},{"$f":"IF(LOADS!$AC857=\"BUS\",IF(LOADS!$AE857=H$1,1,0),0)","v":0},{"$f":"IF(LOADS!$AC857=\"BUS\",IF(LOADS!$AE857=I$1,1,0),0)","v":0},0,{"$f":"LOADS!AM857","v":0}]
[{"$f":"IF(ISBLANK(LOADS!A858),\"\",LOADS!A858)","v":{"$error":"#REF!"}},{"$f":"IF(ISBLANK(LOADS!B858),\"\",LOADS!B858)","v":""},{"$f":"IF(LOADS!$AC858=\"BUS\",IF(LOADS!$AE858=C$1,1,0),0)","v":0},{"$f":"IF(LOADS!$AC858=\"BUS\",IF(LOADS!$AE858=D$1,1,0),0)","v":0},{"$f":"IF(LOADS!$AC858=\"BUS\",IF(LOADS!$AE858=E$1,1,0),0)","v":0},{"$f":"IF(LOADS!$AC858=\"BUS\",IF(LOADS!$AE858=F$1,1,0),0)","v":0},{"$f":"IF(LOADS!$AC858=\"BUS\",IF(LOADS!$AE858=G$1,1,0),0)","v":0},{"$f":"IF(LOADS!$AC858=\"BUS\",IF(LOADS!$AE858=H$1,1,0),0)","v":0},{"$f":"IF(LOADS!$AC858=\"BUS\",IF(LOADS!$AE858=I$1,1,0),0)","v":0},0,{"$f":"LOADS!AM858","v":0}]
[{"$f":"IF(ISBLANK(LOADS!A859),\"\",LOADS!A859)","v":{"$error":"#REF!"}},{"$f":"IF(ISBLANK(LOADS!B859),\"\",LOADS!B859)","v":""},{"$f":"IF(LOADS!$AC859=\"BUS\",IF(LOADS!$AE859=C$1,1,0),0)","v":0},{"$f":"IF(LOADS!$AC859=\"BUS\",IF(LOADS!$AE859=D$1,1,0),0)","v":0},{"$f":"IF(LOADS!$AC859=\"BUS\",IF(LOADS!$AE859=E$1,1,0),0)","v":0},{"$f":"IF(LOADS!$AC859=\"BUS\",IF(LOADS!$AE859=F$1,1,0),0)","v":0},{"$f":"IF(LOADS!$AC859=\"BUS\",IF(LOADS!$AE859=G$1,1,0),0)","v":0},{"$f":"IF(LOADS!$AC859=\"BUS\",IF(LOADS!$AE859=H$1,1,0),0)","v":0},{"$f":"IF(LOADS!$AC859=\"BUS\",IF(LOADS!$AE859=I$1,1,0),0)","v":0},0,{"$f":"LOADS!AM859","v":0}]
[{"$f":"IF(ISBLANK(LOADS!A860),\"\",LOADS!A860)","v":{"$error":"#REF!"}},{"$f":"IF(ISBLANK(LOADS!B860),\"\",LOADS!B860)","v":""},{"$f":"IF(LOADS!$AC860=\"BUS\",IF(LOADS!$AE860=C$1,1,0),0)","v":0},{"$f":"IF(LOADS!$AC860=\"BUS\",IF(LOADS!$AE860=D$1,1,0),0)","v":0},{"$f":"IF(LOADS!$AC860=\"BUS\",IF(LOADS!$AE860=E$1,1,0),0)","v":0},{"$f":"IF(LOADS!$AC860=\"BUS\",IF(LOADS!$AE860=F$1,1,0),0)","v":0},{"$f":"IF(LOADS!$AC860=\"BUS\",IF(LOADS!$AE860=G$1,1,0),0)","v":0},{"$f":"IF(LOADS!$AC860=\"BUS\",IF(LOADS!$AE860=H$1,1,0),0)","v":0},{"$f":"IF(LOADS!$AC860=\"BUS\",IF(LOADS!$AE860=I$1,1,0),0)","v":0},0,{"$f":"LOADS!AM860","v":0}]
[{"$f":"IF(ISBLANK(LOADS!A861),\"\",LOADS!A861)","v":{"$error":"#REF!"}},{"$f":"IF(ISBLANK(LOADS!B861),\"\",LOADS!B861)","v":""},{"$f":"IF(LOADS!$AC861=\"BUS\",IF(LOADS!$AE861=C$1,1,0),0)","v":0},{"$f":"IF(LOADS!$AC861=\"BUS\",IF(LOADS!$AE861=D$1,1,0),0)","v":0},{"$f":"IF(LOADS!$AC861=\"BUS\",IF(LOADS!$AE861=E$1,1,0),0)","v":0},{"$f":"IF(LOADS!$AC861=\"BUS\",IF(LOADS!$AE861=F$1,1,0),0)","v":0},{"$f":"IF(LOADS!$AC861=\"BUS\",IF(LOADS!$AE861=G$1,1,0),0)","v":0},{"$f":"IF(LOADS!$AC861=\"BUS\",IF(LOADS!$AE861=H$1,1,0),0)","v":0},{"$f":"IF(LOADS!$AC861=\"BUS\",IF(LOADS!$AE861=I$1,1,0),0)","v":0},0,{"$f":"LOADS!AM861","v":0}]
[{"$f":"IF(ISBLANK(LOADS!A862),\"\",LOADS!A862)","v":{"$error":"#REF!"}},{"$f":"IF(ISBLANK(LOADS!B862),\"\",LOADS!B862)","v":""},{"$f":"IF(LOADS!$AC862=\"BUS\",IF(LOADS!$AE862=C$1,1,0),0)","v":0},{"$f":"IF(LOADS!$AC862=\"BUS\",IF(LOADS!$AE862=D$1,1,0),0)","v":0},{"$f":"IF(LOADS!$AC862=\"BUS\",IF(LOADS!$AE862=E$1,1,0),0)","v":0},{"$f":"IF(LOADS!$AC862=\"BUS\",IF(LOADS!$AE862=F$1,1,0),0)","v":0},{"$f":"IF(LOADS!$AC862=\"BUS\",IF(LOADS!$AE862=G$1,1,0),0)","v":0},{"$f":"IF(LOADS!$AC862=\"BUS\",IF(LOADS!$AE862=H$1,1,0),0)","v":0},{"$f":"IF(LOADS!$AC862=\"BUS\",IF(LOADS!$AE862=I$1,1,0),0)","v":0},0,{"$f":"LOADS!AM862","v":0}]
[{"$f":"IF(ISBLANK(LOADS!A863),\"\",LOADS!A863)","v":{"$error":"#REF!"}},{"$f":"IF(ISBLANK(LOADS!B863),\"\",LOADS!B863)","v":""},{"$f":"IF(LOADS!$AC863=\"BUS\",IF(LOADS!$AE863=C$1,1,0),0)","v":0},{"$f":"IF(LOADS!$AC863=\"BUS\",IF(LOADS!$AE863=D$1,1,0),0)","v":0},{"$f":"IF(LOADS!$AC863=\"BUS\",IF(LOADS!$AE863=E$1,1,0),0)","v":0},{"$f":"IF(LOADS!$AC863=\"BUS\",IF(LOADS!$AE863=F$1,1,0),0)","v":0},{"$f":"IF(LOADS!$AC863=\"BUS\",IF(LOADS!$AE863=G$1,1,0),0)","v":0},{"$f":"IF(LOADS!$AC863=\"BUS\",IF(LOADS!$AE863=H$1,1,0),0)","v":0},{"$f":"IF(LOADS!$AC863=\"BUS\",IF(LOADS!$AE863=I$1,1,0),0)","v":0},0,{"$f":"LOADS!AM863","v":0}]
[{"$f":"IF(ISBLANK(LOADS!A864),\"\",LOADS!A864)","v":{"$error":"#REF!"}},{"$f":"IF(ISBLANK(LOADS!B864),\"\",LOADS!B864)","v":""},{"$f":"IF(LOADS!$AC864=\"BUS\",IF(LOADS!$AE864=C$1,1,0),0)","v":0},{"$f":"IF(LOADS!$AC864=\"BUS\",IF(LOADS!$AE864=D$1,1,0),0)","v":0},{"$f":"IF(LOADS!$AC864=\"BUS\",IF(LOADS!$AE864=E$1,1,0),0)","v":0},{"$f":"IF(LOADS!$AC864=\"BUS\",IF(LOADS!$AE864=F$1,1,0),0)","v":0},{"$f":"IF(LOADS!$AC864=\"BUS\",IF(LOADS!$AE864=G$1,1,0),0)","v":0},{"$f":"IF(LOADS!$AC864=\"BUS\",IF(LOADS!$AE864=H$1,1,0),0)","v":0},{"$f":"IF(LOADS!$AC864=\"BUS\",IF(LOADS!$AE864=I$1,1,0),0)","v":0},0,{"$f":"LOADS!AM864","v":0}]
[{"$f":"IF(ISBLANK(LOADS!A865),\"\",LOADS!A865)","v":{"$error":"#REF!"}},{"$f":"IF(ISBLANK(LOADS!B865),\"\",LOADS!B865)","v":""},{"$f":"IF(LOADS!$AC865=\"BUS\",IF(LOADS!$AE865=C$1,1,0),0)","v":0},{"$f":"IF(LOADS!$AC865=\"BUS\",IF(LOADS!$AE865=D$1,1,0),0)","v":0},{"$f":"IF(LOADS!$AC865=\"BUS\",IF(LOADS!$AE865=E$1,1,0),0)","v":0},{"$f":"IF(LOADS!$AC865=\"BUS\",IF(LOADS!$AE865=F$1,1,0),0)","v":0},{"$f":"IF(LOADS!$AC865=\"BUS\",IF(LOADS!$AE865=G$1,1,0),0)","v":0},{"$f":"IF(LOADS!$AC865=\"BUS\",IF(LOADS!$AE865=H$1,1,0),0)","v":0},{"$f":"IF(LOADS!$AC865=\"BUS\",IF(LOADS!$AE865=I$1,1,0),0)","v":0},0,{"$f":"LOADS!AM865","v":0}]
[{"$f":"IF(ISBLANK(LOADS!A866),\"\",LOADS!A866)","v":{"$error":"#REF!"}},{"$f":"IF(ISBLANK(LOADS!B866),\"\",LOADS!B866)","v":""},{"$f":"IF(LOADS!$AC866=\"BUS\",IF(LOADS!$AE866=C$1,1,0),0)","v":0},{"$f":"IF(LOADS!$AC866=\"BUS\",IF(LOADS!$AE866=D$1,1,0),0)","v":0},{"$f":"IF(LOADS!$AC866=\"BUS\",IF(LOADS!$AE866=E$1,1,0),0)","v":0},{"$f":"IF(LOADS!$AC866=\"BUS\",IF(LOADS!$AE866=F$1,1,0),0)","v":0},{"$f":"IF(LOADS!$AC866=\"BUS\",IF(LOADS!$AE866=G$1,1,0),0)","v":0},{"$f":"IF(LOADS!$AC866=\"BUS\",IF(LOADS!$AE866=H$1,1,0),0)","v":0},{"$f":"IF(LOADS!$AC866=\"BUS\",IF(LOADS!$AE866=I$1,1,0),0)","v":0},0,{"$f":"LOADS!AM866","v":0}]
[{"$f":"IF(ISBLANK(LOADS!A867),\"\",LOADS!A867)","v":{"$error":"#REF!"}},{"$f":"IF(ISBLANK(LOADS!B867),\"\",LOADS!B867)","v":""},{"$f":"IF(LOADS!$AC867=\"BUS\",IF(LOADS!$AE867=C$1,1,0),0)","v":0},{"$f":"IF(LOADS!$AC867=\"BUS\",IF(LOADS!$AE867=D$1,1,0),0)","v":0},{"$f":"IF(LOADS!$AC867=\"BUS\",IF(LOADS!$AE867=E$1,1,0),0)","v":0},{"$f":"IF(LOADS!$AC867=\"BUS\",IF(LOADS!$AE867=F$1,1,0),0)","v":0},{"$f":"IF(LOADS!$AC867=\"BUS\",IF(LOADS!$AE867=G$1,1,0),0)","v":0},{"$f":"IF(LOADS!$AC867=\"BUS\",IF(LOADS!$AE867=H$1,1,0),0)","v":0},{"$f":"IF(LOADS!$AC867=\"BUS\",IF(LOADS!$AE867=I$1,1,0),0)","v":0},0,{"$f":"LOADS!AM867","v":0}]
[{"$f":"IF(ISBLANK(LOADS!A868),\"\",LOADS!A868)","v":{"$error":"#REF!"}},{"$f":"IF(ISBLANK(LOADS!B868),\"\",LOADS!B868)","v":""},{"$f":"IF(LOADS!$AC868=\"BUS\",IF(LOADS!$AE868=C$1,1,0),0)","v":0},{"$f":"IF(LOADS!$AC868=\"BUS\",IF(LOADS!$AE868=D$1,1,0),0)","v":0},{"$f":"IF(LOADS!$AC868=\"BUS\",IF(LOADS!$AE868=E$1,1,0),0)","v":0},{"$f":"IF(LOADS!$AC868=\"BUS\",IF(LOADS!$AE868=F$1,1,0),0)","v":0},{"$f":"IF(LOADS!$AC868=\"BUS\",IF(LOADS!$AE868=G$1,1,0),0)","v":0},{"$f":"IF(LOADS!$AC868=\"BUS\",IF(LOADS!$AE868=H$1,1,0),0)","v":0},{"$f":"IF(LOADS!$AC868=\"BUS\",IF(LOADS!$AE868=I$1,1,0),0)","v":0},0,{"$f":"LOADS!AM868","v":0}]
[{"$f":"IF(ISBLANK(LOADS!A869),\"\",LOADS!A869)","v":{"$error":"#REF!"}},{"$f":"IF(ISBLANK(LOADS!B869),\"\",LOADS!B869)","v":""},{"$f":"IF(LOADS!$AC869=\"BUS\",IF(LOADS!$AE869=C$1,1,0),0)","v":0},{"$f":"IF(LOADS!$AC869=\"BUS\",IF(LOADS!$AE869=D$1,1,0),0)","v":0},{"$f":"IF(LOADS!$AC869=\"BUS\",IF(LOADS!$AE869=E$1,1,0),0)","v":0},{"$f":"IF(LOADS!$AC869=\"BUS\",IF(LOADS!$AE869=F$1,1,0),0)","v":0},{"$f":"IF(LOADS!$AC869=\"BUS\",IF(LOADS!$AE869=G$1,1,0),0)","v":0},{"$f":"IF(LOADS!$AC869=\"BUS\",IF(LOADS!$AE869=H$1,1,0),0)","v":0},{"$f":"IF(LOADS!$AC869=\"BUS\",IF(LOADS!$AE869=I$1,1,0),0)","v":0},0,{"$f":"LOADS!AM869","v":0}]
[{"$f":"IF(ISBLANK(LOADS!A870),\"\",LOADS!A870)","v":{"$error":"#REF!"}},{"$f":"IF(ISBLANK(LOADS!B870),\"\",LOADS!B870)","v":""},{"$f":"IF(LOADS!$AC870=\"BUS\",IF(LOADS!$AE870=C$1,1,0),0)","v":0},{"$f":"IF(LOADS!$AC870=\"BUS\",IF(LOADS!$AE870=D$1,1,0),0)","v":0},{"$f":"IF(LOADS!$AC870=\"BUS\",IF(LOADS!$AE870=E$1,1,0),0)","v":0},{"$f":"IF(LOADS!$AC870=\"BUS\",IF(LOADS!$AE870=F$1,1,0),0)","v":0},{"$f":"IF(LOADS!$AC870=\"BUS\",IF(LOADS!$AE870=G$1,1,0),0)","v":0},{"$f":"IF(LOADS!$AC870=\"BUS\",IF(LOADS!$AE870=H$1,1,0),0)","v":0},{"$f":"IF(LOADS!$AC870=\"BUS\",IF(LOADS!$AE870=I$1,1,0),0)","v":0},0,{"$f":"LOADS!AM870","v":0}]
[{"$f":"IF(ISBLANK(LOADS!A871),\"\",LOADS!A871)","v":{"$error":"#REF!"}},{"$f":"IF(ISBLANK(LOADS!B871),\"\",LOADS!B871)","v":""},{"$f":"IF(LOADS!$AC871=\"BUS\",IF(LOADS!$AE871=C$1,1,0),0)","v":0},{"$f":"IF(LOADS!$AC871=\"BUS\",IF(LOADS!$AE871=D$1,1,0),0)","v":0},{"$f":"IF(LOADS!$AC871=\"BUS\",IF(LOADS!$AE871=E$1,1,0),0)","v":0},{"$f":"IF(LOADS!$AC871=\"BUS\",IF(LOADS!$AE871=F$1,1,0),0)","v":0},{"$f":"IF(LOADS!$AC871=\"BUS\",IF(LOADS!$AE871=G$1,1,0),0)","v":0},{"$f":"IF(LOADS!$AC871=\"BUS\",IF(LOADS!$AE871=H$1,1,0),0)","v":0},{"$f":"IF(LOADS!$AC871=\"BUS\",IF(LOADS!$AE871=I$1,1,0),0)","v":0},0,{"$f":"LOADS!AM871","v":0}]
[{"$f":"IF(ISBLANK(LOADS!A872),\"\",LOADS!A872)","v":{"$error":"#REF!"}},{"$f":"IF(ISBLANK(LOADS!B872),\"\",LOADS!B872)","v":""},{"$f":"IF(LOADS!$AC872=\"BUS\",IF(LOADS!$AE872=C$1,1,0),0)","v":0},{"$f":"IF(LOADS!$AC872=\"BUS\",IF(LOADS!$AE872=D$1,1,0),0)","v":0},{"$f":"IF(LOADS!$AC872=\"BUS\",IF(LOADS!$AE872=E$1,1,0),0)","v":0},{"$f":"IF(LOADS!$AC872=\"BUS\",IF(LOADS!$AE872=F$1,1,0),0)","v":0},{"$f":"IF(LOADS!$AC872=\"BUS\",IF(LOADS!$AE872=G$1,1,0),0)","v":0},{"$f":"IF(LOADS!$AC872=\"BUS\",IF(LOADS!$AE872=H$1,1,0),0)","v":0},{"$f":"IF(LOADS!$AC872=\"BUS\",IF(LOADS!$AE872=I$1,1,0),0)","v":0},0,{"$f":"LOADS!AM872","v":0}]
[{"$f":"IF(ISBLANK(LOADS!A873),\"\",LOADS!A873)","v":{"$error":"#REF!"}},{"$f":"IF(ISBLANK(LOADS!B873),\"\",LOADS!B873)","v":""},{"$f":"IF(LOADS!$AC873=\"BUS\",IF(LOADS!$AE873=C$1,1,0),0)","v":0},{"$f":"IF(LOADS!$AC873=\"BUS\",IF(LOADS!$AE873=D$1,1,0),0)","v":0},{"$f":"IF(LOADS!$AC873=\"BUS\",IF(LOADS!$AE873=E$1,1,0),0)","v":0},{"$f":"IF(LOADS!$AC873=\"BUS\",IF(LOADS!$AE873=F$1,1,0),0)","v":0},{"$f":"IF(LOADS!$AC873=\"BUS\",IF(LOADS!$AE873=G$1,1,0),0)","v":0},{"$f":"IF(LOADS!$AC873=\"BUS\",IF(LOADS!$AE873=H$1,1,0),0)","v":0},{"$f":"IF(LOADS!$AC873=\"BUS\",IF(LOADS!$AE873=I$1,1,0),0)","v":0},0,{"$f":"LOADS!AM873","v":0}]
[{"$f":"IF(ISBLANK(LOADS!A874),\"\",LOADS!A874)","v":{"$error":"#REF!"}},{"$f":"IF(ISBLANK(LOADS!B874),\"\",LOADS!B874)","v":""},{"$f":"IF(LOADS!$AC874=\"BUS\",IF(LOADS!$AE874=C$1,1,0),0)","v":0},{"$f":"IF(LOADS!$AC874=\"BUS\",IF(LOADS!$AE874=D$1,1,0),0)","v":0},{"$f":"IF(LOADS!$AC874=\"BUS\",IF(LOADS!$AE874=E$1,1,0),0)","v":0},{"$f":"IF(LOADS!$AC874=\"BUS\",IF(LOADS!$AE874=F$1,1,0),0)","v":0},{"$f":"IF(LOADS!$AC874=\"BUS\",IF(LOADS!$AE874=G$1,1,0),0)","v":0},{"$f":"IF(LOADS!$AC874=\"BUS\",IF(LOADS!$AE874=H$1,1,0),0)","v":0},{"$f":"IF(LOADS!$AC874=\"BUS\",IF(LOADS!$AE874=I$1,1,0),0)","v":0},0,{"$f":"LOADS!AM874","v":0}]
[{"$f":"IF(ISBLANK(LOADS!A875),\"\",LOADS!A875)","v":{"$error":"#REF!"}},{"$f":"IF(ISBLANK(LOADS!B875),\"\",LOADS!B875)","v":""},{"$f":"IF(LOADS!$AC875=\"BUS\",IF(LOADS!$AE875=C$1,1,0),0)","v":0},{"$f":"IF(LOADS!$AC875=\"BUS\",IF(LOADS!$AE875=D$1,1,0),0)","v":0},{"$f":"IF(LOADS!$AC875=\"BUS\",IF(LOADS!$AE875=E$1,1,0),0)","v":0},{"$f":"IF(LOADS!$AC875=\"BUS\",IF(LOADS!$AE875=F$1,1,0),0)","v":0},{"$f":"IF(LOADS!$AC875=\"BUS\",IF(LOADS!$AE875=G$1,1,0),0)","v":0},{"$f":"IF(LOADS!$AC875=\"BUS\",IF(LOADS!$AE875=H$1,1,0),0)","v":0},{"$f":"IF(LOADS!$AC875=\"BUS\",IF(LOADS!$AE875=I$1,1,0),0)","v":0},0,{"$f":"LOADS!AM875","v":0}]
[{"$f":"IF(ISBLANK(LOADS!A876),\"\",LOADS!A876)","v":{"$error":"#REF!"}},{"$f":"IF(ISBLANK(LOADS!B876),\"\",LOADS!B876)","v":""},{"$f":"IF(LOADS!$AC876=\"BUS\",IF(LOADS!$AE876=C$1,1,0),0)","v":0},{"$f":"IF(LOADS!$AC876=\"BUS\",IF(LOADS!$AE876=D$1,1,0),0)","v":0},{"$f":"IF(LOADS!$AC876=\"BUS\",IF(LOADS!$AE876=E$1,1,0),0)","v":0},{"$f":"IF(LOADS!$AC876=\"BUS\",IF(LOADS!$AE876=F$1,1,0),0)","v":0},{"$f":"IF(LOADS!$AC876=\"BUS\",IF(LOADS!$AE876=G$1,1,0),0)","v":0},{"$f":"IF(LOADS!$AC876=\"BUS\",IF(LOADS!$AE876=H$1,1,0),0)","v":0},{"$f":"IF(LOADS!$AC876=\"BUS\",IF(LOADS!$AE876=I$1,1,0),0)","v":0},0,{"$f":"LOADS!AM876","v":0}]
[{"$f":"IF(ISBLANK(LOADS!A877),\"\",LOADS!A877)","v":{"$error":"#REF!"}},{"$f":"IF(ISBLANK(LOADS!B877),\"\",LOADS!B877)","v":""},{"$f":"IF(LOADS!$AC877=\"BUS\",IF(LOADS!$AE877=C$1,1,0),0)","v":0},{"$f":"IF(LOADS!$AC877=\"BUS\",IF(LOADS!$AE877=D$1,1,0),0)","v":0},{"$f":"IF(LOADS!$AC877=\"BUS\",IF(LOADS!$AE877=E$1,1,0),0)","v":0},{"$f":"IF(LOADS!$AC877=\"BUS\",IF(LOADS!$AE877=F$1,1,0),0)","v":0},{"$f":"IF(LOADS!$AC877=\"BUS\",IF(LOADS!$AE877=G$1,1,0),0)","v":0},{"$f":"IF(LOADS!$AC877=\"BUS\",IF(LOADS!$AE877=H$1,1,0),0)","v":0},{"$f":"IF(LOADS!$AC877=\"BUS\",IF(LOADS!$AE877=I$1,1,0),0)","v":0},0,{"$f":"LOADS!AM877","v":0}]
[{"$f":"IF(ISBLANK(LOADS!A878),\"\",LOADS!A878)","v":{"$error":"#REF!"}},{"$f":"IF(ISBLANK(LOADS!B878),\"\",LOADS!B878)","v":""},{"$f":"IF(LOADS!$AC878=\"BUS\",IF(LOADS!$AE878=C$1,1,0),0)","v":0},{"$f":"IF(LOADS!$AC878=\"BUS\",IF(LOADS!$AE878=D$1,1,0),0)","v":0},{"$f":"IF(LOADS!$AC878=\"BUS\",IF(LOADS!$AE878=E$1,1,0),0)","v":0},{"$f":"IF(LOADS!$AC878=\"BUS\",IF(LOADS!$AE878=F$1,1,0),0)","v":0},{"$f":"IF(LOADS!$AC878=\"BUS\",IF(LOADS!$AE878=G$1,1,0),0)","v":0},{"$f":"IF(LOADS!$AC878=\"BUS\",IF(LOADS!$AE878=H$1,1,0),0)","v":0},{"$f":"IF(LOADS!$AC878=\"BUS\",IF(LOADS!$AE878=I$1,1,0),0)","v":0},0,{"$f":"LOADS!AM878","v":0}]
[{"$f":"IF(ISBLANK(LOADS!A879),\"\",LOADS!A879)","v":{"$error":"#REF!"}},{"$f":"IF(ISBLANK(LOADS!B879),\"\",LOADS!B879)","v":""},{"$f":"IF(LOADS!$AC879=\"BUS\",IF(LOADS!$AE879=C$1,1,0),0)","v":0},{"$f":"IF(LOADS!$AC879=\"BUS\",IF(LOADS!$AE879=D$1,1,0),0)","v":0},{"$f":"IF(LOADS!$AC879=\"BUS\",IF(LOADS!$AE879=E$1,1,0),0)","v":0},{"$f":"IF(LOADS!$AC879=\"BUS\",IF(LOADS!$AE879=F$1,1,0),0)","v":0},{"$f":"IF(LOADS!$AC879=\"BUS\",IF(LOADS!$AE879=G$1,1,0),0)","v":0},{"$f":"IF(LOADS!$AC879=\"BUS\",IF(LOADS!$AE879=H$1,1,0),0)","v":0},{"$f":"IF(LOADS!$AC879=\"BUS\",IF(LOADS!$AE879=I$1,1,0),0)","v":0},0,{"$f":"LOADS!AM879","v":0}]
[{"$f":"IF(ISBLANK(LOADS!A880),\"\",LOADS!A880)","v":{"$error":"#REF!"}},{"$f":"IF(ISBLANK(LOADS!B880),\"\",LOADS!B880)","v":""},{"$f":"IF(LOADS!$AC880=\"BUS\",IF(LOADS!$AE880=C$1,1,0),0)","v":0},{"$f":"IF(LOADS!$AC880=\"BUS\",IF(LOADS!$AE880=D$1,1,0),0)","v":0},{"$f":"IF(LOADS!$AC880=\"BUS\",IF(LOADS!$AE880=E$1,1,0),0)","v":0},{"$f":"IF(LOADS!$AC880=\"BUS\",IF(LOADS!$AE880=F$1,1,0),0)","v":0},{"$f":"IF(LOADS!$AC880=\"BUS\",IF(LOADS!$AE880=G$1,1,0),0)","v":0},{"$f":"IF(LOADS!$AC880=\"BUS\",IF(LOADS!$AE880=H$1,1,0),0)","v":0},{"$f":"IF(LOADS!$AC880=\"BUS\",IF(LOADS!$AE880=I$1,1,0),0)","v":0},0,{"$f":"LOADS!AM880","v":0}]
[{"$f":"IF(ISBLANK(LOADS!A881),\"\",LOADS!A881)","v":{"$error":"#REF!"}},{"$f":"IF(ISBLANK(LOADS!B881),\"\",LOADS!B881)","v":""},{"$f":"IF(LOADS!$AC881=\"BUS\",IF(LOADS!$AE881=C$1,1,0),0)","v":0},{"$f":"IF(LOADS!$AC881=\"BUS\",IF(LOADS!$AE881=D$1,1,0),0)","v":0},{"$f":"IF(LOADS!$AC881=\"BUS\",IF(LOADS!$AE881=E$1,1,0),0)","v":0},{"$f":"IF(LOADS!$AC881=\"BUS\",IF(LOADS!$AE881=F$1,1,0),0)","v":0},{"$f":"IF(LOADS!$AC881=\"BUS\",IF(LOADS!$AE881=G$1,1,0),0)","v":0},{"$f":"IF(LOADS!$AC881=\"BUS\",IF(LOADS!$AE881=H$1,1,0),0)","v":0},{"$f":"IF(LOADS!$AC881=\"BUS\",IF(LOADS!$AE881=I$1,1,0),0)","v":0},0,{"$f":"LOADS!AM881","v":0}]
[{"$f":"IF(ISBLANK(LOADS!A882),\"\",LOADS!A882)","v":{"$error":"#REF!"}},{"$f":"IF(ISBLANK(LOADS!B882),\"\",LOADS!B882)","v":""},{"$f":"IF(LOADS!$AC882=\"BUS\",IF(LOADS!$AE882=C$1,1,0),0)","v":0},{"$f":"IF(LOADS!$AC882=\"BUS\",IF(LOADS!$AE882=D$1,1,0),0)","v":0},{"$f":"IF(LOADS!$AC882=\"BUS\",IF(LOADS!$AE882=E$1,1,0),0)","v":0},{"$f":"IF(LOADS!$AC882=\"BUS\",IF(LOADS!$AE882=F$1,1,0),0)","v":0},{"$f":"IF(LOADS!$AC882=\"BUS\",IF(LOADS!$AE882=G$1,1,0),0)","v":0},{"$f":"IF(LOADS!$AC882=\"BUS\",IF(LOADS!$AE882=H$1,1,0),0)","v":0},{"$f":"IF(LOADS!$AC882=\"BUS\",IF(LOADS!$AE882=I$1,1,0),0)","v":0},0,{"$f":"LOADS!AM882","v":0}]
[{"$f":"IF(ISBLANK(LOADS!A883),\"\",LOADS!A883)","v":{"$error":"#REF!"}},{"$f":"IF(ISBLANK(LOADS!B883),\"\",LOADS!B883)","v":""},{"$f":"IF(LOADS!$AC883=\"BUS\",IF(LOADS!$AE883=C$1,1,0),0)","v":0},{"$f":"IF(LOADS!$AC883=\"BUS\",IF(LOADS!$AE883=D$1,1,0),0)","v":0},{"$f":"IF(LOADS!$AC883=\"BUS\",IF(LOADS!$AE883=E$1,1,0),0)","v":0},{"$f":"IF(LOADS!$AC883=\"BUS\",IF(LOADS!$AE883=F$1,1,0),0)","v":0},{"$f":"IF(LOADS!$AC883=\"BUS\",IF(LOADS!$AE883=G$1,1,0),0)","v":0},{"$f":"IF(LOADS!$AC883=\"BUS\",IF(LOADS!$AE883=H$1,1,0),0)","v":0},{"$f":"IF(LOADS!$AC883=\"BUS\",IF(LOADS!$AE883=I$1,1,0),0)","v":0},0,{"$f":"LOADS!AM883","v":0}]
[{"$f":"IF(ISBLANK(LOADS!A884),\"\",LOADS!A884)","v":{"$error":"#REF!"}},{"$f":"IF(ISBLANK(LOADS!B884),\"\",LOADS!B884)","v":""},{"$f":"IF(LOADS!$AC884=\"BUS\",IF(LOADS!$AE884=C$1,1,0),0)","v":0},{"$f":"IF(LOADS!$AC884=\"BUS\",IF(LOADS!$AE884=D$1,1,0),0)","v":0},{"$f":"IF(LOADS!$AC884=\"BUS\",IF(LOADS!$AE884=E$1,1,0),0)","v":0},{"$f":"IF(LOADS!$AC884=\"BUS\",IF(LOADS!$AE884=F$1,1,0),0)","v":0},{"$f":"IF(LOADS!$AC884=\"BUS\",IF(LOADS!$AE884=G$1,1,0),0)","v":0},{"$f":"IF(LOADS!$AC884=\"BUS\",IF(LOADS!$AE884=H$1,1,0),0)","v":0},{"$f":"IF(LOADS!$AC884=\"BUS\",IF(LOADS!$AE884=I$1,1,0),0)","v":0},0,{"$f":"LOADS!AM884","v":0}]
[{"$f":"IF(ISBLANK(LOADS!A885),\"\",LOADS!A885)","v":{"$error":"#REF!"}},{"$f":"IF(ISBLANK(LOADS!B885),\"\",LOADS!B885)","v":""},{"$f":"IF(LOADS!$AC885=\"BUS\",IF(LOADS!$AE885=C$1,1,0),0)","v":0},{"$f":"IF(LOADS!$AC885=\"BUS\",IF(LOADS!$AE885=D$1,1,0),0)","v":0},{"$f":"IF(LOADS!$AC885=\"BUS\",IF(LOADS!$AE885=E$1,1,0),0)","v":0},{"$f":"IF(LOADS!$AC885=\"BUS\",IF(LOADS!$AE885=F$1,1,0),0)","v":0},{"$f":"IF(LOADS!$AC885=\"BUS\",IF(LOADS!$AE885=G$1,1,0),0)","v":0},{"$f":"IF(LOADS!$AC885=\"BUS\",IF(LOADS!$AE885=H$1,1,0),0)","v":0},{"$f":"IF(LOADS!$AC885=\"BUS\",IF(LOADS!$AE885=I$1,1,0),0)","v":0},0,{"$f":"LOADS!AM885","v":0}]
[{"$f":"IF(ISBLANK(LOADS!A886),\"\",LOADS!A886)","v":{"$error":"#REF!"}},{"$f":"IF(ISBLANK(LOADS!B886),\"\",LOADS!B886)","v":""},{"$f":"IF(LOADS!$AC886=\"BUS\",IF(LOADS!$AE886=C$1,1,0),0)","v":0},{"$f":"IF(LOADS!$AC886=\"BUS\",IF(LOADS!$AE886=D$1,1,0),0)","v":0},{"$f":"IF(LOADS!$AC886=\"BUS\",IF(LOADS!$AE886=E$1,1,0),0)","v":0},{"$f":"IF(LOADS!$AC886=\"BUS\",IF(LOADS!$AE886=F$1,1,0),0)","v":0},{"$f":"IF(LOADS!$AC886=\"BUS\",IF(LOADS!$AE886=G$1,1,0),0)","v":0},{"$f":"IF(LOADS!$AC886=\"BUS\",IF(LOADS!$AE886=H$1,1,0),0)","v":0},{"$f":"IF(LOADS!$AC886=\"BUS\",IF(LOADS!$AE886=I$1,1,0),0)","v":0},0,{"$f":"LOADS!AM886","v":0}]
[{"$f":"IF(ISBLANK(LOADS!A887),\"\",LOADS!A887)","v":{"$error":"#REF!"}},{"$f":"IF(ISBLANK(LOADS!B887),\"\",LOADS!B887)","v":""},{"$f":"IF(LOADS!$AC887=\"BUS\",IF(LOADS!$AE887=C$1,1,0),0)","v":0},{"$f":"IF(LOADS!$AC887=\"BUS\",IF(LOADS!$AE887=D$1,1,0),0)","v":0},{"$f":"IF(LOADS!$AC887=\"BUS\",IF(LOADS!$AE887=E$1,1,0),0)","v":0},{"$f":"IF(LOADS!$AC887=\"BUS\",IF(LOADS!$AE887=F$1,1,0),0)","v":0},{"$f":"IF(LOADS!$AC887=\"BUS\",IF(LOADS!$AE887=G$1,1,0),0)","v":0},{"$f":"IF(LOADS!$AC887=\"BUS\",IF(LOADS!$AE887=H$1,1,0),0)","v":0},{"$f":"IF(LOADS!$AC887=\"BUS\",IF(LOADS!$AE887=I$1,1,0),0)","v":0},0,{"$f":"LOADS!AM887","v":0}]
[{"$f":"IF(ISBLANK(LOADS!A888),\"\",LOADS!A888)","v":{"$error":"#REF!"}},{"$f":"IF(ISBLANK(LOADS!B888),\"\",LOADS!B888)","v":""},{"$f":"IF(LOADS!$AC888=\"BUS\",IF(LOADS!$AE888=C$1,1,0),0)","v":0},{"$f":"IF(LOADS!$AC888=\"BUS\",IF(LOADS!$AE888=D$1,1,0),0)","v":0},{"$f":"IF(LOADS!$AC888=\"BUS\",IF(LOADS!$AE888=E$1,1,0),0)","v":0},{"$f":"IF(LOADS!$AC888=\"BUS\",IF(LOADS!$AE888=F$1,1,0),0)","v":0},{"$f":"IF(LOADS!$AC888=\"BUS\",IF(LOADS!$AE888=G$1,1,0),0)","v":0},{"$f":"IF(LOADS!$AC888=\"BUS\",IF(LOADS!$AE888=H$1,1,0),0)","v":0},{"$f":"IF(LOADS!$AC888=\"BUS\",IF(LOADS!$AE888=I$1,1,0),0)","v":0},0,{"$f":"LOADS!AM888","v":0}]
[{"$f":"IF(ISBLANK(LOADS!A889),\"\",LOADS!A889)","v":{"$error":"#REF!"}},{"$f":"IF(ISBLANK(LOADS!B889),\"\",LOADS!B889)","v":""},{"$f":"IF(LOADS!$AC889=\"BUS\",IF(LOADS!$AE889=C$1,1,0),0)","v":0},{"$f":"IF(LOADS!$AC889=\"BUS\",IF(LOADS!$AE889=D$1,1,0),0)","v":0},{"$f":"IF(LOADS!$AC889=\"BUS\",IF(LOADS!$AE889=E$1,1,0),0)","v":0},{"$f":"IF(LOADS!$AC889=\"BUS\",IF(LOADS!$AE889=F$1,1,0),0)","v":0},{"$f":"IF(LOADS!$AC889=\"BUS\",IF(LOADS!$AE889=G$1,1,0),0)","v":0},{"$f":"IF(LOADS!$AC889=\"BUS\",IF(LOADS!$AE889=H$1,1,0),0)","v":0},{"$f":"IF(LOADS!$AC889=\"BUS\",IF(LOADS!$AE889=I$1,1,0),0)","v":0},0,{"$f":"LOADS!AM889","v":0}]
[{"$f":"IF(ISBLANK(LOADS!A890),\"\",LOADS!A890)","v":{"$error":"#REF!"}},{"$f":"IF(ISBLANK(LOADS!B890),\"\",LOADS!B890)","v":""},{"$f":"IF(LOADS!$AC890=\"BUS\",IF(LOADS!$AE890=C$1,1,0),0)","v":0},{"$f":"IF(LOADS!$AC890=\"BUS\",IF(LOADS!$AE890=D$1,1,0),0)","v":0},{"$f":"IF(LOADS!$AC890=\"BUS\",IF(LOADS!$AE890=E$1,1,0),0)","v":0},{"$f":"IF(LOADS!$AC890=\"BUS\",IF(LOADS!$AE890=F$1,1,0),0)","v":0},{"$f":"IF(LOADS!$AC890=\"BUS\",IF(LOADS!$AE890=G$1,1,0),0)","v":0},{"$f":"IF(LOADS!$AC890=\"BUS\",IF(LOADS!$AE890=H$1,1,0),0)","v":0},{"$f":"IF(LOADS!$AC890=\"BUS\",IF(LOADS!$AE890=I$1,1,0),0)","v":0},0,{"$f":"LOADS!AM890","v":0}]
[{"$f":"IF(ISBLANK(LOADS!A891),\"\",LOADS!A891)","v":{"$error":"#REF!"}},{"$f":"IF(ISBLANK(LOADS!B891),\"\",LOADS!B891)","v":""},{"$f":"IF(LOADS!$AC891=\"BUS\",IF(LOADS!$AE891=C$1,1,0),0)","v":0},{"$f":"IF(LOADS!$AC891=\"BUS\",IF(LOADS!$AE891=D$1,1,0),0)","v":0},{"$f":"IF(LOADS!$AC891=\"BUS\",IF(LOADS!$AE891=E$1,1,0),0)","v":0},{"$f":"IF(LOADS!$AC891=\"BUS\",IF(LOADS!$AE891=F$1,1,0),0)","v":0},{"$f":"IF(LOADS!$AC891=\"BUS\",IF(LOADS!$AE891=G$1,1,0),0)","v":0},{"$f":"IF(LOADS!$AC891=\"BUS\",IF(LOADS!$AE891=H$1,1,0),0)","v":0},{"$f":"IF(LOADS!$AC891=\"BUS\",IF(LOADS!$AE891=I$1,1,0),0)","v":0},0,{"$f":"LOADS!AM891","v":0}]
[{"$f":"IF(ISBLANK(LOADS!A892),\"\",LOADS!A892)","v":{"$error":"#REF!"}},{"$f":"IF(ISBLANK(LOADS!B892),\"\",LOADS!B892)","v":""},{"$f":"IF(LOADS!$AC892=\"BUS\",IF(LOADS!$AE892=C$1,1,0),0)","v":0},{"$f":"IF(LOADS!$AC892=\"BUS\",IF(LOADS!$AE892=D$1,1,0),0)","v":0},{"$f":"IF(LOADS!$AC892=\"BUS\",IF(LOADS!$AE892=E$1,1,0),0)","v":0},{"$f":"IF(LOADS!$AC892=\"BUS\",IF(LOADS!$AE892=F$1,1,0),0)","v":0},{"$f":"IF(LOADS!$AC892=\"BUS\",IF(LOADS!$AE892=G$1,1,0),0)","v":0},{"$f":"IF(LOADS!$AC892=\"BUS\",IF(LOADS!$AE892=H$1,1,0),0)","v":0},{"$f":"IF(LOADS!$AC892=\"BUS\",IF(LOADS!$AE892=I$1,1,0),0)","v":0},0,{"$f":"LOADS!AM892","v":0}]
[{"$f":"IF(ISBLANK(LOADS!A893),\"\",LOADS!A893)","v":{"$error":"#REF!"}},{"$f":"IF(ISBLANK(LOADS!B893),\"\",LOADS!B893)","v":""},{"$f":"IF(LOADS!$AC893=\"BUS\",IF(LOADS!$AE893=C$1,1,0),0)","v":0},{"$f":"IF(LOADS!$AC893=\"BUS\",IF(LOADS!$AE893=D$1,1,0),0)","v":0},{"$f":"IF(LOADS!$AC893=\"BUS\",IF(LOADS!$AE893=E$1,1,0),0)","v":0},{"$f":"IF(LOADS!$AC893=\"BUS\",IF(LOADS!$AE893=F$1,1,0),0)","v":0},{"$f":"IF(LOADS!$AC893=\"BUS\",IF(LOADS!$AE893=G$1,1,0),0)","v":0},{"$f":"IF(LOADS!$AC893=\"BUS\",IF(LOADS!$AE893=H$1,1,0),0)","v":0},{"$f":"IF(LOADS!$AC893=\"BUS\",IF(LOADS!$AE893=I$1,1,0),0)","v":0},0,{"$f":"LOADS!AM893","v":0}]
[{"$f":"IF(ISBLANK(LOADS!A894),\"\",LOADS!A894)","v":{"$error":"#REF!"}},{"$f":"IF(ISBLANK(LOADS!B894),\"\",LOADS!B894)","v":""},{"$f":"IF(LOADS!$AC894=\"BUS\",IF(LOADS!$AE894=C$1,1,0),0)","v":0},{"$f":"IF(LOADS!$AC894=\"BUS\",IF(LOADS!$AE894=D$1,1,0),0)","v":0},{"$f":"IF(LOADS!$AC894=\"BUS\",IF(LOADS!$AE894=E$1,1,0),0)","v":0},{"$f":"IF(LOADS!$AC894=\"BUS\",IF(LOADS!$AE894=F$1,1,0),0)","v":0},{"$f":"IF(LOADS!$AC894=\"BUS\",IF(LOADS!$AE894=G$1,1,0),0)","v":0},{"$f":"IF(LOADS!$AC894=\"BUS\",IF(LOADS!$AE894=H$1,1,0),0)","v":0},{"$f":"IF(LOADS!$AC894=\"BUS\",IF(LOADS!$AE894=I$1,1,0),0)","v":0},0,{"$f":"LOADS!AM894","v":0}]
[{"$f":"IF(ISBLANK(LOADS!A895),\"\",LOADS!A895)","v":{"$error":"#REF!"}},{"$f":"IF(ISBLANK(LOADS!B895),\"\",LOADS!B895)","v":""},{"$f":"IF(LOADS!$AC895=\"BUS\",IF(LOADS!$AE895=C$1,1,0),0)","v":0},{"$f":"IF(LOADS!$AC895=\"BUS\",IF(LOADS!$AE895=D$1,1,0),0)","v":0},{"$f":"IF(LOADS!$AC895=\"BUS\",IF(LOADS!$AE895=E$1,1,0),0)","v":0},{"$f":"IF(LOADS!$AC895=\"BUS\",IF(LOADS!$AE895=F$1,1,0),0)","v":0},{"$f":"IF(LOADS!$AC895=\"BUS\",IF(LOADS!$AE895=G$1,1,0),0)","v":0},{"$f":"IF(LOADS!$AC895=\"BUS\",IF(LOADS!$AE895=H$1,1,0),0)","v":0},{"$f":"IF(LOADS!$AC895=\"BUS\",IF(LOADS!$AE895=I$1,1,0),0)","v":0},0,{"$f":"LOADS!AM895","v":0}]
[{"$f":"IF(ISBLANK(LOADS!A896),\"\",LOADS!A896)","v":{"$error":"#REF!"}},{"$f":"IF(ISBLANK(LOADS!B896),\"\",LOADS!B896)","v":""},{"$f":"IF(LOADS!$AC896=\"BUS\",IF(LOADS!$AE896=C$1,1,0),0)","v":0},{"$f":"IF(LOADS!$AC896=\"BUS\",IF(LOADS!$AE896=D$1,1,0),0)","v":0},{"$f":"IF(LOADS!$AC896=\"BUS\",IF(LOADS!$AE896=E$1,1,0),0)","v":0},{"$f":"IF(LOADS!$AC896=\"BUS\",IF(LOADS!$AE896=F$1,1,0),0)","v":0},{"$f":"IF(LOADS!$AC896=\"BUS\",IF(LOADS!$AE896=G$1,1,0),0)","v":0},{"$f":"IF(LOADS!$AC896=\"BUS\",IF(LOADS!$AE896=H$1,1,0),0)","v":0},{"$f":"IF(LOADS!$AC896=\"BUS\",IF(LOADS!$AE896=I$1,1,0),0)","v":0},0,{"$f":"LOADS!AM896","v":0}]
[{"$f":"IF(ISBLANK(LOADS!A897),\"\",LOADS!A897)","v":{"$error":"#REF!"}},{"$f":"IF(ISBLANK(LOADS!B897),\"\",LOADS!B897)","v":""},{"$f":"IF(LOADS!$AC897=\"BUS\",IF(LOADS!$AE897=C$1,1,0),0)","v":0},{"$f":"IF(LOADS!$AC897=\"BUS\",IF(LOADS!$AE897=D$1,1,0),0)","v":0},{"$f":"IF(LOADS!$AC897=\"BUS\",IF(LOADS!$AE897=E$1,1,0),0)","v":0},{"$f":"IF(LOADS!$AC897=\"BUS\",IF(LOADS!$AE897=F$1,1,0),0)","v":0},{"$f":"IF(LOADS!$AC897=\"BUS\",IF(LOADS!$AE897=G$1,1,0),0)","v":0},{"$f":"IF(LOADS!$AC897=\"BUS\",IF(LOADS!$AE897=H$1,1,0),0)","v":0},{"$f":"IF(LOADS!$AC897=\"BUS\",IF(LOADS!$AE897=I$1,1,0),0)","v":0},0,{"$f":"LOADS!AM897","v":0}]
[{"$f":"IF(ISBLANK(LOADS!A898),\"\",LOADS!A898)","v":{"$error":"#REF!"}},{"$f":"IF(ISBLANK(LOADS!B898),\"\",LOADS!B898)","v":""},{"$f":"IF(LOADS!$AC898=\"BUS\",IF(LOADS!$AE898=C$1,1,0),0)","v":0},{"$f":"IF(LOADS!$AC898=\"BUS\",IF(LOADS!$AE898=D$1,1,0),0)","v":0},{"$f":"IF(LOADS!$AC898=\"BUS\",IF(LOADS!$AE898=E$1,1,0),0)","v":0},{"$f":"IF(LOADS!$AC898=\"BUS\",IF(LOADS!$AE898=F$1,1,0),0)","v":0},{"$f":"IF(LOADS!$AC898=\"BUS\",IF(LOADS!$AE898=G$1,1,0),0)","v":0},{"$f":"IF(LOADS!$AC898=\"BUS\",IF(LOADS!$AE898=H$1,1,0),0)","v":0},{"$f":"IF(LOADS!$AC898=\"BUS\",IF(LOADS!$AE898=I$1,1,0),0)","v":0},{"$f":"SUM(C901:I901)","v":0},{"$f":"LOADS!AM898","v":0}]
[{"$f":"IF(ISBLANK(LOADS!A899),\"\",LOADS!A899)","v":{"$error":"#REF!"}},{"$f":"IF(ISBLANK(LOADS!B899),\"\",LOADS!B899)","v":""},{"$f":"IF(LOADS!$AC899=\"BUS\",IF(LOADS!$AE899=C$1,1,0),0)","v":0},{"$f":"IF(LOADS!$AC899=\"BUS\",IF(LOADS!$AE899=D$1,1,0),0)","v":0},{"$f":"IF(LOADS!$AC899=\"BUS\",IF(LOADS!$AE899=E$1,1,0),0)","v":0},{"$f":"IF(LOADS!$AC899=\"BUS\",IF(LOADS!$AE899=F$1,1,0),0)","v":0},{"$f":"IF(LOADS!$AC899=\"BUS\",IF(LOADS!$AE899=G$1,1,0),0)","v":0},{"$f":"IF(LOADS!$AC899=\"BUS\",IF(LOADS!$AE899=H$1,1,0),0)","v":0},{"$f":"IF(LOADS!$AC899=\"BUS\",IF(LOADS!$AE899=I$1,1,0),0)","v":0},{"$f":"SUM(C902:I902)","v":0},{"$f":"LOADS!AM899","v":0}]
[{"$f":"IF(ISBLANK(LOADS!A900),\"\",LOADS!A900)","v":{"$error":"#REF!"}},{"$f":"IF(ISBLANK(LOADS!B900),\"\",LOADS!B900)","v":""},{"$f":"IF(LOADS!$AC900=\"BUS\",IF(LOADS!$AE900=C$1,1,0),0)","v":0},{"$f":"IF(LOADS!$AC900=\"BUS\",IF(LOADS!$AE900=D$1,1,0),0)","v":0},{"$f":"IF(LOADS!$AC900=\"BUS\",IF(LOADS!$AE900=E$1,1,0),0)","v":0},{"$f":"IF(LOADS!$AC900=\"BUS\",IF(LOADS!$AE900=F$1,1,0),0)","v":0},{"$f":"IF(LOADS!$AC900=\"BUS\",IF(LOADS!$AE900=G$1,1,0),0)","v":0},{"$f":"IF(LOADS!$AC900=\"BUS\",IF(LOADS!$AE900=H$1,1,0),0)","v":0},{"$f":"IF(LOADS!$AC900=\"BUS\",IF(LOADS!$AE900=I$1,1,0),0)","v":0},{"$f":"SUM(C903:I903)","v":0},{"$f":"LOADS!AM900","v":0}]

{"sheet":"Sheet1","index":5,"n_rows":0,"n_cols":0,"rows_kept":0,"cut":false,"hidden":false,"merged":[]}